{"text_format":"1","workbook":"xlsx","n_sheets":4,"sheets":["Makro i swap","Rekompensata PSZOK>>","Koszty netto","Rekompensata"],"not_rendered":{"charts":0,"images":1,"macros":1,"external_links":2,"defined_names":9,"comments":1,"pivot_tables":0},"unopened":[],"bounds":{"document_bytes":16777216,"sheet_cells":100000,"rows_first":2000,"rows_last":500,"rows_between":2000,"halvings":0,"cell_chars":16384,"cell_head_chars":4096},"cells_cut":0,"cells_raw":0,"read":"whole","date_system":"1900"}

{"sheet":"Makro i swap","index":0,"n_rows":9,"n_cols":12,"rows_kept":9,"cut":false,"hidden":false,"merged":[]}
[]
["ZAŁOŻENIA MAKROEKONOMICZNE",null,2022,{"$f":"C2+1","v":2023},{"$f":"D2+1","v":2024},2025,2026,2027,2028,2029,2030,2031]
[]
["Inflacja",null,1.03,1.131,1.03,1.03,1.03,1.03,1.03,1.03,1.03,1.03]
["Dynamika realnego wzrostu płac",null,1.03,1.03,1.03,1.03,1.03,1.03,1.03,1.03,1.03,1.03]
[]
[]
["Stopy SWAP dla SGEI - Komisja Europejska","Marża",0.01,null,"https://ec.europa.eu/competition-policy/state-aid/legislation/sgei/swap-rate-proxies_en"]
["01.07.2021 - 31.12.2021",null,1.83E-2]

{"sheet":"Rekompensata PSZOK>>","index":1,"n_rows":4,"n_cols":2,"rows_kept":4,"cut":false,"hidden":false,"merged":[]}
[]
[]
[null,"Przychody"]
[null,"Koszty"]

{"sheet":"Koszty netto","index":2,"n_rows":241,"n_cols":16384,"rows_kept":139,"cut":true,"hidden":false,"merged":[],"bounds":{"rows_first":62,"rows_last":15,"rows_between":62,"halvings":5}}
[null,null,null,null,"a","PSZOK Składowisko, PSZOK Dębiec, PSZOK Wrzesińska"]
[null,null,null,null,"b","PSZOK Lutycka"]
[null,null,null,null,"c","PSZOK Obodrzycka"]
[]
["KOSZTY OPERACYJNE",null,"Jednostka",null,null,2022,{"$f":"F5+1","v":2023},{"$f":"G5+1","v":2024},2025,2026,2027,2028,2029,2030,2031]
[]
["Koszty operacyjne",null,"PLN",{"$f":"SUM(F7:O7)","v":0},"a",0,{"$f":"SUM(G8:G15)","v":0},0,0,0,0,0,0,0,0]
["Amortyzacja",null,"PLN",0,"a",0,0,0,0,0,0,0,0,0,0]
["Zużycie materiałów i energii",null,"PLN",0,"a",0,0,0,0,0,0,0,0,0,0]
["Usługi obce",null,"PLN",0,"a",0,0,0,0,0,0,0,0,0,0]
["Podatki i opłaty",null,"PLN",0,"a",0,0,0,0,0,0,0,0,0,0]
["Wynagrodzenia oraz ubezpieczenia społeczne i inne świadczenia",null,"PLN",0,"a",0,0,0,0,0,0,0,0,0,0]
["Pozostałe koszty rodzajowe",null,"PLN",0,"a",0,0,0,0,0,0,0,0,0,0]
["Wartość sprzedanych towarów i materiałów",null,"PLN",0,"a",0,{"$f":"G$117","v":0},0,0,0,0,0,0,0,0]
["Koszty wewnętrzne - zagospodarowanie na składowisku",null,"PLN",0,"a",0,0,0,0,0,0,0,0,0,0]
[]
["Koszty operacyjne bez amortyzacji",null,"PLN",{"$f":"SUM(F17:O17)","v":0},"a",{"$f":"F7-F8","v":0},0,0,0,0,0,0,0,0,0]
[]
["Koszty operacyjne",null,"PLN",0,"a+b+c",{"$f":"SUM(F20:F27)","v":0},{"$f":"SUM(G20:G27)","v":0},0,0,0,0,0,0,0,0]
["Amortyzacja",null,"PLN",0,"a+b+c",{"$f":"F8+SUM(F37,F41)","v":0},0,0,0,0,0,0,0,0,0]
["Zużycie materiałów i energii",null,"PLN",0,"a+b+c",{"$f":"F9+SUM(F51,F55)","v":0},0,0,0,0,0,0,0,0,0]
["Usługi obce",null,"PLN",0,"a+b+c",{"$f":"F10+SUM(F65,F69)","v":0},0,0,0,0,0,0,0,0,0]
["Podatki i opłaty",null,"PLN",0,"a+b+c",{"$f":"F11+SUM(F79,F83)","v":0},0,0,0,0,0,0,0,0,0]
["Wynagrodzenia oraz ubezpieczenia społeczne i inne świadczenia",null,"PLN",0,"a+b+c",{"$f":"F12+SUM(F93,F97)","v":0},0,0,0,0,0,0,0,0,0]
["Pozostałe koszty rodzajowe",null,"PLN",0,"a+b+c",{"$f":"F13+SUM(F107,F111)","v":0},0,0,0,0,0,0,0,0,0]
["Wartość sprzedanych towarów i materiałów",null,"PLN",{"$f":"SUM(F26:O26)","v":0},"a+b+c",{"$f":"F14+SUM(F119,F121)","v":0},0,0,0,0,0,0,0,0,0]
["Koszty wewnętrzne - zagospodarowanie na składowisku",null,"PLN",0,"a+b+c",{"$f":"F15+SUM(F127,F129)","v":0},0,0,0,0,0,0,0,0,0]
[]
["Koszty operacyjne bez amortyzacji",null,"PLN",{"$f":"SUM(F29:O29)","v":0},"a+b+c",{"$f":"F19-F20","v":0},0,0,0,0,0,0,0,0,0]
[]
[]
[]
["Amortyzacja - wartości prognozowane/rzeczywiste w danym roku",null,"PLN",null,"a",0,0,{"$f":"IF(AND(H34=\"\",H35=\"\"),\"\",H34+H35)","v":0},0,0,0,0,0,0,0]
["Koszty bezpośrednie",null,"PLN",null,"a",0,0,{"$f":"G34*'Makro i swap'!E4","v":0},{"$f":"H34*'Makro i swap'!F4","v":0},{"$f":"I34*'Makro i swap'!G4","v":0},{"$f":"J34*'Makro i swap'!H4","v":0},{"$f":"K34*'Makro i swap'!I4","v":0},{"$f":"L34*'Makro i swap'!J4","v":0},{"$f":"M34*'Makro i swap'!K4","v":0},{"$f":"N34*'Makro i swap'!L4","v":0},{"$f":"O34*'Makro i swap'!M4","v":0},{"$f":"P34*'Makro i swap'!N4","v":0},{"$f":"Q34*'Makro i swap'!O4","v":0},{"$f":"R34*'Makro i swap'!P4","v":0},{"$f":"S34*'Makro i swap'!Q4","v":0},{"$f":"T34*'Makro i swap'!R4","v":0},{"$f":"U34*'Makro i swap'!S4","v":0},{"$f":"V34*'Makro i swap'!T4","v":0},{"$f":"W34*'Makro i swap'!U4","v":0},{"$f":"X34*'Makro i swap'!V4","v":0},{"$f":"Y34*'Makro i swap'!W4","v":0},{"$f":"Z34*'Makro i swap'!X4","v":0},{"$f":"AA34*'Makro i swap'!Y4","v":0},{"$f":"AB34*'Makro i swap'!Z4","v":0},{"$f":"AC34*'Makro i swap'!AA4","v":0},{"$f":"AD34*'Makro i swap'!AB4","v":0},{"$f":"AE34*'Makro i swap'!AC4","v":0},{"$f":"AF34*'Makro i swap'!AD4","v":0},{"$f":"AG34*'Makro i swap'!AE4","v":0},{"$f":"AH34*'Makro i swap'!AF4","v":0},{"$f":"AI34*'Makro i swap'!AG4","v":0},{"$f":"AJ34*'Makro i swap'!AH4","v":0},{"$f":"AK34*'Makro i swap'!AI4","v":0},{"$f":"AL34*'Makro i swap'!AJ4","v":0},{"$f":"AM34*'Makro i swap'!AK4","v":0},{"$f":"AN34*'Makro i swap'!AL4","v":0},{"$f":"AO34*'Makro i swap'!AM4","v":0},{"$f":"AP34*'Makro i swap'!AN4","v":0},{"$f":"AQ34*'Makro i swap'!AO4","v":0},{"$f":"AR34*'Makro i swap'!AP4","v":0},{"$f":"AS34*'Makro i swap'!AQ4","v":0},{"$f":"AT34*'Makro i swap'!AR4","v":0},{"$f":"AU34*'Makro i swap'!AS4","v":0},{"$f":"AV34*'Makro i swap'!AT4","v":0},{"$f":"AW34*'Makro i swap'!AU4","v":0},{"$f":"AX34*'Makro i swap'!AV4","v":0},{"$f":"AY34*'Makro i swap'!AW4","v":0},{"$f":"AZ34*'Makro i swap'!AX4","v":0},{"$f":"BA34*'Makro i swap'!AY4","v":0},{"$f":"BB34*'Makro i swap'!AZ4","v":0},{"$f":"BC34*'Makro i swap'!BA4","v":0},{"$f":"BD34*'Makro i swap'!BB4","v":0},{"$f":"BE34*'Makro i swap'!BC4","v":0},{"$f":"BF34*'Makro i swap'!BD4","v":0},{"$f":"BG34*'Makro i swap'!BE4","v":0},{"$f":"BH34*'Makro i swap'!BF4","v":0},{"$f":"BI34*'Makro i swap'!BG4","v":0},{"$f":"BJ34*'Makro i swap'!BH4","v":0},{"$f":"BK34*'Makro i swap'!BI4","v":0},{"$f":"BL34*'Makro i swap'!BJ4","v":0},{"$f":"BM34*'Makro i swap'!BK4","v":0},{"$f":"BN34*'Makro i swap'!BL4","v":0},{"$f":"BO34*'Makro i swap'!BM4","v":0},{"$f":"BP34*'Makro i swap'!BN4","v":0},{"$f":"BQ34*'Makro i swap'!BO4","v":0},{"$f":"BR34*'Makro i swap'!BP4","v":0},{"$f":"BS34*'Makro i swap'!BQ4","v":0},{"$f":"BT34*'Makro i swap'!BR4","v":0},{"$f":"BU34*'Makro i swap'!BS4","v":0},{"$f":"BV34*'Makro i swap'!BT4","v":0},{"$f":"BW34*'Makro i swap'!BU4","v":0},{"$f":"BX34*'Makro i swap'!BV4","v":0},{"$f":"BY34*'Makro i swap'!BW4","v":0},{"$f":"BZ34*'Makro i swap'!BX4","v":0},{"$f":"CA34*'Makro i swap'!BY4","v":0},{"$f":"CB34*'Makro i swap'!BZ4","v":0},{"$f":"CC34*'Makro i swap'!CA4","v":0},{"$f":"CD34*'Makro i swap'!CB4","v":0},{"$f":"CE34*'Makro i swap'!CC4","v":0},{"$f":"CF34*'Makro i swap'!CD4","v":0},{"$f":"CG34*'Makro i swap'!CE4","v":0},{"$f":"CH34*'Makro i swap'!CF4","v":0},{"$f":"CI34*'Makro i swap'!CG4","v":0},{"$f":"CJ34*'Makro i swap'!CH4","v":0},{"$f":"CK34*'Makro i swap'!CI4","v":0},{"$f":"CL34*'Makro i swap'!CJ4","v":0},{"$f":"CM34*'Makro i swap'!CK4","v":0},{"$f":"CN34*'Makro i swap'!CL4","v":0},{"$f":"CO34*'Makro i swap'!CM4","v":0},{"$f":"CP34*'Makro i swap'!CN4","v":0},{"$f":"CQ34*'Makro i swap'!CO4","v":0},{"$f":"CR34*'Makro i swap'!CP4","v":0},{"$f":"CS34*'Makro i swap'!CQ4","v":0},{"$f":"CT34*'Makro i swap'!CR4","v":0},{"$f":"CU34*'Makro i swap'!CS4","v":0},{"$f":"CV34*'Makro i swap'!CT4","v":0},{"$f":"CW34*'Makro i swap'!CU4","v":0},{"$f":"CX34*'Makro i swap'!CV4","v":0},{"$f":"CY34*'Makro i swap'!CW4","v":0},{"$f":"CZ34*'Makro i swap'!CX4","v":0},{"$f":"DA34*'Makro i swap'!CY4","v":0},{"$f":"DB34*'Makro i swap'!CZ4","v":0},{"$f":"DC34*'Makro i swap'!DA4","v":0},{"$f":"DD34*'Makro i swap'!DB4","v":0},{"$f":"DE34*'Makro i swap'!DC4","v":0},{"$f":"DF34*'Makro i swap'!DD4","v":0},{"$f":"DG34*'Makro i swap'!DE4","v":0},{"$f":"DH34*'Makro i swap'!DF4","v":0},{"$f":"DI34*'Makro i swap'!DG4","v":0},{"$f":"DJ34*'Makro i swap'!DH4","v":0},{"$f":"DK34*'Makro i swap'!DI4","v":0},{"$f":"DL34*'Makro i swap'!DJ4","v":0},{"$f":"DM34*'Makro i swap'!DK4","v":0},{"$f":"DN34*'Makro i swap'!DL4","v":0},{"$f":"DO34*'Makro i swap'!DM4","v":0},{"$f":"DP34*'Makro i swap'!DN4","v":0},{"$f":"DQ34*'Makro i swap'!DO4","v":0},{"$f":"DR34*'Makro i swap'!DP4","v":0},{"$f":"DS34*'Makro i swap'!DQ4","v":0},{"$f":"DT34*'Makro i swap'!DR4","v":0},{"$f":"DU34*'Makro i swap'!DS4","v":0},{"$f":"DV34*'Makro i swap'!DT4","v":0},{"$f":"DW34*'Makro i swap'!DU4","v":0},{"$f":"DX34*'Makro i swap'!DV4","v":0},{"$f":"DY34*'Makro i swap'!DW4","v":0},{"$f":"DZ34*'Makro i swap'!DX4","v":0},{"$f":"EA34*'Makro i swap'!DY4","v":0},{"$f":"EB34*'Makro i swap'!DZ4","v":0},{"$f":"EC34*'Makro i swap'!EA4","v":0},{"$f":"ED34*'Makro i swap'!EB4","v":0},{"$f":"EE34*'Makro i swap'!EC4","v":0},{"$f":"EF34*'Makro i swap'!ED4","v":0},{"$f":"EG34*'Makro i swap'!EE4","v":0},{"$f":"EH34*'Makro i swap'!EF4","v":0},{"$f":"EI34*'Makro i swap'!EG4","v":0},{"$f":"EJ34*'Makro i swap'!EH4","v":0},{"$f":"EK34*'Makro i swap'!EI4","v":0},{"$f":"EL34*'Makro i swap'!EJ4","v":0},{"$f":"EM34*'Makro i swap'!EK4","v":0},{"$f":"EN34*'Makro i swap'!EL4","v":0},{"$f":"EO34*'Makro i swap'!EM4","v":0},{"$f":"EP34*'Makro i swap'!EN4","v":0},{"$f":"EQ34*'Makro i swap'!EO4","v":0},{"$f":"ER34*'Makro i swap'!EP4","v":0},{"$f":"ES34*'Makro i swap'!EQ4","v":0},{"$f":"ET34*'Makro i swap'!ER4","v":0},{"$f":"EU34*'Makro i swap'!ES4","v":0},{"$f":"EV34*'Makro i swap'!ET4","v":0},{"$f":"EW34*'Makro i swap'!EU4","v":0},{"$f":"EX34*'Makro i swap'!EV4","v":0},{"$f":"EY34*'Makro i swap'!EW4","v":0},{"$f":"EZ34*'Makro i swap'!EX4","v":0},{"$f":"FA34*'Makro i swap'!EY4","v":0},{"$f":"FB34*'Makro i swap'!EZ4","v":0},{"$f":"FC34*'Makro i swap'!FA4","v":0},{"$f":"FD34*'Makro i swap'!FB4","v":0},{"$f":"FE34*'Makro i swap'!FC4","v":0},{"$f":"FF34*'Makro i swap'!FD4","v":0},{"$f":"FG34*'Makro i swap'!FE4","v":0},{"$f":"FH34*'Makro i swap'!FF4","v":0},{"$f":"FI34*'Makro i swap'!FG4","v":0},{"$f":"FJ34*'Makro i swap'!FH4","v":0},{"$f":"FK34*'Makro i swap'!FI4","v":0},{"$f":"FL34*'Makro i swap'!FJ4","v":0},{"$f":"FM34*'Makro i swap'!FK4","v":0},{"$f":"FN34*'Makro i swap'!FL4","v":0},{"$f":"FO34*'Makro i swap'!FM4","v":0},{"$f":"FP34*'Makro i swap'!FN4","v":0},{"$f":"FQ34*'Makro i swap'!FO4","v":0},{"$f":"FR34*'Makro i swap'!FP4","v":0},{"$f":"FS34*'Makro i swap'!FQ4","v":0},{"$f":"FT34*'Makro i swap'!FR4","v":0},{"$f":"FU34*'Makro i swap'!FS4","v":0},{"$f":"FV34*'Makro i swap'!FT4","v":0},{"$f":"FW34*'Makro i swap'!FU4","v":0},{"$f":"FX34*'Makro i swap'!FV4","v":0},{"$f":"FY34*'Makro i swap'!FW4","v":0},{"$f":"FZ34*'Makro i swap'!FX4","v":0},{"$f":"GA34*'Makro i swap'!FY4","v":0},{"$f":"GB34*'Makro i swap'!FZ4","v":0},{"$f":"GC34*'Makro i swap'!GA4","v":0},{"$f":"GD34*'Makro i swap'!GB4","v":0},{"$f":"GE34*'Makro i swap'!GC4","v":0},{"$f":"GF34*'Makro i swap'!GD4","v":0},{"$f":"GG34*'Makro i swap'!GE4","v":0},{"$f":"GH34*'Makro i swap'!GF4","v":0},{"$f":"GI34*'Makro i swap'!GG4","v":0},{"$f":"GJ34*'Makro i swap'!GH4","v":0},{"$f":"GK34*'Makro i swap'!GI4","v":0},{"$f":"GL34*'Makro i swap'!GJ4","v":0},{"$f":"GM34*'Makro i swap'!GK4","v":0},{"$f":"GN34*'Makro i swap'!GL4","v":0},{"$f":"GO34*'Makro i swap'!GM4","v":0},{"$f":"GP34*'Makro i swap'!GN4","v":0},{"$f":"GQ34*'Makro i swap'!GO4","v":0},{"$f":"GR34*'Makro i swap'!GP4","v":0},{"$f":"GS34*'Makro i swap'!GQ4","v":0},{"$f":"GT34*'Makro i swap'!GR4","v":0},{"$f":"GU34*'Makro i swap'!GS4","v":0},{"$f":"GV34*'Makro i swap'!GT4","v":0},{"$f":"GW34*'Makro i swap'!GU4","v":0},{"$f":"GX34*'Makro i swap'!GV4","v":0},{"$f":"GY34*'Makro i swap'!GW4","v":0},{"$f":"GZ34*'Makro i swap'!GX4","v":0},{"$f":"HA34*'Makro i swap'!GY4","v":0},{"$f":"HB34*'Makro i swap'!GZ4","v":0},{"$f":"HC34*'Makro i swap'!HA4","v":0},{"$f":"HD34*'Makro i swap'!HB4","v":0},{"$f":"HE34*'Makro i swap'!HC4","v":0},{"$f":"HF34*'Makro i swap'!HD4","v":0},{"$f":"HG34*'Makro i swap'!HE4","v":0},{"$f":"HH34*'Makro i swap'!HF4","v":0},{"$f":"HI34*'Makro i swap'!HG4","v":0},{"$f":"HJ34*'Makro i swap'!HH4","v":0},{"$f":"HK34*'Makro i swap'!HI4","v":0},{"$f":"HL34*'Makro i swap'!HJ4","v":0},{"$f":"HM34*'Makro i swap'!HK4","v":0},{"$f":"HN34*'Makro i swap'!HL4","v":0},{"$f":"HO34*'Makro i swap'!HM4","v":0},{"$f":"HP34*'Makro i swap'!HN4","v":0},{"$f":"HQ34*'Makro i swap'!HO4","v":0},{"$f":"HR34*'Makro i swap'!HP4","v":0},{"$f":"HS34*'Makro i swap'!HQ4","v":0},{"$f":"HT34*'Makro i swap'!HR4","v":0},{"$f":"HU34*'Makro i swap'!HS4","v":0},{"$f":"HV34*'Makro i swap'!HT4","v":0},{"$f":"HW34*'Makro i swap'!HU4","v":0},{"$f":"HX34*'Makro i swap'!HV4","v":0},{"$f":"HY34*'Makro i swap'!HW4","v":0},{"$f":"HZ34*'Makro i swap'!HX4","v":0},{"$f":"IA34*'Makro i swap'!HY4","v":0},{"$f":"IB34*'Makro i swap'!HZ4","v":0},{"$f":"IC34*'Makro i swap'!IA4","v":0},{"$f":"ID34*'Makro i swap'!IB4","v":0},{"$f":"IE34*'Makro i swap'!IC4","v":0},{"$f":"IF34*'Makro i swap'!ID4","v":0},{"$f":"IG34*'Makro i swap'!IE4","v":0},{"$f":"IH34*'Makro i swap'!IF4","v":0},{"$f":"II34*'Makro i swap'!IG4","v":0},{"$f":"IJ34*'Makro i swap'!IH4","v":0},{"$f":"IK34*'Makro i swap'!II4","v":0},{"$f":"IL34*'Makro i swap'!IJ4","v":0},{"$f":"IM34*'Makro i swap'!IK4","v":0},{"$f":"IN34*'Makro i swap'!IL4","v":0},{"$f":"IO34*'Makro i swap'!IM4","v":0},{"$f":"IP34*'Makro i swap'!IN4","v":0},{"$f":"IQ34*'Makro i swap'!IO4","v":0},{"$f":"IR34*'Makro i swap'!IP4","v":0},{"$f":"IS34*'Makro i swap'!IQ4","v":0},{"$f":"IT34*'Makro i swap'!IR4","v":0},{"$f":"IU34*'Makro i swap'!IS4","v":0},{"$f":"IV34*'Makro i swap'!IT4","v":0},{"$f":"IW34*'Makro i swap'!IU4","v":0},{"$f":"IX34*'Makro i swap'!IV4","v":0},{"$f":"IY34*'Makro i swap'!IW4","v":0},{"$f":"IZ34*'Makro i swap'!IX4","v":0},{"$f":"JA34*'Makro i swap'!IY4","v":0},{"$f":"JB34*'Makro i swap'!IZ4","v":0},{"$f":"JC34*'Makro i swap'!JA4","v":0},{"$f":"JD34*'Makro i swap'!JB4","v":0},{"$f":"JE34*'Makro i swap'!JC4","v":0},{"$f":"JF34*'Makro i swap'!JD4","v":0},{"$f":"JG34*'Makro i swap'!JE4","v":0},{"$f":"JH34*'Makro i swap'!JF4","v":0},{"$f":"JI34*'Makro i swap'!JG4","v":0},{"$f":"JJ34*'Makro i swap'!JH4","v":0},{"$f":"JK34*'Makro i swap'!JI4","v":0},{"$f":"JL34*'Makro i swap'!JJ4","v":0},{"$f":"JM34*'Makro i swap'!JK4","v":0},{"$f":"JN34*'Makro i swap'!JL4","v":0},{"$f":"JO34*'Makro i swap'!JM4","v":0},{"$f":"JP34*'Makro i swap'!JN4","v":0},{"$f":"JQ34*'Makro i swap'!JO4","v":0},{"$f":"JR34*'Makro i swap'!JP4","v":0},{"$f":"JS34*'Makro i swap'!JQ4","v":0},{"$f":"JT34*'Makro i swap'!JR4","v":0},{"$f":"JU34*'Makro i swap'!JS4","v":0},{"$f":"JV34*'Makro i swap'!JT4","v":0},{"$f":"JW34*'Makro i swap'!JU4","v":0},{"$f":"JX34*'Makro i swap'!JV4","v":0},{"$f":"JY34*'Makro i swap'!JW4","v":0},{"$f":"JZ34*'Makro i swap'!JX4","v":0},{"$f":"KA34*'Makro i swap'!JY4","v":0},{"$f":"KB34*'Makro i swap'!JZ4","v":0},{"$f":"KC34*'Makro i swap'!KA4","v":0},{"$f":"KD34*'Makro i swap'!KB4","v":0},{"$f":"KE34*'Makro i swap'!KC4","v":0},{"$f":"KF34*'Makro i swap'!KD4","v":0},{"$f":"KG34*'Makro i swap'!KE4","v":0},{"$f":"KH34*'Makro i swap'!KF4","v":0},{"$f":"KI34*'Makro i swap'!KG4","v":0},{"$f":"KJ34*'Makro i swap'!KH4","v":0},{"$f":"KK34*'Makro i swap'!KI4","v":0},{"$f":"KL34*'Makro i swap'!KJ4","v":0},{"$f":"KM34*'Makro i swap'!KK4","v":0},{"$f":"KN34*'Makro i swap'!KL4","v":0},{"$f":"KO34*'Makro i swap'!KM4","v":0},{"$f":"KP34*'Makro i swap'!KN4","v":0},{"$f":"KQ34*'Makro i swap'!KO4","v":0},{"$f":"KR34*'Makro i swap'!KP4","v":0},{"$f":"KS34*'Makro i swap'!KQ4","v":0},{"$f":"KT34*'Makro i swap'!KR4","v":0},{"$f":"KU34*'Makro i swap'!KS4","v":0},{"$f":"KV34*'Makro i swap'!KT4","v":0},{"$f":"KW34*'Makro i swap'!KU4","v":0},{"$f":"KX34*'Makro i swap'!KV4","v":0},{"$f":"KY34*'Makro i swap'!KW4","v":0},{"$f":"KZ34*'Makro i swap'!KX4","v":0},{"$f":"LA34*'Makro i swap'!KY4","v":0},{"$f":"LB34*'Makro i swap'!KZ4","v":0},{"$f":"LC34*'Makro i swap'!LA4","v":0},{"$f":"LD34*'Makro i swap'!LB4","v":0},{"$f":"LE34*'Makro i swap'!LC4","v":0},{"$f":"LF34*'Makro i swap'!LD4","v":0},{"$f":"LG34*'Makro i swap'!LE4","v":0},{"$f":"LH34*'Makro i swap'!LF4","v":0},{"$f":"LI34*'Makro i swap'!LG4","v":0},{"$f":"LJ34*'Makro i swap'!LH4","v":0},{"$f":"LK34*'Makro i swap'!LI4","v":0},{"$f":"LL34*'Makro i swap'!LJ4","v":0},{"$f":"LM34*'Makro i swap'!LK4","v":0},{"$f":"LN34*'Makro i swap'!LL4","v":0},{"$f":"LO34*'Makro i swap'!LM4","v":0},{"$f":"LP34*'Makro i swap'!LN4","v":0},{"$f":"LQ34*'Makro i swap'!LO4","v":0},{"$f":"LR34*'Makro i swap'!LP4","v":0},{"$f":"LS34*'Makro i swap'!LQ4","v":0},{"$f":"LT34*'Makro i swap'!LR4","v":0},{"$f":"LU34*'Makro i swap'!LS4","v":0},{"$f":"LV34*'Makro i swap'!LT4","v":0},{"$f":"LW34*'Makro i swap'!LU4","v":0},{"$f":"LX34*'Makro i swap'!LV4","v":0},{"$f":"LY34*'Makro i swap'!LW4","v":0},{"$f":"LZ34*'Makro i swap'!LX4","v":0},{"$f":"MA34*'Makro i swap'!LY4","v":0},{"$f":"MB34*'Makro i swap'!LZ4","v":0},{"$f":"MC34*'Makro i swap'!MA4","v":0},{"$f":"MD34*'Makro i swap'!MB4","v":0},{"$f":"ME34*'Makro i swap'!MC4","v":0},{"$f":"MF34*'Makro i swap'!MD4","v":0},{"$f":"MG34*'Makro i swap'!ME4","v":0},{"$f":"MH34*'Makro i swap'!MF4","v":0},{"$f":"MI34*'Makro i swap'!MG4","v":0},{"$f":"MJ34*'Makro i swap'!MH4","v":0},{"$f":"MK34*'Makro i swap'!MI4","v":0},{"$f":"ML34*'Makro i swap'!MJ4","v":0},{"$f":"MM34*'Makro i swap'!MK4","v":0},{"$f":"MN34*'Makro i swap'!ML4","v":0},{"$f":"MO34*'Makro i swap'!MM4","v":0},{"$f":"MP34*'Makro i swap'!MN4","v":0},{"$f":"MQ34*'Makro i swap'!MO4","v":0},{"$f":"MR34*'Makro i swap'!MP4","v":0},{"$f":"MS34*'Makro i swap'!MQ4","v":0},{"$f":"MT34*'Makro i swap'!MR4","v":0},{"$f":"MU34*'Makro i swap'!MS4","v":0},{"$f":"MV34*'Makro i swap'!MT4","v":0},{"$f":"MW34*'Makro i swap'!MU4","v":0},{"$f":"MX34*'Makro i swap'!MV4","v":0},{"$f":"MY34*'Makro i swap'!MW4","v":0},{"$f":"MZ34*'Makro i swap'!MX4","v":0},{"$f":"NA34*'Makro i swap'!MY4","v":0},{"$f":"NB34*'Makro i swap'!MZ4","v":0},{"$f":"NC34*'Makro i swap'!NA4","v":0},{"$f":"ND34*'Makro i swap'!NB4","v":0},{"$f":"NE34*'Makro i swap'!NC4","v":0},{"$f":"NF34*'Makro i swap'!ND4","v":0},{"$f":"NG34*'Makro i swap'!NE4","v":0},{"$f":"NH34*'Makro i swap'!NF4","v":0},{"$f":"NI34*'Makro i swap'!NG4","v":0},{"$f":"NJ34*'Makro i swap'!NH4","v":0},{"$f":"NK34*'Makro i swap'!NI4","v":0},{"$f":"NL34*'Makro i swap'!NJ4","v":0},{"$f":"NM34*'Makro i swap'!NK4","v":0},{"$f":"NN34*'Makro i swap'!NL4","v":0},{"$f":"NO34*'Makro i swap'!NM4","v":0},{"$f":"NP34*'Makro i swap'!NN4","v":0},{"$f":"NQ34*'Makro i swap'!NO4","v":0},{"$f":"NR34*'Makro i swap'!NP4","v":0},{"$f":"NS34*'Makro i swap'!NQ4","v":0},{"$f":"NT34*'Makro i swap'!NR4","v":0},{"$f":"NU34*'Makro i swap'!NS4","v":0},{"$f":"NV34*'Makro i swap'!NT4","v":0},{"$f":"NW34*'Makro i swap'!NU4","v":0},{"$f":"NX34*'Makro i swap'!NV4","v":0},{"$f":"NY34*'Makro i swap'!NW4","v":0},{"$f":"NZ34*'Makro i swap'!NX4","v":0},{"$f":"OA34*'Makro i swap'!NY4","v":0},{"$f":"OB34*'Makro i swap'!NZ4","v":0},{"$f":"OC34*'Makro i swap'!OA4","v":0},{"$f":"OD34*'Makro i swap'!OB4","v":0},{"$f":"OE34*'Makro i swap'!OC4","v":0},{"$f":"OF34*'Makro i swap'!OD4","v":0},{"$f":"OG34*'Makro i swap'!OE4","v":0},{"$f":"OH34*'Makro i swap'!OF4","v":0},{"$f":"OI34*'Makro i swap'!OG4","v":0},{"$f":"OJ34*'Makro i swap'!OH4","v":0},{"$f":"OK34*'Makro i swap'!OI4","v":0},{"$f":"OL34*'Makro i swap'!OJ4","v":0},{"$f":"OM34*'Makro i swap'!OK4","v":0},{"$f":"ON34*'Makro i swap'!OL4","v":0},{"$f":"OO34*'Makro i swap'!OM4","v":0},{"$f":"OP34*'Makro i swap'!ON4","v":0},{"$f":"OQ34*'Makro i swap'!OO4","v":0},{"$f":"OR34*'Makro i swap'!OP4","v":0},{"$f":"OS34*'Makro i swap'!OQ4","v":0},{"$f":"OT34*'Makro i swap'!OR4","v":0},{"$f":"OU34*'Makro i swap'!OS4","v":0},{"$f":"OV34*'Makro i swap'!OT4","v":0},{"$f":"OW34*'Makro i swap'!OU4","v":0},{"$f":"OX34*'Makro i swap'!OV4","v":0},{"$f":"OY34*'Makro i swap'!OW4","v":0},{"$f":"OZ34*'Makro i swap'!OX4","v":0},{"$f":"PA34*'Makro i swap'!OY4","v":0},{"$f":"PB34*'Makro i swap'!OZ4","v":0},{"$f":"PC34*'Makro i swap'!PA4","v":0},{"$f":"PD34*'Makro i swap'!PB4","v":0},{"$f":"PE34*'Makro i swap'!PC4","v":0},{"$f":"PF34*'Makro i swap'!PD4","v":0},{"$f":"PG34*'Makro i swap'!PE4","v":0},{"$f":"PH34*'Makro i swap'!PF4","v":0},{"$f":"PI34*'Makro i swap'!PG4","v":0},{"$f":"PJ34*'Makro i swap'!PH4","v":0},{"$f":"PK34*'Makro i swap'!PI4","v":0},{"$f":"PL34*'Makro i swap'!PJ4","v":0},{"$f":"PM34*'Makro i swap'!PK4","v":0},{"$f":"PN34*'Makro i swap'!PL4","v":0},{"$f":"PO34*'Makro i swap'!PM4","v":0},{"$f":"PP34*'Makro i swap'!PN4","v":0},{"$f":"PQ34*'Makro i swap'!PO4","v":0},{"$f":"PR34*'Makro i swap'!PP4","v":0},{"$f":"PS34*'Makro i swap'!PQ4","v":0},{"$f":"PT34*'Makro i swap'!PR4","v":0},{"$f":"PU34*'Makro i swap'!PS4","v":0},{"$f":"PV34*'Makro i swap'!PT4","v":0},{"$f":"PW34*'Makro i swap'!PU4","v":0},{"$f":"PX34*'Makro i swap'!PV4","v":0},{"$f":"PY34*'Makro i swap'!PW4","v":0},{"$f":"PZ34*'Makro i swap'!PX4","v":0},{"$f":"QA34*'Makro i swap'!PY4","v":0},{"$f":"QB34*'Makro i swap'!PZ4","v":0},{"$f":"QC34*'Makro i swap'!QA4","v":0},{"$f":"QD34*'Makro i swap'!QB4","v":0},{"$f":"QE34*'Makro i swap'!QC4","v":0},{"$f":"QF34*'Makro i swap'!QD4","v":0},{"$f":"QG34*'Makro i swap'!QE4","v":0},{"$f":"QH34*'Makro i swap'!QF4","v":0},{"$f":"QI34*'Makro i swap'!QG4","v":0},{"$f":"QJ34*'Makro i swap'!QH4","v":0},{"$f":"QK34*'Makro i swap'!QI4","v":0},{"$f":"QL34*'Makro i swap'!QJ4","v":0},{"$f":"QM34*'Makro i swap'!QK4","v":0},{"$f":"QN34*'Makro i swap'!QL4","v":0},{"$f":"QO34*'Makro i swap'!QM4","v":0},{"$f":"QP34*'Makro i swap'!QN4","v":0},{"$f":"QQ34*'Makro i swap'!QO4","v":0},{"$f":"QR34*'Makro i swap'!QP4","v":0},{"$f":"QS34*'Makro i swap'!QQ4","v":0},{"$f":"QT34*'Makro i swap'!QR4","v":0},{"$f":"QU34*'Makro i swap'!QS4","v":0},{"$f":"QV34*'Makro i swap'!QT4","v":0},{"$f":"QW34*'Makro i swap'!QU4","v":0},{"$f":"QX34*'Makro i swap'!QV4","v":0},{"$f":"QY34*'Makro i swap'!QW4","v":0},{"$f":"QZ34*'Makro i swap'!QX4","v":0},{"$f":"RA34*'Makro i swap'!QY4","v":0},{"$f":"RB34*'Makro i swap'!QZ4","v":0},{"$f":"RC34*'Makro i swap'!RA4","v":0},{"$f":"RD34*'Makro i swap'!RB4","v":0},{"$f":"RE34*'Makro i swap'!RC4","v":0},{"$f":"RF34*'Makro i swap'!RD4","v":0},{"$f":"RG34*'Makro i swap'!RE4","v":0},{"$f":"RH34*'Makro i swap'!RF4","v":0},{"$f":"RI34*'Makro i swap'!RG4","v":0},{"$f":"RJ34*'Makro i swap'!RH4","v":0},{"$f":"RK34*'Makro i swap'!RI4","v":0},{"$f":"RL34*'Makro i swap'!RJ4","v":0},{"$f":"RM34*'Makro i swap'!RK4","v":0},{"$f":"RN34*'Makro i swap'!RL4","v":0},{"$f":"RO34*'Makro i swap'!RM4","v":0},{"$f":"RP34*'Makro i swap'!RN4","v":0},{"$f":"RQ34*'Makro i swap'!RO4","v":0},{"$f":"RR34*'Makro i swap'!RP4","v":0},{"$f":"RS34*'Makro i swap'!RQ4","v":0},{"$f":"RT34*'Makro i swap'!RR4","v":0},{"$f":"RU34*'Makro i swap'!RS4","v":0},{"$f":"RV34*'Makro i swap'!RT4","v":0},{"$f":"RW34*'Makro i swap'!RU4","v":0},{"$f":"RX34*'Makro i swap'!RV4","v":0},{"$f":"RY34*'Makro i swap'!RW4","v":0},{"$f":"RZ34*'Makro i swap'!RX4","v":0},{"$f":"SA34*'Makro i swap'!RY4","v":0},{"$f":"SB34*'Makro i swap'!RZ4","v":0},{"$f":"SC34*'Makro i swap'!SA4","v":0},{"$f":"SD34*'Makro i swap'!SB4","v":0},{"$f":"SE34*'Makro i swap'!SC4","v":0},{"$f":"SF34*'Makro i swap'!SD4","v":0},{"$f":"SG34*'Makro i swap'!SE4","v":0},{"$f":"SH34*'Makro i swap'!SF4","v":0},{"$f":"SI34*'Makro i swap'!SG4","v":0},{"$f":"SJ34*'Makro i swap'!SH4","v":0},{"$f":"SK34*'Makro i swap'!SI4","v":0},{"$f":"SL34*'Makro i swap'!SJ4","v":0},{"$f":"SM34*'Makro i swap'!SK4","v":0},{"$f":"SN34*'Makro i swap'!SL4","v":0},{"$f":"SO34*'Makro i swap'!SM4","v":0},{"$f":"SP34*'Makro i swap'!SN4","v":0},{"$f":"SQ34*'Makro i swap'!SO4","v":0},{"$f":"SR34*'Makro i swap'!SP4","v":0},{"$f":"SS34*'Makro i swap'!SQ4","v":0},{"$f":"ST34*'Makro i swap'!SR4","v":0},{"$f":"SU34*'Makro i swap'!SS4","v":0},{"$f":"SV34*'Makro i swap'!ST4","v":0},{"$f":"SW34*'Makro i swap'!SU4","v":0},{"$f":"SX34*'Makro i swap'!SV4","v":0},{"$f":"SY34*'Makro i swap'!SW4","v":0},{"$f":"SZ34*'Makro i swap'!SX4","v":0},{"$f":"TA34*'Makro i swap'!SY4","v":0},{"$f":"TB34*'Makro i swap'!SZ4","v":0},{"$f":"TC34*'Makro i swap'!TA4","v":0},{"$f":"TD34*'Makro i swap'!TB4","v":0},{"$f":"TE34*'Makro i swap'!TC4","v":0},{"$f":"TF34*'Makro i swap'!TD4","v":0},{"$f":"TG34*'Makro i swap'!TE4","v":0},{"$f":"TH34*'Makro i swap'!TF4","v":0},{"$f":"TI34*'Makro i swap'!TG4","v":0},{"$f":"TJ34*'Makro i swap'!TH4","v":0},{"$f":"TK34*'Makro i swap'!TI4","v":0},{"$f":"TL34*'Makro i swap'!TJ4","v":0},{"$f":"TM34*'Makro i swap'!TK4","v":0},{"$f":"TN34*'Makro i swap'!TL4","v":0},{"$f":"TO34*'Makro i swap'!TM4","v":0},{"$f":"TP34*'Makro i swap'!TN4","v":0},{"$f":"TQ34*'Makro i swap'!TO4","v":0},{"$f":"TR34*'Makro i swap'!TP4","v":0},{"$f":"TS34*'Makro i swap'!TQ4","v":0},{"$f":"TT34*'Makro i swap'!TR4","v":0},{"$f":"TU34*'Makro i swap'!TS4","v":0},{"$f":"TV34*'Makro i swap'!TT4","v":0},{"$f":"TW34*'Makro i swap'!TU4","v":0},{"$f":"TX34*'Makro i swap'!TV4","v":0},{"$f":"TY34*'Makro i swap'!TW4","v":0},{"$f":"TZ34*'Makro i swap'!TX4","v":0},{"$f":"UA34*'Makro i swap'!TY4","v":0},{"$f":"UB34*'Makro i swap'!TZ4","v":0},{"$f":"UC34*'Makro i swap'!UA4","v":0},{"$f":"UD34*'Makro i swap'!UB4","v":0},{"$f":"UE34*'Makro i swap'!UC4","v":0},{"$f":"UF34*'Makro i swap'!UD4","v":0},{"$f":"UG34*'Makro i swap'!UE4","v":0},{"$f":"UH34*'Makro i swap'!UF4","v":0},{"$f":"UI34*'Makro i swap'!UG4","v":0},{"$f":"UJ34*'Makro i swap'!UH4","v":0},{"$f":"UK34*'Makro i swap'!UI4","v":0},{"$f":"UL34*'Makro i swap'!UJ4","v":0},{"$f":"UM34*'Makro i swap'!UK4","v":0},{"$f":"UN34*'Makro i swap'!UL4","v":0},{"$f":"UO34*'Makro i swap'!UM4","v":0},{"$f":"UP34*'Makro i swap'!UN4","v":0},{"$f":"UQ34*'Makro i swap'!UO4","v":0},{"$f":"UR34*'Makro i swap'!UP4","v":0},{"$f":"US34*'Makro i swap'!UQ4","v":0},{"$f":"UT34*'Makro i swap'!UR4","v":0},{"$f":"UU34*'Makro i swap'!US4","v":0},{"$f":"UV34*'Makro i swap'!UT4","v":0},{"$f":"UW34*'Makro i swap'!UU4","v":0},{"$f":"UX34*'Makro i swap'!UV4","v":0},{"$f":"UY34*'Makro i swap'!UW4","v":0},{"$f":"UZ34*'Makro i swap'!UX4","v":0},{"$f":"VA34*'Makro i swap'!UY4","v":0},{"$f":"VB34*'Makro i swap'!UZ4","v":0},{"$f":"VC34*'Makro i swap'!VA4","v":0},{"$f":"VD34*'Makro i swap'!VB4","v":0},{"$f":"VE34*'Makro i swap'!VC4","v":0},{"$f":"VF34*'Makro i swap'!VD4","v":0},{"$f":"VG34*'Makro i swap'!VE4","v":0},{"$f":"VH34*'Makro i swap'!VF4","v":0},{"$f":"VI34*'Makro i swap'!VG4","v":0},{"$f":"VJ34*'Makro i swap'!VH4","v":0},{"$f":"VK34*'Makro i swap'!VI4","v":0},{"$f":"VL34*'Makro i swap'!VJ4","v":0},{"$f":"VM34*'Makro i swap'!VK4","v":0},{"$f":"VN34*'Makro i swap'!VL4","v":0},{"$f":"VO34*'Makro i swap'!VM4","v":0},{"$f":"VP34*'Makro i swap'!VN4","v":0},{"$f":"VQ34*'Makro i swap'!VO4","v":0},{"$f":"VR34*'Makro i swap'!VP4","v":0},{"$f":"VS34*'Makro i swap'!VQ4","v":0},{"$f":"VT34*'Makro i swap'!VR4","v":0},{"$f":"VU34*'Makro i swap'!VS4","v":0},{"$f":"VV34*'Makro i swap'!VT4","v":0},{"$f":"VW34*'Makro i swap'!VU4","v":0},{"$f":"VX34*'Makro i swap'!VV4","v":0},{"$f":"VY34*'Makro i swap'!VW4","v":0},{"$f":"VZ34*'Makro i swap'!VX4","v":0},{"$f":"WA34*'Makro i swap'!VY4","v":0},{"$f":"WB34*'Makro i swap'!VZ4","v":0},{"$f":"WC34*'Makro i swap'!WA4","v":0},{"$f":"WD34*'Makro i swap'!WB4","v":0},{"$f":"WE34*'Makro i swap'!WC4","v":0},{"$f":"WF34*'Makro i swap'!WD4","v":0},{"$f":"WG34*'Makro i swap'!WE4","v":0},{"$f":"WH34*'Makro i swap'!WF4","v":0},{"$f":"WI34*'Makro i swap'!WG4","v":0},{"$f":"WJ34*'Makro i swap'!WH4","v":0},{"$f":"WK34*'Makro i swap'!WI4","v":0},{"$f":"WL34*'Makro i swap'!WJ4","v":0},{"$f":"WM34*'Makro i swap'!WK4","v":0},{"$f":"WN34*'Makro i swap'!WL4","v":0},{"$f":"WO34*'Makro i swap'!WM4","v":0},{"$f":"WP34*'Makro i swap'!WN4","v":0},{"$f":"WQ34*'Makro i swap'!WO4","v":0},{"$f":"WR34*'Makro i swap'!WP4","v":0},{"$f":"WS34*'Makro i swap'!WQ4","v":0},{"$f":"WT34*'Makro i swap'!WR4","v":0},{"$f":"WU34*'Makro i swap'!WS4","v":0},{"$f":"WV34*'Makro i swap'!WT4","v":0},{"$f":"WW34*'Makro i swap'!WU4","v":0},{"$f":"WX34*'Makro i swap'!WV4","v":0},{"$f":"WY34*'Makro i swap'!WW4","v":0},{"$f":"WZ34*'Makro i swap'!WX4","v":0},{"$f":"XA34*'Makro i swap'!WY4","v":0},{"$f":"XB34*'Makro i swap'!WZ4","v":0},{"$f":"XC34*'Makro i swap'!XA4","v":0},{"$f":"XD34*'Makro i swap'!XB4","v":0},{"$f":"XE34*'Makro i swap'!XC4","v":0},{"$f":"XF34*'Makro i swap'!XD4","v":0},{"$f":"XG34*'Makro i swap'!XE4","v":0},{"$f":"XH34*'Makro i swap'!XF4","v":0},{"$f":"XI34*'Makro i swap'!XG4","v":0},{"$f":"XJ34*'Makro i swap'!XH4","v":0},{"$f":"XK34*'Makro i swap'!XI4","v":0},{"$f":"XL34*'Makro i swap'!XJ4","v":0},{"$f":"XM34*'Makro i swap'!XK4","v":0},{"$f":"XN34*'Makro i swap'!XL4","v":0},{"$f":"XO34*'Makro i swap'!XM4","v":0},{"$f":"XP34*'Makro i swap'!XN4","v":0},{"$f":"XQ34*'Makro i swap'!XO4","v":0},{"$f":"XR34*'Makro i swap'!XP4","v":0},{"$f":"XS34*'Makro i swap'!XQ4","v":0},{"$f":"XT34*'Makro i swap'!XR4","v":0},{"$f":"XU34*'Makro i swap'!XS4","v":0},{"$f":"XV34*'Makro i swap'!XT4","v":0},{"$f":"XW34*'Makro i swap'!XU4","v":0},{"$f":"XX34*'Makro i swap'!XV4","v":0},{"$f":"XY34*'Makro i swap'!XW4","v":0},{"$f":"XZ34*'Makro i swap'!XX4","v":0},{"$f":"YA34*'Makro i swap'!XY4","v":0},{"$f":"YB34*'Makro i swap'!XZ4","v":0},{"$f":"YC34*'Makro i swap'!YA4","v":0},{"$f":"YD34*'Makro i swap'!YB4","v":0},{"$f":"YE34*'Makro i swap'!YC4","v":0},{"$f":"YF34*'Makro i swap'!YD4","v":0},{"$f":"YG34*'Makro i swap'!YE4","v":0},{"$f":"YH34*'Makro i swap'!YF4","v":0},{"$f":"YI34*'Makro i swap'!YG4","v":0},{"$f":"YJ34*'Makro i swap'!YH4","v":0},{"$f":"YK34*'Makro i swap'!YI4","v":0},{"$f":"YL34*'Makro i swap'!YJ4","v":0},{"$f":"YM34*'Makro i swap'!YK4","v":0},{"$f":"YN34*'Makro i swap'!YL4","v":0},{"$f":"YO34*'Makro i swap'!YM4","v":0},{"$f":"YP34*'Makro i swap'!YN4","v":0},{"$f":"YQ34*'Makro i swap'!YO4","v":0},{"$f":"YR34*'Makro i swap'!YP4","v":0},{"$f":"YS34*'Makro i swap'!YQ4","v":0},{"$f":"YT34*'Makro i swap'!YR4","v":0},{"$f":"YU34*'Makro i swap'!YS4","v":0},{"$f":"YV34*'Makro i swap'!YT4","v":0},{"$f":"YW34*'Makro i swap'!YU4","v":0},{"$f":"YX34*'Makro i swap'!YV4","v":0},{"$f":"YY34*'Makro i swap'!YW4","v":0},{"$f":"YZ34*'Makro i swap'!YX4","v":0},{"$f":"ZA34*'Makro i swap'!YY4","v":0},{"$f":"ZB34*'Makro i swap'!YZ4","v":0},{"$f":"ZC34*'Makro i swap'!ZA4","v":0},{"$f":"ZD34*'Makro i swap'!ZB4","v":0},{"$f":"ZE34*'Makro i swap'!ZC4","v":0},{"$f":"ZF34*'Makro i swap'!ZD4","v":0},{"$f":"ZG34*'Makro i swap'!ZE4","v":0},{"$f":"ZH34*'Makro i swap'!ZF4","v":0},{"$f":"ZI34*'Makro i swap'!ZG4","v":0},{"$f":"ZJ34*'Makro i swap'!ZH4","v":0},{"$f":"ZK34*'Makro i swap'!ZI4","v":0},{"$f":"ZL34*'Makro i swap'!ZJ4","v":0},{"$f":"ZM34*'Makro i swap'!ZK4","v":0},{"$f":"ZN34*'Makro i swap'!ZL4","v":0},{"$f":"ZO34*'Makro i swap'!ZM4","v":0},{"$f":"ZP34*'Makro i swap'!ZN4","v":0},{"$f":"ZQ34*'Makro i swap'!ZO4","v":0},{"$f":"ZR34*'Makro i swap'!ZP4","v":0},{"$f":"ZS34*'Makro i swap'!ZQ4","v":0},{"$f":"ZT34*'Makro i swap'!ZR4","v":0},{"$f":"ZU34*'Makro i swap'!ZS4","v":0},{"$f":"ZV34*'Makro i swap'!ZT4","v":0},{"$f":"ZW34*'Makro i swap'!ZU4","v":0},{"$f":"ZX34*'Makro i swap'!ZV4","v":0},{"$f":"ZY34*'Makro i swap'!ZW4","v":0},{"$f":"ZZ34*'Makro i swap'!ZX4","v":0},{"$f":"AAA34*'Makro i swap'!ZY4","v":0},{"$f":"AAB34*'Makro i swap'!ZZ4","v":0},{"$f":"AAC34*'Makro i swap'!AAA4","v":0},{"$f":"AAD34*'Makro i swap'!AAB4","v":0},{"$f":"AAE34*'Makro i swap'!AAC4","v":0},{"$f":"AAF34*'Makro i swap'!AAD4","v":0},{"$f":"AAG34*'Makro i swap'!AAE4","v":0},{"$f":"AAH34*'Makro i swap'!AAF4","v":0},{"$f":"AAI34*'Makro i swap'!AAG4","v":0},{"$f":"AAJ34*'Makro i swap'!AAH4","v":0},{"$f":"AAK34*'Makro i swap'!AAI4","v":0},{"$f":"AAL34*'Makro i swap'!AAJ4","v":0},{"$f":"AAM34*'Makro i swap'!AAK4","v":0},{"$f":"AAN34*'Makro i swap'!AAL4","v":0},{"$f":"AAO34*'Makro i swap'!AAM4","v":0},{"$f":"AAP34*'Makro i swap'!AAN4","v":0},{"$f":"AAQ34*'Makro i swap'!AAO4","v":0},{"$f":"AAR34*'Makro i swap'!AAP4","v":0},{"$f":"AAS34*'Makro i swap'!AAQ4","v":0},{"$f":"AAT34*'Makro i swap'!AAR4","v":0},{"$f":"AAU34*'Makro i swap'!AAS4","v":0},{"$f":"AAV34*'Makro i swap'!AAT4","v":0},{"$f":"AAW34*'Makro i swap'!AAU4","v":0},{"$f":"AAX34*'Makro i swap'!AAV4","v":0},{"$f":"AAY34*'Makro i swap'!AAW4","v":0},{"$f":"AAZ34*'Makro i swap'!AAX4","v":0},{"$f":"ABA34*'Makro i swap'!AAY4","v":0},{"$f":"ABB34*'Makro i swap'!AAZ4","v":0},{"$f":"ABC34*'Makro i swap'!ABA4","v":0},{"$f":"ABD34*'Makro i swap'!ABB4","v":0},{"$f":"ABE34*'Makro i swap'!ABC4","v":0},{"$f":"ABF34*'Makro i swap'!ABD4","v":0},{"$f":"ABG34*'Makro i swap'!ABE4","v":0},{"$f":"ABH34*'Makro i swap'!ABF4","v":0},{"$f":"ABI34*'Makro i swap'!ABG4","v":0},{"$f":"ABJ34*'Makro i swap'!ABH4","v":0},{"$f":"ABK34*'Makro i swap'!ABI4","v":0},{"$f":"ABL34*'Makro i swap'!ABJ4","v":0},{"$f":"ABM34*'Makro i swap'!ABK4","v":0},{"$f":"ABN34*'Makro i swap'!ABL4","v":0},{"$f":"ABO34*'Makro i swap'!ABM4","v":0},{"$f":"ABP34*'Makro i swap'!ABN4","v":0},{"$f":"ABQ34*'Makro i swap'!ABO4","v":0},{"$f":"ABR34*'Makro i swap'!ABP4","v":0},{"$f":"ABS34*'Makro i swap'!ABQ4","v":0},{"$f":"ABT34*'Makro i swap'!ABR4","v":0},{"$f":"ABU34*'Makro i swap'!ABS4","v":0},{"$f":"ABV34*'Makro i swap'!ABT4","v":0},{"$f":"ABW34*'Makro i swap'!ABU4","v":0},{"$f":"ABX34*'Makro i swap'!ABV4","v":0},{"$f":"ABY34*'Makro i swap'!ABW4","v":0},{"$f":"ABZ34*'Makro i swap'!ABX4","v":0},{"$f":"ACA34*'Makro i swap'!ABY4","v":0},{"$f":"ACB34*'Makro i swap'!ABZ4","v":0},{"$f":"ACC34*'Makro i swap'!ACA4","v":0},{"$f":"ACD34*'Makro i swap'!ACB4","v":0},{"$f":"ACE34*'Makro i swap'!ACC4","v":0},{"$f":"ACF34*'Makro i swap'!ACD4","v":0},{"$f":"ACG34*'Makro i swap'!ACE4","v":0},{"$f":"ACH34*'Makro i swap'!ACF4","v":0},{"$f":"ACI34*'Makro i swap'!ACG4","v":0},{"$f":"ACJ34*'Makro i swap'!ACH4","v":0},{"$f":"ACK34*'Makro i swap'!ACI4","v":0},{"$f":"ACL34*'Makro i swap'!ACJ4","v":0},{"$f":"ACM34*'Makro i swap'!ACK4","v":0},{"$f":"ACN34*'Makro i swap'!ACL4","v":0},{"$f":"ACO34*'Makro i swap'!ACM4","v":0},{"$f":"ACP34*'Makro i swap'!ACN4","v":0},{"$f":"ACQ34*'Makro i swap'!ACO4","v":0},{"$f":"ACR34*'Makro i swap'!ACP4","v":0},{"$f":"ACS34*'Makro i swap'!ACQ4","v":0},{"$f":"ACT34*'Makro i swap'!ACR4","v":0},{"$f":"ACU34*'Makro i swap'!ACS4","v":0},{"$f":"ACV34*'Makro i swap'!ACT4","v":0},{"$f":"ACW34*'Makro i swap'!ACU4","v":0},{"$f":"ACX34*'Makro i swap'!ACV4","v":0},{"$f":"ACY34*'Makro i swap'!ACW4","v":0},{"$f":"ACZ34*'Makro i swap'!ACX4","v":0},{"$f":"ADA34*'Makro i swap'!ACY4","v":0},{"$f":"ADB34*'Makro i swap'!ACZ4","v":0},{"$f":"ADC34*'Makro i swap'!ADA4","v":0},{"$f":"ADD34*'Makro i swap'!ADB4","v":0},{"$f":"ADE34*'Makro i swap'!ADC4","v":0},{"$f":"ADF34*'Makro i swap'!ADD4","v":0},{"$f":"ADG34*'Makro i swap'!ADE4","v":0},{"$f":"ADH34*'Makro i swap'!ADF4","v":0},{"$f":"ADI34*'Makro i swap'!ADG4","v":0},{"$f":"ADJ34*'Makro i swap'!ADH4","v":0},{"$f":"ADK34*'Makro i swap'!ADI4","v":0},{"$f":"ADL34*'Makro i swap'!ADJ4","v":0},{"$f":"ADM34*'Makro i swap'!ADK4","v":0},{"$f":"ADN34*'Makro i swap'!ADL4","v":0},{"$f":"ADO34*'Makro i swap'!ADM4","v":0},{"$f":"ADP34*'Makro i swap'!ADN4","v":0},{"$f":"ADQ34*'Makro i swap'!ADO4","v":0},{"$f":"ADR34*'Makro i swap'!ADP4","v":0},{"$f":"ADS34*'Makro i swap'!ADQ4","v":0},{"$f":"ADT34*'Makro i swap'!ADR4","v":0},{"$f":"ADU34*'Makro i swap'!ADS4","v":0},{"$f":"ADV34*'Makro i swap'!ADT4","v":0},{"$f":"ADW34*'Makro i swap'!ADU4","v":0},{"$f":"ADX34*'Makro i swap'!ADV4","v":0},{"$f":"ADY34*'Makro i swap'!ADW4","v":0},{"$f":"ADZ34*'Makro i swap'!ADX4","v":0},{"$f":"AEA34*'Makro i swap'!ADY4","v":0},{"$f":"AEB34*'Makro i swap'!ADZ4","v":0},{"$f":"AEC34*'Makro i swap'!AEA4","v":0},{"$f":"AED34*'Makro i swap'!AEB4","v":0},{"$f":"AEE34*'Makro i swap'!AEC4","v":0},{"$f":"AEF34*'Makro i swap'!AED4","v":0},{"$f":"AEG34*'Makro i swap'!AEE4","v":0},{"$f":"AEH34*'Makro i swap'!AEF4","v":0},{"$f":"AEI34*'Makro i swap'!AEG4","v":0},{"$f":"AEJ34*'Makro i swap'!AEH4","v":0},{"$f":"AEK34*'Makro i swap'!AEI4","v":0},{"$f":"AEL34*'Makro i swap'!AEJ4","v":0},{"$f":"AEM34*'Makro i swap'!AEK4","v":0},{"$f":"AEN34*'Makro i swap'!AEL4","v":0},{"$f":"AEO34*'Makro i swap'!AEM4","v":0},{"$f":"AEP34*'Makro i swap'!AEN4","v":0},{"$f":"AEQ34*'Makro i swap'!AEO4","v":0},{"$f":"AER34*'Makro i swap'!AEP4","v":0},{"$f":"AES34*'Makro i swap'!AEQ4","v":0},{"$f":"AET34*'Makro i swap'!AER4","v":0},{"$f":"AEU34*'Makro i swap'!AES4","v":0},{"$f":"AEV34*'Makro i swap'!AET4","v":0},{"$f":"AEW34*'Makro i swap'!AEU4","v":0},{"$f":"AEX34*'Makro i swap'!AEV4","v":0},{"$f":"AEY34*'Makro i swap'!AEW4","v":0},{"$f":"AEZ34*'Makro i swap'!AEX4","v":0},{"$f":"AFA34*'Makro i swap'!AEY4","v":0},{"$f":"AFB34*'Makro i swap'!AEZ4","v":0},{"$f":"AFC34*'Makro i swap'!AFA4","v":0},{"$f":"AFD34*'Makro i swap'!AFB4","v":0},{"$f":"AFE34*'Makro i swap'!AFC4","v":0},{"$f":"AFF34*'Makro i swap'!AFD4","v":0},{"$f":"AFG34*'Makro i swap'!AFE4","v":0},{"$f":"AFH34*'Makro i swap'!AFF4","v":0},{"$f":"AFI34*'Makro i swap'!AFG4","v":0},{"$f":"AFJ34*'Makro i swap'!AFH4","v":0},{"$f":"AFK34*'Makro i swap'!AFI4","v":0},{"$f":"AFL34*'Makro i swap'!AFJ4","v":0},{"$f":"AFM34*'Makro i swap'!AFK4","v":0},{"$f":"AFN34*'Makro i swap'!AFL4","v":0},{"$f":"AFO34*'Makro i swap'!AFM4","v":0},{"$f":"AFP34*'Makro i swap'!AFN4","v":0},{"$f":"AFQ34*'Makro i swap'!AFO4","v":0},{"$f":"AFR34*'Makro i swap'!AFP4","v":0},{"$f":"AFS34*'Makro i swap'!AFQ4","v":0},{"$f":"AFT34*'Makro i swap'!AFR4","v":0},{"$f":"AFU34*'Makro i swap'!AFS4","v":0},{"$f":"AFV34*'Makro i swap'!AFT4","v":0},{"$f":"AFW34*'Makro i swap'!AFU4","v":0},{"$f":"AFX34*'Makro i swap'!AFV4","v":0},{"$f":"AFY34*'Makro i swap'!AFW4","v":0},{"$f":"AFZ34*'Makro i swap'!AFX4","v":0},{"$f":"AGA34*'Makro i swap'!AFY4","v":0},{"$f":"AGB34*'Makro i swap'!AFZ4","v":0},{"$f":"AGC34*'Makro i swap'!AGA4","v":0},{"$f":"AGD34*'Makro i swap'!AGB4","v":0},{"$f":"AGE34*'Makro i swap'!AGC4","v":0},{"$f":"AGF34*'Makro i swap'!AGD4","v":0},{"$f":"AGG34*'Makro i swap'!AGE4","v":0},{"$f":"AGH34*'Makro i swap'!AGF4","v":0},{"$f":"AGI34*'Makro i swap'!AGG4","v":0},{"$f":"AGJ34*'Makro i swap'!AGH4","v":0},{"$f":"AGK34*'Makro i swap'!AGI4","v":0},{"$f":"AGL34*'Makro i swap'!AGJ4","v":0},{"$f":"AGM34*'Makro i swap'!AGK4","v":0},{"$f":"AGN34*'Makro i swap'!AGL4","v":0},{"$f":"AGO34*'Makro i swap'!AGM4","v":0},{"$f":"AGP34*'Makro i swap'!AGN4","v":0},{"$f":"AGQ34*'Makro i swap'!AGO4","v":0},{"$f":"AGR34*'Makro i swap'!AGP4","v":0},{"$f":"AGS34*'Makro i swap'!AGQ4","v":0},{"$f":"AGT34*'Makro i swap'!AGR4","v":0},{"$f":"AGU34*'Makro i swap'!AGS4","v":0},{"$f":"AGV34*'Makro i swap'!AGT4","v":0},{"$f":"AGW34*'Makro i swap'!AGU4","v":0},{"$f":"AGX34*'Makro i swap'!AGV4","v":0},{"$f":"AGY34*'Makro i swap'!AGW4","v":0},{"$f":"AGZ34*'Makro i swap'!AGX4","v":0},{"$f":"AHA34*'Makro i swap'!AGY4","v":0},{"$f":"AHB34*'Makro i swap'!AGZ4","v":0},{"$f":"AHC34*'Makro i swap'!AHA4","v":0},{"$f":"AHD34*'Makro i swap'!AHB4","v":0},{"$f":"AHE34*'Makro i swap'!AHC4","v":0},{"$f":"AHF34*'Makro i swap'!AHD4","v":0},{"$f":"AHG34*'Makro i swap'!AHE4","v":0},{"$f":"AHH34*'Makro i swap'!AHF4","v":0},{"$f":"AHI34*'Makro i swap'!AHG4","v":0},{"$f":"AHJ34*'Makro i swap'!AHH4","v":0},{"$f":"AHK34*'Makro i swap'!AHI4","v":0},{"$f":"AHL34*'Makro i swap'!AHJ4","v":0},{"$f":"AHM34*'Makro i swap'!AHK4","v":0},{"$f":"AHN34*'Makro i swap'!AHL4","v":0},{"$f":"AHO34*'Makro i swap'!AHM4","v":0},{"$f":"AHP34*'Makro i swap'!AHN4","v":0},{"$f":"AHQ34*'Makro i swap'!AHO4","v":0},{"$f":"AHR34*'Makro i swap'!AHP4","v":0},{"$f":"AHS34*'Makro i swap'!AHQ4","v":0},{"$f":"AHT34*'Makro i swap'!AHR4","v":0},{"$f":"AHU34*'Makro i swap'!AHS4","v":0},{"$f":"AHV34*'Makro i swap'!AHT4","v":0},{"$f":"AHW34*'Makro i swap'!AHU4","v":0},{"$f":"AHX34*'Makro i swap'!AHV4","v":0},{"$f":"AHY34*'Makro i swap'!AHW4","v":0},{"$f":"AHZ34*'Makro i swap'!AHX4","v":0},{"$f":"AIA34*'Makro i swap'!AHY4","v":0},{"$f":"AIB34*'Makro i swap'!AHZ4","v":0},{"$f":"AIC34*'Makro i swap'!AIA4","v":0},{"$f":"AID34*'Makro i swap'!AIB4","v":0},{"$f":"AIE34*'Makro i swap'!AIC4","v":0},{"$f":"AIF34*'Makro i swap'!AID4","v":0},{"$f":"AIG34*'Makro i swap'!AIE4","v":0},{"$f":"AIH34*'Makro i swap'!AIF4","v":0},{"$f":"AII34*'Makro i swap'!AIG4","v":0},{"$f":"AIJ34*'Makro i swap'!AIH4","v":0},{"$f":"AIK34*'Makro i swap'!AII4","v":0},{"$f":"AIL34*'Makro i swap'!AIJ4","v":0},{"$f":"AIM34*'Makro i swap'!AIK4","v":0},{"$f":"AIN34*'Makro i swap'!AIL4","v":0},{"$f":"AIO34*'Makro i swap'!AIM4","v":0},{"$f":"AIP34*'Makro i swap'!AIN4","v":0},{"$f":"AIQ34*'Makro i swap'!AIO4","v":0},{"$f":"AIR34*'Makro i swap'!AIP4","v":0},{"$f":"AIS34*'Makro i swap'!AIQ4","v":0},{"$f":"AIT34*'Makro i swap'!AIR4","v":0},{"$f":"AIU34*'Makro i swap'!AIS4","v":0},{"$f":"AIV34*'Makro i swap'!AIT4","v":0},{"$f":"AIW34*'Makro i swap'!AIU4","v":0},{"$f":"AIX34*'Makro i swap'!AIV4","v":0},{"$f":"AIY34*'Makro i swap'!AIW4","v":0},{"$f":"AIZ34*'Makro i swap'!AIX4","v":0},{"$f":"AJA34*'Makro i swap'!AIY4","v":0},{"$f":"AJB34*'Makro i swap'!AIZ4","v":0},{"$f":"AJC34*'Makro i swap'!AJA4","v":0},{"$f":"AJD34*'Makro i swap'!AJB4","v":0},{"$f":"AJE34*'Makro i swap'!AJC4","v":0},{"$f":"AJF34*'Makro i swap'!AJD4","v":0},{"$f":"AJG34*'Makro i swap'!AJE4","v":0},{"$f":"AJH34*'Makro i swap'!AJF4","v":0},{"$f":"AJI34*'Makro i swap'!AJG4","v":0},{"$f":"AJJ34*'Makro i swap'!AJH4","v":0},{"$f":"AJK34*'Makro i swap'!AJI4","v":0},{"$f":"AJL34*'Makro i swap'!AJJ4","v":0},{"$f":"AJM34*'Makro i swap'!AJK4","v":0},{"$f":"AJN34*'Makro i swap'!AJL4","v":0},{"$f":"AJO34*'Makro i swap'!AJM4","v":0},{"$f":"AJP34*'Makro i swap'!AJN4","v":0},{"$f":"AJQ34*'Makro i swap'!AJO4","v":0},{"$f":"AJR34*'Makro i swap'!AJP4","v":0},{"$f":"AJS34*'Makro i swap'!AJQ4","v":0},{"$f":"AJT34*'Makro i swap'!AJR4","v":0},{"$f":"AJU34*'Makro i swap'!AJS4","v":0},{"$f":"AJV34*'Makro i swap'!AJT4","v":0},{"$f":"AJW34*'Makro i swap'!AJU4","v":0},{"$f":"AJX34*'Makro i swap'!AJV4","v":0},{"$f":"AJY34*'Makro i swap'!AJW4","v":0},{"$f":"AJZ34*'Makro i swap'!AJX4","v":0},{"$f":"AKA34*'Makro i swap'!AJY4","v":0},{"$f":"AKB34*'Makro i swap'!AJZ4","v":0},{"$f":"AKC34*'Makro i swap'!AKA4","v":0},{"$f":"AKD34*'Makro i swap'!AKB4","v":0},{"$f":"AKE34*'Makro i swap'!AKC4","v":0},{"$f":"AKF34*'Makro i swap'!AKD4","v":0},{"$f":"AKG34*'Makro i swap'!AKE4","v":0},{"$f":"AKH34*'Makro i swap'!AKF4","v":0},{"$f":"AKI34*'Makro i swap'!AKG4","v":0},{"$f":"AKJ34*'Makro i swap'!AKH4","v":0},{"$f":"AKK34*'Makro i swap'!AKI4","v":0},{"$f":"AKL34*'Makro i swap'!AKJ4","v":0},{"$f":"AKM34*'Makro i swap'!AKK4","v":0},{"$f":"AKN34*'Makro i swap'!AKL4","v":0},{"$f":"AKO34*'Makro i swap'!AKM4","v":0},{"$f":"AKP34*'Makro i swap'!AKN4","v":0},{"$f":"AKQ34*'Makro i swap'!AKO4","v":0},{"$f":"AKR34*'Makro i swap'!AKP4","v":0},{"$f":"AKS34*'Makro i swap'!AKQ4","v":0},{"$f":"AKT34*'Makro i swap'!AKR4","v":0},{"$f":"AKU34*'Makro i swap'!AKS4","v":0},{"$f":"AKV34*'Makro i swap'!AKT4","v":0},{"$f":"AKW34*'Makro i swap'!AKU4","v":0},{"$f":"AKX34*'Makro i swap'!AKV4","v":0},{"$f":"AKY34*'Makro i swap'!AKW4","v":0},{"$f":"AKZ34*'Makro i swap'!AKX4","v":0},{"$f":"ALA34*'Makro i swap'!AKY4","v":0},{"$f":"ALB34*'Makro i swap'!AKZ4","v":0},{"$f":"ALC34*'Makro i swap'!ALA4","v":0},{"$f":"ALD34*'Makro i swap'!ALB4","v":0},{"$f":"ALE34*'Makro i swap'!ALC4","v":0},{"$f":"ALF34*'Makro i swap'!ALD4","v":0},{"$f":"ALG34*'Makro i swap'!ALE4","v":0},{"$f":"ALH34*'Makro i swap'!ALF4","v":0},{"$f":"ALI34*'Makro i swap'!ALG4","v":0},{"$f":"ALJ34*'Makro i swap'!ALH4","v":0},{"$f":"ALK34*'Makro i swap'!ALI4","v":0},{"$f":"ALL34*'Makro i swap'!ALJ4","v":0},{"$f":"ALM34*'Makro i swap'!ALK4","v":0},{"$f":"ALN34*'Makro i swap'!ALL4","v":0},{"$f":"ALO34*'Makro i swap'!ALM4","v":0},{"$f":"ALP34*'Makro i swap'!ALN4","v":0},{"$f":"ALQ34*'Makro i swap'!ALO4","v":0},{"$f":"ALR34*'Makro i swap'!ALP4","v":0},{"$f":"ALS34*'Makro i swap'!ALQ4","v":0},{"$f":"ALT34*'Makro i swap'!ALR4","v":0},{"$f":"ALU34*'Makro i swap'!ALS4","v":0},{"$f":"ALV34*'Makro i swap'!ALT4","v":0},{"$f":"ALW34*'Makro i swap'!ALU4","v":0},{"$f":"ALX34*'Makro i swap'!ALV4","v":0},{"$f":"ALY34*'Makro i swap'!ALW4","v":0},{"$f":"ALZ34*'Makro i swap'!ALX4","v":0},{"$f":"AMA34*'Makro i swap'!ALY4","v":0},{"$f":"AMB34*'Makro i swap'!ALZ4","v":0},{"$f":"AMC34*'Makro i swap'!AMA4","v":0},{"$f":"AMD34*'Makro i swap'!AMB4","v":0},{"$f":"AME34*'Makro i swap'!AMC4","v":0},{"$f":"AMF34*'Makro i swap'!AMD4","v":0},{"$f":"AMG34*'Makro i swap'!AME4","v":0},{"$f":"AMH34*'Makro i swap'!AMF4","v":0},{"$f":"AMI34*'Makro i swap'!AMG4","v":0},{"$f":"AMJ34*'Makro i swap'!AMH4","v":0},{"$f":"AMK34*'Makro i swap'!AMI4","v":0},{"$f":"AML34*'Makro i swap'!AMJ4","v":0},{"$f":"AMM34*'Makro i swap'!AMK4","v":0},{"$f":"AMN34*'Makro i swap'!AML4","v":0},{"$f":"AMO34*'Makro i swap'!AMM4","v":0},{"$f":"AMP34*'Makro i swap'!AMN4","v":0},{"$f":"AMQ34*'Makro i swap'!AMO4","v":0},{"$f":"AMR34*'Makro i swap'!AMP4","v":0},{"$f":"AMS34*'Makro i swap'!AMQ4","v":0},{"$f":"AMT34*'Makro i swap'!AMR4","v":0},{"$f":"AMU34*'Makro i swap'!AMS4","v":0},{"$f":"AMV34*'Makro i swap'!AMT4","v":0},{"$f":"AMW34*'Makro i swap'!AMU4","v":0},{"$f":"AMX34*'Makro i swap'!AMV4","v":0},{"$f":"AMY34*'Makro i swap'!AMW4","v":0},{"$f":"AMZ34*'Makro i swap'!AMX4","v":0},{"$f":"ANA34*'Makro i swap'!AMY4","v":0},{"$f":"ANB34*'Makro i swap'!AMZ4","v":0},{"$f":"ANC34*'Makro i swap'!ANA4","v":0},{"$f":"AND34*'Makro i swap'!ANB4","v":0},{"$f":"ANE34*'Makro i swap'!ANC4","v":0},{"$f":"ANF34*'Makro i swap'!AND4","v":0},{"$f":"ANG34*'Makro i swap'!ANE4","v":0},{"$f":"ANH34*'Makro i swap'!ANF4","v":0},{"$f":"ANI34*'Makro i swap'!ANG4","v":0},{"$f":"ANJ34*'Makro i swap'!ANH4","v":0},{"$f":"ANK34*'Makro i swap'!ANI4","v":0},{"$f":"ANL34*'Makro i swap'!ANJ4","v":0},{"$f":"ANM34*'Makro i swap'!ANK4","v":0},{"$f":"ANN34*'Makro i swap'!ANL4","v":0},{"$f":"ANO34*'Makro i swap'!ANM4","v":0},{"$f":"ANP34*'Makro i swap'!ANN4","v":0},{"$f":"ANQ34*'Makro i swap'!ANO4","v":0},{"$f":"ANR34*'Makro i swap'!ANP4","v":0},{"$f":"ANS34*'Makro i swap'!ANQ4","v":0},{"$f":"ANT34*'Makro i swap'!ANR4","v":0},{"$f":"ANU34*'Makro i swap'!ANS4","v":0},{"$f":"ANV34*'Makro i swap'!ANT4","v":0},{"$f":"ANW34*'Makro i swap'!ANU4","v":0},{"$f":"ANX34*'Makro i swap'!ANV4","v":0},{"$f":"ANY34*'Makro i swap'!ANW4","v":0},{"$f":"ANZ34*'Makro i swap'!ANX4","v":0},{"$f":"AOA34*'Makro i swap'!ANY4","v":0},{"$f":"AOB34*'Makro i swap'!ANZ4","v":0},{"$f":"AOC34*'Makro i swap'!AOA4","v":0},{"$f":"AOD34*'Makro i swap'!AOB4","v":0},{"$f":"AOE34*'Makro i swap'!AOC4","v":0},{"$f":"AOF34*'Makro i swap'!AOD4","v":0},{"$f":"AOG34*'Makro i swap'!AOE4","v":0},{"$f":"AOH34*'Makro i swap'!AOF4","v":0},{"$f":"AOI34*'Makro i swap'!AOG4","v":0},{"$f":"AOJ34*'Makro i swap'!AOH4","v":0},{"$f":"AOK34*'Makro i swap'!AOI4","v":0},{"$f":"AOL34*'Makro i swap'!AOJ4","v":0},{"$f":"AOM34*'Makro i swap'!AOK4","v":0},{"$f":"AON34*'Makro i swap'!AOL4","v":0},{"$f":"AOO34*'Makro i swap'!AOM4","v":0},{"$f":"AOP34*'Makro i swap'!AON4","v":0},{"$f":"AOQ34*'Makro i swap'!AOO4","v":0},{"$f":"AOR34*'Makro i swap'!AOP4","v":0},{"$f":"AOS34*'Makro i swap'!AOQ4","v":0},{"$f":"AOT34*'Makro i swap'!AOR4","v":0},{"$f":"AOU34*'Makro i swap'!AOS4","v":0},{"$f":"AOV34*'Makro i swap'!AOT4","v":0},{"$f":"AOW34*'Makro i swap'!AOU4","v":0},{"$f":"AOX34*'Makro i swap'!AOV4","v":0},{"$f":"AOY34*'Makro i swap'!AOW4","v":0},{"$f":"AOZ34*'Makro i swap'!AOX4","v":0},{"$f":"APA34*'Makro i swap'!AOY4","v":0},{"$f":"APB34*'Makro i swap'!AOZ4","v":0},{"$f":"APC34*'Makro i swap'!APA4","v":0},{"$f":"APD34*'Makro i swap'!APB4","v":0},{"$f":"APE34*'Makro i swap'!APC4","v":0},{"$f":"APF34*'Makro i swap'!APD4","v":0},{"$f":"APG34*'Makro i swap'!APE4","v":0},{"$f":"APH34*'Makro i swap'!APF4","v":0},{"$f":"API34*'Makro i swap'!APG4","v":0},{"$f":"APJ34*'Makro i swap'!APH4","v":0},{"$f":"APK34*'Makro i swap'!API4","v":0},{"$f":"APL34*'Makro i swap'!APJ4","v":0},{"$f":"APM34*'Makro i swap'!APK4","v":0},{"$f":"APN34*'Makro i swap'!APL4","v":0},{"$f":"APO34*'Makro i swap'!APM4","v":0},{"$f":"APP34*'Makro i swap'!APN4","v":0},{"$f":"APQ34*'Makro i swap'!APO4","v":0},{"$f":"APR34*'Makro i swap'!APP4","v":0},{"$f":"APS34*'Makro i swap'!APQ4","v":0},{"$f":"APT34*'Makro i swap'!APR4","v":0},{"$f":"APU34*'Makro i swap'!APS4","v":0},{"$f":"APV34*'Makro i swap'!APT4","v":0},{"$f":"APW34*'Makro i swap'!APU4","v":0},{"$f":"APX34*'Makro i swap'!APV4","v":0},{"$f":"APY34*'Makro i swap'!APW4","v":0},{"$f":"APZ34*'Makro i swap'!APX4","v":0},{"$f":"AQA34*'Makro i swap'!APY4","v":0},{"$f":"AQB34*'Makro i swap'!APZ4","v":0},{"$f":"AQC34*'Makro i swap'!AQA4","v":0},{"$f":"AQD34*'Makro i swap'!AQB4","v":0},{"$f":"AQE34*'Makro i swap'!AQC4","v":0},{"$f":"AQF34*'Makro i swap'!AQD4","v":0},{"$f":"AQG34*'Makro i swap'!AQE4","v":0},{"$f":"AQH34*'Makro i swap'!AQF4","v":0},{"$f":"AQI34*'Makro i swap'!AQG4","v":0},{"$f":"AQJ34*'Makro i swap'!AQH4","v":0},{"$f":"AQK34*'Makro i swap'!AQI4","v":0},{"$f":"AQL34*'Makro i swap'!AQJ4","v":0},{"$f":"AQM34*'Makro i swap'!AQK4","v":0},{"$f":"AQN34*'Makro i swap'!AQL4","v":0},{"$f":"AQO34*'Makro i swap'!AQM4","v":0},{"$f":"AQP34*'Makro i swap'!AQN4","v":0},{"$f":"AQQ34*'Makro i swap'!AQO4","v":0},{"$f":"AQR34*'Makro i swap'!AQP4","v":0},{"$f":"AQS34*'Makro i swap'!AQQ4","v":0},{"$f":"AQT34*'Makro i swap'!AQR4","v":0},{"$f":"AQU34*'Makro i swap'!AQS4","v":0},{"$f":"AQV34*'Makro i swap'!AQT4","v":0},{"$f":"AQW34*'Makro i swap'!AQU4","v":0},{"$f":"AQX34*'Makro i swap'!AQV4","v":0},{"$f":"AQY34*'Makro i swap'!AQW4","v":0},{"$f":"AQZ34*'Makro i swap'!AQX4","v":0},{"$f":"ARA34*'Makro i swap'!AQY4","v":0},{"$f":"ARB34*'Makro i swap'!AQZ4","v":0},{"$f":"ARC34*'Makro i swap'!ARA4","v":0},{"$f":"ARD34*'Makro i swap'!ARB4","v":0},{"$f":"ARE34*'Makro i swap'!ARC4","v":0},{"$f":"ARF34*'Makro i swap'!ARD4","v":0},{"$f":"ARG34*'Makro i swap'!ARE4","v":0},{"$f":"ARH34*'Makro i swap'!ARF4","v":0},{"$f":"ARI34*'Makro i swap'!ARG4","v":0},{"$f":"ARJ34*'Makro i swap'!ARH4","v":0},{"$f":"ARK34*'Makro i swap'!ARI4","v":0},{"$f":"ARL34*'Makro i swap'!ARJ4","v":0},{"$f":"ARM34*'Makro i swap'!ARK4","v":0},{"$f":"ARN34*'Makro i swap'!ARL4","v":0},{"$f":"ARO34*'Makro i swap'!ARM4","v":0},{"$f":"ARP34*'Makro i swap'!ARN4","v":0},{"$f":"ARQ34*'Makro i swap'!ARO4","v":0},{"$f":"ARR34*'Makro i swap'!ARP4","v":0},{"$f":"ARS34*'Makro i swap'!ARQ4","v":0},{"$f":"ART34*'Makro i swap'!ARR4","v":0},{"$f":"ARU34*'Makro i swap'!ARS4","v":0},{"$f":"ARV34*'Makro i swap'!ART4","v":0},{"$f":"ARW34*'Makro i swap'!ARU4","v":0},{"$f":"ARX34*'Makro i swap'!ARV4","v":0},{"$f":"ARY34*'Makro i swap'!ARW4","v":0},{"$f":"ARZ34*'Makro i swap'!ARX4","v":0},{"$f":"ASA34*'Makro i swap'!ARY4","v":0},{"$f":"ASB34*'Makro i swap'!ARZ4","v":0},{"$f":"ASC34*'Makro i swap'!ASA4","v":0},{"$f":"ASD34*'Makro i swap'!ASB4","v":0},{"$f":"ASE34*'Makro i swap'!ASC4","v":0},{"$f":"ASF34*'Makro i swap'!ASD4","v":0},{"$f":"ASG34*'Makro i swap'!ASE4","v":0},{"$f":"ASH34*'Makro i swap'!ASF4","v":0},{"$f":"ASI34*'Makro i swap'!ASG4","v":0},{"$f":"ASJ34*'Makro i swap'!ASH4","v":0},{"$f":"ASK34*'Makro i swap'!ASI4","v":0},{"$f":"ASL34*'Makro i swap'!ASJ4","v":0},{"$f":"ASM34*'Makro i swap'!ASK4","v":0},{"$f":"ASN34*'Makro i swap'!ASL4","v":0},{"$f":"ASO34*'Makro i swap'!ASM4","v":0},{"$f":"ASP34*'Makro i swap'!ASN4","v":0},{"$f":"ASQ34*'Makro i swap'!ASO4","v":0},{"$f":"ASR34*'Makro i swap'!ASP4","v":0},{"$f":"ASS34*'Makro i swap'!ASQ4","v":0},{"$f":"AST34*'Makro i swap'!ASR4","v":0},{"$f":"ASU34*'Makro i swap'!ASS4","v":0},{"$f":"ASV34*'Makro i swap'!AST4","v":0},{"$f":"ASW34*'Makro i swap'!ASU4","v":0},{"$f":"ASX34*'Makro i swap'!ASV4","v":0},{"$f":"ASY34*'Makro i swap'!ASW4","v":0},{"$f":"ASZ34*'Makro i swap'!ASX4","v":0},{"$f":"ATA34*'Makro i swap'!ASY4","v":0},{"$f":"ATB34*'Makro i swap'!ASZ4","v":0},{"$f":"ATC34*'Makro i swap'!ATA4","v":0},{"$f":"ATD34*'Makro i swap'!ATB4","v":0},{"$f":"ATE34*'Makro i swap'!ATC4","v":0},{"$f":"ATF34*'Makro i swap'!ATD4","v":0},{"$f":"ATG34*'Makro i swap'!ATE4","v":0},{"$f":"ATH34*'Makro i swap'!ATF4","v":0},{"$f":"ATI34*'Makro i swap'!ATG4","v":0},{"$f":"ATJ34*'Makro i swap'!ATH4","v":0},{"$f":"ATK34*'Makro i swap'!ATI4","v":0},{"$f":"ATL34*'Makro i swap'!ATJ4","v":0},{"$f":"ATM34*'Makro i swap'!ATK4","v":0},{"$f":"ATN34*'Makro i swap'!ATL4","v":0},{"$f":"ATO34*'Makro i swap'!ATM4","v":0},{"$f":"ATP34*'Makro i swap'!ATN4","v":0},{"$f":"ATQ34*'Makro i swap'!ATO4","v":0},{"$f":"ATR34*'Makro i swap'!ATP4","v":0},{"$f":"ATS34*'Makro i swap'!ATQ4","v":0},{"$f":"ATT34*'Makro i swap'!ATR4","v":0},{"$f":"ATU34*'Makro i swap'!ATS4","v":0},{"$f":"ATV34*'Makro i swap'!ATT4","v":0},{"$f":"ATW34*'Makro i swap'!ATU4","v":0},{"$f":"ATX34*'Makro i swap'!ATV4","v":0},{"$f":"ATY34*'Makro i swap'!ATW4","v":0},{"$f":"ATZ34*'Makro i swap'!ATX4","v":0},{"$f":"AUA34*'Makro i swap'!ATY4","v":0},{"$f":"AUB34*'Makro i swap'!ATZ4","v":0},{"$f":"AUC34*'Makro i swap'!AUA4","v":0},{"$f":"AUD34*'Makro i swap'!AUB4","v":0},{"$f":"AUE34*'Makro i swap'!AUC4","v":0},{"$f":"AUF34*'Makro i swap'!AUD4","v":0},{"$f":"AUG34*'Makro i swap'!AUE4","v":0},{"$f":"AUH34*'Makro i swap'!AUF4","v":0},{"$f":"AUI34*'Makro i swap'!AUG4","v":0},{"$f":"AUJ34*'Makro i swap'!AUH4","v":0},{"$f":"AUK34*'Makro i swap'!AUI4","v":0},{"$f":"AUL34*'Makro i swap'!AUJ4","v":0},{"$f":"AUM34*'Makro i swap'!AUK4","v":0},{"$f":"AUN34*'Makro i swap'!AUL4","v":0},{"$f":"AUO34*'Makro i swap'!AUM4","v":0},{"$f":"AUP34*'Makro i swap'!AUN4","v":0},{"$f":"AUQ34*'Makro i swap'!AUO4","v":0},{"$f":"AUR34*'Makro i swap'!AUP4","v":0},{"$f":"AUS34*'Makro i swap'!AUQ4","v":0},{"$f":"AUT34*'Makro i swap'!AUR4","v":0},{"$f":"AUU34*'Makro i swap'!AUS4","v":0},{"$f":"AUV34*'Makro i swap'!AUT4","v":0},{"$f":"AUW34*'Makro i swap'!AUU4","v":0},{"$f":"AUX34*'Makro i swap'!AUV4","v":0},{"$f":"AUY34*'Makro i swap'!AUW4","v":0},{"$f":"AUZ34*'Makro i swap'!AUX4","v":0},{"$f":"AVA34*'Makro i swap'!AUY4","v":0},{"$f":"AVB34*'Makro i swap'!AUZ4","v":0},{"$f":"AVC34*'Makro i swap'!AVA4","v":0},{"$f":"AVD34*'Makro i swap'!AVB4","v":0},{"$f":"AVE34*'Makro i swap'!AVC4","v":0},{"$f":"AVF34*'Makro i swap'!AVD4","v":0},{"$f":"AVG34*'Makro i swap'!AVE4","v":0},{"$f":"AVH34*'Makro i swap'!AVF4","v":0},{"$f":"AVI34*'Makro i swap'!AVG4","v":0},{"$f":"AVJ34*'Makro i swap'!AVH4","v":0},{"$f":"AVK34*'Makro i swap'!AVI4","v":0},{"$f":"AVL34*'Makro i swap'!AVJ4","v":0},{"$f":"AVM34*'Makro i swap'!AVK4","v":0},{"$f":"AVN34*'Makro i swap'!AVL4","v":0},{"$f":"AVO34*'Makro i swap'!AVM4","v":0},{"$f":"AVP34*'Makro i swap'!AVN4","v":0},{"$f":"AVQ34*'Makro i swap'!AVO4","v":0},{"$f":"AVR34*'Makro i swap'!AVP4","v":0},{"$f":"AVS34*'Makro i swap'!AVQ4","v":0},{"$f":"AVT34*'Makro i swap'!AVR4","v":0},{"$f":"AVU34*'Makro i swap'!AVS4","v":0},{"$f":"AVV34*'Makro i swap'!AVT4","v":0},{"$f":"AVW34*'Makro i swap'!AVU4","v":0},{"$f":"AVX34*'Makro i swap'!AVV4","v":0},{"$f":"AVY34*'Makro i swap'!AVW4","v":0},{"$f":"AVZ34*'Makro i swap'!AVX4","v":0},{"$f":"AWA34*'Makro i swap'!AVY4","v":0},{"$f":"AWB34*'Makro i swap'!AVZ4","v":0},{"$f":"AWC34*'Makro i swap'!AWA4","v":0},{"$f":"AWD34*'Makro i swap'!AWB4","v":0},{"$f":"AWE34*'Makro i swap'!AWC4","v":0},{"$f":"AWF34*'Makro i swap'!AWD4","v":0},{"$f":"AWG34*'Makro i swap'!AWE4","v":0},{"$f":"AWH34*'Makro i swap'!AWF4","v":0},{"$f":"AWI34*'Makro i swap'!AWG4","v":0},{"$f":"AWJ34*'Makro i swap'!AWH4","v":0},{"$f":"AWK34*'Makro i swap'!AWI4","v":0},{"$f":"AWL34*'Makro i swap'!AWJ4","v":0},{"$f":"AWM34*'Makro i swap'!AWK4","v":0},{"$f":"AWN34*'Makro i swap'!AWL4","v":0},{"$f":"AWO34*'Makro i swap'!AWM4","v":0},{"$f":"AWP34*'Makro i swap'!AWN4","v":0},{"$f":"AWQ34*'Makro i swap'!AWO4","v":0},{"$f":"AWR34*'Makro i swap'!AWP4","v":0},{"$f":"AWS34*'Makro i swap'!AWQ4","v":0},{"$f":"AWT34*'Makro i swap'!AWR4","v":0},{"$f":"AWU34*'Makro i swap'!AWS4","v":0},{"$f":"AWV34*'Makro i swap'!AWT4","v":0},{"$f":"AWW34*'Makro i swap'!AWU4","v":0},{"$f":"AWX34*'Makro i swap'!AWV4","v":0},{"$f":"AWY34*'Makro i swap'!AWW4","v":0},{"$f":"AWZ34*'Makro i swap'!AWX4","v":0},{"$f":"AXA34*'Makro i swap'!AWY4","v":0},{"$f":"AXB34*'Makro i swap'!AWZ4","v":0},{"$f":"AXC34*'Makro i swap'!AXA4","v":0},{"$f":"AXD34*'Makro i swap'!AXB4","v":0},{"$f":"AXE34*'Makro i swap'!AXC4","v":0},{"$f":"AXF34*'Makro i swap'!AXD4","v":0},{"$f":"AXG34*'Makro i swap'!AXE4","v":0},{"$f":"AXH34*'Makro i swap'!AXF4","v":0},{"$f":"AXI34*'Makro i swap'!AXG4","v":0},{"$f":"AXJ34*'Makro i swap'!AXH4","v":0},{"$f":"AXK34*'Makro i swap'!AXI4","v":0},{"$f":"AXL34*'Makro i swap'!AXJ4","v":0},{"$f":"AXM34*'Makro i swap'!AXK4","v":0},{"$f":"AXN34*'Makro i swap'!AXL4","v":0},{"$f":"AXO34*'Makro i swap'!AXM4","v":0},{"$f":"AXP34*'Makro i swap'!AXN4","v":0},{"$f":"AXQ34*'Makro i swap'!AXO4","v":0},{"$f":"AXR34*'Makro i swap'!AXP4","v":0},{"$f":"AXS34*'Makro i swap'!AXQ4","v":0},{"$f":"AXT34*'Makro i swap'!AXR4","v":0},{"$f":"AXU34*'Makro i swap'!AXS4","v":0},{"$f":"AXV34*'Makro i swap'!AXT4","v":0},{"$f":"AXW34*'Makro i swap'!AXU4","v":0},{"$f":"AXX34*'Makro i swap'!AXV4","v":0},{"$f":"AXY34*'Makro i swap'!AXW4","v":0},{"$f":"AXZ34*'Makro i swap'!AXX4","v":0},{"$f":"AYA34*'Makro i swap'!AXY4","v":0},{"$f":"AYB34*'Makro i swap'!AXZ4","v":0},{"$f":"AYC34*'Makro i swap'!AYA4","v":0},{"$f":"AYD34*'Makro i swap'!AYB4","v":0},{"$f":"AYE34*'Makro i swap'!AYC4","v":0},{"$f":"AYF34*'Makro i swap'!AYD4","v":0},{"$f":"AYG34*'Makro i swap'!AYE4","v":0},{"$f":"AYH34*'Makro i swap'!AYF4","v":0},{"$f":"AYI34*'Makro i swap'!AYG4","v":0},{"$f":"AYJ34*'Makro i swap'!AYH4","v":0},{"$f":"AYK34*'Makro i swap'!AYI4","v":0},{"$f":"AYL34*'Makro i swap'!AYJ4","v":0},{"$f":"AYM34*'Makro i swap'!AYK4","v":0},{"$f":"AYN34*'Makro i swap'!AYL4","v":0},{"$f":"AYO34*'Makro i swap'!AYM4","v":0},{"$f":"AYP34*'Makro i swap'!AYN4","v":0},{"$f":"AYQ34*'Makro i swap'!AYO4","v":0},{"$f":"AYR34*'Makro i swap'!AYP4","v":0},{"$f":"AYS34*'Makro i swap'!AYQ4","v":0},{"$f":"AYT34*'Makro i swap'!AYR4","v":0},{"$f":"AYU34*'Makro i swap'!AYS4","v":0},{"$f":"AYV34*'Makro i swap'!AYT4","v":0},{"$f":"AYW34*'Makro i swap'!AYU4","v":0},{"$f":"AYX34*'Makro i swap'!AYV4","v":0},{"$f":"AYY34*'Makro i swap'!AYW4","v":0},{"$f":"AYZ34*'Makro i swap'!AYX4","v":0},{"$f":"AZA34*'Makro i swap'!AYY4","v":0},{"$f":"AZB34*'Makro i swap'!AYZ4","v":0},{"$f":"AZC34*'Makro i swap'!AZA4","v":0},{"$f":"AZD34*'Makro i swap'!AZB4","v":0},{"$f":"AZE34*'Makro i swap'!AZC4","v":0},{"$f":"AZF34*'Makro i swap'!AZD4","v":0},{"$f":"AZG34*'Makro i swap'!AZE4","v":0},{"$f":"AZH34*'Makro i swap'!AZF4","v":0},{"$f":"AZI34*'Makro i swap'!AZG4","v":0},{"$f":"AZJ34*'Makro i swap'!AZH4","v":0},{"$f":"AZK34*'Makro i swap'!AZI4","v":0},{"$f":"AZL34*'Makro i swap'!AZJ4","v":0},{"$f":"AZM34*'Makro i swap'!AZK4","v":0},{"$f":"AZN34*'Makro i swap'!AZL4","v":0},{"$f":"AZO34*'Makro i swap'!AZM4","v":0},{"$f":"AZP34*'Makro i swap'!AZN4","v":0},{"$f":"AZQ34*'Makro i swap'!AZO4","v":0},{"$f":"AZR34*'Makro i swap'!AZP4","v":0},{"$f":"AZS34*'Makro i swap'!AZQ4","v":0},{"$f":"AZT34*'Makro i swap'!AZR4","v":0},{"$f":"AZU34*'Makro i swap'!AZS4","v":0},{"$f":"AZV34*'Makro i swap'!AZT4","v":0},{"$f":"AZW34*'Makro i swap'!AZU4","v":0},{"$f":"AZX34*'Makro i swap'!AZV4","v":0},{"$f":"AZY34*'Makro i swap'!AZW4","v":0},{"$f":"AZZ34*'Makro i swap'!AZX4","v":0},{"$f":"BAA34*'Makro i swap'!AZY4","v":0},{"$f":"BAB34*'Makro i swap'!AZZ4","v":0},{"$f":"BAC34*'Makro i swap'!BAA4","v":0},{"$f":"BAD34*'Makro i swap'!BAB4","v":0},{"$f":"BAE34*'Makro i swap'!BAC4","v":0},{"$f":"BAF34*'Makro i swap'!BAD4","v":0},{"$f":"BAG34*'Makro i swap'!BAE4","v":0},{"$f":"BAH34*'Makro i swap'!BAF4","v":0},{"$f":"BAI34*'Makro i swap'!BAG4","v":0},{"$f":"BAJ34*'Makro i swap'!BAH4","v":0},{"$f":"BAK34*'Makro i swap'!BAI4","v":0},{"$f":"BAL34*'Makro i swap'!BAJ4","v":0},{"$f":"BAM34*'Makro i swap'!BAK4","v":0},{"$f":"BAN34*'Makro i swap'!BAL4","v":0},{"$f":"BAO34*'Makro i swap'!BAM4","v":0},{"$f":"BAP34*'Makro i swap'!BAN4","v":0},{"$f":"BAQ34*'Makro i swap'!BAO4","v":0},{"$f":"BAR34*'Makro i swap'!BAP4","v":0},{"$f":"BAS34*'Makro i swap'!BAQ4","v":0},{"$f":"BAT34*'Makro i swap'!BAR4","v":0},{"$f":"BAU34*'Makro i swap'!BAS4","v":0},{"$f":"BAV34*'Makro i swap'!BAT4","v":0},{"$f":"BAW34*'Makro i swap'!BAU4","v":0},{"$f":"BAX34*'Makro i swap'!BAV4","v":0},{"$f":"BAY34*'Makro i swap'!BAW4","v":0},{"$f":"BAZ34*'Makro i swap'!BAX4","v":0},{"$f":"BBA34*'Makro i swap'!BAY4","v":0},{"$f":"BBB34*'Makro i swap'!BAZ4","v":0},{"$f":"BBC34*'Makro i swap'!BBA4","v":0},{"$f":"BBD34*'Makro i swap'!BBB4","v":0},{"$f":"BBE34*'Makro i swap'!BBC4","v":0},{"$f":"BBF34*'Makro i swap'!BBD4","v":0},{"$f":"BBG34*'Makro i swap'!BBE4","v":0},{"$f":"BBH34*'Makro i swap'!BBF4","v":0},{"$f":"BBI34*'Makro i swap'!BBG4","v":0},{"$f":"BBJ34*'Makro i swap'!BBH4","v":0},{"$f":"BBK34*'Makro i swap'!BBI4","v":0},{"$f":"BBL34*'Makro i swap'!BBJ4","v":0},{"$f":"BBM34*'Makro i swap'!BBK4","v":0},{"$f":"BBN34*'Makro i swap'!BBL4","v":0},{"$f":"BBO34*'Makro i swap'!BBM4","v":0},{"$f":"BBP34*'Makro i swap'!BBN4","v":0},{"$f":"BBQ34*'Makro i swap'!BBO4","v":0},{"$f":"BBR34*'Makro i swap'!BBP4","v":0},{"$f":"BBS34*'Makro i swap'!BBQ4","v":0},{"$f":"BBT34*'Makro i swap'!BBR4","v":0},{"$f":"BBU34*'Makro i swap'!BBS4","v":0},{"$f":"BBV34*'Makro i swap'!BBT4","v":0},{"$f":"BBW34*'Makro i swap'!BBU4","v":0},{"$f":"BBX34*'Makro i swap'!BBV4","v":0},{"$f":"BBY34*'Makro i swap'!BBW4","v":0},{"$f":"BBZ34*'Makro i swap'!BBX4","v":0},{"$f":"BCA34*'Makro i swap'!BBY4","v":0},{"$f":"BCB34*'Makro i swap'!BBZ4","v":0},{"$f":"BCC34*'Makro i swap'!BCA4","v":0},{"$f":"BCD34*'Makro i swap'!BCB4","v":0},{"$f":"BCE34*'Makro i swap'!BCC4","v":0},{"$f":"BCF34*'Makro i swap'!BCD4","v":0},{"$f":"BCG34*'Makro i swap'!BCE4","v":0},{"$f":"BCH34*'Makro i swap'!BCF4","v":0},{"$f":"BCI34*'Makro i swap'!BCG4","v":0},{"$f":"BCJ34*'Makro i swap'!BCH4","v":0},{"$f":"BCK34*'Makro i swap'!BCI4","v":0},{"$f":"BCL34*'Makro i swap'!BCJ4","v":0},{"$f":"BCM34*'Makro i swap'!BCK4","v":0},{"$f":"BCN34*'Makro i swap'!BCL4","v":0},{"$f":"BCO34*'Makro i swap'!BCM4","v":0},{"$f":"BCP34*'Makro i swap'!BCN4","v":0},{"$f":"BCQ34*'Makro i swap'!BCO4","v":0},{"$f":"BCR34*'Makro i swap'!BCP4","v":0},{"$f":"BCS34*'Makro i swap'!BCQ4","v":0},{"$f":"BCT34*'Makro i swap'!BCR4","v":0},{"$f":"BCU34*'Makro i swap'!BCS4","v":0},{"$f":"BCV34*'Makro i swap'!BCT4","v":0},{"$f":"BCW34*'Makro i swap'!BCU4","v":0},{"$f":"BCX34*'Makro i swap'!BCV4","v":0},{"$f":"BCY34*'Makro i swap'!BCW4","v":0},{"$f":"BCZ34*'Makro i swap'!BCX4","v":0},{"$f":"BDA34*'Makro i swap'!BCY4","v":0},{"$f":"BDB34*'Makro i swap'!BCZ4","v":0},{"$f":"BDC34*'Makro i swap'!BDA4","v":0},{"$f":"BDD34*'Makro i swap'!BDB4","v":0},{"$f":"BDE34*'Makro i swap'!BDC4","v":0},{"$f":"BDF34*'Makro i swap'!BDD4","v":0},{"$f":"BDG34*'Makro i swap'!BDE4","v":0},{"$f":"BDH34*'Makro i swap'!BDF4","v":0},{"$f":"BDI34*'Makro i swap'!BDG4","v":0},{"$f":"BDJ34*'Makro i swap'!BDH4","v":0},{"$f":"BDK34*'Makro i swap'!BDI4","v":0},{"$f":"BDL34*'Makro i swap'!BDJ4","v":0},{"$f":"BDM34*'Makro i swap'!BDK4","v":0},{"$f":"BDN34*'Makro i swap'!BDL4","v":0},{"$f":"BDO34*'Makro i swap'!BDM4","v":0},{"$f":"BDP34*'Makro i swap'!BDN4","v":0},{"$f":"BDQ34*'Makro i swap'!BDO4","v":0},{"$f":"BDR34*'Makro i swap'!BDP4","v":0},{"$f":"BDS34*'Makro i swap'!BDQ4","v":0},{"$f":"BDT34*'Makro i swap'!BDR4","v":0},{"$f":"BDU34*'Makro i swap'!BDS4","v":0},{"$f":"BDV34*'Makro i swap'!BDT4","v":0},{"$f":"BDW34*'Makro i swap'!BDU4","v":0},{"$f":"BDX34*'Makro i swap'!BDV4","v":0},{"$f":"BDY34*'Makro i swap'!BDW4","v":0},{"$f":"BDZ34*'Makro i swap'!BDX4","v":0},{"$f":"BEA34*'Makro i swap'!BDY4","v":0},{"$f":"BEB34*'Makro i swap'!BDZ4","v":0},{"$f":"BEC34*'Makro i swap'!BEA4","v":0},{"$f":"BED34*'Makro i swap'!BEB4","v":0},{"$f":"BEE34*'Makro i swap'!BEC4","v":0},{"$f":"BEF34*'Makro i swap'!BED4","v":0},{"$f":"BEG34*'Makro i swap'!BEE4","v":0},{"$f":"BEH34*'Makro i swap'!BEF4","v":0},{"$f":"BEI34*'Makro i swap'!BEG4","v":0},{"$f":"BEJ34*'Makro i swap'!BEH4","v":0},{"$f":"BEK34*'Makro i swap'!BEI4","v":0},{"$f":"BEL34*'Makro i swap'!BEJ4","v":0},{"$f":"BEM34*'Makro i swap'!BEK4","v":0},{"$f":"BEN34*'Makro i swap'!BEL4","v":0},{"$f":"BEO34*'Makro i swap'!BEM4","v":0},{"$f":"BEP34*'Makro i swap'!BEN4","v":0},{"$f":"BEQ34*'Makro i swap'!BEO4","v":0},{"$f":"BER34*'Makro i swap'!BEP4","v":0},{"$f":"BES34*'Makro i swap'!BEQ4","v":0},{"$f":"BET34*'Makro i swap'!BER4","v":0},{"$f":"BEU34*'Makro i swap'!BES4","v":0},{"$f":"BEV34*'Makro i swap'!BET4","v":0},{"$f":"BEW34*'Makro i swap'!BEU4","v":0},{"$f":"BEX34*'Makro i swap'!BEV4","v":0},{"$f":"BEY34*'Makro i swap'!BEW4","v":0},{"$f":"BEZ34*'Makro i swap'!BEX4","v":0},{"$f":"BFA34*'Makro i swap'!BEY4","v":0},{"$f":"BFB34*'Makro i swap'!BEZ4","v":0},{"$f":"BFC34*'Makro i swap'!BFA4","v":0},{"$f":"BFD34*'Makro i swap'!BFB4","v":0},{"$f":"BFE34*'Makro i swap'!BFC4","v":0},{"$f":"BFF34*'Makro i swap'!BFD4","v":0},{"$f":"BFG34*'Makro i swap'!BFE4","v":0},{"$f":"BFH34*'Makro i swap'!BFF4","v":0},{"$f":"BFI34*'Makro i swap'!BFG4","v":0},{"$f":"BFJ34*'Makro i swap'!BFH4","v":0},{"$f":"BFK34*'Makro i swap'!BFI4","v":0},{"$f":"BFL34*'Makro i swap'!BFJ4","v":0},{"$f":"BFM34*'Makro i swap'!BFK4","v":0},{"$f":"BFN34*'Makro i swap'!BFL4","v":0},{"$f":"BFO34*'Makro i swap'!BFM4","v":0},{"$f":"BFP34*'Makro i swap'!BFN4","v":0},{"$f":"BFQ34*'Makro i swap'!BFO4","v":0},{"$f":"BFR34*'Makro i swap'!BFP4","v":0},{"$f":"BFS34*'Makro i swap'!BFQ4","v":0},{"$f":"BFT34*'Makro i swap'!BFR4","v":0},{"$f":"BFU34*'Makro i swap'!BFS4","v":0},{"$f":"BFV34*'Makro i swap'!BFT4","v":0},{"$f":"BFW34*'Makro i swap'!BFU4","v":0},{"$f":"BFX34*'Makro i swap'!BFV4","v":0},{"$f":"BFY34*'Makro i swap'!BFW4","v":0},{"$f":"BFZ34*'Makro i swap'!BFX4","v":0},{"$f":"BGA34*'Makro i swap'!BFY4","v":0},{"$f":"BGB34*'Makro i swap'!BFZ4","v":0},{"$f":"BGC34*'Makro i swap'!BGA4","v":0},{"$f":"BGD34*'Makro i swap'!BGB4","v":0},{"$f":"BGE34*'Makro i swap'!BGC4","v":0},{"$f":"BGF34*'Makro i swap'!BGD4","v":0},{"$f":"BGG34*'Makro i swap'!BGE4","v":0},{"$f":"BGH34*'Makro i swap'!BGF4","v":0},{"$f":"BGI34*'Makro i swap'!BGG4","v":0},{"$f":"BGJ34*'Makro i swap'!BGH4","v":0},{"$f":"BGK34*'Makro i swap'!BGI4","v":0},{"$f":"BGL34*'Makro i swap'!BGJ4","v":0},{"$f":"BGM34*'Makro i swap'!BGK4","v":0},{"$f":"BGN34*'Makro i swap'!BGL4","v":0},{"$f":"BGO34*'Makro i swap'!BGM4","v":0},{"$f":"BGP34*'Makro i swap'!BGN4","v":0},{"$f":"BGQ34*'Makro i swap'!BGO4","v":0},{"$f":"BGR34*'Makro i swap'!BGP4","v":0},{"$f":"BGS34*'Makro i swap'!BGQ4","v":0},{"$f":"BGT34*'Makro i swap'!BGR4","v":0},{"$f":"BGU34*'Makro i swap'!BGS4","v":0},{"$f":"BGV34*'Makro i swap'!BGT4","v":0},{"$f":"BGW34*'Makro i swap'!BGU4","v":0},{"$f":"BGX34*'Makro i swap'!BGV4","v":0},{"$f":"BGY34*'Makro i swap'!BGW4","v":0},{"$f":"BGZ34*'Makro i swap'!BGX4","v":0},{"$f":"BHA34*'Makro i swap'!BGY4","v":0},{"$f":"BHB34*'Makro i swap'!BGZ4","v":0},{"$f":"BHC34*'Makro i swap'!BHA4","v":0},{"$f":"BHD34*'Makro i swap'!BHB4","v":0},{"$f":"BHE34*'Makro i swap'!BHC4","v":0},{"$f":"BHF34*'Makro i swap'!BHD4","v":0},{"$f":"BHG34*'Makro i swap'!BHE4","v":0},{"$f":"BHH34*'Makro i swap'!BHF4","v":0},{"$f":"BHI34*'Makro i swap'!BHG4","v":0},{"$f":"BHJ34*'Makro i swap'!BHH4","v":0},{"$f":"BHK34*'Makro i swap'!BHI4","v":0},{"$f":"BHL34*'Makro i swap'!BHJ4","v":0},{"$f":"BHM34*'Makro i swap'!BHK4","v":0},{"$f":"BHN34*'Makro i swap'!BHL4","v":0},{"$f":"BHO34*'Makro i swap'!BHM4","v":0},{"$f":"BHP34*'Makro i swap'!BHN4","v":0},{"$f":"BHQ34*'Makro i swap'!BHO4","v":0},{"$f":"BHR34*'Makro i swap'!BHP4","v":0},{"$f":"BHS34*'Makro i swap'!BHQ4","v":0},{"$f":"BHT34*'Makro i swap'!BHR4","v":0},{"$f":"BHU34*'Makro i swap'!BHS4","v":0},{"$f":"BHV34*'Makro i swap'!BHT4","v":0},{"$f":"BHW34*'Makro i swap'!BHU4","v":0},{"$f":"BHX34*'Makro i swap'!BHV4","v":0},{"$f":"BHY34*'Makro i swap'!BHW4","v":0},{"$f":"BHZ34*'Makro i swap'!BHX4","v":0},{"$f":"BIA34*'Makro i swap'!BHY4","v":0},{"$f":"BIB34*'Makro i swap'!BHZ4","v":0},{"$f":"BIC34*'Makro i swap'!BIA4","v":0},{"$f":"BID34*'Makro i swap'!BIB4","v":0},{"$f":"BIE34*'Makro i swap'!BIC4","v":0},{"$f":"BIF34*'Makro i swap'!BID4","v":0},{"$f":"BIG34*'Makro i swap'!BIE4","v":0},{"$f":"BIH34*'Makro i swap'!BIF4","v":0},{"$f":"BII34*'Makro i swap'!BIG4","v":0},{"$f":"BIJ34*'Makro i swap'!BIH4","v":0},{"$f":"BIK34*'Makro i swap'!BII4","v":0},{"$f":"BIL34*'Makro i swap'!BIJ4","v":0},{"$f":"BIM34*'Makro i swap'!BIK4","v":0},{"$f":"BIN34*'Makro i swap'!BIL4","v":0},{"$f":"BIO34*'Makro i swap'!BIM4","v":0},{"$f":"BIP34*'Makro i swap'!BIN4","v":0},{"$f":"BIQ34*'Makro i swap'!BIO4","v":0},{"$f":"BIR34*'Makro i swap'!BIP4","v":0},{"$f":"BIS34*'Makro i swap'!BIQ4","v":0},{"$f":"BIT34*'Makro i swap'!BIR4","v":0},{"$f":"BIU34*'Makro i swap'!BIS4","v":0},{"$f":"BIV34*'Makro i swap'!BIT4","v":0},{"$f":"BIW34*'Makro i swap'!BIU4","v":0},{"$f":"BIX34*'Makro i swap'!BIV4","v":0},{"$f":"BIY34*'Makro i swap'!BIW4","v":0},{"$f":"BIZ34*'Makro i swap'!BIX4","v":0},{"$f":"BJA34*'Makro i swap'!BIY4","v":0},{"$f":"BJB34*'Makro i swap'!BIZ4","v":0},{"$f":"BJC34*'Makro i swap'!BJA4","v":0},{"$f":"BJD34*'Makro i swap'!BJB4","v":0},{"$f":"BJE34*'Makro i swap'!BJC4","v":0},{"$f":"BJF34*'Makro i swap'!BJD4","v":0},{"$f":"BJG34*'Makro i swap'!BJE4","v":0},{"$f":"BJH34*'Makro i swap'!BJF4","v":0},{"$f":"BJI34*'Makro i swap'!BJG4","v":0},{"$f":"BJJ34*'Makro i swap'!BJH4","v":0},{"$f":"BJK34*'Makro i swap'!BJI4","v":0},{"$f":"BJL34*'Makro i swap'!BJJ4","v":0},{"$f":"BJM34*'Makro i swap'!BJK4","v":0},{"$f":"BJN34*'Makro i swap'!BJL4","v":0},{"$f":"BJO34*'Makro i swap'!BJM4","v":0},{"$f":"BJP34*'Makro i swap'!BJN4","v":0},{"$f":"BJQ34*'Makro i swap'!BJO4","v":0},{"$f":"BJR34*'Makro i swap'!BJP4","v":0},{"$f":"BJS34*'Makro i swap'!BJQ4","v":0},{"$f":"BJT34*'Makro i swap'!BJR4","v":0},{"$f":"BJU34*'Makro i swap'!BJS4","v":0},{"$f":"BJV34*'Makro i swap'!BJT4","v":0},{"$f":"BJW34*'Makro i swap'!BJU4","v":0},{"$f":"BJX34*'Makro i swap'!BJV4","v":0},{"$f":"BJY34*'Makro i swap'!BJW4","v":0},{"$f":"BJZ34*'Makro i swap'!BJX4","v":0},{"$f":"BKA34*'Makro i swap'!BJY4","v":0},{"$f":"BKB34*'Makro i swap'!BJZ4","v":0},{"$f":"BKC34*'Makro i swap'!BKA4","v":0},{"$f":"BKD34*'Makro i swap'!BKB4","v":0},{"$f":"BKE34*'Makro i swap'!BKC4","v":0},{"$f":"BKF34*'Makro i swap'!BKD4","v":0},{"$f":"BKG34*'Makro i swap'!BKE4","v":0},{"$f":"BKH34*'Makro i swap'!BKF4","v":0},{"$f":"BKI34*'Makro i swap'!BKG4","v":0},{"$f":"BKJ34*'Makro i swap'!BKH4","v":0},{"$f":"BKK34*'Makro i swap'!BKI4","v":0},{"$f":"BKL34*'Makro i swap'!BKJ4","v":0},{"$f":"BKM34*'Makro i swap'!BKK4","v":0},{"$f":"BKN34*'Makro i swap'!BKL4","v":0},{"$f":"BKO34*'Makro i swap'!BKM4","v":0},{"$f":"BKP34*'Makro i swap'!BKN4","v":0},{"$f":"BKQ34*'Makro i swap'!BKO4","v":0},{"$f":"BKR34*'Makro i swap'!BKP4","v":0},{"$f":"BKS34*'Makro i swap'!BKQ4","v":0},{"$f":"BKT34*'Makro i swap'!BKR4","v":0},{"$f":"BKU34*'Makro i swap'!BKS4","v":0},{"$f":"BKV34*'Makro i swap'!BKT4","v":0},{"$f":"BKW34*'Makro i swap'!BKU4","v":0},{"$f":"BKX34*'Makro i swap'!BKV4","v":0},{"$f":"BKY34*'Makro i swap'!BKW4","v":0},{"$f":"BKZ34*'Makro i swap'!BKX4","v":0},{"$f":"BLA34*'Makro i swap'!BKY4","v":0},{"$f":"BLB34*'Makro i swap'!BKZ4","v":0},{"$f":"BLC34*'Makro i swap'!BLA4","v":0},{"$f":"BLD34*'Makro i swap'!BLB4","v":0},{"$f":"BLE34*'Makro i swap'!BLC4","v":0},{"$f":"BLF34*'Makro i swap'!BLD4","v":0},{"$f":"BLG34*'Makro i swap'!BLE4","v":0},{"$f":"BLH34*'Makro i swap'!BLF4","v":0},{"$f":"BLI34*'Makro i swap'!BLG4","v":0},{"$f":"BLJ34*'Makro i swap'!BLH4","v":0},{"$f":"BLK34*'Makro i swap'!BLI4","v":0},{"$f":"BLL34*'Makro i swap'!BLJ4","v":0},{"$f":"BLM34*'Makro i swap'!BLK4","v":0},{"$f":"BLN34*'Makro i swap'!BLL4","v":0},{"$f":"BLO34*'Makro i swap'!BLM4","v":0},{"$f":"BLP34*'Makro i swap'!BLN4","v":0},{"$f":"BLQ34*'Makro i swap'!BLO4","v":0},{"$f":"BLR34*'Makro i swap'!BLP4","v":0},{"$f":"BLS34*'Makro i swap'!BLQ4","v":0},{"$f":"BLT34*'Makro i swap'!BLR4","v":0},{"$f":"BLU34*'Makro i swap'!BLS4","v":0},{"$f":"BLV34*'Makro i swap'!BLT4","v":0},{"$f":"BLW34*'Makro i swap'!BLU4","v":0},{"$f":"BLX34*'Makro i swap'!BLV4","v":0},{"$f":"BLY34*'Makro i swap'!BLW4","v":0},{"$f":"BLZ34*'Makro i swap'!BLX4","v":0},{"$f":"BMA34*'Makro i swap'!BLY4","v":0},{"$f":"BMB34*'Makro i swap'!BLZ4","v":0},{"$f":"BMC34*'Makro i swap'!BMA4","v":0},{"$f":"BMD34*'Makro i swap'!BMB4","v":0},{"$f":"BME34*'Makro i swap'!BMC4","v":0},{"$f":"BMF34*'Makro i swap'!BMD4","v":0},{"$f":"BMG34*'Makro i swap'!BME4","v":0},{"$f":"BMH34*'Makro i swap'!BMF4","v":0},{"$f":"BMI34*'Makro i swap'!BMG4","v":0},{"$f":"BMJ34*'Makro i swap'!BMH4","v":0},{"$f":"BMK34*'Makro i swap'!BMI4","v":0},{"$f":"BML34*'Makro i swap'!BMJ4","v":0},{"$f":"BMM34*'Makro i swap'!BMK4","v":0},{"$f":"BMN34*'Makro i swap'!BML4","v":0},{"$f":"BMO34*'Makro i swap'!BMM4","v":0},{"$f":"BMP34*'Makro i swap'!BMN4","v":0},{"$f":"BMQ34*'Makro i swap'!BMO4","v":0},{"$f":"BMR34*'Makro i swap'!BMP4","v":0},{"$f":"BMS34*'Makro i swap'!BMQ4","v":0},{"$f":"BMT34*'Makro i swap'!BMR4","v":0},{"$f":"BMU34*'Makro i swap'!BMS4","v":0},{"$f":"BMV34*'Makro i swap'!BMT4","v":0},{"$f":"BMW34*'Makro i swap'!BMU4","v":0},{"$f":"BMX34*'Makro i swap'!BMV4","v":0},{"$f":"BMY34*'Makro i swap'!BMW4","v":0},{"$f":"BMZ34*'Makro i swap'!BMX4","v":0},{"$f":"BNA34*'Makro i swap'!BMY4","v":0},{"$f":"BNB34*'Makro i swap'!BMZ4","v":0},{"$f":"BNC34*'Makro i swap'!BNA4","v":0},{"$f":"BND34*'Makro i swap'!BNB4","v":0},{"$f":"BNE34*'Makro i swap'!BNC4","v":0},{"$f":"BNF34*'Makro i swap'!BND4","v":0},{"$f":"BNG34*'Makro i swap'!BNE4","v":0},{"$f":"BNH34*'Makro i swap'!BNF4","v":0},{"$f":"BNI34*'Makro i swap'!BNG4","v":0},{"$f":"BNJ34*'Makro i swap'!BNH4","v":0},{"$f":"BNK34*'Makro i swap'!BNI4","v":0},{"$f":"BNL34*'Makro i swap'!BNJ4","v":0},{"$f":"BNM34*'Makro i swap'!BNK4","v":0},{"$f":"BNN34*'Makro i swap'!BNL4","v":0},{"$f":"BNO34*'Makro i swap'!BNM4","v":0},{"$f":"BNP34*'Makro i swap'!BNN4","v":0},{"$f":"BNQ34*'Makro i swap'!BNO4","v":0},{"$f":"BNR34*'Makro i swap'!BNP4","v":0},{"$f":"BNS34*'Makro i swap'!BNQ4","v":0},{"$f":"BNT34*'Makro i swap'!BNR4","v":0},{"$f":"BNU34*'Makro i swap'!BNS4","v":0},{"$f":"BNV34*'Makro i swap'!BNT4","v":0},{"$f":"BNW34*'Makro i swap'!BNU4","v":0},{"$f":"BNX34*'Makro i swap'!BNV4","v":0},{"$f":"BNY34*'Makro i swap'!BNW4","v":0},{"$f":"BNZ34*'Makro i swap'!BNX4","v":0},{"$f":"BOA34*'Makro i swap'!BNY4","v":0},{"$f":"BOB34*'Makro i swap'!BNZ4","v":0},{"$f":"BOC34*'Makro i swap'!BOA4","v":0},{"$f":"BOD34*'Makro i swap'!BOB4","v":0},{"$f":"BOE34*'Makro i swap'!BOC4","v":0},{"$f":"BOF34*'Makro i swap'!BOD4","v":0},{"$f":"BOG34*'Makro i swap'!BOE4","v":0},{"$f":"BOH34*'Makro i swap'!BOF4","v":0},{"$f":"BOI34*'Makro i swap'!BOG4","v":0},{"$f":"BOJ34*'Makro i swap'!BOH4","v":0},{"$f":"BOK34*'Makro i swap'!BOI4","v":0},{"$f":"BOL34*'Makro i swap'!BOJ4","v":0},{"$f":"BOM34*'Makro i swap'!BOK4","v":0},{"$f":"BON34*'Makro i swap'!BOL4","v":0},{"$f":"BOO34*'Makro i swap'!BOM4","v":0},{"$f":"BOP34*'Makro i swap'!BON4","v":0},{"$f":"BOQ34*'Makro i swap'!BOO4","v":0},{"$f":"BOR34*'Makro i swap'!BOP4","v":0},{"$f":"BOS34*'Makro i swap'!BOQ4","v":0},{"$f":"BOT34*'Makro i swap'!BOR4","v":0},{"$f":"BOU34*'Makro i swap'!BOS4","v":0},{"$f":"BOV34*'Makro i swap'!BOT4","v":0},{"$f":"BOW34*'Makro i swap'!BOU4","v":0},{"$f":"BOX34*'Makro i swap'!BOV4","v":0},{"$f":"BOY34*'Makro i swap'!BOW4","v":0},{"$f":"BOZ34*'Makro i swap'!BOX4","v":0},{"$f":"BPA34*'Makro i swap'!BOY4","v":0},{"$f":"BPB34*'Makro i swap'!BOZ4","v":0},{"$f":"BPC34*'Makro i swap'!BPA4","v":0},{"$f":"BPD34*'Makro i swap'!BPB4","v":0},{"$f":"BPE34*'Makro i swap'!BPC4","v":0},{"$f":"BPF34*'Makro i swap'!BPD4","v":0},{"$f":"BPG34*'Makro i swap'!BPE4","v":0},{"$f":"BPH34*'Makro i swap'!BPF4","v":0},{"$f":"BPI34*'Makro i swap'!BPG4","v":0},{"$f":"BPJ34*'Makro i swap'!BPH4","v":0},{"$f":"BPK34*'Makro i swap'!BPI4","v":0},{"$f":"BPL34*'Makro i swap'!BPJ4","v":0},{"$f":"BPM34*'Makro i swap'!BPK4","v":0},{"$f":"BPN34*'Makro i swap'!BPL4","v":0},{"$f":"BPO34*'Makro i swap'!BPM4","v":0},{"$f":"BPP34*'Makro i swap'!BPN4","v":0},{"$f":"BPQ34*'Makro i swap'!BPO4","v":0},{"$f":"BPR34*'Makro i swap'!BPP4","v":0},{"$f":"BPS34*'Makro i swap'!BPQ4","v":0},{"$f":"BPT34*'Makro i swap'!BPR4","v":0},{"$f":"BPU34*'Makro i swap'!BPS4","v":0},{"$f":"BPV34*'Makro i swap'!BPT4","v":0},{"$f":"BPW34*'Makro i swap'!BPU4","v":0},{"$f":"BPX34*'Makro i swap'!BPV4","v":0},{"$f":"BPY34*'Makro i swap'!BPW4","v":0},{"$f":"BPZ34*'Makro i swap'!BPX4","v":0},{"$f":"BQA34*'Makro i swap'!BPY4","v":0},{"$f":"BQB34*'Makro i swap'!BPZ4","v":0},{"$f":"BQC34*'Makro i swap'!BQA4","v":0},{"$f":"BQD34*'Makro i swap'!BQB4","v":0},{"$f":"BQE34*'Makro i swap'!BQC4","v":0},{"$f":"BQF34*'Makro i swap'!BQD4","v":0},{"$f":"BQG34*'Makro i swap'!BQE4","v":0},{"$f":"BQH34*'Makro i swap'!BQF4","v":0},{"$f":"BQI34*'Makro i swap'!BQG4","v":0},{"$f":"BQJ34*'Makro i swap'!BQH4","v":0},{"$f":"BQK34*'Makro i swap'!BQI4","v":0},{"$f":"BQL34*'Makro i swap'!BQJ4","v":0},{"$f":"BQM34*'Makro i swap'!BQK4","v":0},{"$f":"BQN34*'Makro i swap'!BQL4","v":0},{"$f":"BQO34*'Makro i swap'!BQM4","v":0},{"$f":"BQP34*'Makro i swap'!BQN4","v":0},{"$f":"BQQ34*'Makro i swap'!BQO4","v":0},{"$f":"BQR34*'Makro i swap'!BQP4","v":0},{"$f":"BQS34*'Makro i swap'!BQQ4","v":0},{"$f":"BQT34*'Makro i swap'!BQR4","v":0},{"$f":"BQU34*'Makro i swap'!BQS4","v":0},{"$f":"BQV34*'Makro i swap'!BQT4","v":0},{"$f":"BQW34*'Makro i swap'!BQU4","v":0},{"$f":"BQX34*'Makro i swap'!BQV4","v":0},{"$f":"BQY34*'Makro i swap'!BQW4","v":0},{"$f":"BQZ34*'Makro i swap'!BQX4","v":0},{"$f":"BRA34*'Makro i swap'!BQY4","v":0},{"$f":"BRB34*'Makro i swap'!BQZ4","v":0},{"$f":"BRC34*'Makro i swap'!BRA4","v":0},{"$f":"BRD34*'Makro i swap'!BRB4","v":0},{"$f":"BRE34*'Makro i swap'!BRC4","v":0},{"$f":"BRF34*'Makro i swap'!BRD4","v":0},{"$f":"BRG34*'Makro i swap'!BRE4","v":0},{"$f":"BRH34*'Makro i swap'!BRF4","v":0},{"$f":"BRI34*'Makro i swap'!BRG4","v":0},{"$f":"BRJ34*'Makro i swap'!BRH4","v":0},{"$f":"BRK34*'Makro i swap'!BRI4","v":0},{"$f":"BRL34*'Makro i swap'!BRJ4","v":0},{"$f":"BRM34*'Makro i swap'!BRK4","v":0},{"$f":"BRN34*'Makro i swap'!BRL4","v":0},{"$f":"BRO34*'Makro i swap'!BRM4","v":0},{"$f":"BRP34*'Makro i swap'!BRN4","v":0},{"$f":"BRQ34*'Makro i swap'!BRO4","v":0},{"$f":"BRR34*'Makro i swap'!BRP4","v":0},{"$f":"BRS34*'Makro i swap'!BRQ4","v":0},{"$f":"BRT34*'Makro i swap'!BRR4","v":0},{"$f":"BRU34*'Makro i swap'!BRS4","v":0},{"$f":"BRV34*'Makro i swap'!BRT4","v":0},{"$f":"BRW34*'Makro i swap'!BRU4","v":0},{"$f":"BRX34*'Makro i swap'!BRV4","v":0},{"$f":"BRY34*'Makro i swap'!BRW4","v":0},{"$f":"BRZ34*'Makro i swap'!BRX4","v":0},{"$f":"BSA34*'Makro i swap'!BRY4","v":0},{"$f":"BSB34*'Makro i swap'!BRZ4","v":0},{"$f":"BSC34*'Makro i swap'!BSA4","v":0},{"$f":"BSD34*'Makro i swap'!BSB4","v":0},{"$f":"BSE34*'Makro i swap'!BSC4","v":0},{"$f":"BSF34*'Makro i swap'!BSD4","v":0},{"$f":"BSG34*'Makro i swap'!BSE4","v":0},{"$f":"BSH34*'Makro i swap'!BSF4","v":0},{"$f":"BSI34*'Makro i swap'!BSG4","v":0},{"$f":"BSJ34*'Makro i swap'!BSH4","v":0},{"$f":"BSK34*'Makro i swap'!BSI4","v":0},{"$f":"BSL34*'Makro i swap'!BSJ4","v":0},{"$f":"BSM34*'Makro i swap'!BSK4","v":0},{"$f":"BSN34*'Makro i swap'!BSL4","v":0},{"$f":"BSO34*'Makro i swap'!BSM4","v":0},{"$f":"BSP34*'Makro i swap'!BSN4","v":0},{"$f":"BSQ34*'Makro i swap'!BSO4","v":0},{"$f":"BSR34*'Makro i swap'!BSP4","v":0},{"$f":"BSS34*'Makro i swap'!BSQ4","v":0},{"$f":"BST34*'Makro i swap'!BSR4","v":0},{"$f":"BSU34*'Makro i swap'!BSS4","v":0},{"$f":"BSV34*'Makro i swap'!BST4","v":0},{"$f":"BSW34*'Makro i swap'!BSU4","v":0},{"$f":"BSX34*'Makro i swap'!BSV4","v":0},{"$f":"BSY34*'Makro i swap'!BSW4","v":0},{"$f":"BSZ34*'Makro i swap'!BSX4","v":0},{"$f":"BTA34*'Makro i swap'!BSY4","v":0},{"$f":"BTB34*'Makro i swap'!BSZ4","v":0},{"$f":"BTC34*'Makro i swap'!BTA4","v":0},{"$f":"BTD34*'Makro i swap'!BTB4","v":0},{"$f":"BTE34*'Makro i swap'!BTC4","v":0},{"$f":"BTF34*'Makro i swap'!BTD4","v":0},{"$f":"BTG34*'Makro i swap'!BTE4","v":0},{"$f":"BTH34*'Makro i swap'!BTF4","v":0},{"$f":"BTI34*'Makro i swap'!BTG4","v":0},{"$f":"BTJ34*'Makro i swap'!BTH4","v":0},{"$f":"BTK34*'Makro i swap'!BTI4","v":0},{"$f":"BTL34*'Makro i swap'!BTJ4","v":0},{"$f":"BTM34*'Makro i swap'!BTK4","v":0},{"$f":"BTN34*'Makro i swap'!BTL4","v":0},{"$f":"BTO34*'Makro i swap'!BTM4","v":0},{"$f":"BTP34*'Makro i swap'!BTN4","v":0},{"$f":"BTQ34*'Makro i swap'!BTO4","v":0},{"$f":"BTR34*'Makro i swap'!BTP4","v":0},{"$f":"BTS34*'Makro i swap'!BTQ4","v":0},{"$f":"BTT34*'Makro i swap'!BTR4","v":0},{"$f":"BTU34*'Makro i swap'!BTS4","v":0},{"$f":"BTV34*'Makro i swap'!BTT4","v":0},{"$f":"BTW34*'Makro i swap'!BTU4","v":0},{"$f":"BTX34*'Makro i swap'!BTV4","v":0},{"$f":"BTY34*'Makro i swap'!BTW4","v":0},{"$f":"BTZ34*'Makro i swap'!BTX4","v":0},{"$f":"BUA34*'Makro i swap'!BTY4","v":0},{"$f":"BUB34*'Makro i swap'!BTZ4","v":0},{"$f":"BUC34*'Makro i swap'!BUA4","v":0},{"$f":"BUD34*'Makro i swap'!BUB4","v":0},{"$f":"BUE34*'Makro i swap'!BUC4","v":0},{"$f":"BUF34*'Makro i swap'!BUD4","v":0},{"$f":"BUG34*'Makro i swap'!BUE4","v":0},{"$f":"BUH34*'Makro i swap'!BUF4","v":0},{"$f":"BUI34*'Makro i swap'!BUG4","v":0},{"$f":"BUJ34*'Makro i swap'!BUH4","v":0},{"$f":"BUK34*'Makro i swap'!BUI4","v":0},{"$f":"BUL34*'Makro i swap'!BUJ4","v":0},{"$f":"BUM34*'Makro i swap'!BUK4","v":0},{"$f":"BUN34*'Makro i swap'!BUL4","v":0},{"$f":"BUO34*'Makro i swap'!BUM4","v":0},{"$f":"BUP34*'Makro i swap'!BUN4","v":0},{"$f":"BUQ34*'Makro i swap'!BUO4","v":0},{"$f":"BUR34*'Makro i swap'!BUP4","v":0},{"$f":"BUS34*'Makro i swap'!BUQ4","v":0},{"$f":"BUT34*'Makro i swap'!BUR4","v":0},{"$f":"BUU34*'Makro i swap'!BUS4","v":0},{"$f":"BUV34*'Makro i swap'!BUT4","v":0},{"$f":"BUW34*'Makro i swap'!BUU4","v":0},{"$f":"BUX34*'Makro i swap'!BUV4","v":0},{"$f":"BUY34*'Makro i swap'!BUW4","v":0},{"$f":"BUZ34*'Makro i swap'!BUX4","v":0},{"$f":"BVA34*'Makro i swap'!BUY4","v":0},{"$f":"BVB34*'Makro i swap'!BUZ4","v":0},{"$f":"BVC34*'Makro i swap'!BVA4","v":0},{"$f":"BVD34*'Makro i swap'!BVB4","v":0},{"$f":"BVE34*'Makro i swap'!BVC4","v":0},{"$f":"BVF34*'Makro i swap'!BVD4","v":0},{"$f":"BVG34*'Makro i swap'!BVE4","v":0},{"$f":"BVH34*'Makro i swap'!BVF4","v":0},{"$f":"BVI34*'Makro i swap'!BVG4","v":0},{"$f":"BVJ34*'Makro i swap'!BVH4","v":0},{"$f":"BVK34*'Makro i swap'!BVI4","v":0},{"$f":"BVL34*'Makro i swap'!BVJ4","v":0},{"$f":"BVM34*'Makro i swap'!BVK4","v":0},{"$f":"BVN34*'Makro i swap'!BVL4","v":0},{"$f":"BVO34*'Makro i swap'!BVM4","v":0},{"$f":"BVP34*'Makro i swap'!BVN4","v":0},{"$f":"BVQ34*'Makro i swap'!BVO4","v":0},{"$f":"BVR34*'Makro i swap'!BVP4","v":0},{"$f":"BVS34*'Makro i swap'!BVQ4","v":0},{"$f":"BVT34*'Makro i swap'!BVR4","v":0},{"$f":"BVU34*'Makro i swap'!BVS4","v":0},{"$f":"BVV34*'Makro i swap'!BVT4","v":0},{"$f":"BVW34*'Makro i swap'!BVU4","v":0},{"$f":"BVX34*'Makro i swap'!BVV4","v":0},{"$f":"BVY34*'Makro i swap'!BVW4","v":0},{"$f":"BVZ34*'Makro i swap'!BVX4","v":0},{"$f":"BWA34*'Makro i swap'!BVY4","v":0},{"$f":"BWB34*'Makro i swap'!BVZ4","v":0},{"$f":"BWC34*'Makro i swap'!BWA4","v":0},{"$f":"BWD34*'Makro i swap'!BWB4","v":0},{"$f":"BWE34*'Makro i swap'!BWC4","v":0},{"$f":"BWF34*'Makro i swap'!BWD4","v":0},{"$f":"BWG34*'Makro i swap'!BWE4","v":0},{"$f":"BWH34*'Makro i swap'!BWF4","v":0},{"$f":"BWI34*'Makro i swap'!BWG4","v":0},{"$f":"BWJ34*'Makro i swap'!BWH4","v":0},{"$f":"BWK34*'Makro i swap'!BWI4","v":0},{"$f":"BWL34*'Makro i swap'!BWJ4","v":0},{"$f":"BWM34*'Makro i swap'!BWK4","v":0},{"$f":"BWN34*'Makro i swap'!BWL4","v":0},{"$f":"BWO34*'Makro i swap'!BWM4","v":0},{"$f":"BWP34*'Makro i swap'!BWN4","v":0},{"$f":"BWQ34*'Makro i swap'!BWO4","v":0},{"$f":"BWR34*'Makro i swap'!BWP4","v":0},{"$f":"BWS34*'Makro i swap'!BWQ4","v":0},{"$f":"BWT34*'Makro i swap'!BWR4","v":0},{"$f":"BWU34*'Makro i swap'!BWS4","v":0},{"$f":"BWV34*'Makro i swap'!BWT4","v":0},{"$f":"BWW34*'Makro i swap'!BWU4","v":0},{"$f":"BWX34*'Makro i swap'!BWV4","v":0},{"$f":"BWY34*'Makro i swap'!BWW4","v":0},{"$f":"BWZ34*'Makro i swap'!BWX4","v":0},{"$f":"BXA34*'Makro i swap'!BWY4","v":0},{"$f":"BXB34*'Makro i swap'!BWZ4","v":0},{"$f":"BXC34*'Makro i swap'!BXA4","v":0},{"$f":"BXD34*'Makro i swap'!BXB4","v":0},{"$f":"BXE34*'Makro i swap'!BXC4","v":0},{"$f":"BXF34*'Makro i swap'!BXD4","v":0},{"$f":"BXG34*'Makro i swap'!BXE4","v":0},{"$f":"BXH34*'Makro i swap'!BXF4","v":0},{"$f":"BXI34*'Makro i swap'!BXG4","v":0},{"$f":"BXJ34*'Makro i swap'!BXH4","v":0},{"$f":"BXK34*'Makro i swap'!BXI4","v":0},{"$f":"BXL34*'Makro i swap'!BXJ4","v":0},{"$f":"BXM34*'Makro i swap'!BXK4","v":0},{"$f":"BXN34*'Makro i swap'!BXL4","v":0},{"$f":"BXO34*'Makro i swap'!BXM4","v":0},{"$f":"BXP34*'Makro i swap'!BXN4","v":0},{"$f":"BXQ34*'Makro i swap'!BXO4","v":0},{"$f":"BXR34*'Makro i swap'!BXP4","v":0},{"$f":"BXS34*'Makro i swap'!BXQ4","v":0},{"$f":"BXT34*'Makro i swap'!BXR4","v":0},{"$f":"BXU34*'Makro i swap'!BXS4","v":0},{"$f":"BXV34*'Makro i swap'!BXT4","v":0},{"$f":"BXW34*'Makro i swap'!BXU4","v":0},{"$f":"BXX34*'Makro i swap'!BXV4","v":0},{"$f":"BXY34*'Makro i swap'!BXW4","v":0},{"$f":"BXZ34*'Makro i swap'!BXX4","v":0},{"$f":"BYA34*'Makro i swap'!BXY4","v":0},{"$f":"BYB34*'Makro i swap'!BXZ4","v":0},{"$f":"BYC34*'Makro i swap'!BYA4","v":0},{"$f":"BYD34*'Makro i swap'!BYB4","v":0},{"$f":"BYE34*'Makro i swap'!BYC4","v":0},{"$f":"BYF34*'Makro i swap'!BYD4","v":0},{"$f":"BYG34*'Makro i swap'!BYE4","v":0},{"$f":"BYH34*'Makro i swap'!BYF4","v":0},{"$f":"BYI34*'Makro i swap'!BYG4","v":0},{"$f":"BYJ34*'Makro i swap'!BYH4","v":0},{"$f":"BYK34*'Makro i swap'!BYI4","v":0},{"$f":"BYL34*'Makro i swap'!BYJ4","v":0},{"$f":"BYM34*'Makro i swap'!BYK4","v":0},{"$f":"BYN34*'Makro i swap'!BYL4","v":0},{"$f":"BYO34*'Makro i swap'!BYM4","v":0},{"$f":"BYP34*'Makro i swap'!BYN4","v":0},{"$f":"BYQ34*'Makro i swap'!BYO4","v":0},{"$f":"BYR34*'Makro i swap'!BYP4","v":0},{"$f":"BYS34*'Makro i swap'!BYQ4","v":0},{"$f":"BYT34*'Makro i swap'!BYR4","v":0},{"$f":"BYU34*'Makro i swap'!BYS4","v":0},{"$f":"BYV34*'Makro i swap'!BYT4","v":0},{"$f":"BYW34*'Makro i swap'!BYU4","v":0},{"$f":"BYX34*'Makro i swap'!BYV4","v":0},{"$f":"BYY34*'Makro i swap'!BYW4","v":0},{"$f":"BYZ34*'Makro i swap'!BYX4","v":0},{"$f":"BZA34*'Makro i swap'!BYY4","v":0},{"$f":"BZB34*'Makro i swap'!BYZ4","v":0},{"$f":"BZC34*'Makro i swap'!BZA4","v":0},{"$f":"BZD34*'Makro i swap'!BZB4","v":0},{"$f":"BZE34*'Makro i swap'!BZC4","v":0},{"$f":"BZF34*'Makro i swap'!BZD4","v":0},{"$f":"BZG34*'Makro i swap'!BZE4","v":0},{"$f":"BZH34*'Makro i swap'!BZF4","v":0},{"$f":"BZI34*'Makro i swap'!BZG4","v":0},{"$f":"BZJ34*'Makro i swap'!BZH4","v":0},{"$f":"BZK34*'Makro i swap'!BZI4","v":0},{"$f":"BZL34*'Makro i swap'!BZJ4","v":0},{"$f":"BZM34*'Makro i swap'!BZK4","v":0},{"$f":"BZN34*'Makro i swap'!BZL4","v":0},{"$f":"BZO34*'Makro i swap'!BZM4","v":0},{"$f":"BZP34*'Makro i swap'!BZN4","v":0},{"$f":"BZQ34*'Makro i swap'!BZO4","v":0},{"$f":"BZR34*'Makro i swap'!BZP4","v":0},{"$f":"BZS34*'Makro i swap'!BZQ4","v":0},{"$f":"BZT34*'Makro i swap'!BZR4","v":0},{"$f":"BZU34*'Makro i swap'!BZS4","v":0},{"$f":"BZV34*'Makro i swap'!BZT4","v":0},{"$f":"BZW34*'Makro i swap'!BZU4","v":0},{"$f":"BZX34*'Makro i swap'!BZV4","v":0},{"$f":"BZY34*'Makro i swap'!BZW4","v":0},{"$f":"BZZ34*'Makro i swap'!BZX4","v":0},{"$f":"CAA34*'Makro i swap'!BZY4","v":0},{"$f":"CAB34*'Makro i swap'!BZZ4","v":0},{"$f":"CAC34*'Makro i swap'!CAA4","v":0},{"$f":"CAD34*'Makro i swap'!CAB4","v":0},{"$f":"CAE34*'Makro i swap'!CAC4","v":0},{"$f":"CAF34*'Makro i swap'!CAD4","v":0},{"$f":"CAG34*'Makro i swap'!CAE4","v":0},{"$f":"CAH34*'Makro i swap'!CAF4","v":0},{"$f":"CAI34*'Makro i swap'!CAG4","v":0},{"$f":"CAJ34*'Makro i swap'!CAH4","v":0},{"$f":"CAK34*'Makro i swap'!CAI4","v":0},{"$f":"CAL34*'Makro i swap'!CAJ4","v":0},{"$f":"CAM34*'Makro i swap'!CAK4","v":0},{"$f":"CAN34*'Makro i swap'!CAL4","v":0},{"$f":"CAO34*'Makro i swap'!CAM4","v":0},{"$f":"CAP34*'Makro i swap'!CAN4","v":0},{"$f":"CAQ34*'Makro i swap'!CAO4","v":0},{"$f":"CAR34*'Makro i swap'!CAP4","v":0},{"$f":"CAS34*'Makro i swap'!CAQ4","v":0},{"$f":"CAT34*'Makro i swap'!CAR4","v":0},{"$f":"CAU34*'Makro i swap'!CAS4","v":0},{"$f":"CAV34*'Makro i swap'!CAT4","v":0},{"$f":"CAW34*'Makro i swap'!CAU4","v":0},{"$f":"CAX34*'Makro i swap'!CAV4","v":0},{"$f":"CAY34*'Makro i swap'!CAW4","v":0},{"$f":"CAZ34*'Makro i swap'!CAX4","v":0},{"$f":"CBA34*'Makro i swap'!CAY4","v":0},{"$f":"CBB34*'Makro i swap'!CAZ4","v":0},{"$f":"CBC34*'Makro i swap'!CBA4","v":0},{"$f":"CBD34*'Makro i swap'!CBB4","v":0},{"$f":"CBE34*'Makro i swap'!CBC4","v":0},{"$f":"CBF34*'Makro i swap'!CBD4","v":0},{"$f":"CBG34*'Makro i swap'!CBE4","v":0},{"$f":"CBH34*'Makro i swap'!CBF4","v":0},{"$f":"CBI34*'Makro i swap'!CBG4","v":0},{"$f":"CBJ34*'Makro i swap'!CBH4","v":0},{"$f":"CBK34*'Makro i swap'!CBI4","v":0},{"$f":"CBL34*'Makro i swap'!CBJ4","v":0},{"$f":"CBM34*'Makro i swap'!CBK4","v":0},{"$f":"CBN34*'Makro i swap'!CBL4","v":0},{"$f":"CBO34*'Makro i swap'!CBM4","v":0},{"$f":"CBP34*'Makro i swap'!CBN4","v":0},{"$f":"CBQ34*'Makro i swap'!CBO4","v":0},{"$f":"CBR34*'Makro i swap'!CBP4","v":0},{"$f":"CBS34*'Makro i swap'!CBQ4","v":0},{"$f":"CBT34*'Makro i swap'!CBR4","v":0},{"$f":"CBU34*'Makro i swap'!CBS4","v":0},{"$f":"CBV34*'Makro i swap'!CBT4","v":0},{"$f":"CBW34*'Makro i swap'!CBU4","v":0},{"$f":"CBX34*'Makro i swap'!CBV4","v":0},{"$f":"CBY34*'Makro i swap'!CBW4","v":0},{"$f":"CBZ34*'Makro i swap'!CBX4","v":0},{"$f":"CCA34*'Makro i swap'!CBY4","v":0},{"$f":"CCB34*'Makro i swap'!CBZ4","v":0},{"$f":"CCC34*'Makro i swap'!CCA4","v":0},{"$f":"CCD34*'Makro i swap'!CCB4","v":0},{"$f":"CCE34*'Makro i swap'!CCC4","v":0},{"$f":"CCF34*'Makro i swap'!CCD4","v":0},{"$f":"CCG34*'Makro i swap'!CCE4","v":0},{"$f":"CCH34*'Makro i swap'!CCF4","v":0},{"$f":"CCI34*'Makro i swap'!CCG4","v":0},{"$f":"CCJ34*'Makro i swap'!CCH4","v":0},{"$f":"CCK34*'Makro i swap'!CCI4","v":0},{"$f":"CCL34*'Makro i swap'!CCJ4","v":0},{"$f":"CCM34*'Makro i swap'!CCK4","v":0},{"$f":"CCN34*'Makro i swap'!CCL4","v":0},{"$f":"CCO34*'Makro i swap'!CCM4","v":0},{"$f":"CCP34*'Makro i swap'!CCN4","v":0},{"$f":"CCQ34*'Makro i swap'!CCO4","v":0},{"$f":"CCR34*'Makro i swap'!CCP4","v":0},{"$f":"CCS34*'Makro i swap'!CCQ4","v":0},{"$f":"CCT34*'Makro i swap'!CCR4","v":0},{"$f":"CCU34*'Makro i swap'!CCS4","v":0},{"$f":"CCV34*'Makro i swap'!CCT4","v":0},{"$f":"CCW34*'Makro i swap'!CCU4","v":0},{"$f":"CCX34*'Makro i swap'!CCV4","v":0},{"$f":"CCY34*'Makro i swap'!CCW4","v":0},{"$f":"CCZ34*'Makro i swap'!CCX4","v":0},{"$f":"CDA34*'Makro i swap'!CCY4","v":0},{"$f":"CDB34*'Makro i swap'!CCZ4","v":0},{"$f":"CDC34*'Makro i swap'!CDA4","v":0},{"$f":"CDD34*'Makro i swap'!CDB4","v":0},{"$f":"CDE34*'Makro i swap'!CDC4","v":0},{"$f":"CDF34*'Makro i swap'!CDD4","v":0},{"$f":"CDG34*'Makro i swap'!CDE4","v":0},{"$f":"CDH34*'Makro i swap'!CDF4","v":0},{"$f":"CDI34*'Makro i swap'!CDG4","v":0},{"$f":"CDJ34*'Makro i swap'!CDH4","v":0},{"$f":"CDK34*'Makro i swap'!CDI4","v":0},{"$f":"CDL34*'Makro i swap'!CDJ4","v":0},{"$f":"CDM34*'Makro i swap'!CDK4","v":0},{"$f":"CDN34*'Makro i swap'!CDL4","v":0},{"$f":"CDO34*'Makro i swap'!CDM4","v":0},{"$f":"CDP34*'Makro i swap'!CDN4","v":0},{"$f":"CDQ34*'Makro i swap'!CDO4","v":0},{"$f":"CDR34*'Makro i swap'!CDP4","v":0},{"$f":"CDS34*'Makro i swap'!CDQ4","v":0},{"$f":"CDT34*'Makro i swap'!CDR4","v":0},{"$f":"CDU34*'Makro i swap'!CDS4","v":0},{"$f":"CDV34*'Makro i swap'!CDT4","v":0},{"$f":"CDW34*'Makro i swap'!CDU4","v":0},{"$f":"CDX34*'Makro i swap'!CDV4","v":0},{"$f":"CDY34*'Makro i swap'!CDW4","v":0},{"$f":"CDZ34*'Makro i swap'!CDX4","v":0},{"$f":"CEA34*'Makro i swap'!CDY4","v":0},{"$f":"CEB34*'Makro i swap'!CDZ4","v":0},{"$f":"CEC34*'Makro i swap'!CEA4","v":0},{"$f":"CED34*'Makro i swap'!CEB4","v":0},{"$f":"CEE34*'Makro i swap'!CEC4","v":0},{"$f":"CEF34*'Makro i swap'!CED4","v":0},{"$f":"CEG34*'Makro i swap'!CEE4","v":0},{"$f":"CEH34*'Makro i swap'!CEF4","v":0},{"$f":"CEI34*'Makro i swap'!CEG4","v":0},{"$f":"CEJ34*'Makro i swap'!CEH4","v":0},{"$f":"CEK34*'Makro i swap'!CEI4","v":0},{"$f":"CEL34*'Makro i swap'!CEJ4","v":0},{"$f":"CEM34*'Makro i swap'!CEK4","v":0},{"$f":"CEN34*'Makro i swap'!CEL4","v":0},{"$f":"CEO34*'Makro i swap'!CEM4","v":0},{"$f":"CEP34*'Makro i swap'!CEN4","v":0},{"$f":"CEQ34*'Makro i swap'!CEO4","v":0},{"$f":"CER34*'Makro i swap'!CEP4","v":0},{"$f":"CES34*'Makro i swap'!CEQ4","v":0},{"$f":"CET34*'Makro i swap'!CER4","v":0},{"$f":"CEU34*'Makro i swap'!CES4","v":0},{"$f":"CEV34*'Makro i swap'!CET4","v":0},{"$f":"CEW34*'Makro i swap'!CEU4","v":0},{"$f":"CEX34*'Makro i swap'!CEV4","v":0},{"$f":"CEY34*'Makro i swap'!CEW4","v":0},{"$f":"CEZ34*'Makro i swap'!CEX4","v":0},{"$f":"CFA34*'Makro i swap'!CEY4","v":0},{"$f":"CFB34*'Makro i swap'!CEZ4","v":0},{"$f":"CFC34*'Makro i swap'!CFA4","v":0},{"$f":"CFD34*'Makro i swap'!CFB4","v":0},{"$f":"CFE34*'Makro i swap'!CFC4","v":0},{"$f":"CFF34*'Makro i swap'!CFD4","v":0},{"$f":"CFG34*'Makro i swap'!CFE4","v":0},{"$f":"CFH34*'Makro i swap'!CFF4","v":0},{"$f":"CFI34*'Makro i swap'!CFG4","v":0},{"$f":"CFJ34*'Makro i swap'!CFH4","v":0},{"$f":"CFK34*'Makro i swap'!CFI4","v":0},{"$f":"CFL34*'Makro i swap'!CFJ4","v":0},{"$f":"CFM34*'Makro i swap'!CFK4","v":0},{"$f":"CFN34*'Makro i swap'!CFL4","v":0},{"$f":"CFO34*'Makro i swap'!CFM4","v":0},{"$f":"CFP34*'Makro i swap'!CFN4","v":0},{"$f":"CFQ34*'Makro i swap'!CFO4","v":0},{"$f":"CFR34*'Makro i swap'!CFP4","v":0},{"$f":"CFS34*'Makro i swap'!CFQ4","v":0},{"$f":"CFT34*'Makro i swap'!CFR4","v":0},{"$f":"CFU34*'Makro i swap'!CFS4","v":0},{"$f":"CFV34*'Makro i swap'!CFT4","v":0},{"$f":"CFW34*'Makro i swap'!CFU4","v":0},{"$f":"CFX34*'Makro i swap'!CFV4","v":0},{"$f":"CFY34*'Makro i swap'!CFW4","v":0},{"$f":"CFZ34*'Makro i swap'!CFX4","v":0},{"$f":"CGA34*'Makro i swap'!CFY4","v":0},{"$f":"CGB34*'Makro i swap'!CFZ4","v":0},{"$f":"CGC34*'Makro i swap'!CGA4","v":0},{"$f":"CGD34*'Makro i swap'!CGB4","v":0},{"$f":"CGE34*'Makro i swap'!CGC4","v":0},{"$f":"CGF34*'Makro i swap'!CGD4","v":0},{"$f":"CGG34*'Makro i swap'!CGE4","v":0},{"$f":"CGH34*'Makro i swap'!CGF4","v":0},{"$f":"CGI34*'Makro i swap'!CGG4","v":0},{"$f":"CGJ34*'Makro i swap'!CGH4","v":0},{"$f":"CGK34*'Makro i swap'!CGI4","v":0},{"$f":"CGL34*'Makro i swap'!CGJ4","v":0},{"$f":"CGM34*'Makro i swap'!CGK4","v":0},{"$f":"CGN34*'Makro i swap'!CGL4","v":0},{"$f":"CGO34*'Makro i swap'!CGM4","v":0},{"$f":"CGP34*'Makro i swap'!CGN4","v":0},{"$f":"CGQ34*'Makro i swap'!CGO4","v":0},{"$f":"CGR34*'Makro i swap'!CGP4","v":0},{"$f":"CGS34*'Makro i swap'!CGQ4","v":0},{"$f":"CGT34*'Makro i swap'!CGR4","v":0},{"$f":"CGU34*'Makro i swap'!CGS4","v":0},{"$f":"CGV34*'Makro i swap'!CGT4","v":0},{"$f":"CGW34*'Makro i swap'!CGU4","v":0},{"$f":"CGX34*'Makro i swap'!CGV4","v":0},{"$f":"CGY34*'Makro i swap'!CGW4","v":0},{"$f":"CGZ34*'Makro i swap'!CGX4","v":0},{"$f":"CHA34*'Makro i swap'!CGY4","v":0},{"$f":"CHB34*'Makro i swap'!CGZ4","v":0},{"$f":"CHC34*'Makro i swap'!CHA4","v":0},{"$f":"CHD34*'Makro i swap'!CHB4","v":0},{"$f":"CHE34*'Makro i swap'!CHC4","v":0},{"$f":"CHF34*'Makro i swap'!CHD4","v":0},{"$f":"CHG34*'Makro i swap'!CHE4","v":0},{"$f":"CHH34*'Makro i swap'!CHF4","v":0},{"$f":"CHI34*'Makro i swap'!CHG4","v":0},{"$f":"CHJ34*'Makro i swap'!CHH4","v":0},{"$f":"CHK34*'Makro i swap'!CHI4","v":0},{"$f":"CHL34*'Makro i swap'!CHJ4","v":0},{"$f":"CHM34*'Makro i swap'!CHK4","v":0},{"$f":"CHN34*'Makro i swap'!CHL4","v":0},{"$f":"CHO34*'Makro i swap'!CHM4","v":0},{"$f":"CHP34*'Makro i swap'!CHN4","v":0},{"$f":"CHQ34*'Makro i swap'!CHO4","v":0},{"$f":"CHR34*'Makro i swap'!CHP4","v":0},{"$f":"CHS34*'Makro i swap'!CHQ4","v":0},{"$f":"CHT34*'Makro i swap'!CHR4","v":0},{"$f":"CHU34*'Makro i swap'!CHS4","v":0},{"$f":"CHV34*'Makro i swap'!CHT4","v":0},{"$f":"CHW34*'Makro i swap'!CHU4","v":0},{"$f":"CHX34*'Makro i swap'!CHV4","v":0},{"$f":"CHY34*'Makro i swap'!CHW4","v":0},{"$f":"CHZ34*'Makro i swap'!CHX4","v":0},{"$f":"CIA34*'Makro i swap'!CHY4","v":0},{"$f":"CIB34*'Makro i swap'!CHZ4","v":0},{"$f":"CIC34*'Makro i swap'!CIA4","v":0},{"$f":"CID34*'Makro i swap'!CIB4","v":0},{"$f":"CIE34*'Makro i swap'!CIC4","v":0},{"$f":"CIF34*'Makro i swap'!CID4","v":0},{"$f":"CIG34*'Makro i swap'!CIE4","v":0},{"$f":"CIH34*'Makro i swap'!CIF4","v":0},{"$f":"CII34*'Makro i swap'!CIG4","v":0},{"$f":"CIJ34*'Makro i swap'!CIH4","v":0},{"$f":"CIK34*'Makro i swap'!CII4","v":0},{"$f":"CIL34*'Makro i swap'!CIJ4","v":0},{"$f":"CIM34*'Makro i swap'!CIK4","v":0},{"$f":"CIN34*'Makro i swap'!CIL4","v":0},{"$f":"CIO34*'Makro i swap'!CIM4","v":0},{"$f":"CIP34*'Makro i swap'!CIN4","v":0},{"$f":"CIQ34*'Makro i swap'!CIO4","v":0},{"$f":"CIR34*'Makro i swap'!CIP4","v":0},{"$f":"CIS34*'Makro i swap'!CIQ4","v":0},{"$f":"CIT34*'Makro i swap'!CIR4","v":0},{"$f":"CIU34*'Makro i swap'!CIS4","v":0},{"$f":"CIV34*'Makro i swap'!CIT4","v":0},{"$f":"CIW34*'Makro i swap'!CIU4","v":0},{"$f":"CIX34*'Makro i swap'!CIV4","v":0},{"$f":"CIY34*'Makro i swap'!CIW4","v":0},{"$f":"CIZ34*'Makro i swap'!CIX4","v":0},{"$f":"CJA34*'Makro i swap'!CIY4","v":0},{"$f":"CJB34*'Makro i swap'!CIZ4","v":0},{"$f":"CJC34*'Makro i swap'!CJA4","v":0},{"$f":"CJD34*'Makro i swap'!CJB4","v":0},{"$f":"CJE34*'Makro i swap'!CJC4","v":0},{"$f":"CJF34*'Makro i swap'!CJD4","v":0},{"$f":"CJG34*'Makro i swap'!CJE4","v":0},{"$f":"CJH34*'Makro i swap'!CJF4","v":0},{"$f":"CJI34*'Makro i swap'!CJG4","v":0},{"$f":"CJJ34*'Makro i swap'!CJH4","v":0},{"$f":"CJK34*'Makro i swap'!CJI4","v":0},{"$f":"CJL34*'Makro i swap'!CJJ4","v":0},{"$f":"CJM34*'Makro i swap'!CJK4","v":0},{"$f":"CJN34*'Makro i swap'!CJL4","v":0},{"$f":"CJO34*'Makro i swap'!CJM4","v":0},{"$f":"CJP34*'Makro i swap'!CJN4","v":0},{"$f":"CJQ34*'Makro i swap'!CJO4","v":0},{"$f":"CJR34*'Makro i swap'!CJP4","v":0},{"$f":"CJS34*'Makro i swap'!CJQ4","v":0},{"$f":"CJT34*'Makro i swap'!CJR4","v":0},{"$f":"CJU34*'Makro i swap'!CJS4","v":0},{"$f":"CJV34*'Makro i swap'!CJT4","v":0},{"$f":"CJW34*'Makro i swap'!CJU4","v":0},{"$f":"CJX34*'Makro i swap'!CJV4","v":0},{"$f":"CJY34*'Makro i swap'!CJW4","v":0},{"$f":"CJZ34*'Makro i swap'!CJX4","v":0},{"$f":"CKA34*'Makro i swap'!CJY4","v":0},{"$f":"CKB34*'Makro i swap'!CJZ4","v":0},{"$f":"CKC34*'Makro i swap'!CKA4","v":0},{"$f":"CKD34*'Makro i swap'!CKB4","v":0},{"$f":"CKE34*'Makro i swap'!CKC4","v":0},{"$f":"CKF34*'Makro i swap'!CKD4","v":0},{"$f":"CKG34*'Makro i swap'!CKE4","v":0},{"$f":"CKH34*'Makro i swap'!CKF4","v":0},{"$f":"CKI34*'Makro i swap'!CKG4","v":0},{"$f":"CKJ34*'Makro i swap'!CKH4","v":0},{"$f":"CKK34*'Makro i swap'!CKI4","v":0},{"$f":"CKL34*'Makro i swap'!CKJ4","v":0},{"$f":"CKM34*'Makro i swap'!CKK4","v":0},{"$f":"CKN34*'Makro i swap'!CKL4","v":0},{"$f":"CKO34*'Makro i swap'!CKM4","v":0},{"$f":"CKP34*'Makro i swap'!CKN4","v":0},{"$f":"CKQ34*'Makro i swap'!CKO4","v":0},{"$f":"CKR34*'Makro i swap'!CKP4","v":0},{"$f":"CKS34*'Makro i swap'!CKQ4","v":0},{"$f":"CKT34*'Makro i swap'!CKR4","v":0},{"$f":"CKU34*'Makro i swap'!CKS4","v":0},{"$f":"CKV34*'Makro i swap'!CKT4","v":0},{"$f":"CKW34*'Makro i swap'!CKU4","v":0},{"$f":"CKX34*'Makro i swap'!CKV4","v":0},{"$f":"CKY34*'Makro i swap'!CKW4","v":0},{"$f":"CKZ34*'Makro i swap'!CKX4","v":0},{"$f":"CLA34*'Makro i swap'!CKY4","v":0},{"$f":"CLB34*'Makro i swap'!CKZ4","v":0},{"$f":"CLC34*'Makro i swap'!CLA4","v":0},{"$f":"CLD34*'Makro i swap'!CLB4","v":0},{"$f":"CLE34*'Makro i swap'!CLC4","v":0},{"$f":"CLF34*'Makro i swap'!CLD4","v":0},{"$f":"CLG34*'Makro i swap'!CLE4","v":0},{"$f":"CLH34*'Makro i swap'!CLF4","v":0},{"$f":"CLI34*'Makro i swap'!CLG4","v":0},{"$f":"CLJ34*'Makro i swap'!CLH4","v":0},{"$f":"CLK34*'Makro i swap'!CLI4","v":0},{"$f":"CLL34*'Makro i swap'!CLJ4","v":0},{"$f":"CLM34*'Makro i swap'!CLK4","v":0},{"$f":"CLN34*'Makro i swap'!CLL4","v":0},{"$f":"CLO34*'Makro i swap'!CLM4","v":0},{"$f":"CLP34*'Makro i swap'!CLN4","v":0},{"$f":"CLQ34*'Makro i swap'!CLO4","v":0},{"$f":"CLR34*'Makro i swap'!CLP4","v":0},{"$f":"CLS34*'Makro i swap'!CLQ4","v":0},{"$f":"CLT34*'Makro i swap'!CLR4","v":0},{"$f":"CLU34*'Makro i swap'!CLS4","v":0},{"$f":"CLV34*'Makro i swap'!CLT4","v":0},{"$f":"CLW34*'Makro i swap'!CLU4","v":0},{"$f":"CLX34*'Makro i swap'!CLV4","v":0},{"$f":"CLY34*'Makro i swap'!CLW4","v":0},{"$f":"CLZ34*'Makro i swap'!CLX4","v":0},{"$f":"CMA34*'Makro i swap'!CLY4","v":0},{"$f":"CMB34*'Makro i swap'!CLZ4","v":0},{"$f":"CMC34*'Makro i swap'!CMA4","v":0},{"$f":"CMD34*'Makro i swap'!CMB4","v":0},{"$f":"CME34*'Makro i swap'!CMC4","v":0},{"$f":"CMF34*'Makro i swap'!CMD4","v":0},{"$f":"CMG34*'Makro i swap'!CME4","v":0},{"$f":"CMH34*'Makro i swap'!CMF4","v":0},{"$f":"CMI34*'Makro i swap'!CMG4","v":0},{"$f":"CMJ34*'Makro i swap'!CMH4","v":0},{"$f":"CMK34*'Makro i swap'!CMI4","v":0},{"$f":"CML34*'Makro i swap'!CMJ4","v":0},{"$f":"CMM34*'Makro i swap'!CMK4","v":0},{"$f":"CMN34*'Makro i swap'!CML4","v":0},{"$f":"CMO34*'Makro i swap'!CMM4","v":0},{"$f":"CMP34*'Makro i swap'!CMN4","v":0},{"$f":"CMQ34*'Makro i swap'!CMO4","v":0},{"$f":"CMR34*'Makro i swap'!CMP4","v":0},{"$f":"CMS34*'Makro i swap'!CMQ4","v":0},{"$f":"CMT34*'Makro i swap'!CMR4","v":0},{"$f":"CMU34*'Makro i swap'!CMS4","v":0},{"$f":"CMV34*'Makro i swap'!CMT4","v":0},{"$f":"CMW34*'Makro i swap'!CMU4","v":0},{"$f":"CMX34*'Makro i swap'!CMV4","v":0},{"$f":"CMY34*'Makro i swap'!CMW4","v":0},{"$f":"CMZ34*'Makro i swap'!CMX4","v":0},{"$f":"CNA34*'Makro i swap'!CMY4","v":0},{"$f":"CNB34*'Makro i swap'!CMZ4","v":0},{"$f":"CNC34*'Makro i swap'!CNA4","v":0},{"$f":"CND34*'Makro i swap'!CNB4","v":0},{"$f":"CNE34*'Makro i swap'!CNC4","v":0},{"$f":"CNF34*'Makro i swap'!CND4","v":0},{"$f":"CNG34*'Makro i swap'!CNE4","v":0},{"$f":"CNH34*'Makro i swap'!CNF4","v":0},{"$f":"CNI34*'Makro i swap'!CNG4","v":0},{"$f":"CNJ34*'Makro i swap'!CNH4","v":0},{"$f":"CNK34*'Makro i swap'!CNI4","v":0},{"$f":"CNL34*'Makro i swap'!CNJ4","v":0},{"$f":"CNM34*'Makro i swap'!CNK4","v":0},{"$f":"CNN34*'Makro i swap'!CNL4","v":0},{"$f":"CNO34*'Makro i swap'!CNM4","v":0},{"$f":"CNP34*'Makro i swap'!CNN4","v":0},{"$f":"CNQ34*'Makro i swap'!CNO4","v":0},{"$f":"CNR34*'Makro i swap'!CNP4","v":0},{"$f":"CNS34*'Makro i swap'!CNQ4","v":0},{"$f":"CNT34*'Makro i swap'!CNR4","v":0},{"$f":"CNU34*'Makro i swap'!CNS4","v":0},{"$f":"CNV34*'Makro i swap'!CNT4","v":0},{"$f":"CNW34*'Makro i swap'!CNU4","v":0},{"$f":"CNX34*'Makro i swap'!CNV4","v":0},{"$f":"CNY34*'Makro i swap'!CNW4","v":0},{"$f":"CNZ34*'Makro i swap'!CNX4","v":0},{"$f":"COA34*'Makro i swap'!CNY4","v":0},{"$f":"COB34*'Makro i swap'!CNZ4","v":0},{"$f":"COC34*'Makro i swap'!COA4","v":0},{"$f":"COD34*'Makro i swap'!COB4","v":0},{"$f":"COE34*'Makro i swap'!COC4","v":0},{"$f":"COF34*'Makro i swap'!COD4","v":0},{"$f":"COG34*'Makro i swap'!COE4","v":0},{"$f":"COH34*'Makro i swap'!COF4","v":0},{"$f":"COI34*'Makro i swap'!COG4","v":0},{"$f":"COJ34*'Makro i swap'!COH4","v":0},{"$f":"COK34*'Makro i swap'!COI4","v":0},{"$f":"COL34*'Makro i swap'!COJ4","v":0},{"$f":"COM34*'Makro i swap'!COK4","v":0},{"$f":"CON34*'Makro i swap'!COL4","v":0},{"$f":"COO34*'Makro i swap'!COM4","v":0},{"$f":"COP34*'Makro i swap'!CON4","v":0},{"$f":"COQ34*'Makro i swap'!COO4","v":0},{"$f":"COR34*'Makro i swap'!COP4","v":0},{"$f":"COS34*'Makro i swap'!COQ4","v":0},{"$f":"COT34*'Makro i swap'!COR4","v":0},{"$f":"COU34*'Makro i swap'!COS4","v":0},{"$f":"COV34*'Makro i swap'!COT4","v":0},{"$f":"COW34*'Makro i swap'!COU4","v":0},{"$f":"COX34*'Makro i swap'!COV4","v":0},{"$f":"COY34*'Makro i swap'!COW4","v":0},{"$f":"COZ34*'Makro i swap'!COX4","v":0},{"$f":"CPA34*'Makro i swap'!COY4","v":0},{"$f":"CPB34*'Makro i swap'!COZ4","v":0},{"$f":"CPC34*'Makro i swap'!CPA4","v":0},{"$f":"CPD34*'Makro i swap'!CPB4","v":0},{"$f":"CPE34*'Makro i swap'!CPC4","v":0},{"$f":"CPF34*'Makro i swap'!CPD4","v":0},{"$f":"CPG34*'Makro i swap'!CPE4","v":0},{"$f":"CPH34*'Makro i swap'!CPF4","v":0},{"$f":"CPI34*'Makro i swap'!CPG4","v":0},{"$f":"CPJ34*'Makro i swap'!CPH4","v":0},{"$f":"CPK34*'Makro i swap'!CPI4","v":0},{"$f":"CPL34*'Makro i swap'!CPJ4","v":0},{"$f":"CPM34*'Makro i swap'!CPK4","v":0},{"$f":"CPN34*'Makro i swap'!CPL4","v":0},{"$f":"CPO34*'Makro i swap'!CPM4","v":0},{"$f":"CPP34*'Makro i swap'!CPN4","v":0},{"$f":"CPQ34*'Makro i swap'!CPO4","v":0},{"$f":"CPR34*'Makro i swap'!CPP4","v":0},{"$f":"CPS34*'Makro i swap'!CPQ4","v":0},{"$f":"CPT34*'Makro i swap'!CPR4","v":0},{"$f":"CPU34*'Makro i swap'!CPS4","v":0},{"$f":"CPV34*'Makro i swap'!CPT4","v":0},{"$f":"CPW34*'Makro i swap'!CPU4","v":0},{"$f":"CPX34*'Makro i swap'!CPV4","v":0},{"$f":"CPY34*'Makro i swap'!CPW4","v":0},{"$f":"CPZ34*'Makro i swap'!CPX4","v":0},{"$f":"CQA34*'Makro i swap'!CPY4","v":0},{"$f":"CQB34*'Makro i swap'!CPZ4","v":0},{"$f":"CQC34*'Makro i swap'!CQA4","v":0},{"$f":"CQD34*'Makro i swap'!CQB4","v":0},{"$f":"CQE34*'Makro i swap'!CQC4","v":0},{"$f":"CQF34*'Makro i swap'!CQD4","v":0},{"$f":"CQG34*'Makro i swap'!CQE4","v":0},{"$f":"CQH34*'Makro i swap'!CQF4","v":0},{"$f":"CQI34*'Makro i swap'!CQG4","v":0},{"$f":"CQJ34*'Makro i swap'!CQH4","v":0},{"$f":"CQK34*'Makro i swap'!CQI4","v":0},{"$f":"CQL34*'Makro i swap'!CQJ4","v":0},{"$f":"CQM34*'Makro i swap'!CQK4","v":0},{"$f":"CQN34*'Makro i swap'!CQL4","v":0},{"$f":"CQO34*'Makro i swap'!CQM4","v":0},{"$f":"CQP34*'Makro i swap'!CQN4","v":0},{"$f":"CQQ34*'Makro i swap'!CQO4","v":0},{"$f":"CQR34*'Makro i swap'!CQP4","v":0},{"$f":"CQS34*'Makro i swap'!CQQ4","v":0},{"$f":"CQT34*'Makro i swap'!CQR4","v":0},{"$f":"CQU34*'Makro i swap'!CQS4","v":0},{"$f":"CQV34*'Makro i swap'!CQT4","v":0},{"$f":"CQW34*'Makro i swap'!CQU4","v":0},{"$f":"CQX34*'Makro i swap'!CQV4","v":0},{"$f":"CQY34*'Makro i swap'!CQW4","v":0},{"$f":"CQZ34*'Makro i swap'!CQX4","v":0},{"$f":"CRA34*'Makro i swap'!CQY4","v":0},{"$f":"CRB34*'Makro i swap'!CQZ4","v":0},{"$f":"CRC34*'Makro i swap'!CRA4","v":0},{"$f":"CRD34*'Makro i swap'!CRB4","v":0},{"$f":"CRE34*'Makro i swap'!CRC4","v":0},{"$f":"CRF34*'Makro i swap'!CRD4","v":0},{"$f":"CRG34*'Makro i swap'!CRE4","v":0},{"$f":"CRH34*'Makro i swap'!CRF4","v":0},{"$f":"CRI34*'Makro i swap'!CRG4","v":0},{"$f":"CRJ34*'Makro i swap'!CRH4","v":0},{"$f":"CRK34*'Makro i swap'!CRI4","v":0},{"$f":"CRL34*'Makro i swap'!CRJ4","v":0},{"$f":"CRM34*'Makro i swap'!CRK4","v":0},{"$f":"CRN34*'Makro i swap'!CRL4","v":0},{"$f":"CRO34*'Makro i swap'!CRM4","v":0},{"$f":"CRP34*'Makro i swap'!CRN4","v":0},{"$f":"CRQ34*'Makro i swap'!CRO4","v":0},{"$f":"CRR34*'Makro i swap'!CRP4","v":0},{"$f":"CRS34*'Makro i swap'!CRQ4","v":0},{"$f":"CRT34*'Makro i swap'!CRR4","v":0},{"$f":"CRU34*'Makro i swap'!CRS4","v":0},{"$f":"CRV34*'Makro i swap'!CRT4","v":0},{"$f":"CRW34*'Makro i swap'!CRU4","v":0},{"$f":"CRX34*'Makro i swap'!CRV4","v":0},{"$f":"CRY34*'Makro i swap'!CRW4","v":0},{"$f":"CRZ34*'Makro i swap'!CRX4","v":0},{"$f":"CSA34*'Makro i swap'!CRY4","v":0},{"$f":"CSB34*'Makro i swap'!CRZ4","v":0},{"$f":"CSC34*'Makro i swap'!CSA4","v":0},{"$f":"CSD34*'Makro i swap'!CSB4","v":0},{"$f":"CSE34*'Makro i swap'!CSC4","v":0},{"$f":"CSF34*'Makro i swap'!CSD4","v":0},{"$f":"CSG34*'Makro i swap'!CSE4","v":0},{"$f":"CSH34*'Makro i swap'!CSF4","v":0},{"$f":"CSI34*'Makro i swap'!CSG4","v":0},{"$f":"CSJ34*'Makro i swap'!CSH4","v":0},{"$f":"CSK34*'Makro i swap'!CSI4","v":0},{"$f":"CSL34*'Makro i swap'!CSJ4","v":0},{"$f":"CSM34*'Makro i swap'!CSK4","v":0},{"$f":"CSN34*'Makro i swap'!CSL4","v":0},{"$f":"CSO34*'Makro i swap'!CSM4","v":0},{"$f":"CSP34*'Makro i swap'!CSN4","v":0},{"$f":"CSQ34*'Makro i swap'!CSO4","v":0},{"$f":"CSR34*'Makro i swap'!CSP4","v":0},{"$f":"CSS34*'Makro i swap'!CSQ4","v":0},{"$f":"CST34*'Makro i swap'!CSR4","v":0},{"$f":"CSU34*'Makro i swap'!CSS4","v":0},{"$f":"CSV34*'Makro i swap'!CST4","v":0},{"$f":"CSW34*'Makro i swap'!CSU4","v":0},{"$f":"CSX34*'Makro i swap'!CSV4","v":0},{"$f":"CSY34*'Makro i swap'!CSW4","v":0},{"$f":"CSZ34*'Makro i swap'!CSX4","v":0},{"$f":"CTA34*'Makro i swap'!CSY4","v":0},{"$f":"CTB34*'Makro i swap'!CSZ4","v":0},{"$f":"CTC34*'Makro i swap'!CTA4","v":0},{"$f":"CTD34*'Makro i swap'!CTB4","v":0},{"$f":"CTE34*'Makro i swap'!CTC4","v":0},{"$f":"CTF34*'Makro i swap'!CTD4","v":0},{"$f":"CTG34*'Makro i swap'!CTE4","v":0},{"$f":"CTH34*'Makro i swap'!CTF4","v":0},{"$f":"CTI34*'Makro i swap'!CTG4","v":0},{"$f":"CTJ34*'Makro i swap'!CTH4","v":0},{"$f":"CTK34*'Makro i swap'!CTI4","v":0},{"$f":"CTL34*'Makro i swap'!CTJ4","v":0},{"$f":"CTM34*'Makro i swap'!CTK4","v":0},{"$f":"CTN34*'Makro i swap'!CTL4","v":0},{"$f":"CTO34*'Makro i swap'!CTM4","v":0},{"$f":"CTP34*'Makro i swap'!CTN4","v":0},{"$f":"CTQ34*'Makro i swap'!CTO4","v":0},{"$f":"CTR34*'Makro i swap'!CTP4","v":0},{"$f":"CTS34*'Makro i swap'!CTQ4","v":0},{"$f":"CTT34*'Makro i swap'!CTR4","v":0},{"$f":"CTU34*'Makro i swap'!CTS4","v":0},{"$f":"CTV34*'Makro i swap'!CTT4","v":0},{"$f":"CTW34*'Makro i swap'!CTU4","v":0},{"$f":"CTX34*'Makro i swap'!CTV4","v":0},{"$f":"CTY34*'Makro i swap'!CTW4","v":0},{"$f":"CTZ34*'Makro i swap'!CTX4","v":0},{"$f":"CUA34*'Makro i swap'!CTY4","v":0},{"$f":"CUB34*'Makro i swap'!CTZ4","v":0},{"$f":"CUC34*'Makro i swap'!CUA4","v":0},{"$f":"CUD34*'Makro i swap'!CUB4","v":0},{"$f":"CUE34*'Makro i swap'!CUC4","v":0},{"$f":"CUF34*'Makro i swap'!CUD4","v":0},{"$f":"CUG34*'Makro i swap'!CUE4","v":0},{"$f":"CUH34*'Makro i swap'!CUF4","v":0},{"$f":"CUI34*'Makro i swap'!CUG4","v":0},{"$f":"CUJ34*'Makro i swap'!CUH4","v":0},{"$f":"CUK34*'Makro i swap'!CUI4","v":0},{"$f":"CUL34*'Makro i swap'!CUJ4","v":0},{"$f":"CUM34*'Makro i swap'!CUK4","v":0},{"$f":"CUN34*'Makro i swap'!CUL4","v":0},{"$f":"CUO34*'Makro i swap'!CUM4","v":0},{"$f":"CUP34*'Makro i swap'!CUN4","v":0},{"$f":"CUQ34*'Makro i swap'!CUO4","v":0},{"$f":"CUR34*'Makro i swap'!CUP4","v":0},{"$f":"CUS34*'Makro i swap'!CUQ4","v":0},{"$f":"CUT34*'Makro i swap'!CUR4","v":0},{"$f":"CUU34*'Makro i swap'!CUS4","v":0},{"$f":"CUV34*'Makro i swap'!CUT4","v":0},{"$f":"CUW34*'Makro i swap'!CUU4","v":0},{"$f":"CUX34*'Makro i swap'!CUV4","v":0},{"$f":"CUY34*'Makro i swap'!CUW4","v":0},{"$f":"CUZ34*'Makro i swap'!CUX4","v":0},{"$f":"CVA34*'Makro i swap'!CUY4","v":0},{"$f":"CVB34*'Makro i swap'!CUZ4","v":0},{"$f":"CVC34*'Makro i swap'!CVA4","v":0},{"$f":"CVD34*'Makro i swap'!CVB4","v":0},{"$f":"CVE34*'Makro i swap'!CVC4","v":0},{"$f":"CVF34*'Makro i swap'!CVD4","v":0},{"$f":"CVG34*'Makro i swap'!CVE4","v":0},{"$f":"CVH34*'Makro i swap'!CVF4","v":0},{"$f":"CVI34*'Makro i swap'!CVG4","v":0},{"$f":"CVJ34*'Makro i swap'!CVH4","v":0},{"$f":"CVK34*'Makro i swap'!CVI4","v":0},{"$f":"CVL34*'Makro i swap'!CVJ4","v":0},{"$f":"CVM34*'Makro i swap'!CVK4","v":0},{"$f":"CVN34*'Makro i swap'!CVL4","v":0},{"$f":"CVO34*'Makro i swap'!CVM4","v":0},{"$f":"CVP34*'Makro i swap'!CVN4","v":0},{"$f":"CVQ34*'Makro i swap'!CVO4","v":0},{"$f":"CVR34*'Makro i swap'!CVP4","v":0},{"$f":"CVS34*'Makro i swap'!CVQ4","v":0},{"$f":"CVT34*'Makro i swap'!CVR4","v":0},{"$f":"CVU34*'Makro i swap'!CVS4","v":0},{"$f":"CVV34*'Makro i swap'!CVT4","v":0},{"$f":"CVW34*'Makro i swap'!CVU4","v":0},{"$f":"CVX34*'Makro i swap'!CVV4","v":0},{"$f":"CVY34*'Makro i swap'!CVW4","v":0},{"$f":"CVZ34*'Makro i swap'!CVX4","v":0},{"$f":"CWA34*'Makro i swap'!CVY4","v":0},{"$f":"CWB34*'Makro i swap'!CVZ4","v":0},{"$f":"CWC34*'Makro i swap'!CWA4","v":0},{"$f":"CWD34*'Makro i swap'!CWB4","v":0},{"$f":"CWE34*'Makro i swap'!CWC4","v":0},{"$f":"CWF34*'Makro i swap'!CWD4","v":0},{"$f":"CWG34*'Makro i swap'!CWE4","v":0},{"$f":"CWH34*'Makro i swap'!CWF4","v":0},{"$f":"CWI34*'Makro i swap'!CWG4","v":0},{"$f":"CWJ34*'Makro i swap'!CWH4","v":0},{"$f":"CWK34*'Makro i swap'!CWI4","v":0},{"$f":"CWL34*'Makro i swap'!CWJ4","v":0},{"$f":"CWM34*'Makro i swap'!CWK4","v":0},{"$f":"CWN34*'Makro i swap'!CWL4","v":0},{"$f":"CWO34*'Makro i swap'!CWM4","v":0},{"$f":"CWP34*'Makro i swap'!CWN4","v":0},{"$f":"CWQ34*'Makro i swap'!CWO4","v":0},{"$f":"CWR34*'Makro i swap'!CWP4","v":0},{"$f":"CWS34*'Makro i swap'!CWQ4","v":0},{"$f":"CWT34*'Makro i swap'!CWR4","v":0},{"$f":"CWU34*'Makro i swap'!CWS4","v":0},{"$f":"CWV34*'Makro i swap'!CWT4","v":0},{"$f":"CWW34*'Makro i swap'!CWU4","v":0},{"$f":"CWX34*'Makro i swap'!CWV4","v":0},{"$f":"CWY34*'Makro i swap'!CWW4","v":0},{"$f":"CWZ34*'Makro i swap'!CWX4","v":0},{"$f":"CXA34*'Makro i swap'!CWY4","v":0},{"$f":"CXB34*'Makro i swap'!CWZ4","v":0},{"$f":"CXC34*'Makro i swap'!CXA4","v":0},{"$f":"CXD34*'Makro i swap'!CXB4","v":0},{"$f":"CXE34*'Makro i swap'!CXC4","v":0},{"$f":"CXF34*'Makro i swap'!CXD4","v":0},{"$f":"CXG34*'Makro i swap'!CXE4","v":0},{"$f":"CXH34*'Makro i swap'!CXF4","v":0},{"$f":"CXI34*'Makro i swap'!CXG4","v":0},{"$f":"CXJ34*'Makro i swap'!CXH4","v":0},{"$f":"CXK34*'Makro i swap'!CXI4","v":0},{"$f":"CXL34*'Makro i swap'!CXJ4","v":0},{"$f":"CXM34*'Makro i swap'!CXK4","v":0},{"$f":"CXN34*'Makro i swap'!CXL4","v":0},{"$f":"CXO34*'Makro i swap'!CXM4","v":0},{"$f":"CXP34*'Makro i swap'!CXN4","v":0},{"$f":"CXQ34*'Makro i swap'!CXO4","v":0},{"$f":"CXR34*'Makro i swap'!CXP4","v":0},{"$f":"CXS34*'Makro i swap'!CXQ4","v":0},{"$f":"CXT34*'Makro i swap'!CXR4","v":0},{"$f":"CXU34*'Makro i swap'!CXS4","v":0},{"$f":"CXV34*'Makro i swap'!CXT4","v":0},{"$f":"CXW34*'Makro i swap'!CXU4","v":0},{"$f":"CXX34*'Makro i swap'!CXV4","v":0},{"$f":"CXY34*'Makro i swap'!CXW4","v":0},{"$f":"CXZ34*'Makro i swap'!CXX4","v":0},{"$f":"CYA34*'Makro i swap'!CXY4","v":0},{"$f":"CYB34*'Makro i swap'!CXZ4","v":0},{"$f":"CYC34*'Makro i swap'!CYA4","v":0},{"$f":"CYD34*'Makro i swap'!CYB4","v":0},{"$f":"CYE34*'Makro i swap'!CYC4","v":0},{"$f":"CYF34*'Makro i swap'!CYD4","v":0},{"$f":"CYG34*'Makro i swap'!CYE4","v":0},{"$f":"CYH34*'Makro i swap'!CYF4","v":0},{"$f":"CYI34*'Makro i swap'!CYG4","v":0},{"$f":"CYJ34*'Makro i swap'!CYH4","v":0},{"$f":"CYK34*'Makro i swap'!CYI4","v":0},{"$f":"CYL34*'Makro i swap'!CYJ4","v":0},{"$f":"CYM34*'Makro i swap'!CYK4","v":0},{"$f":"CYN34*'Makro i swap'!CYL4","v":0},{"$f":"CYO34*'Makro i swap'!CYM4","v":0},{"$f":"CYP34*'Makro i swap'!CYN4","v":0},{"$f":"CYQ34*'Makro i swap'!CYO4","v":0},{"$f":"CYR34*'Makro i swap'!CYP4","v":0},{"$f":"CYS34*'Makro i swap'!CYQ4","v":0},{"$f":"CYT34*'Makro i swap'!CYR4","v":0},{"$f":"CYU34*'Makro i swap'!CYS4","v":0},{"$f":"CYV34*'Makro i swap'!CYT4","v":0},{"$f":"CYW34*'Makro i swap'!CYU4","v":0},{"$f":"CYX34*'Makro i swap'!CYV4","v":0},{"$f":"CYY34*'Makro i swap'!CYW4","v":0},{"$f":"CYZ34*'Makro i swap'!CYX4","v":0},{"$f":"CZA34*'Makro i swap'!CYY4","v":0},{"$f":"CZB34*'Makro i swap'!CYZ4","v":0},{"$f":"CZC34*'Makro i swap'!CZA4","v":0},{"$f":"CZD34*'Makro i swap'!CZB4","v":0},{"$f":"CZE34*'Makro i swap'!CZC4","v":0},{"$f":"CZF34*'Makro i swap'!CZD4","v":0},{"$f":"CZG34*'Makro i swap'!CZE4","v":0},{"$f":"CZH34*'Makro i swap'!CZF4","v":0},{"$f":"CZI34*'Makro i swap'!CZG4","v":0},{"$f":"CZJ34*'Makro i swap'!CZH4","v":0},{"$f":"CZK34*'Makro i swap'!CZI4","v":0},{"$f":"CZL34*'Makro i swap'!CZJ4","v":0},{"$f":"CZM34*'Makro i swap'!CZK4","v":0},{"$f":"CZN34*'Makro i swap'!CZL4","v":0},{"$f":"CZO34*'Makro i swap'!CZM4","v":0},{"$f":"CZP34*'Makro i swap'!CZN4","v":0},{"$f":"CZQ34*'Makro i swap'!CZO4","v":0},{"$f":"CZR34*'Makro i swap'!CZP4","v":0},{"$f":"CZS34*'Makro i swap'!CZQ4","v":0},{"$f":"CZT34*'Makro i swap'!CZR4","v":0},{"$f":"CZU34*'Makro i swap'!CZS4","v":0},{"$f":"CZV34*'Makro i swap'!CZT4","v":0},{"$f":"CZW34*'Makro i swap'!CZU4","v":0},{"$f":"CZX34*'Makro i swap'!CZV4","v":0},{"$f":"CZY34*'Makro i swap'!CZW4","v":0},{"$f":"CZZ34*'Makro i swap'!CZX4","v":0},{"$f":"DAA34*'Makro i swap'!CZY4","v":0},{"$f":"DAB34*'Makro i swap'!CZZ4","v":0},{"$f":"DAC34*'Makro i swap'!DAA4","v":0},{"$f":"DAD34*'Makro i swap'!DAB4","v":0},{"$f":"DAE34*'Makro i swap'!DAC4","v":0},{"$f":"DAF34*'Makro i swap'!DAD4","v":0},{"$f":"DAG34*'Makro i swap'!DAE4","v":0},{"$f":"DAH34*'Makro i swap'!DAF4","v":0},{"$f":"DAI34*'Makro i swap'!DAG4","v":0},{"$f":"DAJ34*'Makro i swap'!DAH4","v":0},{"$f":"DAK34*'Makro i swap'!DAI4","v":0},{"$f":"DAL34*'Makro i swap'!DAJ4","v":0},{"$f":"DAM34*'Makro i swap'!DAK4","v":0},{"$f":"DAN34*'Makro i swap'!DAL4","v":0},{"$f":"DAO34*'Makro i swap'!DAM4","v":0},{"$f":"DAP34*'Makro i swap'!DAN4","v":0},{"$f":"DAQ34*'Makro i swap'!DAO4","v":0},{"$f":"DAR34*'Makro i swap'!DAP4","v":0},{"$f":"DAS34*'Makro i swap'!DAQ4","v":0},{"$f":"DAT34*'Makro i swap'!DAR4","v":0},{"$f":"DAU34*'Makro i swap'!DAS4","v":0},{"$f":"DAV34*'Makro i swap'!DAT4","v":0},{"$f":"DAW34*'Makro i swap'!DAU4","v":0},{"$f":"DAX34*'Makro i swap'!DAV4","v":0},{"$f":"DAY34*'Makro i swap'!DAW4","v":0},{"$f":"DAZ34*'Makro i swap'!DAX4","v":0},{"$f":"DBA34*'Makro i swap'!DAY4","v":0},{"$f":"DBB34*'Makro i swap'!DAZ4","v":0},{"$f":"DBC34*'Makro i swap'!DBA4","v":0},{"$f":"DBD34*'Makro i swap'!DBB4","v":0},{"$f":"DBE34*'Makro i swap'!DBC4","v":0},{"$f":"DBF34*'Makro i swap'!DBD4","v":0},{"$f":"DBG34*'Makro i swap'!DBE4","v":0},{"$f":"DBH34*'Makro i swap'!DBF4","v":0},{"$f":"DBI34*'Makro i swap'!DBG4","v":0},{"$f":"DBJ34*'Makro i swap'!DBH4","v":0},{"$f":"DBK34*'Makro i swap'!DBI4","v":0},{"$f":"DBL34*'Makro i swap'!DBJ4","v":0},{"$f":"DBM34*'Makro i swap'!DBK4","v":0},{"$f":"DBN34*'Makro i swap'!DBL4","v":0},{"$f":"DBO34*'Makro i swap'!DBM4","v":0},{"$f":"DBP34*'Makro i swap'!DBN4","v":0},{"$f":"DBQ34*'Makro i swap'!DBO4","v":0},{"$f":"DBR34*'Makro i swap'!DBP4","v":0},{"$f":"DBS34*'Makro i swap'!DBQ4","v":0},{"$f":"DBT34*'Makro i swap'!DBR4","v":0},{"$f":"DBU34*'Makro i swap'!DBS4","v":0},{"$f":"DBV34*'Makro i swap'!DBT4","v":0},{"$f":"DBW34*'Makro i swap'!DBU4","v":0},{"$f":"DBX34*'Makro i swap'!DBV4","v":0},{"$f":"DBY34*'Makro i swap'!DBW4","v":0},{"$f":"DBZ34*'Makro i swap'!DBX4","v":0},{"$f":"DCA34*'Makro i swap'!DBY4","v":0},{"$f":"DCB34*'Makro i swap'!DBZ4","v":0},{"$f":"DCC34*'Makro i swap'!DCA4","v":0},{"$f":"DCD34*'Makro i swap'!DCB4","v":0},{"$f":"DCE34*'Makro i swap'!DCC4","v":0},{"$f":"DCF34*'Makro i swap'!DCD4","v":0},{"$f":"DCG34*'Makro i swap'!DCE4","v":0},{"$f":"DCH34*'Makro i swap'!DCF4","v":0},{"$f":"DCI34*'Makro i swap'!DCG4","v":0},{"$f":"DCJ34*'Makro i swap'!DCH4","v":0},{"$f":"DCK34*'Makro i swap'!DCI4","v":0},{"$f":"DCL34*'Makro i swap'!DCJ4","v":0},{"$f":"DCM34*'Makro i swap'!DCK4","v":0},{"$f":"DCN34*'Makro i swap'!DCL4","v":0},{"$f":"DCO34*'Makro i swap'!DCM4","v":0},{"$f":"DCP34*'Makro i swap'!DCN4","v":0},{"$f":"DCQ34*'Makro i swap'!DCO4","v":0},{"$f":"DCR34*'Makro i swap'!DCP4","v":0},{"$f":"DCS34*'Makro i swap'!DCQ4","v":0},{"$f":"DCT34*'Makro i swap'!DCR4","v":0},{"$f":"DCU34*'Makro i swap'!DCS4","v":0},{"$f":"DCV34*'Makro i swap'!DCT4","v":0},{"$f":"DCW34*'Makro i swap'!DCU4","v":0},{"$f":"DCX34*'Makro i swap'!DCV4","v":0},{"$f":"DCY34*'Makro i swap'!DCW4","v":0},{"$f":"DCZ34*'Makro i swap'!DCX4","v":0},{"$f":"DDA34*'Makro i swap'!DCY4","v":0},{"$f":"DDB34*'Makro i swap'!DCZ4","v":0},{"$f":"DDC34*'Makro i swap'!DDA4","v":0},{"$f":"DDD34*'Makro i swap'!DDB4","v":0},{"$f":"DDE34*'Makro i swap'!DDC4","v":0},{"$f":"DDF34*'Makro i swap'!DDD4","v":0},{"$f":"DDG34*'Makro i swap'!DDE4","v":0},{"$f":"DDH34*'Makro i swap'!DDF4","v":0},{"$f":"DDI34*'Makro i swap'!DDG4","v":0},{"$f":"DDJ34*'Makro i swap'!DDH4","v":0},{"$f":"DDK34*'Makro i swap'!DDI4","v":0},{"$f":"DDL34*'Makro i swap'!DDJ4","v":0},{"$f":"DDM34*'Makro i swap'!DDK4","v":0},{"$f":"DDN34*'Makro i swap'!DDL4","v":0},{"$f":"DDO34*'Makro i swap'!DDM4","v":0},{"$f":"DDP34*'Makro i swap'!DDN4","v":0},{"$f":"DDQ34*'Makro i swap'!DDO4","v":0},{"$f":"DDR34*'Makro i swap'!DDP4","v":0},{"$f":"DDS34*'Makro i swap'!DDQ4","v":0},{"$f":"DDT34*'Makro i swap'!DDR4","v":0},{"$f":"DDU34*'Makro i swap'!DDS4","v":0},{"$f":"DDV34*'Makro i swap'!DDT4","v":0},{"$f":"DDW34*'Makro i swap'!DDU4","v":0},{"$f":"DDX34*'Makro i swap'!DDV4","v":0},{"$f":"DDY34*'Makro i swap'!DDW4","v":0},{"$f":"DDZ34*'Makro i swap'!DDX4","v":0},{"$f":"DEA34*'Makro i swap'!DDY4","v":0},{"$f":"DEB34*'Makro i swap'!DDZ4","v":0},{"$f":"DEC34*'Makro i swap'!DEA4","v":0},{"$f":"DED34*'Makro i swap'!DEB4","v":0},{"$f":"DEE34*'Makro i swap'!DEC4","v":0},{"$f":"DEF34*'Makro i swap'!DED4","v":0},{"$f":"DEG34*'Makro i swap'!DEE4","v":0},{"$f":"DEH34*'Makro i swap'!DEF4","v":0},{"$f":"DEI34*'Makro i swap'!DEG4","v":0},{"$f":"DEJ34*'Makro i swap'!DEH4","v":0},{"$f":"DEK34*'Makro i swap'!DEI4","v":0},{"$f":"DEL34*'Makro i swap'!DEJ4","v":0},{"$f":"DEM34*'Makro i swap'!DEK4","v":0},{"$f":"DEN34*'Makro i swap'!DEL4","v":0},{"$f":"DEO34*'Makro i swap'!DEM4","v":0},{"$f":"DEP34*'Makro i swap'!DEN4","v":0},{"$f":"DEQ34*'Makro i swap'!DEO4","v":0},{"$f":"DER34*'Makro i swap'!DEP4","v":0},{"$f":"DES34*'Makro i swap'!DEQ4","v":0},{"$f":"DET34*'Makro i swap'!DER4","v":0},{"$f":"DEU34*'Makro i swap'!DES4","v":0},{"$f":"DEV34*'Makro i swap'!DET4","v":0},{"$f":"DEW34*'Makro i swap'!DEU4","v":0},{"$f":"DEX34*'Makro i swap'!DEV4","v":0},{"$f":"DEY34*'Makro i swap'!DEW4","v":0},{"$f":"DEZ34*'Makro i swap'!DEX4","v":0},{"$f":"DFA34*'Makro i swap'!DEY4","v":0},{"$f":"DFB34*'Makro i swap'!DEZ4","v":0},{"$f":"DFC34*'Makro i swap'!DFA4","v":0},{"$f":"DFD34*'Makro i swap'!DFB4","v":0},{"$f":"DFE34*'Makro i swap'!DFC4","v":0},{"$f":"DFF34*'Makro i swap'!DFD4","v":0},{"$f":"DFG34*'Makro i swap'!DFE4","v":0},{"$f":"DFH34*'Makro i swap'!DFF4","v":0},{"$f":"DFI34*'Makro i swap'!DFG4","v":0},{"$f":"DFJ34*'Makro i swap'!DFH4","v":0},{"$f":"DFK34*'Makro i swap'!DFI4","v":0},{"$f":"DFL34*'Makro i swap'!DFJ4","v":0},{"$f":"DFM34*'Makro i swap'!DFK4","v":0},{"$f":"DFN34*'Makro i swap'!DFL4","v":0},{"$f":"DFO34*'Makro i swap'!DFM4","v":0},{"$f":"DFP34*'Makro i swap'!DFN4","v":0},{"$f":"DFQ34*'Makro i swap'!DFO4","v":0},{"$f":"DFR34*'Makro i swap'!DFP4","v":0},{"$f":"DFS34*'Makro i swap'!DFQ4","v":0},{"$f":"DFT34*'Makro i swap'!DFR4","v":0},{"$f":"DFU34*'Makro i swap'!DFS4","v":0},{"$f":"DFV34*'Makro i swap'!DFT4","v":0},{"$f":"DFW34*'Makro i swap'!DFU4","v":0},{"$f":"DFX34*'Makro i swap'!DFV4","v":0},{"$f":"DFY34*'Makro i swap'!DFW4","v":0},{"$f":"DFZ34*'Makro i swap'!DFX4","v":0},{"$f":"DGA34*'Makro i swap'!DFY4","v":0},{"$f":"DGB34*'Makro i swap'!DFZ4","v":0},{"$f":"DGC34*'Makro i swap'!DGA4","v":0},{"$f":"DGD34*'Makro i swap'!DGB4","v":0},{"$f":"DGE34*'Makro i swap'!DGC4","v":0},{"$f":"DGF34*'Makro i swap'!DGD4","v":0},{"$f":"DGG34*'Makro i swap'!DGE4","v":0},{"$f":"DGH34*'Makro i swap'!DGF4","v":0},{"$f":"DGI34*'Makro i swap'!DGG4","v":0},{"$f":"DGJ34*'Makro i swap'!DGH4","v":0},{"$f":"DGK34*'Makro i swap'!DGI4","v":0},{"$f":"DGL34*'Makro i swap'!DGJ4","v":0},{"$f":"DGM34*'Makro i swap'!DGK4","v":0},{"$f":"DGN34*'Makro i swap'!DGL4","v":0},{"$f":"DGO34*'Makro i swap'!DGM4","v":0},{"$f":"DGP34*'Makro i swap'!DGN4","v":0},{"$f":"DGQ34*'Makro i swap'!DGO4","v":0},{"$f":"DGR34*'Makro i swap'!DGP4","v":0},{"$f":"DGS34*'Makro i swap'!DGQ4","v":0},{"$f":"DGT34*'Makro i swap'!DGR4","v":0},{"$f":"DGU34*'Makro i swap'!DGS4","v":0},{"$f":"DGV34*'Makro i swap'!DGT4","v":0},{"$f":"DGW34*'Makro i swap'!DGU4","v":0},{"$f":"DGX34*'Makro i swap'!DGV4","v":0},{"$f":"DGY34*'Makro i swap'!DGW4","v":0},{"$f":"DGZ34*'Makro i swap'!DGX4","v":0},{"$f":"DHA34*'Makro i swap'!DGY4","v":0},{"$f":"DHB34*'Makro i swap'!DGZ4","v":0},{"$f":"DHC34*'Makro i swap'!DHA4","v":0},{"$f":"DHD34*'Makro i swap'!DHB4","v":0},{"$f":"DHE34*'Makro i swap'!DHC4","v":0},{"$f":"DHF34*'Makro i swap'!DHD4","v":0},{"$f":"DHG34*'Makro i swap'!DHE4","v":0},{"$f":"DHH34*'Makro i swap'!DHF4","v":0},{"$f":"DHI34*'Makro i swap'!DHG4","v":0},{"$f":"DHJ34*'Makro i swap'!DHH4","v":0},{"$f":"DHK34*'Makro i swap'!DHI4","v":0},{"$f":"DHL34*'Makro i swap'!DHJ4","v":0},{"$f":"DHM34*'Makro i swap'!DHK4","v":0},{"$f":"DHN34*'Makro i swap'!DHL4","v":0},{"$f":"DHO34*'Makro i swap'!DHM4","v":0},{"$f":"DHP34*'Makro i swap'!DHN4","v":0},{"$f":"DHQ34*'Makro i swap'!DHO4","v":0},{"$f":"DHR34*'Makro i swap'!DHP4","v":0},{"$f":"DHS34*'Makro i swap'!DHQ4","v":0},{"$f":"DHT34*'Makro i swap'!DHR4","v":0},{"$f":"DHU34*'Makro i swap'!DHS4","v":0},{"$f":"DHV34*'Makro i swap'!DHT4","v":0},{"$f":"DHW34*'Makro i swap'!DHU4","v":0},{"$f":"DHX34*'Makro i swap'!DHV4","v":0},{"$f":"DHY34*'Makro i swap'!DHW4","v":0},{"$f":"DHZ34*'Makro i swap'!DHX4","v":0},{"$f":"DIA34*'Makro i swap'!DHY4","v":0},{"$f":"DIB34*'Makro i swap'!DHZ4","v":0},{"$f":"DIC34*'Makro i swap'!DIA4","v":0},{"$f":"DID34*'Makro i swap'!DIB4","v":0},{"$f":"DIE34*'Makro i swap'!DIC4","v":0},{"$f":"DIF34*'Makro i swap'!DID4","v":0},{"$f":"DIG34*'Makro i swap'!DIE4","v":0},{"$f":"DIH34*'Makro i swap'!DIF4","v":0},{"$f":"DII34*'Makro i swap'!DIG4","v":0},{"$f":"DIJ34*'Makro i swap'!DIH4","v":0},{"$f":"DIK34*'Makro i swap'!DII4","v":0},{"$f":"DIL34*'Makro i swap'!DIJ4","v":0},{"$f":"DIM34*'Makro i swap'!DIK4","v":0},{"$f":"DIN34*'Makro i swap'!DIL4","v":0},{"$f":"DIO34*'Makro i swap'!DIM4","v":0},{"$f":"DIP34*'Makro i swap'!DIN4","v":0},{"$f":"DIQ34*'Makro i swap'!DIO4","v":0},{"$f":"DIR34*'Makro i swap'!DIP4","v":0},{"$f":"DIS34*'Makro i swap'!DIQ4","v":0},{"$f":"DIT34*'Makro i swap'!DIR4","v":0},{"$f":"DIU34*'Makro i swap'!DIS4","v":0},{"$f":"DIV34*'Makro i swap'!DIT4","v":0},{"$f":"DIW34*'Makro i swap'!DIU4","v":0},{"$f":"DIX34*'Makro i swap'!DIV4","v":0},{"$f":"DIY34*'Makro i swap'!DIW4","v":0},{"$f":"DIZ34*'Makro i swap'!DIX4","v":0},{"$f":"DJA34*'Makro i swap'!DIY4","v":0},{"$f":"DJB34*'Makro i swap'!DIZ4","v":0},{"$f":"DJC34*'Makro i swap'!DJA4","v":0},{"$f":"DJD34*'Makro i swap'!DJB4","v":0},{"$f":"DJE34*'Makro i swap'!DJC4","v":0},{"$f":"DJF34*'Makro i swap'!DJD4","v":0},{"$f":"DJG34*'Makro i swap'!DJE4","v":0},{"$f":"DJH34*'Makro i swap'!DJF4","v":0},{"$f":"DJI34*'Makro i swap'!DJG4","v":0},{"$f":"DJJ34*'Makro i swap'!DJH4","v":0},{"$f":"DJK34*'Makro i swap'!DJI4","v":0},{"$f":"DJL34*'Makro i swap'!DJJ4","v":0},{"$f":"DJM34*'Makro i swap'!DJK4","v":0},{"$f":"DJN34*'Makro i swap'!DJL4","v":0},{"$f":"DJO34*'Makro i swap'!DJM4","v":0},{"$f":"DJP34*'Makro i swap'!DJN4","v":0},{"$f":"DJQ34*'Makro i swap'!DJO4","v":0},{"$f":"DJR34*'Makro i swap'!DJP4","v":0},{"$f":"DJS34*'Makro i swap'!DJQ4","v":0},{"$f":"DJT34*'Makro i swap'!DJR4","v":0},{"$f":"DJU34*'Makro i swap'!DJS4","v":0},{"$f":"DJV34*'Makro i swap'!DJT4","v":0},{"$f":"DJW34*'Makro i swap'!DJU4","v":0},{"$f":"DJX34*'Makro i swap'!DJV4","v":0},{"$f":"DJY34*'Makro i swap'!DJW4","v":0},{"$f":"DJZ34*'Makro i swap'!DJX4","v":0},{"$f":"DKA34*'Makro i swap'!DJY4","v":0},{"$f":"DKB34*'Makro i swap'!DJZ4","v":0},{"$f":"DKC34*'Makro i swap'!DKA4","v":0},{"$f":"DKD34*'Makro i swap'!DKB4","v":0},{"$f":"DKE34*'Makro i swap'!DKC4","v":0},{"$f":"DKF34*'Makro i swap'!DKD4","v":0},{"$f":"DKG34*'Makro i swap'!DKE4","v":0},{"$f":"DKH34*'Makro i swap'!DKF4","v":0},{"$f":"DKI34*'Makro i swap'!DKG4","v":0},{"$f":"DKJ34*'Makro i swap'!DKH4","v":0},{"$f":"DKK34*'Makro i swap'!DKI4","v":0},{"$f":"DKL34*'Makro i swap'!DKJ4","v":0},{"$f":"DKM34*'Makro i swap'!DKK4","v":0},{"$f":"DKN34*'Makro i swap'!DKL4","v":0},{"$f":"DKO34*'Makro i swap'!DKM4","v":0},{"$f":"DKP34*'Makro i swap'!DKN4","v":0},{"$f":"DKQ34*'Makro i swap'!DKO4","v":0},{"$f":"DKR34*'Makro i swap'!DKP4","v":0},{"$f":"DKS34*'Makro i swap'!DKQ4","v":0},{"$f":"DKT34*'Makro i swap'!DKR4","v":0},{"$f":"DKU34*'Makro i swap'!DKS4","v":0},{"$f":"DKV34*'Makro i swap'!DKT4","v":0},{"$f":"DKW34*'Makro i swap'!DKU4","v":0},{"$f":"DKX34*'Makro i swap'!DKV4","v":0},{"$f":"DKY34*'Makro i swap'!DKW4","v":0},{"$f":"DKZ34*'Makro i swap'!DKX4","v":0},{"$f":"DLA34*'Makro i swap'!DKY4","v":0},{"$f":"DLB34*'Makro i swap'!DKZ4","v":0},{"$f":"DLC34*'Makro i swap'!DLA4","v":0},{"$f":"DLD34*'Makro i swap'!DLB4","v":0},{"$f":"DLE34*'Makro i swap'!DLC4","v":0},{"$f":"DLF34*'Makro i swap'!DLD4","v":0},{"$f":"DLG34*'Makro i swap'!DLE4","v":0},{"$f":"DLH34*'Makro i swap'!DLF4","v":0},{"$f":"DLI34*'Makro i swap'!DLG4","v":0},{"$f":"DLJ34*'Makro i swap'!DLH4","v":0},{"$f":"DLK34*'Makro i swap'!DLI4","v":0},{"$f":"DLL34*'Makro i swap'!DLJ4","v":0},{"$f":"DLM34*'Makro i swap'!DLK4","v":0},{"$f":"DLN34*'Makro i swap'!DLL4","v":0},{"$f":"DLO34*'Makro i swap'!DLM4","v":0},{"$f":"DLP34*'Makro i swap'!DLN4","v":0},{"$f":"DLQ34*'Makro i swap'!DLO4","v":0},{"$f":"DLR34*'Makro i swap'!DLP4","v":0},{"$f":"DLS34*'Makro i swap'!DLQ4","v":0},{"$f":"DLT34*'Makro i swap'!DLR4","v":0},{"$f":"DLU34*'Makro i swap'!DLS4","v":0},{"$f":"DLV34*'Makro i swap'!DLT4","v":0},{"$f":"DLW34*'Makro i swap'!DLU4","v":0},{"$f":"DLX34*'Makro i swap'!DLV4","v":0},{"$f":"DLY34*'Makro i swap'!DLW4","v":0},{"$f":"DLZ34*'Makro i swap'!DLX4","v":0},{"$f":"DMA34*'Makro i swap'!DLY4","v":0},{"$f":"DMB34*'Makro i swap'!DLZ4","v":0},{"$f":"DMC34*'Makro i swap'!DMA4","v":0},{"$f":"DMD34*'Makro i swap'!DMB4","v":0},{"$f":"DME34*'Makro i swap'!DMC4","v":0},{"$f":"DMF34*'Makro i swap'!DMD4","v":0},{"$f":"DMG34*'Makro i swap'!DME4","v":0},{"$f":"DMH34*'Makro i swap'!DMF4","v":0},{"$f":"DMI34*'Makro i swap'!DMG4","v":0},{"$f":"DMJ34*'Makro i swap'!DMH4","v":0},{"$f":"DMK34*'Makro i swap'!DMI4","v":0},{"$f":"DML34*'Makro i swap'!DMJ4","v":0},{"$f":"DMM34*'Makro i swap'!DMK4","v":0},{"$f":"DMN34*'Makro i swap'!DML4","v":0},{"$f":"DMO34*'Makro i swap'!DMM4","v":0},{"$f":"DMP34*'Makro i swap'!DMN4","v":0},{"$f":"DMQ34*'Makro i swap'!DMO4","v":0},{"$f":"DMR34*'Makro i swap'!DMP4","v":0},{"$f":"DMS34*'Makro i swap'!DMQ4","v":0},{"$f":"DMT34*'Makro i swap'!DMR4","v":0},{"$f":"DMU34*'Makro i swap'!DMS4","v":0},{"$f":"DMV34*'Makro i swap'!DMT4","v":0},{"$f":"DMW34*'Makro i swap'!DMU4","v":0},{"$f":"DMX34*'Makro i swap'!DMV4","v":0},{"$f":"DMY34*'Makro i swap'!DMW4","v":0},{"$f":"DMZ34*'Makro i swap'!DMX4","v":0},{"$f":"DNA34*'Makro i swap'!DMY4","v":0},{"$f":"DNB34*'Makro i swap'!DMZ4","v":0},{"$f":"DNC34*'Makro i swap'!DNA4","v":0},{"$f":"DND34*'Makro i swap'!DNB4","v":0},{"$f":"DNE34*'Makro i swap'!DNC4","v":0},{"$f":"DNF34*'Makro i swap'!DND4","v":0},{"$f":"DNG34*'Makro i swap'!DNE4","v":0},{"$f":"DNH34*'Makro i swap'!DNF4","v":0},{"$f":"DNI34*'Makro i swap'!DNG4","v":0},{"$f":"DNJ34*'Makro i swap'!DNH4","v":0},{"$f":"DNK34*'Makro i swap'!DNI4","v":0},{"$f":"DNL34*'Makro i swap'!DNJ4","v":0},{"$f":"DNM34*'Makro i swap'!DNK4","v":0},{"$f":"DNN34*'Makro i swap'!DNL4","v":0},{"$f":"DNO34*'Makro i swap'!DNM4","v":0},{"$f":"DNP34*'Makro i swap'!DNN4","v":0},{"$f":"DNQ34*'Makro i swap'!DNO4","v":0},{"$f":"DNR34*'Makro i swap'!DNP4","v":0},{"$f":"DNS34*'Makro i swap'!DNQ4","v":0},{"$f":"DNT34*'Makro i swap'!DNR4","v":0},{"$f":"DNU34*'Makro i swap'!DNS4","v":0},{"$f":"DNV34*'Makro i swap'!DNT4","v":0},{"$f":"DNW34*'Makro i swap'!DNU4","v":0},{"$f":"DNX34*'Makro i swap'!DNV4","v":0},{"$f":"DNY34*'Makro i swap'!DNW4","v":0},{"$f":"DNZ34*'Makro i swap'!DNX4","v":0},{"$f":"DOA34*'Makro i swap'!DNY4","v":0},{"$f":"DOB34*'Makro i swap'!DNZ4","v":0},{"$f":"DOC34*'Makro i swap'!DOA4","v":0},{"$f":"DOD34*'Makro i swap'!DOB4","v":0},{"$f":"DOE34*'Makro i swap'!DOC4","v":0},{"$f":"DOF34*'Makro i swap'!DOD4","v":0},{"$f":"DOG34*'Makro i swap'!DOE4","v":0},{"$f":"DOH34*'Makro i swap'!DOF4","v":0},{"$f":"DOI34*'Makro i swap'!DOG4","v":0},{"$f":"DOJ34*'Makro i swap'!DOH4","v":0},{"$f":"DOK34*'Makro i swap'!DOI4","v":0},{"$f":"DOL34*'Makro i swap'!DOJ4","v":0},{"$f":"DOM34*'Makro i swap'!DOK4","v":0},{"$f":"DON34*'Makro i swap'!DOL4","v":0},{"$f":"DOO34*'Makro i swap'!DOM4","v":0},{"$f":"DOP34*'Makro i swap'!DON4","v":0},{"$f":"DOQ34*'Makro i swap'!DOO4","v":0},{"$f":"DOR34*'Makro i swap'!DOP4","v":0},{"$f":"DOS34*'Makro i swap'!DOQ4","v":0},{"$f":"DOT34*'Makro i swap'!DOR4","v":0},{"$f":"DOU34*'Makro i swap'!DOS4","v":0},{"$f":"DOV34*'Makro i swap'!DOT4","v":0},{"$f":"DOW34*'Makro i swap'!DOU4","v":0},{"$f":"DOX34*'Makro i swap'!DOV4","v":0},{"$f":"DOY34*'Makro i swap'!DOW4","v":0},{"$f":"DOZ34*'Makro i swap'!DOX4","v":0},{"$f":"DPA34*'Makro i swap'!DOY4","v":0},{"$f":"DPB34*'Makro i swap'!DOZ4","v":0},{"$f":"DPC34*'Makro i swap'!DPA4","v":0},{"$f":"DPD34*'Makro i swap'!DPB4","v":0},{"$f":"DPE34*'Makro i swap'!DPC4","v":0},{"$f":"DPF34*'Makro i swap'!DPD4","v":0},{"$f":"DPG34*'Makro i swap'!DPE4","v":0},{"$f":"DPH34*'Makro i swap'!DPF4","v":0},{"$f":"DPI34*'Makro i swap'!DPG4","v":0},{"$f":"DPJ34*'Makro i swap'!DPH4","v":0},{"$f":"DPK34*'Makro i swap'!DPI4","v":0},{"$f":"DPL34*'Makro i swap'!DPJ4","v":0},{"$f":"DPM34*'Makro i swap'!DPK4","v":0},{"$f":"DPN34*'Makro i swap'!DPL4","v":0},{"$f":"DPO34*'Makro i swap'!DPM4","v":0},{"$f":"DPP34*'Makro i swap'!DPN4","v":0},{"$f":"DPQ34*'Makro i swap'!DPO4","v":0},{"$f":"DPR34*'Makro i swap'!DPP4","v":0},{"$f":"DPS34*'Makro i swap'!DPQ4","v":0},{"$f":"DPT34*'Makro i swap'!DPR4","v":0},{"$f":"DPU34*'Makro i swap'!DPS4","v":0},{"$f":"DPV34*'Makro i swap'!DPT4","v":0},{"$f":"DPW34*'Makro i swap'!DPU4","v":0},{"$f":"DPX34*'Makro i swap'!DPV4","v":0},{"$f":"DPY34*'Makro i swap'!DPW4","v":0},{"$f":"DPZ34*'Makro i swap'!DPX4","v":0},{"$f":"DQA34*'Makro i swap'!DPY4","v":0},{"$f":"DQB34*'Makro i swap'!DPZ4","v":0},{"$f":"DQC34*'Makro i swap'!DQA4","v":0},{"$f":"DQD34*'Makro i swap'!DQB4","v":0},{"$f":"DQE34*'Makro i swap'!DQC4","v":0},{"$f":"DQF34*'Makro i swap'!DQD4","v":0},{"$f":"DQG34*'Makro i swap'!DQE4","v":0},{"$f":"DQH34*'Makro i swap'!DQF4","v":0},{"$f":"DQI34*'Makro i swap'!DQG4","v":0},{"$f":"DQJ34*'Makro i swap'!DQH4","v":0},{"$f":"DQK34*'Makro i swap'!DQI4","v":0},{"$f":"DQL34*'Makro i swap'!DQJ4","v":0},{"$f":"DQM34*'Makro i swap'!DQK4","v":0},{"$f":"DQN34*'Makro i swap'!DQL4","v":0},{"$f":"DQO34*'Makro i swap'!DQM4","v":0},{"$f":"DQP34*'Makro i swap'!DQN4","v":0},{"$f":"DQQ34*'Makro i swap'!DQO4","v":0},{"$f":"DQR34*'Makro i swap'!DQP4","v":0},{"$f":"DQS34*'Makro i swap'!DQQ4","v":0},{"$f":"DQT34*'Makro i swap'!DQR4","v":0},{"$f":"DQU34*'Makro i swap'!DQS4","v":0},{"$f":"DQV34*'Makro i swap'!DQT4","v":0},{"$f":"DQW34*'Makro i swap'!DQU4","v":0},{"$f":"DQX34*'Makro i swap'!DQV4","v":0},{"$f":"DQY34*'Makro i swap'!DQW4","v":0},{"$f":"DQZ34*'Makro i swap'!DQX4","v":0},{"$f":"DRA34*'Makro i swap'!DQY4","v":0},{"$f":"DRB34*'Makro i swap'!DQZ4","v":0},{"$f":"DRC34*'Makro i swap'!DRA4","v":0},{"$f":"DRD34*'Makro i swap'!DRB4","v":0},{"$f":"DRE34*'Makro i swap'!DRC4","v":0},{"$f":"DRF34*'Makro i swap'!DRD4","v":0},{"$f":"DRG34*'Makro i swap'!DRE4","v":0},{"$f":"DRH34*'Makro i swap'!DRF4","v":0},{"$f":"DRI34*'Makro i swap'!DRG4","v":0},{"$f":"DRJ34*'Makro i swap'!DRH4","v":0},{"$f":"DRK34*'Makro i swap'!DRI4","v":0},{"$f":"DRL34*'Makro i swap'!DRJ4","v":0},{"$f":"DRM34*'Makro i swap'!DRK4","v":0},{"$f":"DRN34*'Makro i swap'!DRL4","v":0},{"$f":"DRO34*'Makro i swap'!DRM4","v":0},{"$f":"DRP34*'Makro i swap'!DRN4","v":0},{"$f":"DRQ34*'Makro i swap'!DRO4","v":0},{"$f":"DRR34*'Makro i swap'!DRP4","v":0},{"$f":"DRS34*'Makro i swap'!DRQ4","v":0},{"$f":"DRT34*'Makro i swap'!DRR4","v":0},{"$f":"DRU34*'Makro i swap'!DRS4","v":0},{"$f":"DRV34*'Makro i swap'!DRT4","v":0},{"$f":"DRW34*'Makro i swap'!DRU4","v":0},{"$f":"DRX34*'Makro i swap'!DRV4","v":0},{"$f":"DRY34*'Makro i swap'!DRW4","v":0},{"$f":"DRZ34*'Makro i swap'!DRX4","v":0},{"$f":"DSA34*'Makro i swap'!DRY4","v":0},{"$f":"DSB34*'Makro i swap'!DRZ4","v":0},{"$f":"DSC34*'Makro i swap'!DSA4","v":0},{"$f":"DSD34*'Makro i swap'!DSB4","v":0},{"$f":"DSE34*'Makro i swap'!DSC4","v":0},{"$f":"DSF34*'Makro i swap'!DSD4","v":0},{"$f":"DSG34*'Makro i swap'!DSE4","v":0},{"$f":"DSH34*'Makro i swap'!DSF4","v":0},{"$f":"DSI34*'Makro i swap'!DSG4","v":0},{"$f":"DSJ34*'Makro i swap'!DSH4","v":0},{"$f":"DSK34*'Makro i swap'!DSI4","v":0},{"$f":"DSL34*'Makro i swap'!DSJ4","v":0},{"$f":"DSM34*'Makro i swap'!DSK4","v":0},{"$f":"DSN34*'Makro i swap'!DSL4","v":0},{"$f":"DSO34*'Makro i swap'!DSM4","v":0},{"$f":"DSP34*'Makro i swap'!DSN4","v":0},{"$f":"DSQ34*'Makro i swap'!DSO4","v":0},{"$f":"DSR34*'Makro i swap'!DSP4","v":0},{"$f":"DSS34*'Makro i swap'!DSQ4","v":0},{"$f":"DST34*'Makro i swap'!DSR4","v":0},{"$f":"DSU34*'Makro i swap'!DSS4","v":0},{"$f":"DSV34*'Makro i swap'!DST4","v":0},{"$f":"DSW34*'Makro i swap'!DSU4","v":0},{"$f":"DSX34*'Makro i swap'!DSV4","v":0},{"$f":"DSY34*'Makro i swap'!DSW4","v":0},{"$f":"DSZ34*'Makro i swap'!DSX4","v":0},{"$f":"DTA34*'Makro i swap'!DSY4","v":0},{"$f":"DTB34*'Makro i swap'!DSZ4","v":0},{"$f":"DTC34*'Makro i swap'!DTA4","v":0},{"$f":"DTD34*'Makro i swap'!DTB4","v":0},{"$f":"DTE34*'Makro i swap'!DTC4","v":0},{"$f":"DTF34*'Makro i swap'!DTD4","v":0},{"$f":"DTG34*'Makro i swap'!DTE4","v":0},{"$f":"DTH34*'Makro i swap'!DTF4","v":0},{"$f":"DTI34*'Makro i swap'!DTG4","v":0},{"$f":"DTJ34*'Makro i swap'!DTH4","v":0},{"$f":"DTK34*'Makro i swap'!DTI4","v":0},{"$f":"DTL34*'Makro i swap'!DTJ4","v":0},{"$f":"DTM34*'Makro i swap'!DTK4","v":0},{"$f":"DTN34*'Makro i swap'!DTL4","v":0},{"$f":"DTO34*'Makro i swap'!DTM4","v":0},{"$f":"DTP34*'Makro i swap'!DTN4","v":0},{"$f":"DTQ34*'Makro i swap'!DTO4","v":0},{"$f":"DTR34*'Makro i swap'!DTP4","v":0},{"$f":"DTS34*'Makro i swap'!DTQ4","v":0},{"$f":"DTT34*'Makro i swap'!DTR4","v":0},{"$f":"DTU34*'Makro i swap'!DTS4","v":0},{"$f":"DTV34*'Makro i swap'!DTT4","v":0},{"$f":"DTW34*'Makro i swap'!DTU4","v":0},{"$f":"DTX34*'Makro i swap'!DTV4","v":0},{"$f":"DTY34*'Makro i swap'!DTW4","v":0},{"$f":"DTZ34*'Makro i swap'!DTX4","v":0},{"$f":"DUA34*'Makro i swap'!DTY4","v":0},{"$f":"DUB34*'Makro i swap'!DTZ4","v":0},{"$f":"DUC34*'Makro i swap'!DUA4","v":0},{"$f":"DUD34*'Makro i swap'!DUB4","v":0},{"$f":"DUE34*'Makro i swap'!DUC4","v":0},{"$f":"DUF34*'Makro i swap'!DUD4","v":0},{"$f":"DUG34*'Makro i swap'!DUE4","v":0},{"$f":"DUH34*'Makro i swap'!DUF4","v":0},{"$f":"DUI34*'Makro i swap'!DUG4","v":0},{"$f":"DUJ34*'Makro i swap'!DUH4","v":0},{"$f":"DUK34*'Makro i swap'!DUI4","v":0},{"$f":"DUL34*'Makro i swap'!DUJ4","v":0},{"$f":"DUM34*'Makro i swap'!DUK4","v":0},{"$f":"DUN34*'Makro i swap'!DUL4","v":0},{"$f":"DUO34*'Makro i swap'!DUM4","v":0},{"$f":"DUP34*'Makro i swap'!DUN4","v":0},{"$f":"DUQ34*'Makro i swap'!DUO4","v":0},{"$f":"DUR34*'Makro i swap'!DUP4","v":0},{"$f":"DUS34*'Makro i swap'!DUQ4","v":0},{"$f":"DUT34*'Makro i swap'!DUR4","v":0},{"$f":"DUU34*'Makro i swap'!DUS4","v":0},{"$f":"DUV34*'Makro i swap'!DUT4","v":0},{"$f":"DUW34*'Makro i swap'!DUU4","v":0},{"$f":"DUX34*'Makro i swap'!DUV4","v":0},{"$f":"DUY34*'Makro i swap'!DUW4","v":0},{"$f":"DUZ34*'Makro i swap'!DUX4","v":0},{"$f":"DVA34*'Makro i swap'!DUY4","v":0},{"$f":"DVB34*'Makro i swap'!DUZ4","v":0},{"$f":"DVC34*'Makro i swap'!DVA4","v":0},{"$f":"DVD34*'Makro i swap'!DVB4","v":0},{"$f":"DVE34*'Makro i swap'!DVC4","v":0},{"$f":"DVF34*'Makro i swap'!DVD4","v":0},{"$f":"DVG34*'Makro i swap'!DVE4","v":0},{"$f":"DVH34*'Makro i swap'!DVF4","v":0},{"$f":"DVI34*'Makro i swap'!DVG4","v":0},{"$f":"DVJ34*'Makro i swap'!DVH4","v":0},{"$f":"DVK34*'Makro i swap'!DVI4","v":0},{"$f":"DVL34*'Makro i swap'!DVJ4","v":0},{"$f":"DVM34*'Makro i swap'!DVK4","v":0},{"$f":"DVN34*'Makro i swap'!DVL4","v":0},{"$f":"DVO34*'Makro i swap'!DVM4","v":0},{"$f":"DVP34*'Makro i swap'!DVN4","v":0},{"$f":"DVQ34*'Makro i swap'!DVO4","v":0},{"$f":"DVR34*'Makro i swap'!DVP4","v":0},{"$f":"DVS34*'Makro i swap'!DVQ4","v":0},{"$f":"DVT34*'Makro i swap'!DVR4","v":0},{"$f":"DVU34*'Makro i swap'!DVS4","v":0},{"$f":"DVV34*'Makro i swap'!DVT4","v":0},{"$f":"DVW34*'Makro i swap'!DVU4","v":0},{"$f":"DVX34*'Makro i swap'!DVV4","v":0},{"$f":"DVY34*'Makro i swap'!DVW4","v":0},{"$f":"DVZ34*'Makro i swap'!DVX4","v":0},{"$f":"DWA34*'Makro i swap'!DVY4","v":0},{"$f":"DWB34*'Makro i swap'!DVZ4","v":0},{"$f":"DWC34*'Makro i swap'!DWA4","v":0},{"$f":"DWD34*'Makro i swap'!DWB4","v":0},{"$f":"DWE34*'Makro i swap'!DWC4","v":0},{"$f":"DWF34*'Makro i swap'!DWD4","v":0},{"$f":"DWG34*'Makro i swap'!DWE4","v":0},{"$f":"DWH34*'Makro i swap'!DWF4","v":0},{"$f":"DWI34*'Makro i swap'!DWG4","v":0},{"$f":"DWJ34*'Makro i swap'!DWH4","v":0},{"$f":"DWK34*'Makro i swap'!DWI4","v":0},{"$f":"DWL34*'Makro i swap'!DWJ4","v":0},{"$f":"DWM34*'Makro i swap'!DWK4","v":0},{"$f":"DWN34*'Makro i swap'!DWL4","v":0},{"$f":"DWO34*'Makro i swap'!DWM4","v":0},{"$f":"DWP34*'Makro i swap'!DWN4","v":0},{"$f":"DWQ34*'Makro i swap'!DWO4","v":0},{"$f":"DWR34*'Makro i swap'!DWP4","v":0},{"$f":"DWS34*'Makro i swap'!DWQ4","v":0},{"$f":"DWT34*'Makro i swap'!DWR4","v":0},{"$f":"DWU34*'Makro i swap'!DWS4","v":0},{"$f":"DWV34*'Makro i swap'!DWT4","v":0},{"$f":"DWW34*'Makro i swap'!DWU4","v":0},{"$f":"DWX34*'Makro i swap'!DWV4","v":0},{"$f":"DWY34*'Makro i swap'!DWW4","v":0},{"$f":"DWZ34*'Makro i swap'!DWX4","v":0},{"$f":"DXA34*'Makro i swap'!DWY4","v":0},{"$f":"DXB34*'Makro i swap'!DWZ4","v":0},{"$f":"DXC34*'Makro i swap'!DXA4","v":0},{"$f":"DXD34*'Makro i swap'!DXB4","v":0},{"$f":"DXE34*'Makro i swap'!DXC4","v":0},{"$f":"DXF34*'Makro i swap'!DXD4","v":0},{"$f":"DXG34*'Makro i swap'!DXE4","v":0},{"$f":"DXH34*'Makro i swap'!DXF4","v":0},{"$f":"DXI34*'Makro i swap'!DXG4","v":0},{"$f":"DXJ34*'Makro i swap'!DXH4","v":0},{"$f":"DXK34*'Makro i swap'!DXI4","v":0},{"$f":"DXL34*'Makro i swap'!DXJ4","v":0},{"$f":"DXM34*'Makro i swap'!DXK4","v":0},{"$f":"DXN34*'Makro i swap'!DXL4","v":0},{"$f":"DXO34*'Makro i swap'!DXM4","v":0},{"$f":"DXP34*'Makro i swap'!DXN4","v":0},{"$f":"DXQ34*'Makro i swap'!DXO4","v":0},{"$f":"DXR34*'Makro i swap'!DXP4","v":0},{"$f":"DXS34*'Makro i swap'!DXQ4","v":0},{"$f":"DXT34*'Makro i swap'!DXR4","v":0},{"$f":"DXU34*'Makro i swap'!DXS4","v":0},{"$f":"DXV34*'Makro i swap'!DXT4","v":0},{"$f":"DXW34*'Makro i swap'!DXU4","v":0},{"$f":"DXX34*'Makro i swap'!DXV4","v":0},{"$f":"DXY34*'Makro i swap'!DXW4","v":0},{"$f":"DXZ34*'Makro i swap'!DXX4","v":0},{"$f":"DYA34*'Makro i swap'!DXY4","v":0},{"$f":"DYB34*'Makro i swap'!DXZ4","v":0},{"$f":"DYC34*'Makro i swap'!DYA4","v":0},{"$f":"DYD34*'Makro i swap'!DYB4","v":0},{"$f":"DYE34*'Makro i swap'!DYC4","v":0},{"$f":"DYF34*'Makro i swap'!DYD4","v":0},{"$f":"DYG34*'Makro i swap'!DYE4","v":0},{"$f":"DYH34*'Makro i swap'!DYF4","v":0},{"$f":"DYI34*'Makro i swap'!DYG4","v":0},{"$f":"DYJ34*'Makro i swap'!DYH4","v":0},{"$f":"DYK34*'Makro i swap'!DYI4","v":0},{"$f":"DYL34*'Makro i swap'!DYJ4","v":0},{"$f":"DYM34*'Makro i swap'!DYK4","v":0},{"$f":"DYN34*'Makro i swap'!DYL4","v":0},{"$f":"DYO34*'Makro i swap'!DYM4","v":0},{"$f":"DYP34*'Makro i swap'!DYN4","v":0},{"$f":"DYQ34*'Makro i swap'!DYO4","v":0},{"$f":"DYR34*'Makro i swap'!DYP4","v":0},{"$f":"DYS34*'Makro i swap'!DYQ4","v":0},{"$f":"DYT34*'Makro i swap'!DYR4","v":0},{"$f":"DYU34*'Makro i swap'!DYS4","v":0},{"$f":"DYV34*'Makro i swap'!DYT4","v":0},{"$f":"DYW34*'Makro i swap'!DYU4","v":0},{"$f":"DYX34*'Makro i swap'!DYV4","v":0},{"$f":"DYY34*'Makro i swap'!DYW4","v":0},{"$f":"DYZ34*'Makro i swap'!DYX4","v":0},{"$f":"DZA34*'Makro i swap'!DYY4","v":0},{"$f":"DZB34*'Makro i swap'!DYZ4","v":0},{"$f":"DZC34*'Makro i swap'!DZA4","v":0},{"$f":"DZD34*'Makro i swap'!DZB4","v":0},{"$f":"DZE34*'Makro i swap'!DZC4","v":0},{"$f":"DZF34*'Makro i swap'!DZD4","v":0},{"$f":"DZG34*'Makro i swap'!DZE4","v":0},{"$f":"DZH34*'Makro i swap'!DZF4","v":0},{"$f":"DZI34*'Makro i swap'!DZG4","v":0},{"$f":"DZJ34*'Makro i swap'!DZH4","v":0},{"$f":"DZK34*'Makro i swap'!DZI4","v":0},{"$f":"DZL34*'Makro i swap'!DZJ4","v":0},{"$f":"DZM34*'Makro i swap'!DZK4","v":0},{"$f":"DZN34*'Makro i swap'!DZL4","v":0},{"$f":"DZO34*'Makro i swap'!DZM4","v":0},{"$f":"DZP34*'Makro i swap'!DZN4","v":0},{"$f":"DZQ34*'Makro i swap'!DZO4","v":0},{"$f":"DZR34*'Makro i swap'!DZP4","v":0},{"$f":"DZS34*'Makro i swap'!DZQ4","v":0},{"$f":"DZT34*'Makro i swap'!DZR4","v":0},{"$f":"DZU34*'Makro i swap'!DZS4","v":0},{"$f":"DZV34*'Makro i swap'!DZT4","v":0},{"$f":"DZW34*'Makro i swap'!DZU4","v":0},{"$f":"DZX34*'Makro i swap'!DZV4","v":0},{"$f":"DZY34*'Makro i swap'!DZW4","v":0},{"$f":"DZZ34*'Makro i swap'!DZX4","v":0},{"$f":"EAA34*'Makro i swap'!DZY4","v":0},{"$f":"EAB34*'Makro i swap'!DZZ4","v":0},{"$f":"EAC34*'Makro i swap'!EAA4","v":0},{"$f":"EAD34*'Makro i swap'!EAB4","v":0},{"$f":"EAE34*'Makro i swap'!EAC4","v":0},{"$f":"EAF34*'Makro i swap'!EAD4","v":0},{"$f":"EAG34*'Makro i swap'!EAE4","v":0},{"$f":"EAH34*'Makro i swap'!EAF4","v":0},{"$f":"EAI34*'Makro i swap'!EAG4","v":0},{"$f":"EAJ34*'Makro i swap'!EAH4","v":0},{"$f":"EAK34*'Makro i swap'!EAI4","v":0},{"$f":"EAL34*'Makro i swap'!EAJ4","v":0},{"$f":"EAM34*'Makro i swap'!EAK4","v":0},{"$f":"EAN34*'Makro i swap'!EAL4","v":0},{"$f":"EAO34*'Makro i swap'!EAM4","v":0},{"$f":"EAP34*'Makro i swap'!EAN4","v":0},{"$f":"EAQ34*'Makro i swap'!EAO4","v":0},{"$f":"EAR34*'Makro i swap'!EAP4","v":0},{"$f":"EAS34*'Makro i swap'!EAQ4","v":0},{"$f":"EAT34*'Makro i swap'!EAR4","v":0},{"$f":"EAU34*'Makro i swap'!EAS4","v":0},{"$f":"EAV34*'Makro i swap'!EAT4","v":0},{"$f":"EAW34*'Makro i swap'!EAU4","v":0},{"$f":"EAX34*'Makro i swap'!EAV4","v":0},{"$f":"EAY34*'Makro i swap'!EAW4","v":0},{"$f":"EAZ34*'Makro i swap'!EAX4","v":0},{"$f":"EBA34*'Makro i swap'!EAY4","v":0},{"$f":"EBB34*'Makro i swap'!EAZ4","v":0},{"$f":"EBC34*'Makro i swap'!EBA4","v":0},{"$f":"EBD34*'Makro i swap'!EBB4","v":0},{"$f":"EBE34*'Makro i swap'!EBC4","v":0},{"$f":"EBF34*'Makro i swap'!EBD4","v":0},{"$f":"EBG34*'Makro i swap'!EBE4","v":0},{"$f":"EBH34*'Makro i swap'!EBF4","v":0},{"$f":"EBI34*'Makro i swap'!EBG4","v":0},{"$f":"EBJ34*'Makro i swap'!EBH4","v":0},{"$f":"EBK34*'Makro i swap'!EBI4","v":0},{"$f":"EBL34*'Makro i swap'!EBJ4","v":0},{"$f":"EBM34*'Makro i swap'!EBK4","v":0},{"$f":"EBN34*'Makro i swap'!EBL4","v":0},{"$f":"EBO34*'Makro i swap'!EBM4","v":0},{"$f":"EBP34*'Makro i swap'!EBN4","v":0},{"$f":"EBQ34*'Makro i swap'!EBO4","v":0},{"$f":"EBR34*'Makro i swap'!EBP4","v":0},{"$f":"EBS34*'Makro i swap'!EBQ4","v":0},{"$f":"EBT34*'Makro i swap'!EBR4","v":0},{"$f":"EBU34*'Makro i swap'!EBS4","v":0},{"$f":"EBV34*'Makro i swap'!EBT4","v":0},{"$f":"EBW34*'Makro i swap'!EBU4","v":0},{"$f":"EBX34*'Makro i swap'!EBV4","v":0},{"$f":"EBY34*'Makro i swap'!EBW4","v":0},{"$f":"EBZ34*'Makro i swap'!EBX4","v":0},{"$f":"ECA34*'Makro i swap'!EBY4","v":0},{"$f":"ECB34*'Makro i swap'!EBZ4","v":0},{"$f":"ECC34*'Makro i swap'!ECA4","v":0},{"$f":"ECD34*'Makro i swap'!ECB4","v":0},{"$f":"ECE34*'Makro i swap'!ECC4","v":0},{"$f":"ECF34*'Makro i swap'!ECD4","v":0},{"$f":"ECG34*'Makro i swap'!ECE4","v":0},{"$f":"ECH34*'Makro i swap'!ECF4","v":0},{"$f":"ECI34*'Makro i swap'!ECG4","v":0},{"$f":"ECJ34*'Makro i swap'!ECH4","v":0},{"$f":"ECK34*'Makro i swap'!ECI4","v":0},{"$f":"ECL34*'Makro i swap'!ECJ4","v":0},{"$f":"ECM34*'Makro i swap'!ECK4","v":0},{"$f":"ECN34*'Makro i swap'!ECL4","v":0},{"$f":"ECO34*'Makro i swap'!ECM4","v":0},{"$f":"ECP34*'Makro i swap'!ECN4","v":0},{"$f":"ECQ34*'Makro i swap'!ECO4","v":0},{"$f":"ECR34*'Makro i swap'!ECP4","v":0},{"$f":"ECS34*'Makro i swap'!ECQ4","v":0},{"$f":"ECT34*'Makro i swap'!ECR4","v":0},{"$f":"ECU34*'Makro i swap'!ECS4","v":0},{"$f":"ECV34*'Makro i swap'!ECT4","v":0},{"$f":"ECW34*'Makro i swap'!ECU4","v":0},{"$f":"ECX34*'Makro i swap'!ECV4","v":0},{"$f":"ECY34*'Makro i swap'!ECW4","v":0},{"$f":"ECZ34*'Makro i swap'!ECX4","v":0},{"$f":"EDA34*'Makro i swap'!ECY4","v":0},{"$f":"EDB34*'Makro i swap'!ECZ4","v":0},{"$f":"EDC34*'Makro i swap'!EDA4","v":0},{"$f":"EDD34*'Makro i swap'!EDB4","v":0},{"$f":"EDE34*'Makro i swap'!EDC4","v":0},{"$f":"EDF34*'Makro i swap'!EDD4","v":0},{"$f":"EDG34*'Makro i swap'!EDE4","v":0},{"$f":"EDH34*'Makro i swap'!EDF4","v":0},{"$f":"EDI34*'Makro i swap'!EDG4","v":0},{"$f":"EDJ34*'Makro i swap'!EDH4","v":0},{"$f":"EDK34*'Makro i swap'!EDI4","v":0},{"$f":"EDL34*'Makro i swap'!EDJ4","v":0},{"$f":"EDM34*'Makro i swap'!EDK4","v":0},{"$f":"EDN34*'Makro i swap'!EDL4","v":0},{"$f":"EDO34*'Makro i swap'!EDM4","v":0},{"$f":"EDP34*'Makro i swap'!EDN4","v":0},{"$f":"EDQ34*'Makro i swap'!EDO4","v":0},{"$f":"EDR34*'Makro i swap'!EDP4","v":0},{"$f":"EDS34*'Makro i swap'!EDQ4","v":0},{"$f":"EDT34*'Makro i swap'!EDR4","v":0},{"$f":"EDU34*'Makro i swap'!EDS4","v":0},{"$f":"EDV34*'Makro i swap'!EDT4","v":0},{"$f":"EDW34*'Makro i swap'!EDU4","v":0},{"$f":"EDX34*'Makro i swap'!EDV4","v":0},{"$f":"EDY34*'Makro i swap'!EDW4","v":0},{"$f":"EDZ34*'Makro i swap'!EDX4","v":0},{"$f":"EEA34*'Makro i swap'!EDY4","v":0},{"$f":"EEB34*'Makro i swap'!EDZ4","v":0},{"$f":"EEC34*'Makro i swap'!EEA4","v":0},{"$f":"EED34*'Makro i swap'!EEB4","v":0},{"$f":"EEE34*'Makro i swap'!EEC4","v":0},{"$f":"EEF34*'Makro i swap'!EED4","v":0},{"$f":"EEG34*'Makro i swap'!EEE4","v":0},{"$f":"EEH34*'Makro i swap'!EEF4","v":0},{"$f":"EEI34*'Makro i swap'!EEG4","v":0},{"$f":"EEJ34*'Makro i swap'!EEH4","v":0},{"$f":"EEK34*'Makro i swap'!EEI4","v":0},{"$f":"EEL34*'Makro i swap'!EEJ4","v":0},{"$f":"EEM34*'Makro i swap'!EEK4","v":0},{"$f":"EEN34*'Makro i swap'!EEL4","v":0},{"$f":"EEO34*'Makro i swap'!EEM4","v":0},{"$f":"EEP34*'Makro i swap'!EEN4","v":0},{"$f":"EEQ34*'Makro i swap'!EEO4","v":0},{"$f":"EER34*'Makro i swap'!EEP4","v":0},{"$f":"EES34*'Makro i swap'!EEQ4","v":0},{"$f":"EET34*'Makro i swap'!EER4","v":0},{"$f":"EEU34*'Makro i swap'!EES4","v":0},{"$f":"EEV34*'Makro i swap'!EET4","v":0},{"$f":"EEW34*'Makro i swap'!EEU4","v":0},{"$f":"EEX34*'Makro i swap'!EEV4","v":0},{"$f":"EEY34*'Makro i swap'!EEW4","v":0},{"$f":"EEZ34*'Makro i swap'!EEX4","v":0},{"$f":"EFA34*'Makro i swap'!EEY4","v":0},{"$f":"EFB34*'Makro i swap'!EEZ4","v":0},{"$f":"EFC34*'Makro i swap'!EFA4","v":0},{"$f":"EFD34*'Makro i swap'!EFB4","v":0},{"$f":"EFE34*'Makro i swap'!EFC4","v":0},{"$f":"EFF34*'Makro i swap'!EFD4","v":0},{"$f":"EFG34*'Makro i swap'!EFE4","v":0},{"$f":"EFH34*'Makro i swap'!EFF4","v":0},{"$f":"EFI34*'Makro i swap'!EFG4","v":0},{"$f":"EFJ34*'Makro i swap'!EFH4","v":0},{"$f":"EFK34*'Makro i swap'!EFI4","v":0},{"$f":"EFL34*'Makro i swap'!EFJ4","v":0},{"$f":"EFM34*'Makro i swap'!EFK4","v":0},{"$f":"EFN34*'Makro i swap'!EFL4","v":0},{"$f":"EFO34*'Makro i swap'!EFM4","v":0},{"$f":"EFP34*'Makro i swap'!EFN4","v":0},{"$f":"EFQ34*'Makro i swap'!EFO4","v":0},{"$f":"EFR34*'Makro i swap'!EFP4","v":0},{"$f":"EFS34*'Makro i swap'!EFQ4","v":0},{"$f":"EFT34*'Makro i swap'!EFR4","v":0},{"$f":"EFU34*'Makro i swap'!EFS4","v":0},{"$f":"EFV34*'Makro i swap'!EFT4","v":0},{"$f":"EFW34*'Makro i swap'!EFU4","v":0},{"$f":"EFX34*'Makro i swap'!EFV4","v":0},{"$f":"EFY34*'Makro i swap'!EFW4","v":0},{"$f":"EFZ34*'Makro i swap'!EFX4","v":0},{"$f":"EGA34*'Makro i swap'!EFY4","v":0},{"$f":"EGB34*'Makro i swap'!EFZ4","v":0},{"$f":"EGC34*'Makro i swap'!EGA4","v":0},{"$f":"EGD34*'Makro i swap'!EGB4","v":0},{"$f":"EGE34*'Makro i swap'!EGC4","v":0},{"$f":"EGF34*'Makro i swap'!EGD4","v":0},{"$f":"EGG34*'Makro i swap'!EGE4","v":0},{"$f":"EGH34*'Makro i swap'!EGF4","v":0},{"$f":"EGI34*'Makro i swap'!EGG4","v":0},{"$f":"EGJ34*'Makro i swap'!EGH4","v":0},{"$f":"EGK34*'Makro i swap'!EGI4","v":0},{"$f":"EGL34*'Makro i swap'!EGJ4","v":0},{"$f":"EGM34*'Makro i swap'!EGK4","v":0},{"$f":"EGN34*'Makro i swap'!EGL4","v":0},{"$f":"EGO34*'Makro i swap'!EGM4","v":0},{"$f":"EGP34*'Makro i swap'!EGN4","v":0},{"$f":"EGQ34*'Makro i swap'!EGO4","v":0},{"$f":"EGR34*'Makro i swap'!EGP4","v":0},{"$f":"EGS34*'Makro i swap'!EGQ4","v":0},{"$f":"EGT34*'Makro i swap'!EGR4","v":0},{"$f":"EGU34*'Makro i swap'!EGS4","v":0},{"$f":"EGV34*'Makro i swap'!EGT4","v":0},{"$f":"EGW34*'Makro i swap'!EGU4","v":0},{"$f":"EGX34*'Makro i swap'!EGV4","v":0},{"$f":"EGY34*'Makro i swap'!EGW4","v":0},{"$f":"EGZ34*'Makro i swap'!EGX4","v":0},{"$f":"EHA34*'Makro i swap'!EGY4","v":0},{"$f":"EHB34*'Makro i swap'!EGZ4","v":0},{"$f":"EHC34*'Makro i swap'!EHA4","v":0},{"$f":"EHD34*'Makro i swap'!EHB4","v":0},{"$f":"EHE34*'Makro i swap'!EHC4","v":0},{"$f":"EHF34*'Makro i swap'!EHD4","v":0},{"$f":"EHG34*'Makro i swap'!EHE4","v":0},{"$f":"EHH34*'Makro i swap'!EHF4","v":0},{"$f":"EHI34*'Makro i swap'!EHG4","v":0},{"$f":"EHJ34*'Makro i swap'!EHH4","v":0},{"$f":"EHK34*'Makro i swap'!EHI4","v":0},{"$f":"EHL34*'Makro i swap'!EHJ4","v":0},{"$f":"EHM34*'Makro i swap'!EHK4","v":0},{"$f":"EHN34*'Makro i swap'!EHL4","v":0},{"$f":"EHO34*'Makro i swap'!EHM4","v":0},{"$f":"EHP34*'Makro i swap'!EHN4","v":0},{"$f":"EHQ34*'Makro i swap'!EHO4","v":0},{"$f":"EHR34*'Makro i swap'!EHP4","v":0},{"$f":"EHS34*'Makro i swap'!EHQ4","v":0},{"$f":"EHT34*'Makro i swap'!EHR4","v":0},{"$f":"EHU34*'Makro i swap'!EHS4","v":0},{"$f":"EHV34*'Makro i swap'!EHT4","v":0},{"$f":"EHW34*'Makro i swap'!EHU4","v":0},{"$f":"EHX34*'Makro i swap'!EHV4","v":0},{"$f":"EHY34*'Makro i swap'!EHW4","v":0},{"$f":"EHZ34*'Makro i swap'!EHX4","v":0},{"$f":"EIA34*'Makro i swap'!EHY4","v":0},{"$f":"EIB34*'Makro i swap'!EHZ4","v":0},{"$f":"EIC34*'Makro i swap'!EIA4","v":0},{"$f":"EID34*'Makro i swap'!EIB4","v":0},{"$f":"EIE34*'Makro i swap'!EIC4","v":0},{"$f":"EIF34*'Makro i swap'!EID4","v":0},{"$f":"EIG34*'Makro i swap'!EIE4","v":0},{"$f":"EIH34*'Makro i swap'!EIF4","v":0},{"$f":"EII34*'Makro i swap'!EIG4","v":0},{"$f":"EIJ34*'Makro i swap'!EIH4","v":0},{"$f":"EIK34*'Makro i swap'!EII4","v":0},{"$f":"EIL34*'Makro i swap'!EIJ4","v":0},{"$f":"EIM34*'Makro i swap'!EIK4","v":0},{"$f":"EIN34*'Makro i swap'!EIL4","v":0},{"$f":"EIO34*'Makro i swap'!EIM4","v":0},{"$f":"EIP34*'Makro i swap'!EIN4","v":0},{"$f":"EIQ34*'Makro i swap'!EIO4","v":0},{"$f":"EIR34*'Makro i swap'!EIP4","v":0},{"$f":"EIS34*'Makro i swap'!EIQ4","v":0},{"$f":"EIT34*'Makro i swap'!EIR4","v":0},{"$f":"EIU34*'Makro i swap'!EIS4","v":0},{"$f":"EIV34*'Makro i swap'!EIT4","v":0},{"$f":"EIW34*'Makro i swap'!EIU4","v":0},{"$f":"EIX34*'Makro i swap'!EIV4","v":0},{"$f":"EIY34*'Makro i swap'!EIW4","v":0},{"$f":"EIZ34*'Makro i swap'!EIX4","v":0},{"$f":"EJA34*'Makro i swap'!EIY4","v":0},{"$f":"EJB34*'Makro i swap'!EIZ4","v":0},{"$f":"EJC34*'Makro i swap'!EJA4","v":0},{"$f":"EJD34*'Makro i swap'!EJB4","v":0},{"$f":"EJE34*'Makro i swap'!EJC4","v":0},{"$f":"EJF34*'Makro i swap'!EJD4","v":0},{"$f":"EJG34*'Makro i swap'!EJE4","v":0},{"$f":"EJH34*'Makro i swap'!EJF4","v":0},{"$f":"EJI34*'Makro i swap'!EJG4","v":0},{"$f":"EJJ34*'Makro i swap'!EJH4","v":0},{"$f":"EJK34*'Makro i swap'!EJI4","v":0},{"$f":"EJL34*'Makro i swap'!EJJ4","v":0},{"$f":"EJM34*'Makro i swap'!EJK4","v":0},{"$f":"EJN34*'Makro i swap'!EJL4","v":0},{"$f":"EJO34*'Makro i swap'!EJM4","v":0},{"$f":"EJP34*'Makro i swap'!EJN4","v":0},{"$f":"EJQ34*'Makro i swap'!EJO4","v":0},{"$f":"EJR34*'Makro i swap'!EJP4","v":0},{"$f":"EJS34*'Makro i swap'!EJQ4","v":0},{"$f":"EJT34*'Makro i swap'!EJR4","v":0},{"$f":"EJU34*'Makro i swap'!EJS4","v":0},{"$f":"EJV34*'Makro i swap'!EJT4","v":0},{"$f":"EJW34*'Makro i swap'!EJU4","v":0},{"$f":"EJX34*'Makro i swap'!EJV4","v":0},{"$f":"EJY34*'Makro i swap'!EJW4","v":0},{"$f":"EJZ34*'Makro i swap'!EJX4","v":0},{"$f":"EKA34*'Makro i swap'!EJY4","v":0},{"$f":"EKB34*'Makro i swap'!EJZ4","v":0},{"$f":"EKC34*'Makro i swap'!EKA4","v":0},{"$f":"EKD34*'Makro i swap'!EKB4","v":0},{"$f":"EKE34*'Makro i swap'!EKC4","v":0},{"$f":"EKF34*'Makro i swap'!EKD4","v":0},{"$f":"EKG34*'Makro i swap'!EKE4","v":0},{"$f":"EKH34*'Makro i swap'!EKF4","v":0},{"$f":"EKI34*'Makro i swap'!EKG4","v":0},{"$f":"EKJ34*'Makro i swap'!EKH4","v":0},{"$f":"EKK34*'Makro i swap'!EKI4","v":0},{"$f":"EKL34*'Makro i swap'!EKJ4","v":0},{"$f":"EKM34*'Makro i swap'!EKK4","v":0},{"$f":"EKN34*'Makro i swap'!EKL4","v":0},{"$f":"EKO34*'Makro i swap'!EKM4","v":0},{"$f":"EKP34*'Makro i swap'!EKN4","v":0},{"$f":"EKQ34*'Makro i swap'!EKO4","v":0},{"$f":"EKR34*'Makro i swap'!EKP4","v":0},{"$f":"EKS34*'Makro i swap'!EKQ4","v":0},{"$f":"EKT34*'Makro i swap'!EKR4","v":0},{"$f":"EKU34*'Makro i swap'!EKS4","v":0},{"$f":"EKV34*'Makro i swap'!EKT4","v":0},{"$f":"EKW34*'Makro i swap'!EKU4","v":0},{"$f":"EKX34*'Makro i swap'!EKV4","v":0},{"$f":"EKY34*'Makro i swap'!EKW4","v":0},{"$f":"EKZ34*'Makro i swap'!EKX4","v":0},{"$f":"ELA34*'Makro i swap'!EKY4","v":0},{"$f":"ELB34*'Makro i swap'!EKZ4","v":0},{"$f":"ELC34*'Makro i swap'!ELA4","v":0},{"$f":"ELD34*'Makro i swap'!ELB4","v":0},{"$f":"ELE34*'Makro i swap'!ELC4","v":0},{"$f":"ELF34*'Makro i swap'!ELD4","v":0},{"$f":"ELG34*'Makro i swap'!ELE4","v":0},{"$f":"ELH34*'Makro i swap'!ELF4","v":0},{"$f":"ELI34*'Makro i swap'!ELG4","v":0},{"$f":"ELJ34*'Makro i swap'!ELH4","v":0},{"$f":"ELK34*'Makro i swap'!ELI4","v":0},{"$f":"ELL34*'Makro i swap'!ELJ4","v":0},{"$f":"ELM34*'Makro i swap'!ELK4","v":0},{"$f":"ELN34*'Makro i swap'!ELL4","v":0},{"$f":"ELO34*'Makro i swap'!ELM4","v":0},{"$f":"ELP34*'Makro i swap'!ELN4","v":0},{"$f":"ELQ34*'Makro i swap'!ELO4","v":0},{"$f":"ELR34*'Makro i swap'!ELP4","v":0},{"$f":"ELS34*'Makro i swap'!ELQ4","v":0},{"$f":"ELT34*'Makro i swap'!ELR4","v":0},{"$f":"ELU34*'Makro i swap'!ELS4","v":0},{"$f":"ELV34*'Makro i swap'!ELT4","v":0},{"$f":"ELW34*'Makro i swap'!ELU4","v":0},{"$f":"ELX34*'Makro i swap'!ELV4","v":0},{"$f":"ELY34*'Makro i swap'!ELW4","v":0},{"$f":"ELZ34*'Makro i swap'!ELX4","v":0},{"$f":"EMA34*'Makro i swap'!ELY4","v":0},{"$f":"EMB34*'Makro i swap'!ELZ4","v":0},{"$f":"EMC34*'Makro i swap'!EMA4","v":0},{"$f":"EMD34*'Makro i swap'!EMB4","v":0},{"$f":"EME34*'Makro i swap'!EMC4","v":0},{"$f":"EMF34*'Makro i swap'!EMD4","v":0},{"$f":"EMG34*'Makro i swap'!EME4","v":0},{"$f":"EMH34*'Makro i swap'!EMF4","v":0},{"$f":"EMI34*'Makro i swap'!EMG4","v":0},{"$f":"EMJ34*'Makro i swap'!EMH4","v":0},{"$f":"EMK34*'Makro i swap'!EMI4","v":0},{"$f":"EML34*'Makro i swap'!EMJ4","v":0},{"$f":"EMM34*'Makro i swap'!EMK4","v":0},{"$f":"EMN34*'Makro i swap'!EML4","v":0},{"$f":"EMO34*'Makro i swap'!EMM4","v":0},{"$f":"EMP34*'Makro i swap'!EMN4","v":0},{"$f":"EMQ34*'Makro i swap'!EMO4","v":0},{"$f":"EMR34*'Makro i swap'!EMP4","v":0},{"$f":"EMS34*'Makro i swap'!EMQ4","v":0},{"$f":"EMT34*'Makro i swap'!EMR4","v":0},{"$f":"EMU34*'Makro i swap'!EMS4","v":0},{"$f":"EMV34*'Makro i swap'!EMT4","v":0},{"$f":"EMW34*'Makro i swap'!EMU4","v":0},{"$f":"EMX34*'Makro i swap'!EMV4","v":0},{"$f":"EMY34*'Makro i swap'!EMW4","v":0},{"$f":"EMZ34*'Makro i swap'!EMX4","v":0},{"$f":"ENA34*'Makro i swap'!EMY4","v":0},{"$f":"ENB34*'Makro i swap'!EMZ4","v":0},{"$f":"ENC34*'Makro i swap'!ENA4","v":0},{"$f":"END34*'Makro i swap'!ENB4","v":0},{"$f":"ENE34*'Makro i swap'!ENC4","v":0},{"$f":"ENF34*'Makro i swap'!END4","v":0},{"$f":"ENG34*'Makro i swap'!ENE4","v":0},{"$f":"ENH34*'Makro i swap'!ENF4","v":0},{"$f":"ENI34*'Makro i swap'!ENG4","v":0},{"$f":"ENJ34*'Makro i swap'!ENH4","v":0},{"$f":"ENK34*'Makro i swap'!ENI4","v":0},{"$f":"ENL34*'Makro i swap'!ENJ4","v":0},{"$f":"ENM34*'Makro i swap'!ENK4","v":0},{"$f":"ENN34*'Makro i swap'!ENL4","v":0},{"$f":"ENO34*'Makro i swap'!ENM4","v":0},{"$f":"ENP34*'Makro i swap'!ENN4","v":0},{"$f":"ENQ34*'Makro i swap'!ENO4","v":0},{"$f":"ENR34*'Makro i swap'!ENP4","v":0},{"$f":"ENS34*'Makro i swap'!ENQ4","v":0},{"$f":"ENT34*'Makro i swap'!ENR4","v":0},{"$f":"ENU34*'Makro i swap'!ENS4","v":0},{"$f":"ENV34*'Makro i swap'!ENT4","v":0},{"$f":"ENW34*'Makro i swap'!ENU4","v":0},{"$f":"ENX34*'Makro i swap'!ENV4","v":0},{"$f":"ENY34*'Makro i swap'!ENW4","v":0},{"$f":"ENZ34*'Makro i swap'!ENX4","v":0},{"$f":"EOA34*'Makro i swap'!ENY4","v":0},{"$f":"EOB34*'Makro i swap'!ENZ4","v":0},{"$f":"EOC34*'Makro i swap'!EOA4","v":0},{"$f":"EOD34*'Makro i swap'!EOB4","v":0},{"$f":"EOE34*'Makro i swap'!EOC4","v":0},{"$f":"EOF34*'Makro i swap'!EOD4","v":0},{"$f":"EOG34*'Makro i swap'!EOE4","v":0},{"$f":"EOH34*'Makro i swap'!EOF4","v":0},{"$f":"EOI34*'Makro i swap'!EOG4","v":0},{"$f":"EOJ34*'Makro i swap'!EOH4","v":0},{"$f":"EOK34*'Makro i swap'!EOI4","v":0},{"$f":"EOL34*'Makro i swap'!EOJ4","v":0},{"$f":"EOM34*'Makro i swap'!EOK4","v":0},{"$f":"EON34*'Makro i swap'!EOL4","v":0},{"$f":"EOO34*'Makro i swap'!EOM4","v":0},{"$f":"EOP34*'Makro i swap'!EON4","v":0},{"$f":"EOQ34*'Makro i swap'!EOO4","v":0},{"$f":"EOR34*'Makro i swap'!EOP4","v":0},{"$f":"EOS34*'Makro i swap'!EOQ4","v":0},{"$f":"EOT34*'Makro i swap'!EOR4","v":0},{"$f":"EOU34*'Makro i swap'!EOS4","v":0},{"$f":"EOV34*'Makro i swap'!EOT4","v":0},{"$f":"EOW34*'Makro i swap'!EOU4","v":0},{"$f":"EOX34*'Makro i swap'!EOV4","v":0},{"$f":"EOY34*'Makro i swap'!EOW4","v":0},{"$f":"EOZ34*'Makro i swap'!EOX4","v":0},{"$f":"EPA34*'Makro i swap'!EOY4","v":0},{"$f":"EPB34*'Makro i swap'!EOZ4","v":0},{"$f":"EPC34*'Makro i swap'!EPA4","v":0},{"$f":"EPD34*'Makro i swap'!EPB4","v":0},{"$f":"EPE34*'Makro i swap'!EPC4","v":0},{"$f":"EPF34*'Makro i swap'!EPD4","v":0},{"$f":"EPG34*'Makro i swap'!EPE4","v":0},{"$f":"EPH34*'Makro i swap'!EPF4","v":0},{"$f":"EPI34*'Makro i swap'!EPG4","v":0},{"$f":"EPJ34*'Makro i swap'!EPH4","v":0},{"$f":"EPK34*'Makro i swap'!EPI4","v":0},{"$f":"EPL34*'Makro i swap'!EPJ4","v":0},{"$f":"EPM34*'Makro i swap'!EPK4","v":0},{"$f":"EPN34*'Makro i swap'!EPL4","v":0},{"$f":"EPO34*'Makro i swap'!EPM4","v":0},{"$f":"EPP34*'Makro i swap'!EPN4","v":0},{"$f":"EPQ34*'Makro i swap'!EPO4","v":0},{"$f":"EPR34*'Makro i swap'!EPP4","v":0},{"$f":"EPS34*'Makro i swap'!EPQ4","v":0},{"$f":"EPT34*'Makro i swap'!EPR4","v":0},{"$f":"EPU34*'Makro i swap'!EPS4","v":0},{"$f":"EPV34*'Makro i swap'!EPT4","v":0},{"$f":"EPW34*'Makro i swap'!EPU4","v":0},{"$f":"EPX34*'Makro i swap'!EPV4","v":0},{"$f":"EPY34*'Makro i swap'!EPW4","v":0},{"$f":"EPZ34*'Makro i swap'!EPX4","v":0},{"$f":"EQA34*'Makro i swap'!EPY4","v":0},{"$f":"EQB34*'Makro i swap'!EPZ4","v":0},{"$f":"EQC34*'Makro i swap'!EQA4","v":0},{"$f":"EQD34*'Makro i swap'!EQB4","v":0},{"$f":"EQE34*'Makro i swap'!EQC4","v":0},{"$f":"EQF34*'Makro i swap'!EQD4","v":0},{"$f":"EQG34*'Makro i swap'!EQE4","v":0},{"$f":"EQH34*'Makro i swap'!EQF4","v":0},{"$f":"EQI34*'Makro i swap'!EQG4","v":0},{"$f":"EQJ34*'Makro i swap'!EQH4","v":0},{"$f":"EQK34*'Makro i swap'!EQI4","v":0},{"$f":"EQL34*'Makro i swap'!EQJ4","v":0},{"$f":"EQM34*'Makro i swap'!EQK4","v":0},{"$f":"EQN34*'Makro i swap'!EQL4","v":0},{"$f":"EQO34*'Makro i swap'!EQM4","v":0},{"$f":"EQP34*'Makro i swap'!EQN4","v":0},{"$f":"EQQ34*'Makro i swap'!EQO4","v":0},{"$f":"EQR34*'Makro i swap'!EQP4","v":0},{"$f":"EQS34*'Makro i swap'!EQQ4","v":0},{"$f":"EQT34*'Makro i swap'!EQR4","v":0},{"$f":"EQU34*'Makro i swap'!EQS4","v":0},{"$f":"EQV34*'Makro i swap'!EQT4","v":0},{"$f":"EQW34*'Makro i swap'!EQU4","v":0},{"$f":"EQX34*'Makro i swap'!EQV4","v":0},{"$f":"EQY34*'Makro i swap'!EQW4","v":0},{"$f":"EQZ34*'Makro i swap'!EQX4","v":0},{"$f":"ERA34*'Makro i swap'!EQY4","v":0},{"$f":"ERB34*'Makro i swap'!EQZ4","v":0},{"$f":"ERC34*'Makro i swap'!ERA4","v":0},{"$f":"ERD34*'Makro i swap'!ERB4","v":0},{"$f":"ERE34*'Makro i swap'!ERC4","v":0},{"$f":"ERF34*'Makro i swap'!ERD4","v":0},{"$f":"ERG34*'Makro i swap'!ERE4","v":0},{"$f":"ERH34*'Makro i swap'!ERF4","v":0},{"$f":"ERI34*'Makro i swap'!ERG4","v":0},{"$f":"ERJ34*'Makro i swap'!ERH4","v":0},{"$f":"ERK34*'Makro i swap'!ERI4","v":0},{"$f":"ERL34*'Makro i swap'!ERJ4","v":0},{"$f":"ERM34*'Makro i swap'!ERK4","v":0},{"$f":"ERN34*'Makro i swap'!ERL4","v":0},{"$f":"ERO34*'Makro i swap'!ERM4","v":0},{"$f":"ERP34*'Makro i swap'!ERN4","v":0},{"$f":"ERQ34*'Makro i swap'!ERO4","v":0},{"$f":"ERR34*'Makro i swap'!ERP4","v":0},{"$f":"ERS34*'Makro i swap'!ERQ4","v":0},{"$f":"ERT34*'Makro i swap'!ERR4","v":0},{"$f":"ERU34*'Makro i swap'!ERS4","v":0},{"$f":"ERV34*'Makro i swap'!ERT4","v":0},{"$f":"ERW34*'Makro i swap'!ERU4","v":0},{"$f":"ERX34*'Makro i swap'!ERV4","v":0},{"$f":"ERY34*'Makro i swap'!ERW4","v":0},{"$f":"ERZ34*'Makro i swap'!ERX4","v":0},{"$f":"ESA34*'Makro i swap'!ERY4","v":0},{"$f":"ESB34*'Makro i swap'!ERZ4","v":0},{"$f":"ESC34*'Makro i swap'!ESA4","v":0},{"$f":"ESD34*'Makro i swap'!ESB4","v":0},{"$f":"ESE34*'Makro i swap'!ESC4","v":0},{"$f":"ESF34*'Makro i swap'!ESD4","v":0},{"$f":"ESG34*'Makro i swap'!ESE4","v":0},{"$f":"ESH34*'Makro i swap'!ESF4","v":0},{"$f":"ESI34*'Makro i swap'!ESG4","v":0},{"$f":"ESJ34*'Makro i swap'!ESH4","v":0},{"$f":"ESK34*'Makro i swap'!ESI4","v":0},{"$f":"ESL34*'Makro i swap'!ESJ4","v":0},{"$f":"ESM34*'Makro i swap'!ESK4","v":0},{"$f":"ESN34*'Makro i swap'!ESL4","v":0},{"$f":"ESO34*'Makro i swap'!ESM4","v":0},{"$f":"ESP34*'Makro i swap'!ESN4","v":0},{"$f":"ESQ34*'Makro i swap'!ESO4","v":0},{"$f":"ESR34*'Makro i swap'!ESP4","v":0},{"$f":"ESS34*'Makro i swap'!ESQ4","v":0},{"$f":"EST34*'Makro i swap'!ESR4","v":0},{"$f":"ESU34*'Makro i swap'!ESS4","v":0},{"$f":"ESV34*'Makro i swap'!EST4","v":0},{"$f":"ESW34*'Makro i swap'!ESU4","v":0},{"$f":"ESX34*'Makro i swap'!ESV4","v":0},{"$f":"ESY34*'Makro i swap'!ESW4","v":0},{"$f":"ESZ34*'Makro i swap'!ESX4","v":0},{"$f":"ETA34*'Makro i swap'!ESY4","v":0},{"$f":"ETB34*'Makro i swap'!ESZ4","v":0},{"$f":"ETC34*'Makro i swap'!ETA4","v":0},{"$f":"ETD34*'Makro i swap'!ETB4","v":0},{"$f":"ETE34*'Makro i swap'!ETC4","v":0},{"$f":"ETF34*'Makro i swap'!ETD4","v":0},{"$f":"ETG34*'Makro i swap'!ETE4","v":0},{"$f":"ETH34*'Makro i swap'!ETF4","v":0},{"$f":"ETI34*'Makro i swap'!ETG4","v":0},{"$f":"ETJ34*'Makro i swap'!ETH4","v":0},{"$f":"ETK34*'Makro i swap'!ETI4","v":0},{"$f":"ETL34*'Makro i swap'!ETJ4","v":0},{"$f":"ETM34*'Makro i swap'!ETK4","v":0},{"$f":"ETN34*'Makro i swap'!ETL4","v":0},{"$f":"ETO34*'Makro i swap'!ETM4","v":0},{"$f":"ETP34*'Makro i swap'!ETN4","v":0},{"$f":"ETQ34*'Makro i swap'!ETO4","v":0},{"$f":"ETR34*'Makro i swap'!ETP4","v":0},{"$f":"ETS34*'Makro i swap'!ETQ4","v":0},{"$f":"ETT34*'Makro i swap'!ETR4","v":0},{"$f":"ETU34*'Makro i swap'!ETS4","v":0},{"$f":"ETV34*'Makro i swap'!ETT4","v":0},{"$f":"ETW34*'Makro i swap'!ETU4","v":0},{"$f":"ETX34*'Makro i swap'!ETV4","v":0},{"$f":"ETY34*'Makro i swap'!ETW4","v":0},{"$f":"ETZ34*'Makro i swap'!ETX4","v":0},{"$f":"EUA34*'Makro i swap'!ETY4","v":0},{"$f":"EUB34*'Makro i swap'!ETZ4","v":0},{"$f":"EUC34*'Makro i swap'!EUA4","v":0},{"$f":"EUD34*'Makro i swap'!EUB4","v":0},{"$f":"EUE34*'Makro i swap'!EUC4","v":0},{"$f":"EUF34*'Makro i swap'!EUD4","v":0},{"$f":"EUG34*'Makro i swap'!EUE4","v":0},{"$f":"EUH34*'Makro i swap'!EUF4","v":0},{"$f":"EUI34*'Makro i swap'!EUG4","v":0},{"$f":"EUJ34*'Makro i swap'!EUH4","v":0},{"$f":"EUK34*'Makro i swap'!EUI4","v":0},{"$f":"EUL34*'Makro i swap'!EUJ4","v":0},{"$f":"EUM34*'Makro i swap'!EUK4","v":0},{"$f":"EUN34*'Makro i swap'!EUL4","v":0},{"$f":"EUO34*'Makro i swap'!EUM4","v":0},{"$f":"EUP34*'Makro i swap'!EUN4","v":0},{"$f":"EUQ34*'Makro i swap'!EUO4","v":0},{"$f":"EUR34*'Makro i swap'!EUP4","v":0},{"$f":"EUS34*'Makro i swap'!EUQ4","v":0},{"$f":"EUT34*'Makro i swap'!EUR4","v":0},{"$f":"EUU34*'Makro i swap'!EUS4","v":0},{"$f":"EUV34*'Makro i swap'!EUT4","v":0},{"$f":"EUW34*'Makro i swap'!EUU4","v":0},{"$f":"EUX34*'Makro i swap'!EUV4","v":0},{"$f":"EUY34*'Makro i swap'!EUW4","v":0},{"$f":"EUZ34*'Makro i swap'!EUX4","v":0},{"$f":"EVA34*'Makro i swap'!EUY4","v":0},{"$f":"EVB34*'Makro i swap'!EUZ4","v":0},{"$f":"EVC34*'Makro i swap'!EVA4","v":0},{"$f":"EVD34*'Makro i swap'!EVB4","v":0},{"$f":"EVE34*'Makro i swap'!EVC4","v":0},{"$f":"EVF34*'Makro i swap'!EVD4","v":0},{"$f":"EVG34*'Makro i swap'!EVE4","v":0},{"$f":"EVH34*'Makro i swap'!EVF4","v":0},{"$f":"EVI34*'Makro i swap'!EVG4","v":0},{"$f":"EVJ34*'Makro i swap'!EVH4","v":0},{"$f":"EVK34*'Makro i swap'!EVI4","v":0},{"$f":"EVL34*'Makro i swap'!EVJ4","v":0},{"$f":"EVM34*'Makro i swap'!EVK4","v":0},{"$f":"EVN34*'Makro i swap'!EVL4","v":0},{"$f":"EVO34*'Makro i swap'!EVM4","v":0},{"$f":"EVP34*'Makro i swap'!EVN4","v":0},{"$f":"EVQ34*'Makro i swap'!EVO4","v":0},{"$f":"EVR34*'Makro i swap'!EVP4","v":0},{"$f":"EVS34*'Makro i swap'!EVQ4","v":0},{"$f":"EVT34*'Makro i swap'!EVR4","v":0},{"$f":"EVU34*'Makro i swap'!EVS4","v":0},{"$f":"EVV34*'Makro i swap'!EVT4","v":0},{"$f":"EVW34*'Makro i swap'!EVU4","v":0},{"$f":"EVX34*'Makro i swap'!EVV4","v":0},{"$f":"EVY34*'Makro i swap'!EVW4","v":0},{"$f":"EVZ34*'Makro i swap'!EVX4","v":0},{"$f":"EWA34*'Makro i swap'!EVY4","v":0},{"$f":"EWB34*'Makro i swap'!EVZ4","v":0},{"$f":"EWC34*'Makro i swap'!EWA4","v":0},{"$f":"EWD34*'Makro i swap'!EWB4","v":0},{"$f":"EWE34*'Makro i swap'!EWC4","v":0},{"$f":"EWF34*'Makro i swap'!EWD4","v":0},{"$f":"EWG34*'Makro i swap'!EWE4","v":0},{"$f":"EWH34*'Makro i swap'!EWF4","v":0},{"$f":"EWI34*'Makro i swap'!EWG4","v":0},{"$f":"EWJ34*'Makro i swap'!EWH4","v":0},{"$f":"EWK34*'Makro i swap'!EWI4","v":0},{"$f":"EWL34*'Makro i swap'!EWJ4","v":0},{"$f":"EWM34*'Makro i swap'!EWK4","v":0},{"$f":"EWN34*'Makro i swap'!EWL4","v":0},{"$f":"EWO34*'Makro i swap'!EWM4","v":0},{"$f":"EWP34*'Makro i swap'!EWN4","v":0},{"$f":"EWQ34*'Makro i swap'!EWO4","v":0},{"$f":"EWR34*'Makro i swap'!EWP4","v":0},{"$f":"EWS34*'Makro i swap'!EWQ4","v":0},{"$f":"EWT34*'Makro i swap'!EWR4","v":0},{"$f":"EWU34*'Makro i swap'!EWS4","v":0},{"$f":"EWV34*'Makro i swap'!EWT4","v":0},{"$f":"EWW34*'Makro i swap'!EWU4","v":0},{"$f":"EWX34*'Makro i swap'!EWV4","v":0},{"$f":"EWY34*'Makro i swap'!EWW4","v":0},{"$f":"EWZ34*'Makro i swap'!EWX4","v":0},{"$f":"EXA34*'Makro i swap'!EWY4","v":0},{"$f":"EXB34*'Makro i swap'!EWZ4","v":0},{"$f":"EXC34*'Makro i swap'!EXA4","v":0},{"$f":"EXD34*'Makro i swap'!EXB4","v":0},{"$f":"EXE34*'Makro i swap'!EXC4","v":0},{"$f":"EXF34*'Makro i swap'!EXD4","v":0},{"$f":"EXG34*'Makro i swap'!EXE4","v":0},{"$f":"EXH34*'Makro i swap'!EXF4","v":0},{"$f":"EXI34*'Makro i swap'!EXG4","v":0},{"$f":"EXJ34*'Makro i swap'!EXH4","v":0},{"$f":"EXK34*'Makro i swap'!EXI4","v":0},{"$f":"EXL34*'Makro i swap'!EXJ4","v":0},{"$f":"EXM34*'Makro i swap'!EXK4","v":0},{"$f":"EXN34*'Makro i swap'!EXL4","v":0},{"$f":"EXO34*'Makro i swap'!EXM4","v":0},{"$f":"EXP34*'Makro i swap'!EXN4","v":0},{"$f":"EXQ34*'Makro i swap'!EXO4","v":0},{"$f":"EXR34*'Makro i swap'!EXP4","v":0},{"$f":"EXS34*'Makro i swap'!EXQ4","v":0},{"$f":"EXT34*'Makro i swap'!EXR4","v":0},{"$f":"EXU34*'Makro i swap'!EXS4","v":0},{"$f":"EXV34*'Makro i swap'!EXT4","v":0},{"$f":"EXW34*'Makro i swap'!EXU4","v":0},{"$f":"EXX34*'Makro i swap'!EXV4","v":0},{"$f":"EXY34*'Makro i swap'!EXW4","v":0},{"$f":"EXZ34*'Makro i swap'!EXX4","v":0},{"$f":"EYA34*'Makro i swap'!EXY4","v":0},{"$f":"EYB34*'Makro i swap'!EXZ4","v":0},{"$f":"EYC34*'Makro i swap'!EYA4","v":0},{"$f":"EYD34*'Makro i swap'!EYB4","v":0},{"$f":"EYE34*'Makro i swap'!EYC4","v":0},{"$f":"EYF34*'Makro i swap'!EYD4","v":0},{"$f":"EYG34*'Makro i swap'!EYE4","v":0},{"$f":"EYH34*'Makro i swap'!EYF4","v":0},{"$f":"EYI34*'Makro i swap'!EYG4","v":0},{"$f":"EYJ34*'Makro i swap'!EYH4","v":0},{"$f":"EYK34*'Makro i swap'!EYI4","v":0},{"$f":"EYL34*'Makro i swap'!EYJ4","v":0},{"$f":"EYM34*'Makro i swap'!EYK4","v":0},{"$f":"EYN34*'Makro i swap'!EYL4","v":0},{"$f":"EYO34*'Makro i swap'!EYM4","v":0},{"$f":"EYP34*'Makro i swap'!EYN4","v":0},{"$f":"EYQ34*'Makro i swap'!EYO4","v":0},{"$f":"EYR34*'Makro i swap'!EYP4","v":0},{"$f":"EYS34*'Makro i swap'!EYQ4","v":0},{"$f":"EYT34*'Makro i swap'!EYR4","v":0},{"$f":"EYU34*'Makro i swap'!EYS4","v":0},{"$f":"EYV34*'Makro i swap'!EYT4","v":0},{"$f":"EYW34*'Makro i swap'!EYU4","v":0},{"$f":"EYX34*'Makro i swap'!EYV4","v":0},{"$f":"EYY34*'Makro i swap'!EYW4","v":0},{"$f":"EYZ34*'Makro i swap'!EYX4","v":0},{"$f":"EZA34*'Makro i swap'!EYY4","v":0},{"$f":"EZB34*'Makro i swap'!EYZ4","v":0},{"$f":"EZC34*'Makro i swap'!EZA4","v":0},{"$f":"EZD34*'Makro i swap'!EZB4","v":0},{"$f":"EZE34*'Makro i swap'!EZC4","v":0},{"$f":"EZF34*'Makro i swap'!EZD4","v":0},{"$f":"EZG34*'Makro i swap'!EZE4","v":0},{"$f":"EZH34*'Makro i swap'!EZF4","v":0},{"$f":"EZI34*'Makro i swap'!EZG4","v":0},{"$f":"EZJ34*'Makro i swap'!EZH4","v":0},{"$f":"EZK34*'Makro i swap'!EZI4","v":0},{"$f":"EZL34*'Makro i swap'!EZJ4","v":0},{"$f":"EZM34*'Makro i swap'!EZK4","v":0},{"$f":"EZN34*'Makro i swap'!EZL4","v":0},{"$f":"EZO34*'Makro i swap'!EZM4","v":0},{"$f":"EZP34*'Makro i swap'!EZN4","v":0},{"$f":"EZQ34*'Makro i swap'!EZO4","v":0},{"$f":"EZR34*'Makro i swap'!EZP4","v":0},{"$f":"EZS34*'Makro i swap'!EZQ4","v":0},{"$f":"EZT34*'Makro i swap'!EZR4","v":0},{"$f":"EZU34*'Makro i swap'!EZS4","v":0},{"$f":"EZV34*'Makro i swap'!EZT4","v":0},{"$f":"EZW34*'Makro i swap'!EZU4","v":0},{"$f":"EZX34*'Makro i swap'!EZV4","v":0},{"$f":"EZY34*'Makro i swap'!EZW4","v":0},{"$f":"EZZ34*'Makro i swap'!EZX4","v":0},{"$f":"FAA34*'Makro i swap'!EZY4","v":0},{"$f":"FAB34*'Makro i swap'!EZZ4","v":0},{"$f":"FAC34*'Makro i swap'!FAA4","v":0},{"$f":"FAD34*'Makro i swap'!FAB4","v":0},{"$f":"FAE34*'Makro i swap'!FAC4","v":0},{"$f":"FAF34*'Makro i swap'!FAD4","v":0},{"$f":"FAG34*'Makro i swap'!FAE4","v":0},{"$f":"FAH34*'Makro i swap'!FAF4","v":0},{"$f":"FAI34*'Makro i swap'!FAG4","v":0},{"$f":"FAJ34*'Makro i swap'!FAH4","v":0},{"$f":"FAK34*'Makro i swap'!FAI4","v":0},{"$f":"FAL34*'Makro i swap'!FAJ4","v":0},{"$f":"FAM34*'Makro i swap'!FAK4","v":0},{"$f":"FAN34*'Makro i swap'!FAL4","v":0},{"$f":"FAO34*'Makro i swap'!FAM4","v":0},{"$f":"FAP34*'Makro i swap'!FAN4","v":0},{"$f":"FAQ34*'Makro i swap'!FAO4","v":0},{"$f":"FAR34*'Makro i swap'!FAP4","v":0},{"$f":"FAS34*'Makro i swap'!FAQ4","v":0},{"$f":"FAT34*'Makro i swap'!FAR4","v":0},{"$f":"FAU34*'Makro i swap'!FAS4","v":0},{"$f":"FAV34*'Makro i swap'!FAT4","v":0},{"$f":"FAW34*'Makro i swap'!FAU4","v":0},{"$f":"FAX34*'Makro i swap'!FAV4","v":0},{"$f":"FAY34*'Makro i swap'!FAW4","v":0},{"$f":"FAZ34*'Makro i swap'!FAX4","v":0},{"$f":"FBA34*'Makro i swap'!FAY4","v":0},{"$f":"FBB34*'Makro i swap'!FAZ4","v":0},{"$f":"FBC34*'Makro i swap'!FBA4","v":0},{"$f":"FBD34*'Makro i swap'!FBB4","v":0},{"$f":"FBE34*'Makro i swap'!FBC4","v":0},{"$f":"FBF34*'Makro i swap'!FBD4","v":0},{"$f":"FBG34*'Makro i swap'!FBE4","v":0},{"$f":"FBH34*'Makro i swap'!FBF4","v":0},{"$f":"FBI34*'Makro i swap'!FBG4","v":0},{"$f":"FBJ34*'Makro i swap'!FBH4","v":0},{"$f":"FBK34*'Makro i swap'!FBI4","v":0},{"$f":"FBL34*'Makro i swap'!FBJ4","v":0},{"$f":"FBM34*'Makro i swap'!FBK4","v":0},{"$f":"FBN34*'Makro i swap'!FBL4","v":0},{"$f":"FBO34*'Makro i swap'!FBM4","v":0},{"$f":"FBP34*'Makro i swap'!FBN4","v":0},{"$f":"FBQ34*'Makro i swap'!FBO4","v":0},{"$f":"FBR34*'Makro i swap'!FBP4","v":0},{"$f":"FBS34*'Makro i swap'!FBQ4","v":0},{"$f":"FBT34*'Makro i swap'!FBR4","v":0},{"$f":"FBU34*'Makro i swap'!FBS4","v":0},{"$f":"FBV34*'Makro i swap'!FBT4","v":0},{"$f":"FBW34*'Makro i swap'!FBU4","v":0},{"$f":"FBX34*'Makro i swap'!FBV4","v":0},{"$f":"FBY34*'Makro i swap'!FBW4","v":0},{"$f":"FBZ34*'Makro i swap'!FBX4","v":0},{"$f":"FCA34*'Makro i swap'!FBY4","v":0},{"$f":"FCB34*'Makro i swap'!FBZ4","v":0},{"$f":"FCC34*'Makro i swap'!FCA4","v":0},{"$f":"FCD34*'Makro i swap'!FCB4","v":0},{"$f":"FCE34*'Makro i swap'!FCC4","v":0},{"$f":"FCF34*'Makro i swap'!FCD4","v":0},{"$f":"FCG34*'Makro i swap'!FCE4","v":0},{"$f":"FCH34*'Makro i swap'!FCF4","v":0},{"$f":"FCI34*'Makro i swap'!FCG4","v":0},{"$f":"FCJ34*'Makro i swap'!FCH4","v":0},{"$f":"FCK34*'Makro i swap'!FCI4","v":0},{"$f":"FCL34*'Makro i swap'!FCJ4","v":0},{"$f":"FCM34*'Makro i swap'!FCK4","v":0},{"$f":"FCN34*'Makro i swap'!FCL4","v":0},{"$f":"FCO34*'Makro i swap'!FCM4","v":0},{"$f":"FCP34*'Makro i swap'!FCN4","v":0},{"$f":"FCQ34*'Makro i swap'!FCO4","v":0},{"$f":"FCR34*'Makro i swap'!FCP4","v":0},{"$f":"FCS34*'Makro i swap'!FCQ4","v":0},{"$f":"FCT34*'Makro i swap'!FCR4","v":0},{"$f":"FCU34*'Makro i swap'!FCS4","v":0},{"$f":"FCV34*'Makro i swap'!FCT4","v":0},{"$f":"FCW34*'Makro i swap'!FCU4","v":0},{"$f":"FCX34*'Makro i swap'!FCV4","v":0},{"$f":"FCY34*'Makro i swap'!FCW4","v":0},{"$f":"FCZ34*'Makro i swap'!FCX4","v":0},{"$f":"FDA34*'Makro i swap'!FCY4","v":0},{"$f":"FDB34*'Makro i swap'!FCZ4","v":0},{"$f":"FDC34*'Makro i swap'!FDA4","v":0},{"$f":"FDD34*'Makro i swap'!FDB4","v":0},{"$f":"FDE34*'Makro i swap'!FDC4","v":0},{"$f":"FDF34*'Makro i swap'!FDD4","v":0},{"$f":"FDG34*'Makro i swap'!FDE4","v":0},{"$f":"FDH34*'Makro i swap'!FDF4","v":0},{"$f":"FDI34*'Makro i swap'!FDG4","v":0},{"$f":"FDJ34*'Makro i swap'!FDH4","v":0},{"$f":"FDK34*'Makro i swap'!FDI4","v":0},{"$f":"FDL34*'Makro i swap'!FDJ4","v":0},{"$f":"FDM34*'Makro i swap'!FDK4","v":0},{"$f":"FDN34*'Makro i swap'!FDL4","v":0},{"$f":"FDO34*'Makro i swap'!FDM4","v":0},{"$f":"FDP34*'Makro i swap'!FDN4","v":0},{"$f":"FDQ34*'Makro i swap'!FDO4","v":0},{"$f":"FDR34*'Makro i swap'!FDP4","v":0},{"$f":"FDS34*'Makro i swap'!FDQ4","v":0},{"$f":"FDT34*'Makro i swap'!FDR4","v":0},{"$f":"FDU34*'Makro i swap'!FDS4","v":0},{"$f":"FDV34*'Makro i swap'!FDT4","v":0},{"$f":"FDW34*'Makro i swap'!FDU4","v":0},{"$f":"FDX34*'Makro i swap'!FDV4","v":0},{"$f":"FDY34*'Makro i swap'!FDW4","v":0},{"$f":"FDZ34*'Makro i swap'!FDX4","v":0},{"$f":"FEA34*'Makro i swap'!FDY4","v":0},{"$f":"FEB34*'Makro i swap'!FDZ4","v":0},{"$f":"FEC34*'Makro i swap'!FEA4","v":0},{"$f":"FED34*'Makro i swap'!FEB4","v":0},{"$f":"FEE34*'Makro i swap'!FEC4","v":0},{"$f":"FEF34*'Makro i swap'!FED4","v":0},{"$f":"FEG34*'Makro i swap'!FEE4","v":0},{"$f":"FEH34*'Makro i swap'!FEF4","v":0},{"$f":"FEI34*'Makro i swap'!FEG4","v":0},{"$f":"FEJ34*'Makro i swap'!FEH4","v":0},{"$f":"FEK34*'Makro i swap'!FEI4","v":0},{"$f":"FEL34*'Makro i swap'!FEJ4","v":0},{"$f":"FEM34*'Makro i swap'!FEK4","v":0},{"$f":"FEN34*'Makro i swap'!FEL4","v":0},{"$f":"FEO34*'Makro i swap'!FEM4","v":0},{"$f":"FEP34*'Makro i swap'!FEN4","v":0},{"$f":"FEQ34*'Makro i swap'!FEO4","v":0},{"$f":"FER34*'Makro i swap'!FEP4","v":0},{"$f":"FES34*'Makro i swap'!FEQ4","v":0},{"$f":"FET34*'Makro i swap'!FER4","v":0},{"$f":"FEU34*'Makro i swap'!FES4","v":0},{"$f":"FEV34*'Makro i swap'!FET4","v":0},{"$f":"FEW34*'Makro i swap'!FEU4","v":0},{"$f":"FEX34*'Makro i swap'!FEV4","v":0},{"$f":"FEY34*'Makro i swap'!FEW4","v":0},{"$f":"FEZ34*'Makro i swap'!FEX4","v":0},{"$f":"FFA34*'Makro i swap'!FEY4","v":0},{"$f":"FFB34*'Makro i swap'!FEZ4","v":0},{"$f":"FFC34*'Makro i swap'!FFA4","v":0},{"$f":"FFD34*'Makro i swap'!FFB4","v":0},{"$f":"FFE34*'Makro i swap'!FFC4","v":0},{"$f":"FFF34*'Makro i swap'!FFD4","v":0},{"$f":"FFG34*'Makro i swap'!FFE4","v":0},{"$f":"FFH34*'Makro i swap'!FFF4","v":0},{"$f":"FFI34*'Makro i swap'!FFG4","v":0},{"$f":"FFJ34*'Makro i swap'!FFH4","v":0},{"$f":"FFK34*'Makro i swap'!FFI4","v":0},{"$f":"FFL34*'Makro i swap'!FFJ4","v":0},{"$f":"FFM34*'Makro i swap'!FFK4","v":0},{"$f":"FFN34*'Makro i swap'!FFL4","v":0},{"$f":"FFO34*'Makro i swap'!FFM4","v":0},{"$f":"FFP34*'Makro i swap'!FFN4","v":0},{"$f":"FFQ34*'Makro i swap'!FFO4","v":0},{"$f":"FFR34*'Makro i swap'!FFP4","v":0},{"$f":"FFS34*'Makro i swap'!FFQ4","v":0},{"$f":"FFT34*'Makro i swap'!FFR4","v":0},{"$f":"FFU34*'Makro i swap'!FFS4","v":0},{"$f":"FFV34*'Makro i swap'!FFT4","v":0},{"$f":"FFW34*'Makro i swap'!FFU4","v":0},{"$f":"FFX34*'Makro i swap'!FFV4","v":0},{"$f":"FFY34*'Makro i swap'!FFW4","v":0},{"$f":"FFZ34*'Makro i swap'!FFX4","v":0},{"$f":"FGA34*'Makro i swap'!FFY4","v":0},{"$f":"FGB34*'Makro i swap'!FFZ4","v":0},{"$f":"FGC34*'Makro i swap'!FGA4","v":0},{"$f":"FGD34*'Makro i swap'!FGB4","v":0},{"$f":"FGE34*'Makro i swap'!FGC4","v":0},{"$f":"FGF34*'Makro i swap'!FGD4","v":0},{"$f":"FGG34*'Makro i swap'!FGE4","v":0},{"$f":"FGH34*'Makro i swap'!FGF4","v":0},{"$f":"FGI34*'Makro i swap'!FGG4","v":0},{"$f":"FGJ34*'Makro i swap'!FGH4","v":0},{"$f":"FGK34*'Makro i swap'!FGI4","v":0},{"$f":"FGL34*'Makro i swap'!FGJ4","v":0},{"$f":"FGM34*'Makro i swap'!FGK4","v":0},{"$f":"FGN34*'Makro i swap'!FGL4","v":0},{"$f":"FGO34*'Makro i swap'!FGM4","v":0},{"$f":"FGP34*'Makro i swap'!FGN4","v":0},{"$f":"FGQ34*'Makro i swap'!FGO4","v":0},{"$f":"FGR34*'Makro i swap'!FGP4","v":0},{"$f":"FGS34*'Makro i swap'!FGQ4","v":0},{"$f":"FGT34*'Makro i swap'!FGR4","v":0},{"$f":"FGU34*'Makro i swap'!FGS4","v":0},{"$f":"FGV34*'Makro i swap'!FGT4","v":0},{"$f":"FGW34*'Makro i swap'!FGU4","v":0},{"$f":"FGX34*'Makro i swap'!FGV4","v":0},{"$f":"FGY34*'Makro i swap'!FGW4","v":0},{"$f":"FGZ34*'Makro i swap'!FGX4","v":0},{"$f":"FHA34*'Makro i swap'!FGY4","v":0},{"$f":"FHB34*'Makro i swap'!FGZ4","v":0},{"$f":"FHC34*'Makro i swap'!FHA4","v":0},{"$f":"FHD34*'Makro i swap'!FHB4","v":0},{"$f":"FHE34*'Makro i swap'!FHC4","v":0},{"$f":"FHF34*'Makro i swap'!FHD4","v":0},{"$f":"FHG34*'Makro i swap'!FHE4","v":0},{"$f":"FHH34*'Makro i swap'!FHF4","v":0},{"$f":"FHI34*'Makro i swap'!FHG4","v":0},{"$f":"FHJ34*'Makro i swap'!FHH4","v":0},{"$f":"FHK34*'Makro i swap'!FHI4","v":0},{"$f":"FHL34*'Makro i swap'!FHJ4","v":0},{"$f":"FHM34*'Makro i swap'!FHK4","v":0},{"$f":"FHN34*'Makro i swap'!FHL4","v":0},{"$f":"FHO34*'Makro i swap'!FHM4","v":0},{"$f":"FHP34*'Makro i swap'!FHN4","v":0},{"$f":"FHQ34*'Makro i swap'!FHO4","v":0},{"$f":"FHR34*'Makro i swap'!FHP4","v":0},{"$f":"FHS34*'Makro i swap'!FHQ4","v":0},{"$f":"FHT34*'Makro i swap'!FHR4","v":0},{"$f":"FHU34*'Makro i swap'!FHS4","v":0},{"$f":"FHV34*'Makro i swap'!FHT4","v":0},{"$f":"FHW34*'Makro i swap'!FHU4","v":0},{"$f":"FHX34*'Makro i swap'!FHV4","v":0},{"$f":"FHY34*'Makro i swap'!FHW4","v":0},{"$f":"FHZ34*'Makro i swap'!FHX4","v":0},{"$f":"FIA34*'Makro i swap'!FHY4","v":0},{"$f":"FIB34*'Makro i swap'!FHZ4","v":0},{"$f":"FIC34*'Makro i swap'!FIA4","v":0},{"$f":"FID34*'Makro i swap'!FIB4","v":0},{"$f":"FIE34*'Makro i swap'!FIC4","v":0},{"$f":"FIF34*'Makro i swap'!FID4","v":0},{"$f":"FIG34*'Makro i swap'!FIE4","v":0},{"$f":"FIH34*'Makro i swap'!FIF4","v":0},{"$f":"FII34*'Makro i swap'!FIG4","v":0},{"$f":"FIJ34*'Makro i swap'!FIH4","v":0},{"$f":"FIK34*'Makro i swap'!FII4","v":0},{"$f":"FIL34*'Makro i swap'!FIJ4","v":0},{"$f":"FIM34*'Makro i swap'!FIK4","v":0},{"$f":"FIN34*'Makro i swap'!FIL4","v":0},{"$f":"FIO34*'Makro i swap'!FIM4","v":0},{"$f":"FIP34*'Makro i swap'!FIN4","v":0},{"$f":"FIQ34*'Makro i swap'!FIO4","v":0},{"$f":"FIR34*'Makro i swap'!FIP4","v":0},{"$f":"FIS34*'Makro i swap'!FIQ4","v":0},{"$f":"FIT34*'Makro i swap'!FIR4","v":0},{"$f":"FIU34*'Makro i swap'!FIS4","v":0},{"$f":"FIV34*'Makro i swap'!FIT4","v":0},{"$f":"FIW34*'Makro i swap'!FIU4","v":0},{"$f":"FIX34*'Makro i swap'!FIV4","v":0},{"$f":"FIY34*'Makro i swap'!FIW4","v":0},{"$f":"FIZ34*'Makro i swap'!FIX4","v":0},{"$f":"FJA34*'Makro i swap'!FIY4","v":0},{"$f":"FJB34*'Makro i swap'!FIZ4","v":0},{"$f":"FJC34*'Makro i swap'!FJA4","v":0},{"$f":"FJD34*'Makro i swap'!FJB4","v":0},{"$f":"FJE34*'Makro i swap'!FJC4","v":0},{"$f":"FJF34*'Makro i swap'!FJD4","v":0},{"$f":"FJG34*'Makro i swap'!FJE4","v":0},{"$f":"FJH34*'Makro i swap'!FJF4","v":0},{"$f":"FJI34*'Makro i swap'!FJG4","v":0},{"$f":"FJJ34*'Makro i swap'!FJH4","v":0},{"$f":"FJK34*'Makro i swap'!FJI4","v":0},{"$f":"FJL34*'Makro i swap'!FJJ4","v":0},{"$f":"FJM34*'Makro i swap'!FJK4","v":0},{"$f":"FJN34*'Makro i swap'!FJL4","v":0},{"$f":"FJO34*'Makro i swap'!FJM4","v":0},{"$f":"FJP34*'Makro i swap'!FJN4","v":0},{"$f":"FJQ34*'Makro i swap'!FJO4","v":0},{"$f":"FJR34*'Makro i swap'!FJP4","v":0},{"$f":"FJS34*'Makro i swap'!FJQ4","v":0},{"$f":"FJT34*'Makro i swap'!FJR4","v":0},{"$f":"FJU34*'Makro i swap'!FJS4","v":0},{"$f":"FJV34*'Makro i swap'!FJT4","v":0},{"$f":"FJW34*'Makro i swap'!FJU4","v":0},{"$f":"FJX34*'Makro i swap'!FJV4","v":0},{"$f":"FJY34*'Makro i swap'!FJW4","v":0},{"$f":"FJZ34*'Makro i swap'!FJX4","v":0},{"$f":"FKA34*'Makro i swap'!FJY4","v":0},{"$f":"FKB34*'Makro i swap'!FJZ4","v":0},{"$f":"FKC34*'Makro i swap'!FKA4","v":0},{"$f":"FKD34*'Makro i swap'!FKB4","v":0},{"$f":"FKE34*'Makro i swap'!FKC4","v":0},{"$f":"FKF34*'Makro i swap'!FKD4","v":0},{"$f":"FKG34*'Makro i swap'!FKE4","v":0},{"$f":"FKH34*'Makro i swap'!FKF4","v":0},{"$f":"FKI34*'Makro i swap'!FKG4","v":0},{"$f":"FKJ34*'Makro i swap'!FKH4","v":0},{"$f":"FKK34*'Makro i swap'!FKI4","v":0},{"$f":"FKL34*'Makro i swap'!FKJ4","v":0},{"$f":"FKM34*'Makro i swap'!FKK4","v":0},{"$f":"FKN34*'Makro i swap'!FKL4","v":0},{"$f":"FKO34*'Makro i swap'!FKM4","v":0},{"$f":"FKP34*'Makro i swap'!FKN4","v":0},{"$f":"FKQ34*'Makro i swap'!FKO4","v":0},{"$f":"FKR34*'Makro i swap'!FKP4","v":0},{"$f":"FKS34*'Makro i swap'!FKQ4","v":0},{"$f":"FKT34*'Makro i swap'!FKR4","v":0},{"$f":"FKU34*'Makro i swap'!FKS4","v":0},{"$f":"FKV34*'Makro i swap'!FKT4","v":0},{"$f":"FKW34*'Makro i swap'!FKU4","v":0},{"$f":"FKX34*'Makro i swap'!FKV4","v":0},{"$f":"FKY34*'Makro i swap'!FKW4","v":0},{"$f":"FKZ34*'Makro i swap'!FKX4","v":0},{"$f":"FLA34*'Makro i swap'!FKY4","v":0},{"$f":"FLB34*'Makro i swap'!FKZ4","v":0},{"$f":"FLC34*'Makro i swap'!FLA4","v":0},{"$f":"FLD34*'Makro i swap'!FLB4","v":0},{"$f":"FLE34*'Makro i swap'!FLC4","v":0},{"$f":"FLF34*'Makro i swap'!FLD4","v":0},{"$f":"FLG34*'Makro i swap'!FLE4","v":0},{"$f":"FLH34*'Makro i swap'!FLF4","v":0},{"$f":"FLI34*'Makro i swap'!FLG4","v":0},{"$f":"FLJ34*'Makro i swap'!FLH4","v":0},{"$f":"FLK34*'Makro i swap'!FLI4","v":0},{"$f":"FLL34*'Makro i swap'!FLJ4","v":0},{"$f":"FLM34*'Makro i swap'!FLK4","v":0},{"$f":"FLN34*'Makro i swap'!FLL4","v":0},{"$f":"FLO34*'Makro i swap'!FLM4","v":0},{"$f":"FLP34*'Makro i swap'!FLN4","v":0},{"$f":"FLQ34*'Makro i swap'!FLO4","v":0},{"$f":"FLR34*'Makro i swap'!FLP4","v":0},{"$f":"FLS34*'Makro i swap'!FLQ4","v":0},{"$f":"FLT34*'Makro i swap'!FLR4","v":0},{"$f":"FLU34*'Makro i swap'!FLS4","v":0},{"$f":"FLV34*'Makro i swap'!FLT4","v":0},{"$f":"FLW34*'Makro i swap'!FLU4","v":0},{"$f":"FLX34*'Makro i swap'!FLV4","v":0},{"$f":"FLY34*'Makro i swap'!FLW4","v":0},{"$f":"FLZ34*'Makro i swap'!FLX4","v":0},{"$f":"FMA34*'Makro i swap'!FLY4","v":0},{"$f":"FMB34*'Makro i swap'!FLZ4","v":0},{"$f":"FMC34*'Makro i swap'!FMA4","v":0},{"$f":"FMD34*'Makro i swap'!FMB4","v":0},{"$f":"FME34*'Makro i swap'!FMC4","v":0},{"$f":"FMF34*'Makro i swap'!FMD4","v":0},{"$f":"FMG34*'Makro i swap'!FME4","v":0},{"$f":"FMH34*'Makro i swap'!FMF4","v":0},{"$f":"FMI34*'Makro i swap'!FMG4","v":0},{"$f":"FMJ34*'Makro i swap'!FMH4","v":0},{"$f":"FMK34*'Makro i swap'!FMI4","v":0},{"$f":"FML34*'Makro i swap'!FMJ4","v":0},{"$f":"FMM34*'Makro i swap'!FMK4","v":0},{"$f":"FMN34*'Makro i swap'!FML4","v":0},{"$f":"FMO34*'Makro i swap'!FMM4","v":0},{"$f":"FMP34*'Makro i swap'!FMN4","v":0},{"$f":"FMQ34*'Makro i swap'!FMO4","v":0},{"$f":"FMR34*'Makro i swap'!FMP4","v":0},{"$f":"FMS34*'Makro i swap'!FMQ4","v":0},{"$f":"FMT34*'Makro i swap'!FMR4","v":0},{"$f":"FMU34*'Makro i swap'!FMS4","v":0},{"$f":"FMV34*'Makro i swap'!FMT4","v":0},{"$f":"FMW34*'Makro i swap'!FMU4","v":0},{"$f":"FMX34*'Makro i swap'!FMV4","v":0},{"$f":"FMY34*'Makro i swap'!FMW4","v":0},{"$f":"FMZ34*'Makro i swap'!FMX4","v":0},{"$f":"FNA34*'Makro i swap'!FMY4","v":0},{"$f":"FNB34*'Makro i swap'!FMZ4","v":0},{"$f":"FNC34*'Makro i swap'!FNA4","v":0},{"$f":"FND34*'Makro i swap'!FNB4","v":0},{"$f":"FNE34*'Makro i swap'!FNC4","v":0},{"$f":"FNF34*'Makro i swap'!FND4","v":0},{"$f":"FNG34*'Makro i swap'!FNE4","v":0},{"$f":"FNH34*'Makro i swap'!FNF4","v":0},{"$f":"FNI34*'Makro i swap'!FNG4","v":0},{"$f":"FNJ34*'Makro i swap'!FNH4","v":0},{"$f":"FNK34*'Makro i swap'!FNI4","v":0},{"$f":"FNL34*'Makro i swap'!FNJ4","v":0},{"$f":"FNM34*'Makro i swap'!FNK4","v":0},{"$f":"FNN34*'Makro i swap'!FNL4","v":0},{"$f":"FNO34*'Makro i swap'!FNM4","v":0},{"$f":"FNP34*'Makro i swap'!FNN4","v":0},{"$f":"FNQ34*'Makro i swap'!FNO4","v":0},{"$f":"FNR34*'Makro i swap'!FNP4","v":0},{"$f":"FNS34*'Makro i swap'!FNQ4","v":0},{"$f":"FNT34*'Makro i swap'!FNR4","v":0},{"$f":"FNU34*'Makro i swap'!FNS4","v":0},{"$f":"FNV34*'Makro i swap'!FNT4","v":0},{"$f":"FNW34*'Makro i swap'!FNU4","v":0},{"$f":"FNX34*'Makro i swap'!FNV4","v":0},{"$f":"FNY34*'Makro i swap'!FNW4","v":0},{"$f":"FNZ34*'Makro i swap'!FNX4","v":0},{"$f":"FOA34*'Makro i swap'!FNY4","v":0},{"$f":"FOB34*'Makro i swap'!FNZ4","v":0},{"$f":"FOC34*'Makro i swap'!FOA4","v":0},{"$f":"FOD34*'Makro i swap'!FOB4","v":0},{"$f":"FOE34*'Makro i swap'!FOC4","v":0},{"$f":"FOF34*'Makro i swap'!FOD4","v":0},{"$f":"FOG34*'Makro i swap'!FOE4","v":0},{"$f":"FOH34*'Makro i swap'!FOF4","v":0},{"$f":"FOI34*'Makro i swap'!FOG4","v":0},{"$f":"FOJ34*'Makro i swap'!FOH4","v":0},{"$f":"FOK34*'Makro i swap'!FOI4","v":0},{"$f":"FOL34*'Makro i swap'!FOJ4","v":0},{"$f":"FOM34*'Makro i swap'!FOK4","v":0},{"$f":"FON34*'Makro i swap'!FOL4","v":0},{"$f":"FOO34*'Makro i swap'!FOM4","v":0},{"$f":"FOP34*'Makro i swap'!FON4","v":0},{"$f":"FOQ34*'Makro i swap'!FOO4","v":0},{"$f":"FOR34*'Makro i swap'!FOP4","v":0},{"$f":"FOS34*'Makro i swap'!FOQ4","v":0},{"$f":"FOT34*'Makro i swap'!FOR4","v":0},{"$f":"FOU34*'Makro i swap'!FOS4","v":0},{"$f":"FOV34*'Makro i swap'!FOT4","v":0},{"$f":"FOW34*'Makro i swap'!FOU4","v":0},{"$f":"FOX34*'Makro i swap'!FOV4","v":0},{"$f":"FOY34*'Makro i swap'!FOW4","v":0},{"$f":"FOZ34*'Makro i swap'!FOX4","v":0},{"$f":"FPA34*'Makro i swap'!FOY4","v":0},{"$f":"FPB34*'Makro i swap'!FOZ4","v":0},{"$f":"FPC34*'Makro i swap'!FPA4","v":0},{"$f":"FPD34*'Makro i swap'!FPB4","v":0},{"$f":"FPE34*'Makro i swap'!FPC4","v":0},{"$f":"FPF34*'Makro i swap'!FPD4","v":0},{"$f":"FPG34*'Makro i swap'!FPE4","v":0},{"$f":"FPH34*'Makro i swap'!FPF4","v":0},{"$f":"FPI34*'Makro i swap'!FPG4","v":0},{"$f":"FPJ34*'Makro i swap'!FPH4","v":0},{"$f":"FPK34*'Makro i swap'!FPI4","v":0},{"$f":"FPL34*'Makro i swap'!FPJ4","v":0},{"$f":"FPM34*'Makro i swap'!FPK4","v":0},{"$f":"FPN34*'Makro i swap'!FPL4","v":0},{"$f":"FPO34*'Makro i swap'!FPM4","v":0},{"$f":"FPP34*'Makro i swap'!FPN4","v":0},{"$f":"FPQ34*'Makro i swap'!FPO4","v":0},{"$f":"FPR34*'Makro i swap'!FPP4","v":0},{"$f":"FPS34*'Makro i swap'!FPQ4","v":0},{"$f":"FPT34*'Makro i swap'!FPR4","v":0},{"$f":"FPU34*'Makro i swap'!FPS4","v":0},{"$f":"FPV34*'Makro i swap'!FPT4","v":0},{"$f":"FPW34*'Makro i swap'!FPU4","v":0},{"$f":"FPX34*'Makro i swap'!FPV4","v":0},{"$f":"FPY34*'Makro i swap'!FPW4","v":0},{"$f":"FPZ34*'Makro i swap'!FPX4","v":0},{"$f":"FQA34*'Makro i swap'!FPY4","v":0},{"$f":"FQB34*'Makro i swap'!FPZ4","v":0},{"$f":"FQC34*'Makro i swap'!FQA4","v":0},{"$f":"FQD34*'Makro i swap'!FQB4","v":0},{"$f":"FQE34*'Makro i swap'!FQC4","v":0},{"$f":"FQF34*'Makro i swap'!FQD4","v":0},{"$f":"FQG34*'Makro i swap'!FQE4","v":0},{"$f":"FQH34*'Makro i swap'!FQF4","v":0},{"$f":"FQI34*'Makro i swap'!FQG4","v":0},{"$f":"FQJ34*'Makro i swap'!FQH4","v":0},{"$f":"FQK34*'Makro i swap'!FQI4","v":0},{"$f":"FQL34*'Makro i swap'!FQJ4","v":0},{"$f":"FQM34*'Makro i swap'!FQK4","v":0},{"$f":"FQN34*'Makro i swap'!FQL4","v":0},{"$f":"FQO34*'Makro i swap'!FQM4","v":0},{"$f":"FQP34*'Makro i swap'!FQN4","v":0},{"$f":"FQQ34*'Makro i swap'!FQO4","v":0},{"$f":"FQR34*'Makro i swap'!FQP4","v":0},{"$f":"FQS34*'Makro i swap'!FQQ4","v":0},{"$f":"FQT34*'Makro i swap'!FQR4","v":0},{"$f":"FQU34*'Makro i swap'!FQS4","v":0},{"$f":"FQV34*'Makro i swap'!FQT4","v":0},{"$f":"FQW34*'Makro i swap'!FQU4","v":0},{"$f":"FQX34*'Makro i swap'!FQV4","v":0},{"$f":"FQY34*'Makro i swap'!FQW4","v":0},{"$f":"FQZ34*'Makro i swap'!FQX4","v":0},{"$f":"FRA34*'Makro i swap'!FQY4","v":0},{"$f":"FRB34*'Makro i swap'!FQZ4","v":0},{"$f":"FRC34*'Makro i swap'!FRA4","v":0},{"$f":"FRD34*'Makro i swap'!FRB4","v":0},{"$f":"FRE34*'Makro i swap'!FRC4","v":0},{"$f":"FRF34*'Makro i swap'!FRD4","v":0},{"$f":"FRG34*'Makro i swap'!FRE4","v":0},{"$f":"FRH34*'Makro i swap'!FRF4","v":0},{"$f":"FRI34*'Makro i swap'!FRG4","v":0},{"$f":"FRJ34*'Makro i swap'!FRH4","v":0},{"$f":"FRK34*'Makro i swap'!FRI4","v":0},{"$f":"FRL34*'Makro i swap'!FRJ4","v":0},{"$f":"FRM34*'Makro i swap'!FRK4","v":0},{"$f":"FRN34*'Makro i swap'!FRL4","v":0},{"$f":"FRO34*'Makro i swap'!FRM4","v":0},{"$f":"FRP34*'Makro i swap'!FRN4","v":0},{"$f":"FRQ34*'Makro i swap'!FRO4","v":0},{"$f":"FRR34*'Makro i swap'!FRP4","v":0},{"$f":"FRS34*'Makro i swap'!FRQ4","v":0},{"$f":"FRT34*'Makro i swap'!FRR4","v":0},{"$f":"FRU34*'Makro i swap'!FRS4","v":0},{"$f":"FRV34*'Makro i swap'!FRT4","v":0},{"$f":"FRW34*'Makro i swap'!FRU4","v":0},{"$f":"FRX34*'Makro i swap'!FRV4","v":0},{"$f":"FRY34*'Makro i swap'!FRW4","v":0},{"$f":"FRZ34*'Makro i swap'!FRX4","v":0},{"$f":"FSA34*'Makro i swap'!FRY4","v":0},{"$f":"FSB34*'Makro i swap'!FRZ4","v":0},{"$f":"FSC34*'Makro i swap'!FSA4","v":0},{"$f":"FSD34*'Makro i swap'!FSB4","v":0},{"$f":"FSE34*'Makro i swap'!FSC4","v":0},{"$f":"FSF34*'Makro i swap'!FSD4","v":0},{"$f":"FSG34*'Makro i swap'!FSE4","v":0},{"$f":"FSH34*'Makro i swap'!FSF4","v":0},{"$f":"FSI34*'Makro i swap'!FSG4","v":0},{"$f":"FSJ34*'Makro i swap'!FSH4","v":0},{"$f":"FSK34*'Makro i swap'!FSI4","v":0},{"$f":"FSL34*'Makro i swap'!FSJ4","v":0},{"$f":"FSM34*'Makro i swap'!FSK4","v":0},{"$f":"FSN34*'Makro i swap'!FSL4","v":0},{"$f":"FSO34*'Makro i swap'!FSM4","v":0},{"$f":"FSP34*'Makro i swap'!FSN4","v":0},{"$f":"FSQ34*'Makro i swap'!FSO4","v":0},{"$f":"FSR34*'Makro i swap'!FSP4","v":0},{"$f":"FSS34*'Makro i swap'!FSQ4","v":0},{"$f":"FST34*'Makro i swap'!FSR4","v":0},{"$f":"FSU34*'Makro i swap'!FSS4","v":0},{"$f":"FSV34*'Makro i swap'!FST4","v":0},{"$f":"FSW34*'Makro i swap'!FSU4","v":0},{"$f":"FSX34*'Makro i swap'!FSV4","v":0},{"$f":"FSY34*'Makro i swap'!FSW4","v":0},{"$f":"FSZ34*'Makro i swap'!FSX4","v":0},{"$f":"FTA34*'Makro i swap'!FSY4","v":0},{"$f":"FTB34*'Makro i swap'!FSZ4","v":0},{"$f":"FTC34*'Makro i swap'!FTA4","v":0},{"$f":"FTD34*'Makro i swap'!FTB4","v":0},{"$f":"FTE34*'Makro i swap'!FTC4","v":0},{"$f":"FTF34*'Makro i swap'!FTD4","v":0},{"$f":"FTG34*'Makro i swap'!FTE4","v":0},{"$f":"FTH34*'Makro i swap'!FTF4","v":0},{"$f":"FTI34*'Makro i swap'!FTG4","v":0},{"$f":"FTJ34*'Makro i swap'!FTH4","v":0},{"$f":"FTK34*'Makro i swap'!FTI4","v":0},{"$f":"FTL34*'Makro i swap'!FTJ4","v":0},{"$f":"FTM34*'Makro i swap'!FTK4","v":0},{"$f":"FTN34*'Makro i swap'!FTL4","v":0},{"$f":"FTO34*'Makro i swap'!FTM4","v":0},{"$f":"FTP34*'Makro i swap'!FTN4","v":0},{"$f":"FTQ34*'Makro i swap'!FTO4","v":0},{"$f":"FTR34*'Makro i swap'!FTP4","v":0},{"$f":"FTS34*'Makro i swap'!FTQ4","v":0},{"$f":"FTT34*'Makro i swap'!FTR4","v":0},{"$f":"FTU34*'Makro i swap'!FTS4","v":0},{"$f":"FTV34*'Makro i swap'!FTT4","v":0},{"$f":"FTW34*'Makro i swap'!FTU4","v":0},{"$f":"FTX34*'Makro i swap'!FTV4","v":0},{"$f":"FTY34*'Makro i swap'!FTW4","v":0},{"$f":"FTZ34*'Makro i swap'!FTX4","v":0},{"$f":"FUA34*'Makro i swap'!FTY4","v":0},{"$f":"FUB34*'Makro i swap'!FTZ4","v":0},{"$f":"FUC34*'Makro i swap'!FUA4","v":0},{"$f":"FUD34*'Makro i swap'!FUB4","v":0},{"$f":"FUE34*'Makro i swap'!FUC4","v":0},{"$f":"FUF34*'Makro i swap'!FUD4","v":0},{"$f":"FUG34*'Makro i swap'!FUE4","v":0},{"$f":"FUH34*'Makro i swap'!FUF4","v":0},{"$f":"FUI34*'Makro i swap'!FUG4","v":0},{"$f":"FUJ34*'Makro i swap'!FUH4","v":0},{"$f":"FUK34*'Makro i swap'!FUI4","v":0},{"$f":"FUL34*'Makro i swap'!FUJ4","v":0},{"$f":"FUM34*'Makro i swap'!FUK4","v":0},{"$f":"FUN34*'Makro i swap'!FUL4","v":0},{"$f":"FUO34*'Makro i swap'!FUM4","v":0},{"$f":"FUP34*'Makro i swap'!FUN4","v":0},{"$f":"FUQ34*'Makro i swap'!FUO4","v":0},{"$f":"FUR34*'Makro i swap'!FUP4","v":0},{"$f":"FUS34*'Makro i swap'!FUQ4","v":0},{"$f":"FUT34*'Makro i swap'!FUR4","v":0},{"$f":"FUU34*'Makro i swap'!FUS4","v":0},{"$f":"FUV34*'Makro i swap'!FUT4","v":0},{"$f":"FUW34*'Makro i swap'!FUU4","v":0},{"$f":"FUX34*'Makro i swap'!FUV4","v":0},{"$f":"FUY34*'Makro i swap'!FUW4","v":0},{"$f":"FUZ34*'Makro i swap'!FUX4","v":0},{"$f":"FVA34*'Makro i swap'!FUY4","v":0},{"$f":"FVB34*'Makro i swap'!FUZ4","v":0},{"$f":"FVC34*'Makro i swap'!FVA4","v":0},{"$f":"FVD34*'Makro i swap'!FVB4","v":0},{"$f":"FVE34*'Makro i swap'!FVC4","v":0},{"$f":"FVF34*'Makro i swap'!FVD4","v":0},{"$f":"FVG34*'Makro i swap'!FVE4","v":0},{"$f":"FVH34*'Makro i swap'!FVF4","v":0},{"$f":"FVI34*'Makro i swap'!FVG4","v":0},{"$f":"FVJ34*'Makro i swap'!FVH4","v":0},{"$f":"FVK34*'Makro i swap'!FVI4","v":0},{"$f":"FVL34*'Makro i swap'!FVJ4","v":0},{"$f":"FVM34*'Makro i swap'!FVK4","v":0},{"$f":"FVN34*'Makro i swap'!FVL4","v":0},{"$f":"FVO34*'Makro i swap'!FVM4","v":0},{"$f":"FVP34*'Makro i swap'!FVN4","v":0},{"$f":"FVQ34*'Makro i swap'!FVO4","v":0},{"$f":"FVR34*'Makro i swap'!FVP4","v":0},{"$f":"FVS34*'Makro i swap'!FVQ4","v":0},{"$f":"FVT34*'Makro i swap'!FVR4","v":0},{"$f":"FVU34*'Makro i swap'!FVS4","v":0},{"$f":"FVV34*'Makro i swap'!FVT4","v":0},{"$f":"FVW34*'Makro i swap'!FVU4","v":0},{"$f":"FVX34*'Makro i swap'!FVV4","v":0},{"$f":"FVY34*'Makro i swap'!FVW4","v":0},{"$f":"FVZ34*'Makro i swap'!FVX4","v":0},{"$f":"FWA34*'Makro i swap'!FVY4","v":0},{"$f":"FWB34*'Makro i swap'!FVZ4","v":0},{"$f":"FWC34*'Makro i swap'!FWA4","v":0},{"$f":"FWD34*'Makro i swap'!FWB4","v":0},{"$f":"FWE34*'Makro i swap'!FWC4","v":0},{"$f":"FWF34*'Makro i swap'!FWD4","v":0},{"$f":"FWG34*'Makro i swap'!FWE4","v":0},{"$f":"FWH34*'Makro i swap'!FWF4","v":0},{"$f":"FWI34*'Makro i swap'!FWG4","v":0},{"$f":"FWJ34*'Makro i swap'!FWH4","v":0},{"$f":"FWK34*'Makro i swap'!FWI4","v":0},{"$f":"FWL34*'Makro i swap'!FWJ4","v":0},{"$f":"FWM34*'Makro i swap'!FWK4","v":0},{"$f":"FWN34*'Makro i swap'!FWL4","v":0},{"$f":"FWO34*'Makro i swap'!FWM4","v":0},{"$f":"FWP34*'Makro i swap'!FWN4","v":0},{"$f":"FWQ34*'Makro i swap'!FWO4","v":0},{"$f":"FWR34*'Makro i swap'!FWP4","v":0},{"$f":"FWS34*'Makro i swap'!FWQ4","v":0},{"$f":"FWT34*'Makro i swap'!FWR4","v":0},{"$f":"FWU34*'Makro i swap'!FWS4","v":0},{"$f":"FWV34*'Makro i swap'!FWT4","v":0},{"$f":"FWW34*'Makro i swap'!FWU4","v":0},{"$f":"FWX34*'Makro i swap'!FWV4","v":0},{"$f":"FWY34*'Makro i swap'!FWW4","v":0},{"$f":"FWZ34*'Makro i swap'!FWX4","v":0},{"$f":"FXA34*'Makro i swap'!FWY4","v":0},{"$f":"FXB34*'Makro i swap'!FWZ4","v":0},{"$f":"FXC34*'Makro i swap'!FXA4","v":0},{"$f":"FXD34*'Makro i swap'!FXB4","v":0},{"$f":"FXE34*'Makro i swap'!FXC4","v":0},{"$f":"FXF34*'Makro i swap'!FXD4","v":0},{"$f":"FXG34*'Makro i swap'!FXE4","v":0},{"$f":"FXH34*'Makro i swap'!FXF4","v":0},{"$f":"FXI34*'Makro i swap'!FXG4","v":0},{"$f":"FXJ34*'Makro i swap'!FXH4","v":0},{"$f":"FXK34*'Makro i swap'!FXI4","v":0},{"$f":"FXL34*'Makro i swap'!FXJ4","v":0},{"$f":"FXM34*'Makro i swap'!FXK4","v":0},{"$f":"FXN34*'Makro i swap'!FXL4","v":0},{"$f":"FXO34*'Makro i swap'!FXM4","v":0},{"$f":"FXP34*'Makro i swap'!FXN4","v":0},{"$f":"FXQ34*'Makro i swap'!FXO4","v":0},{"$f":"FXR34*'Makro i swap'!FXP4","v":0},{"$f":"FXS34*'Makro i swap'!FXQ4","v":0},{"$f":"FXT34*'Makro i swap'!FXR4","v":0},{"$f":"FXU34*'Makro i swap'!FXS4","v":0},{"$f":"FXV34*'Makro i swap'!FXT4","v":0},{"$f":"FXW34*'Makro i swap'!FXU4","v":0},{"$f":"FXX34*'Makro i swap'!FXV4","v":0},{"$f":"FXY34*'Makro i swap'!FXW4","v":0},{"$f":"FXZ34*'Makro i swap'!FXX4","v":0},{"$f":"FYA34*'Makro i swap'!FXY4","v":0},{"$f":"FYB34*'Makro i swap'!FXZ4","v":0},{"$f":"FYC34*'Makro i swap'!FYA4","v":0},{"$f":"FYD34*'Makro i swap'!FYB4","v":0},{"$f":"FYE34*'Makro i swap'!FYC4","v":0},{"$f":"FYF34*'Makro i swap'!FYD4","v":0},{"$f":"FYG34*'Makro i swap'!FYE4","v":0},{"$f":"FYH34*'Makro i swap'!FYF4","v":0},{"$f":"FYI34*'Makro i swap'!FYG4","v":0},{"$f":"FYJ34*'Makro i swap'!FYH4","v":0},{"$f":"FYK34*'Makro i swap'!FYI4","v":0},{"$f":"FYL34*'Makro i swap'!FYJ4","v":0},{"$f":"FYM34*'Makro i swap'!FYK4","v":0},{"$f":"FYN34*'Makro i swap'!FYL4","v":0},{"$f":"FYO34*'Makro i swap'!FYM4","v":0},{"$f":"FYP34*'Makro i swap'!FYN4","v":0},{"$f":"FYQ34*'Makro i swap'!FYO4","v":0},{"$f":"FYR34*'Makro i swap'!FYP4","v":0},{"$f":"FYS34*'Makro i swap'!FYQ4","v":0},{"$f":"FYT34*'Makro i swap'!FYR4","v":0},{"$f":"FYU34*'Makro i swap'!FYS4","v":0},{"$f":"FYV34*'Makro i swap'!FYT4","v":0},{"$f":"FYW34*'Makro i swap'!FYU4","v":0},{"$f":"FYX34*'Makro i swap'!FYV4","v":0},{"$f":"FYY34*'Makro i swap'!FYW4","v":0},{"$f":"FYZ34*'Makro i swap'!FYX4","v":0},{"$f":"FZA34*'Makro i swap'!FYY4","v":0},{"$f":"FZB34*'Makro i swap'!FYZ4","v":0},{"$f":"FZC34*'Makro i swap'!FZA4","v":0},{"$f":"FZD34*'Makro i swap'!FZB4","v":0},{"$f":"FZE34*'Makro i swap'!FZC4","v":0},{"$f":"FZF34*'Makro i swap'!FZD4","v":0},{"$f":"FZG34*'Makro i swap'!FZE4","v":0},{"$f":"FZH34*'Makro i swap'!FZF4","v":0},{"$f":"FZI34*'Makro i swap'!FZG4","v":0},{"$f":"FZJ34*'Makro i swap'!FZH4","v":0},{"$f":"FZK34*'Makro i swap'!FZI4","v":0},{"$f":"FZL34*'Makro i swap'!FZJ4","v":0},{"$f":"FZM34*'Makro i swap'!FZK4","v":0},{"$f":"FZN34*'Makro i swap'!FZL4","v":0},{"$f":"FZO34*'Makro i swap'!FZM4","v":0},{"$f":"FZP34*'Makro i swap'!FZN4","v":0},{"$f":"FZQ34*'Makro i swap'!FZO4","v":0},{"$f":"FZR34*'Makro i swap'!FZP4","v":0},{"$f":"FZS34*'Makro i swap'!FZQ4","v":0},{"$f":"FZT34*'Makro i swap'!FZR4","v":0},{"$f":"FZU34*'Makro i swap'!FZS4","v":0},{"$f":"FZV34*'Makro i swap'!FZT4","v":0},{"$f":"FZW34*'Makro i swap'!FZU4","v":0},{"$f":"FZX34*'Makro i swap'!FZV4","v":0},{"$f":"FZY34*'Makro i swap'!FZW4","v":0},{"$f":"FZZ34*'Makro i swap'!FZX4","v":0},{"$f":"GAA34*'Makro i swap'!FZY4","v":0},{"$f":"GAB34*'Makro i swap'!FZZ4","v":0},{"$f":"GAC34*'Makro i swap'!GAA4","v":0},{"$f":"GAD34*'Makro i swap'!GAB4","v":0},{"$f":"GAE34*'Makro i swap'!GAC4","v":0},{"$f":"GAF34*'Makro i swap'!GAD4","v":0},{"$f":"GAG34*'Makro i swap'!GAE4","v":0},{"$f":"GAH34*'Makro i swap'!GAF4","v":0},{"$f":"GAI34*'Makro i swap'!GAG4","v":0},{"$f":"GAJ34*'Makro i swap'!GAH4","v":0},{"$f":"GAK34*'Makro i swap'!GAI4","v":0},{"$f":"GAL34*'Makro i swap'!GAJ4","v":0},{"$f":"GAM34*'Makro i swap'!GAK4","v":0},{"$f":"GAN34*'Makro i swap'!GAL4","v":0},{"$f":"GAO34*'Makro i swap'!GAM4","v":0},{"$f":"GAP34*'Makro i swap'!GAN4","v":0},{"$f":"GAQ34*'Makro i swap'!GAO4","v":0},{"$f":"GAR34*'Makro i swap'!GAP4","v":0},{"$f":"GAS34*'Makro i swap'!GAQ4","v":0},{"$f":"GAT34*'Makro i swap'!GAR4","v":0},{"$f":"GAU34*'Makro i swap'!GAS4","v":0},{"$f":"GAV34*'Makro i swap'!GAT4","v":0},{"$f":"GAW34*'Makro i swap'!GAU4","v":0},{"$f":"GAX34*'Makro i swap'!GAV4","v":0},{"$f":"GAY34*'Makro i swap'!GAW4","v":0},{"$f":"GAZ34*'Makro i swap'!GAX4","v":0},{"$f":"GBA34*'Makro i swap'!GAY4","v":0},{"$f":"GBB34*'Makro i swap'!GAZ4","v":0},{"$f":"GBC34*'Makro i swap'!GBA4","v":0},{"$f":"GBD34*'Makro i swap'!GBB4","v":0},{"$f":"GBE34*'Makro i swap'!GBC4","v":0},{"$f":"GBF34*'Makro i swap'!GBD4","v":0},{"$f":"GBG34*'Makro i swap'!GBE4","v":0},{"$f":"GBH34*'Makro i swap'!GBF4","v":0},{"$f":"GBI34*'Makro i swap'!GBG4","v":0},{"$f":"GBJ34*'Makro i swap'!GBH4","v":0},{"$f":"GBK34*'Makro i swap'!GBI4","v":0},{"$f":"GBL34*'Makro i swap'!GBJ4","v":0},{"$f":"GBM34*'Makro i swap'!GBK4","v":0},{"$f":"GBN34*'Makro i swap'!GBL4","v":0},{"$f":"GBO34*'Makro i swap'!GBM4","v":0},{"$f":"GBP34*'Makro i swap'!GBN4","v":0},{"$f":"GBQ34*'Makro i swap'!GBO4","v":0},{"$f":"GBR34*'Makro i swap'!GBP4","v":0},{"$f":"GBS34*'Makro i swap'!GBQ4","v":0},{"$f":"GBT34*'Makro i swap'!GBR4","v":0},{"$f":"GBU34*'Makro i swap'!GBS4","v":0},{"$f":"GBV34*'Makro i swap'!GBT4","v":0},{"$f":"GBW34*'Makro i swap'!GBU4","v":0},{"$f":"GBX34*'Makro i swap'!GBV4","v":0},{"$f":"GBY34*'Makro i swap'!GBW4","v":0},{"$f":"GBZ34*'Makro i swap'!GBX4","v":0},{"$f":"GCA34*'Makro i swap'!GBY4","v":0},{"$f":"GCB34*'Makro i swap'!GBZ4","v":0},{"$f":"GCC34*'Makro i swap'!GCA4","v":0},{"$f":"GCD34*'Makro i swap'!GCB4","v":0},{"$f":"GCE34*'Makro i swap'!GCC4","v":0},{"$f":"GCF34*'Makro i swap'!GCD4","v":0},{"$f":"GCG34*'Makro i swap'!GCE4","v":0},{"$f":"GCH34*'Makro i swap'!GCF4","v":0},{"$f":"GCI34*'Makro i swap'!GCG4","v":0},{"$f":"GCJ34*'Makro i swap'!GCH4","v":0},{"$f":"GCK34*'Makro i swap'!GCI4","v":0},{"$f":"GCL34*'Makro i swap'!GCJ4","v":0},{"$f":"GCM34*'Makro i swap'!GCK4","v":0},{"$f":"GCN34*'Makro i swap'!GCL4","v":0},{"$f":"GCO34*'Makro i swap'!GCM4","v":0},{"$f":"GCP34*'Makro i swap'!GCN4","v":0},{"$f":"GCQ34*'Makro i swap'!GCO4","v":0},{"$f":"GCR34*'Makro i swap'!GCP4","v":0},{"$f":"GCS34*'Makro i swap'!GCQ4","v":0},{"$f":"GCT34*'Makro i swap'!GCR4","v":0},{"$f":"GCU34*'Makro i swap'!GCS4","v":0},{"$f":"GCV34*'Makro i swap'!GCT4","v":0},{"$f":"GCW34*'Makro i swap'!GCU4","v":0},{"$f":"GCX34*'Makro i swap'!GCV4","v":0},{"$f":"GCY34*'Makro i swap'!GCW4","v":0},{"$f":"GCZ34*'Makro i swap'!GCX4","v":0},{"$f":"GDA34*'Makro i swap'!GCY4","v":0},{"$f":"GDB34*'Makro i swap'!GCZ4","v":0},{"$f":"GDC34*'Makro i swap'!GDA4","v":0},{"$f":"GDD34*'Makro i swap'!GDB4","v":0},{"$f":"GDE34*'Makro i swap'!GDC4","v":0},{"$f":"GDF34*'Makro i swap'!GDD4","v":0},{"$f":"GDG34*'Makro i swap'!GDE4","v":0},{"$f":"GDH34*'Makro i swap'!GDF4","v":0},{"$f":"GDI34*'Makro i swap'!GDG4","v":0},{"$f":"GDJ34*'Makro i swap'!GDH4","v":0},{"$f":"GDK34*'Makro i swap'!GDI4","v":0},{"$f":"GDL34*'Makro i swap'!GDJ4","v":0},{"$f":"GDM34*'Makro i swap'!GDK4","v":0},{"$f":"GDN34*'Makro i swap'!GDL4","v":0},{"$f":"GDO34*'Makro i swap'!GDM4","v":0},{"$f":"GDP34*'Makro i swap'!GDN4","v":0},{"$f":"GDQ34*'Makro i swap'!GDO4","v":0},{"$f":"GDR34*'Makro i swap'!GDP4","v":0},{"$f":"GDS34*'Makro i swap'!GDQ4","v":0},{"$f":"GDT34*'Makro i swap'!GDR4","v":0},{"$f":"GDU34*'Makro i swap'!GDS4","v":0},{"$f":"GDV34*'Makro i swap'!GDT4","v":0},{"$f":"GDW34*'Makro i swap'!GDU4","v":0},{"$f":"GDX34*'Makro i swap'!GDV4","v":0},{"$f":"GDY34*'Makro i swap'!GDW4","v":0},{"$f":"GDZ34*'Makro i swap'!GDX4","v":0},{"$f":"GEA34*'Makro i swap'!GDY4","v":0},{"$f":"GEB34*'Makro i swap'!GDZ4","v":0},{"$f":"GEC34*'Makro i swap'!GEA4","v":0},{"$f":"GED34*'Makro i swap'!GEB4","v":0},{"$f":"GEE34*'Makro i swap'!GEC4","v":0},{"$f":"GEF34*'Makro i swap'!GED4","v":0},{"$f":"GEG34*'Makro i swap'!GEE4","v":0},{"$f":"GEH34*'Makro i swap'!GEF4","v":0},{"$f":"GEI34*'Makro i swap'!GEG4","v":0},{"$f":"GEJ34*'Makro i swap'!GEH4","v":0},{"$f":"GEK34*'Makro i swap'!GEI4","v":0},{"$f":"GEL34*'Makro i swap'!GEJ4","v":0},{"$f":"GEM34*'Makro i swap'!GEK4","v":0},{"$f":"GEN34*'Makro i swap'!GEL4","v":0},{"$f":"GEO34*'Makro i swap'!GEM4","v":0},{"$f":"GEP34*'Makro i swap'!GEN4","v":0},{"$f":"GEQ34*'Makro i swap'!GEO4","v":0},{"$f":"GER34*'Makro i swap'!GEP4","v":0},{"$f":"GES34*'Makro i swap'!GEQ4","v":0},{"$f":"GET34*'Makro i swap'!GER4","v":0},{"$f":"GEU34*'Makro i swap'!GES4","v":0},{"$f":"GEV34*'Makro i swap'!GET4","v":0},{"$f":"GEW34*'Makro i swap'!GEU4","v":0},{"$f":"GEX34*'Makro i swap'!GEV4","v":0},{"$f":"GEY34*'Makro i swap'!GEW4","v":0},{"$f":"GEZ34*'Makro i swap'!GEX4","v":0},{"$f":"GFA34*'Makro i swap'!GEY4","v":0},{"$f":"GFB34*'Makro i swap'!GEZ4","v":0},{"$f":"GFC34*'Makro i swap'!GFA4","v":0},{"$f":"GFD34*'Makro i swap'!GFB4","v":0},{"$f":"GFE34*'Makro i swap'!GFC4","v":0},{"$f":"GFF34*'Makro i swap'!GFD4","v":0},{"$f":"GFG34*'Makro i swap'!GFE4","v":0},{"$f":"GFH34*'Makro i swap'!GFF4","v":0},{"$f":"GFI34*'Makro i swap'!GFG4","v":0},{"$f":"GFJ34*'Makro i swap'!GFH4","v":0},{"$f":"GFK34*'Makro i swap'!GFI4","v":0},{"$f":"GFL34*'Makro i swap'!GFJ4","v":0},{"$f":"GFM34*'Makro i swap'!GFK4","v":0},{"$f":"GFN34*'Makro i swap'!GFL4","v":0},{"$f":"GFO34*'Makro i swap'!GFM4","v":0},{"$f":"GFP34*'Makro i swap'!GFN4","v":0},{"$f":"GFQ34*'Makro i swap'!GFO4","v":0},{"$f":"GFR34*'Makro i swap'!GFP4","v":0},{"$f":"GFS34*'Makro i swap'!GFQ4","v":0},{"$f":"GFT34*'Makro i swap'!GFR4","v":0},{"$f":"GFU34*'Makro i swap'!GFS4","v":0},{"$f":"GFV34*'Makro i swap'!GFT4","v":0},{"$f":"GFW34*'Makro i swap'!GFU4","v":0},{"$f":"GFX34*'Makro i swap'!GFV4","v":0},{"$f":"GFY34*'Makro i swap'!GFW4","v":0},{"$f":"GFZ34*'Makro i swap'!GFX4","v":0},{"$f":"GGA34*'Makro i swap'!GFY4","v":0},{"$f":"GGB34*'Makro i swap'!GFZ4","v":0},{"$f":"GGC34*'Makro i swap'!GGA4","v":0},{"$f":"GGD34*'Makro i swap'!GGB4","v":0},{"$f":"GGE34*'Makro i swap'!GGC4","v":0},{"$f":"GGF34*'Makro i swap'!GGD4","v":0},{"$f":"GGG34*'Makro i swap'!GGE4","v":0},{"$f":"GGH34*'Makro i swap'!GGF4","v":0},{"$f":"GGI34*'Makro i swap'!GGG4","v":0},{"$f":"GGJ34*'Makro i swap'!GGH4","v":0},{"$f":"GGK34*'Makro i swap'!GGI4","v":0},{"$f":"GGL34*'Makro i swap'!GGJ4","v":0},{"$f":"GGM34*'Makro i swap'!GGK4","v":0},{"$f":"GGN34*'Makro i swap'!GGL4","v":0},{"$f":"GGO34*'Makro i swap'!GGM4","v":0},{"$f":"GGP34*'Makro i swap'!GGN4","v":0},{"$f":"GGQ34*'Makro i swap'!GGO4","v":0},{"$f":"GGR34*'Makro i swap'!GGP4","v":0},{"$f":"GGS34*'Makro i swap'!GGQ4","v":0},{"$f":"GGT34*'Makro i swap'!GGR4","v":0},{"$f":"GGU34*'Makro i swap'!GGS4","v":0},{"$f":"GGV34*'Makro i swap'!GGT4","v":0},{"$f":"GGW34*'Makro i swap'!GGU4","v":0},{"$f":"GGX34*'Makro i swap'!GGV4","v":0},{"$f":"GGY34*'Makro i swap'!GGW4","v":0},{"$f":"GGZ34*'Makro i swap'!GGX4","v":0},{"$f":"GHA34*'Makro i swap'!GGY4","v":0},{"$f":"GHB34*'Makro i swap'!GGZ4","v":0},{"$f":"GHC34*'Makro i swap'!GHA4","v":0},{"$f":"GHD34*'Makro i swap'!GHB4","v":0},{"$f":"GHE34*'Makro i swap'!GHC4","v":0},{"$f":"GHF34*'Makro i swap'!GHD4","v":0},{"$f":"GHG34*'Makro i swap'!GHE4","v":0},{"$f":"GHH34*'Makro i swap'!GHF4","v":0},{"$f":"GHI34*'Makro i swap'!GHG4","v":0},{"$f":"GHJ34*'Makro i swap'!GHH4","v":0},{"$f":"GHK34*'Makro i swap'!GHI4","v":0},{"$f":"GHL34*'Makro i swap'!GHJ4","v":0},{"$f":"GHM34*'Makro i swap'!GHK4","v":0},{"$f":"GHN34*'Makro i swap'!GHL4","v":0},{"$f":"GHO34*'Makro i swap'!GHM4","v":0},{"$f":"GHP34*'Makro i swap'!GHN4","v":0},{"$f":"GHQ34*'Makro i swap'!GHO4","v":0},{"$f":"GHR34*'Makro i swap'!GHP4","v":0},{"$f":"GHS34*'Makro i swap'!GHQ4","v":0},{"$f":"GHT34*'Makro i swap'!GHR4","v":0},{"$f":"GHU34*'Makro i swap'!GHS4","v":0},{"$f":"GHV34*'Makro i swap'!GHT4","v":0},{"$f":"GHW34*'Makro i swap'!GHU4","v":0},{"$f":"GHX34*'Makro i swap'!GHV4","v":0},{"$f":"GHY34*'Makro i swap'!GHW4","v":0},{"$f":"GHZ34*'Makro i swap'!GHX4","v":0},{"$f":"GIA34*'Makro i swap'!GHY4","v":0},{"$f":"GIB34*'Makro i swap'!GHZ4","v":0},{"$f":"GIC34*'Makro i swap'!GIA4","v":0},{"$f":"GID34*'Makro i swap'!GIB4","v":0},{"$f":"GIE34*'Makro i swap'!GIC4","v":0},{"$f":"GIF34*'Makro i swap'!GID4","v":0},{"$f":"GIG34*'Makro i swap'!GIE4","v":0},{"$f":"GIH34*'Makro i swap'!GIF4","v":0},{"$f":"GII34*'Makro i swap'!GIG4","v":0},{"$f":"GIJ34*'Makro i swap'!GIH4","v":0},{"$f":"GIK34*'Makro i swap'!GII4","v":0},{"$f":"GIL34*'Makro i swap'!GIJ4","v":0},{"$f":"GIM34*'Makro i swap'!GIK4","v":0},{"$f":"GIN34*'Makro i swap'!GIL4","v":0},{"$f":"GIO34*'Makro i swap'!GIM4","v":0},{"$f":"GIP34*'Makro i swap'!GIN4","v":0},{"$f":"GIQ34*'Makro i swap'!GIO4","v":0},{"$f":"GIR34*'Makro i swap'!GIP4","v":0},{"$f":"GIS34*'Makro i swap'!GIQ4","v":0},{"$f":"GIT34*'Makro i swap'!GIR4","v":0},{"$f":"GIU34*'Makro i swap'!GIS4","v":0},{"$f":"GIV34*'Makro i swap'!GIT4","v":0},{"$f":"GIW34*'Makro i swap'!GIU4","v":0},{"$f":"GIX34*'Makro i swap'!GIV4","v":0},{"$f":"GIY34*'Makro i swap'!GIW4","v":0},{"$f":"GIZ34*'Makro i swap'!GIX4","v":0},{"$f":"GJA34*'Makro i swap'!GIY4","v":0},{"$f":"GJB34*'Makro i swap'!GIZ4","v":0},{"$f":"GJC34*'Makro i swap'!GJA4","v":0},{"$f":"GJD34*'Makro i swap'!GJB4","v":0},{"$f":"GJE34*'Makro i swap'!GJC4","v":0},{"$f":"GJF34*'Makro i swap'!GJD4","v":0},{"$f":"GJG34*'Makro i swap'!GJE4","v":0},{"$f":"GJH34*'Makro i swap'!GJF4","v":0},{"$f":"GJI34*'Makro i swap'!GJG4","v":0},{"$f":"GJJ34*'Makro i swap'!GJH4","v":0},{"$f":"GJK34*'Makro i swap'!GJI4","v":0},{"$f":"GJL34*'Makro i swap'!GJJ4","v":0},{"$f":"GJM34*'Makro i swap'!GJK4","v":0},{"$f":"GJN34*'Makro i swap'!GJL4","v":0},{"$f":"GJO34*'Makro i swap'!GJM4","v":0},{"$f":"GJP34*'Makro i swap'!GJN4","v":0},{"$f":"GJQ34*'Makro i swap'!GJO4","v":0},{"$f":"GJR34*'Makro i swap'!GJP4","v":0},{"$f":"GJS34*'Makro i swap'!GJQ4","v":0},{"$f":"GJT34*'Makro i swap'!GJR4","v":0},{"$f":"GJU34*'Makro i swap'!GJS4","v":0},{"$f":"GJV34*'Makro i swap'!GJT4","v":0},{"$f":"GJW34*'Makro i swap'!GJU4","v":0},{"$f":"GJX34*'Makro i swap'!GJV4","v":0},{"$f":"GJY34*'Makro i swap'!GJW4","v":0},{"$f":"GJZ34*'Makro i swap'!GJX4","v":0},{"$f":"GKA34*'Makro i swap'!GJY4","v":0},{"$f":"GKB34*'Makro i swap'!GJZ4","v":0},{"$f":"GKC34*'Makro i swap'!GKA4","v":0},{"$f":"GKD34*'Makro i swap'!GKB4","v":0},{"$f":"GKE34*'Makro i swap'!GKC4","v":0},{"$f":"GKF34*'Makro i swap'!GKD4","v":0},{"$f":"GKG34*'Makro i swap'!GKE4","v":0},{"$f":"GKH34*'Makro i swap'!GKF4","v":0},{"$f":"GKI34*'Makro i swap'!GKG4","v":0},{"$f":"GKJ34*'Makro i swap'!GKH4","v":0},{"$f":"GKK34*'Makro i swap'!GKI4","v":0},{"$f":"GKL34*'Makro i swap'!GKJ4","v":0},{"$f":"GKM34*'Makro i swap'!GKK4","v":0},{"$f":"GKN34*'Makro i swap'!GKL4","v":0},{"$f":"GKO34*'Makro i swap'!GKM4","v":0},{"$f":"GKP34*'Makro i swap'!GKN4","v":0},{"$f":"GKQ34*'Makro i swap'!GKO4","v":0},{"$f":"GKR34*'Makro i swap'!GKP4","v":0},{"$f":"GKS34*'Makro i swap'!GKQ4","v":0},{"$f":"GKT34*'Makro i swap'!GKR4","v":0},{"$f":"GKU34*'Makro i swap'!GKS4","v":0},{"$f":"GKV34*'Makro i swap'!GKT4","v":0},{"$f":"GKW34*'Makro i swap'!GKU4","v":0},{"$f":"GKX34*'Makro i swap'!GKV4","v":0},{"$f":"GKY34*'Makro i swap'!GKW4","v":0},{"$f":"GKZ34*'Makro i swap'!GKX4","v":0},{"$f":"GLA34*'Makro i swap'!GKY4","v":0},{"$f":"GLB34*'Makro i swap'!GKZ4","v":0},{"$f":"GLC34*'Makro i swap'!GLA4","v":0},{"$f":"GLD34*'Makro i swap'!GLB4","v":0},{"$f":"GLE34*'Makro i swap'!GLC4","v":0},{"$f":"GLF34*'Makro i swap'!GLD4","v":0},{"$f":"GLG34*'Makro i swap'!GLE4","v":0},{"$f":"GLH34*'Makro i swap'!GLF4","v":0},{"$f":"GLI34*'Makro i swap'!GLG4","v":0},{"$f":"GLJ34*'Makro i swap'!GLH4","v":0},{"$f":"GLK34*'Makro i swap'!GLI4","v":0},{"$f":"GLL34*'Makro i swap'!GLJ4","v":0},{"$f":"GLM34*'Makro i swap'!GLK4","v":0},{"$f":"GLN34*'Makro i swap'!GLL4","v":0},{"$f":"GLO34*'Makro i swap'!GLM4","v":0},{"$f":"GLP34*'Makro i swap'!GLN4","v":0},{"$f":"GLQ34*'Makro i swap'!GLO4","v":0},{"$f":"GLR34*'Makro i swap'!GLP4","v":0},{"$f":"GLS34*'Makro i swap'!GLQ4","v":0},{"$f":"GLT34*'Makro i swap'!GLR4","v":0},{"$f":"GLU34*'Makro i swap'!GLS4","v":0},{"$f":"GLV34*'Makro i swap'!GLT4","v":0},{"$f":"GLW34*'Makro i swap'!GLU4","v":0},{"$f":"GLX34*'Makro i swap'!GLV4","v":0},{"$f":"GLY34*'Makro i swap'!GLW4","v":0},{"$f":"GLZ34*'Makro i swap'!GLX4","v":0},{"$f":"GMA34*'Makro i swap'!GLY4","v":0},{"$f":"GMB34*'Makro i swap'!GLZ4","v":0},{"$f":"GMC34*'Makro i swap'!GMA4","v":0},{"$f":"GMD34*'Makro i swap'!GMB4","v":0},{"$f":"GME34*'Makro i swap'!GMC4","v":0},{"$f":"GMF34*'Makro i swap'!GMD4","v":0},{"$f":"GMG34*'Makro i swap'!GME4","v":0},{"$f":"GMH34*'Makro i swap'!GMF4","v":0},{"$f":"GMI34*'Makro i swap'!GMG4","v":0},{"$f":"GMJ34*'Makro i swap'!GMH4","v":0},{"$f":"GMK34*'Makro i swap'!GMI4","v":0},{"$f":"GML34*'Makro i swap'!GMJ4","v":0},{"$f":"GMM34*'Makro i swap'!GMK4","v":0},{"$f":"GMN34*'Makro i swap'!GML4","v":0},{"$f":"GMO34*'Makro i swap'!GMM4","v":0},{"$f":"GMP34*'Makro i swap'!GMN4","v":0},{"$f":"GMQ34*'Makro i swap'!GMO4","v":0},{"$f":"GMR34*'Makro i swap'!GMP4","v":0},{"$f":"GMS34*'Makro i swap'!GMQ4","v":0},{"$f":"GMT34*'Makro i swap'!GMR4","v":0},{"$f":"GMU34*'Makro i swap'!GMS4","v":0},{"$f":"GMV34*'Makro i swap'!GMT4","v":0},{"$f":"GMW34*'Makro i swap'!GMU4","v":0},{"$f":"GMX34*'Makro i swap'!GMV4","v":0},{"$f":"GMY34*'Makro i swap'!GMW4","v":0},{"$f":"GMZ34*'Makro i swap'!GMX4","v":0},{"$f":"GNA34*'Makro i swap'!GMY4","v":0},{"$f":"GNB34*'Makro i swap'!GMZ4","v":0},{"$f":"GNC34*'Makro i swap'!GNA4","v":0},{"$f":"GND34*'Makro i swap'!GNB4","v":0},{"$f":"GNE34*'Makro i swap'!GNC4","v":0},{"$f":"GNF34*'Makro i swap'!GND4","v":0},{"$f":"GNG34*'Makro i swap'!GNE4","v":0},{"$f":"GNH34*'Makro i swap'!GNF4","v":0},{"$f":"GNI34*'Makro i swap'!GNG4","v":0},{"$f":"GNJ34*'Makro i swap'!GNH4","v":0},{"$f":"GNK34*'Makro i swap'!GNI4","v":0},{"$f":"GNL34*'Makro i swap'!GNJ4","v":0},{"$f":"GNM34*'Makro i swap'!GNK4","v":0},{"$f":"GNN34*'Makro i swap'!GNL4","v":0},{"$f":"GNO34*'Makro i swap'!GNM4","v":0},{"$f":"GNP34*'Makro i swap'!GNN4","v":0},{"$f":"GNQ34*'Makro i swap'!GNO4","v":0},{"$f":"GNR34*'Makro i swap'!GNP4","v":0},{"$f":"GNS34*'Makro i swap'!GNQ4","v":0},{"$f":"GNT34*'Makro i swap'!GNR4","v":0},{"$f":"GNU34*'Makro i swap'!GNS4","v":0},{"$f":"GNV34*'Makro i swap'!GNT4","v":0},{"$f":"GNW34*'Makro i swap'!GNU4","v":0},{"$f":"GNX34*'Makro i swap'!GNV4","v":0},{"$f":"GNY34*'Makro i swap'!GNW4","v":0},{"$f":"GNZ34*'Makro i swap'!GNX4","v":0},{"$f":"GOA34*'Makro i swap'!GNY4","v":0},{"$f":"GOB34*'Makro i swap'!GNZ4","v":0},{"$f":"GOC34*'Makro i swap'!GOA4","v":0},{"$f":"GOD34*'Makro i swap'!GOB4","v":0},{"$f":"GOE34*'Makro i swap'!GOC4","v":0},{"$f":"GOF34*'Makro i swap'!GOD4","v":0},{"$f":"GOG34*'Makro i swap'!GOE4","v":0},{"$f":"GOH34*'Makro i swap'!GOF4","v":0},{"$f":"GOI34*'Makro i swap'!GOG4","v":0},{"$f":"GOJ34*'Makro i swap'!GOH4","v":0},{"$f":"GOK34*'Makro i swap'!GOI4","v":0},{"$f":"GOL34*'Makro i swap'!GOJ4","v":0},{"$f":"GOM34*'Makro i swap'!GOK4","v":0},{"$f":"GON34*'Makro i swap'!GOL4","v":0},{"$f":"GOO34*'Makro i swap'!GOM4","v":0},{"$f":"GOP34*'Makro i swap'!GON4","v":0},{"$f":"GOQ34*'Makro i swap'!GOO4","v":0},{"$f":"GOR34*'Makro i swap'!GOP4","v":0},{"$f":"GOS34*'Makro i swap'!GOQ4","v":0},{"$f":"GOT34*'Makro i swap'!GOR4","v":0},{"$f":"GOU34*'Makro i swap'!GOS4","v":0},{"$f":"GOV34*'Makro i swap'!GOT4","v":0},{"$f":"GOW34*'Makro i swap'!GOU4","v":0},{"$f":"GOX34*'Makro i swap'!GOV4","v":0},{"$f":"GOY34*'Makro i swap'!GOW4","v":0},{"$f":"GOZ34*'Makro i swap'!GOX4","v":0},{"$f":"GPA34*'Makro i swap'!GOY4","v":0},{"$f":"GPB34*'Makro i swap'!GOZ4","v":0},{"$f":"GPC34*'Makro i swap'!GPA4","v":0},{"$f":"GPD34*'Makro i swap'!GPB4","v":0},{"$f":"GPE34*'Makro i swap'!GPC4","v":0},{"$f":"GPF34*'Makro i swap'!GPD4","v":0},{"$f":"GPG34*'Makro i swap'!GPE4","v":0},{"$f":"GPH34*'Makro i swap'!GPF4","v":0},{"$f":"GPI34*'Makro i swap'!GPG4","v":0},{"$f":"GPJ34*'Makro i swap'!GPH4","v":0},{"$f":"GPK34*'Makro i swap'!GPI4","v":0},{"$f":"GPL34*'Makro i swap'!GPJ4","v":0},{"$f":"GPM34*'Makro i swap'!GPK4","v":0},{"$f":"GPN34*'Makro i swap'!GPL4","v":0},{"$f":"GPO34*'Makro i swap'!GPM4","v":0},{"$f":"GPP34*'Makro i swap'!GPN4","v":0},{"$f":"GPQ34*'Makro i swap'!GPO4","v":0},{"$f":"GPR34*'Makro i swap'!GPP4","v":0},{"$f":"GPS34*'Makro i swap'!GPQ4","v":0},{"$f":"GPT34*'Makro i swap'!GPR4","v":0},{"$f":"GPU34*'Makro i swap'!GPS4","v":0},{"$f":"GPV34*'Makro i swap'!GPT4","v":0},{"$f":"GPW34*'Makro i swap'!GPU4","v":0},{"$f":"GPX34*'Makro i swap'!GPV4","v":0},{"$f":"GPY34*'Makro i swap'!GPW4","v":0},{"$f":"GPZ34*'Makro i swap'!GPX4","v":0},{"$f":"GQA34*'Makro i swap'!GPY4","v":0},{"$f":"GQB34*'Makro i swap'!GPZ4","v":0},{"$f":"GQC34*'Makro i swap'!GQA4","v":0},{"$f":"GQD34*'Makro i swap'!GQB4","v":0},{"$f":"GQE34*'Makro i swap'!GQC4","v":0},{"$f":"GQF34*'Makro i swap'!GQD4","v":0},{"$f":"GQG34*'Makro i swap'!GQE4","v":0},{"$f":"GQH34*'Makro i swap'!GQF4","v":0},{"$f":"GQI34*'Makro i swap'!GQG4","v":0},{"$f":"GQJ34*'Makro i swap'!GQH4","v":0},{"$f":"GQK34*'Makro i swap'!GQI4","v":0},{"$f":"GQL34*'Makro i swap'!GQJ4","v":0},{"$f":"GQM34*'Makro i swap'!GQK4","v":0},{"$f":"GQN34*'Makro i swap'!GQL4","v":0},{"$f":"GQO34*'Makro i swap'!GQM4","v":0},{"$f":"GQP34*'Makro i swap'!GQN4","v":0},{"$f":"GQQ34*'Makro i swap'!GQO4","v":0},{"$f":"GQR34*'Makro i swap'!GQP4","v":0},{"$f":"GQS34*'Makro i swap'!GQQ4","v":0},{"$f":"GQT34*'Makro i swap'!GQR4","v":0},{"$f":"GQU34*'Makro i swap'!GQS4","v":0},{"$f":"GQV34*'Makro i swap'!GQT4","v":0},{"$f":"GQW34*'Makro i swap'!GQU4","v":0},{"$f":"GQX34*'Makro i swap'!GQV4","v":0},{"$f":"GQY34*'Makro i swap'!GQW4","v":0},{"$f":"GQZ34*'Makro i swap'!GQX4","v":0},{"$f":"GRA34*'Makro i swap'!GQY4","v":0},{"$f":"GRB34*'Makro i swap'!GQZ4","v":0},{"$f":"GRC34*'Makro i swap'!GRA4","v":0},{"$f":"GRD34*'Makro i swap'!GRB4","v":0},{"$f":"GRE34*'Makro i swap'!GRC4","v":0},{"$f":"GRF34*'Makro i swap'!GRD4","v":0},{"$f":"GRG34*'Makro i swap'!GRE4","v":0},{"$f":"GRH34*'Makro i swap'!GRF4","v":0},{"$f":"GRI34*'Makro i swap'!GRG4","v":0},{"$f":"GRJ34*'Makro i swap'!GRH4","v":0},{"$f":"GRK34*'Makro i swap'!GRI4","v":0},{"$f":"GRL34*'Makro i swap'!GRJ4","v":0},{"$f":"GRM34*'Makro i swap'!GRK4","v":0},{"$f":"GRN34*'Makro i swap'!GRL4","v":0},{"$f":"GRO34*'Makro i swap'!GRM4","v":0},{"$f":"GRP34*'Makro i swap'!GRN4","v":0},{"$f":"GRQ34*'Makro i swap'!GRO4","v":0},{"$f":"GRR34*'Makro i swap'!GRP4","v":0},{"$f":"GRS34*'Makro i swap'!GRQ4","v":0},{"$f":"GRT34*'Makro i swap'!GRR4","v":0},{"$f":"GRU34*'Makro i swap'!GRS4","v":0},{"$f":"GRV34*'Makro i swap'!GRT4","v":0},{"$f":"GRW34*'Makro i swap'!GRU4","v":0},{"$f":"GRX34*'Makro i swap'!GRV4","v":0},{"$f":"GRY34*'Makro i swap'!GRW4","v":0},{"$f":"GRZ34*'Makro i swap'!GRX4","v":0},{"$f":"GSA34*'Makro i swap'!GRY4","v":0},{"$f":"GSB34*'Makro i swap'!GRZ4","v":0},{"$f":"GSC34*'Makro i swap'!GSA4","v":0},{"$f":"GSD34*'Makro i swap'!GSB4","v":0},{"$f":"GSE34*'Makro i swap'!GSC4","v":0},{"$f":"GSF34*'Makro i swap'!GSD4","v":0},{"$f":"GSG34*'Makro i swap'!GSE4","v":0},{"$f":"GSH34*'Makro i swap'!GSF4","v":0},{"$f":"GSI34*'Makro i swap'!GSG4","v":0},{"$f":"GSJ34*'Makro i swap'!GSH4","v":0},{"$f":"GSK34*'Makro i swap'!GSI4","v":0},{"$f":"GSL34*'Makro i swap'!GSJ4","v":0},{"$f":"GSM34*'Makro i swap'!GSK4","v":0},{"$f":"GSN34*'Makro i swap'!GSL4","v":0},{"$f":"GSO34*'Makro i swap'!GSM4","v":0},{"$f":"GSP34*'Makro i swap'!GSN4","v":0},{"$f":"GSQ34*'Makro i swap'!GSO4","v":0},{"$f":"GSR34*'Makro i swap'!GSP4","v":0},{"$f":"GSS34*'Makro i swap'!GSQ4","v":0},{"$f":"GST34*'Makro i swap'!GSR4","v":0},{"$f":"GSU34*'Makro i swap'!GSS4","v":0},{"$f":"GSV34*'Makro i swap'!GST4","v":0},{"$f":"GSW34*'Makro i swap'!GSU4","v":0},{"$f":"GSX34*'Makro i swap'!GSV4","v":0},{"$f":"GSY34*'Makro i swap'!GSW4","v":0},{"$f":"GSZ34*'Makro i swap'!GSX4","v":0},{"$f":"GTA34*'Makro i swap'!GSY4","v":0},{"$f":"GTB34*'Makro i swap'!GSZ4","v":0},{"$f":"GTC34*'Makro i swap'!GTA4","v":0},{"$f":"GTD34*'Makro i swap'!GTB4","v":0},{"$f":"GTE34*'Makro i swap'!GTC4","v":0},{"$f":"GTF34*'Makro i swap'!GTD4","v":0},{"$f":"GTG34*'Makro i swap'!GTE4","v":0},{"$f":"GTH34*'Makro i swap'!GTF4","v":0},{"$f":"GTI34*'Makro i swap'!GTG4","v":0},{"$f":"GTJ34*'Makro i swap'!GTH4","v":0},{"$f":"GTK34*'Makro i swap'!GTI4","v":0},{"$f":"GTL34*'Makro i swap'!GTJ4","v":0},{"$f":"GTM34*'Makro i swap'!GTK4","v":0},{"$f":"GTN34*'Makro i swap'!GTL4","v":0},{"$f":"GTO34*'Makro i swap'!GTM4","v":0},{"$f":"GTP34*'Makro i swap'!GTN4","v":0},{"$f":"GTQ34*'Makro i swap'!GTO4","v":0},{"$f":"GTR34*'Makro i swap'!GTP4","v":0},{"$f":"GTS34*'Makro i swap'!GTQ4","v":0},{"$f":"GTT34*'Makro i swap'!GTR4","v":0},{"$f":"GTU34*'Makro i swap'!GTS4","v":0},{"$f":"GTV34*'Makro i swap'!GTT4","v":0},{"$f":"GTW34*'Makro i swap'!GTU4","v":0},{"$f":"GTX34*'Makro i swap'!GTV4","v":0},{"$f":"GTY34*'Makro i swap'!GTW4","v":0},{"$f":"GTZ34*'Makro i swap'!GTX4","v":0},{"$f":"GUA34*'Makro i swap'!GTY4","v":0},{"$f":"GUB34*'Makro i swap'!GTZ4","v":0},{"$f":"GUC34*'Makro i swap'!GUA4","v":0},{"$f":"GUD34*'Makro i swap'!GUB4","v":0},{"$f":"GUE34*'Makro i swap'!GUC4","v":0},{"$f":"GUF34*'Makro i swap'!GUD4","v":0},{"$f":"GUG34*'Makro i swap'!GUE4","v":0},{"$f":"GUH34*'Makro i swap'!GUF4","v":0},{"$f":"GUI34*'Makro i swap'!GUG4","v":0},{"$f":"GUJ34*'Makro i swap'!GUH4","v":0},{"$f":"GUK34*'Makro i swap'!GUI4","v":0},{"$f":"GUL34*'Makro i swap'!GUJ4","v":0},{"$f":"GUM34*'Makro i swap'!GUK4","v":0},{"$f":"GUN34*'Makro i swap'!GUL4","v":0},{"$f":"GUO34*'Makro i swap'!GUM4","v":0},{"$f":"GUP34*'Makro i swap'!GUN4","v":0},{"$f":"GUQ34*'Makro i swap'!GUO4","v":0},{"$f":"GUR34*'Makro i swap'!GUP4","v":0},{"$f":"GUS34*'Makro i swap'!GUQ4","v":0},{"$f":"GUT34*'Makro i swap'!GUR4","v":0},{"$f":"GUU34*'Makro i swap'!GUS4","v":0},{"$f":"GUV34*'Makro i swap'!GUT4","v":0},{"$f":"GUW34*'Makro i swap'!GUU4","v":0},{"$f":"GUX34*'Makro i swap'!GUV4","v":0},{"$f":"GUY34*'Makro i swap'!GUW4","v":0},{"$f":"GUZ34*'Makro i swap'!GUX4","v":0},{"$f":"GVA34*'Makro i swap'!GUY4","v":0},{"$f":"GVB34*'Makro i swap'!GUZ4","v":0},{"$f":"GVC34*'Makro i swap'!GVA4","v":0},{"$f":"GVD34*'Makro i swap'!GVB4","v":0},{"$f":"GVE34*'Makro i swap'!GVC4","v":0},{"$f":"GVF34*'Makro i swap'!GVD4","v":0},{"$f":"GVG34*'Makro i swap'!GVE4","v":0},{"$f":"GVH34*'Makro i swap'!GVF4","v":0},{"$f":"GVI34*'Makro i swap'!GVG4","v":0},{"$f":"GVJ34*'Makro i swap'!GVH4","v":0},{"$f":"GVK34*'Makro i swap'!GVI4","v":0},{"$f":"GVL34*'Makro i swap'!GVJ4","v":0},{"$f":"GVM34*'Makro i swap'!GVK4","v":0},{"$f":"GVN34*'Makro i swap'!GVL4","v":0},{"$f":"GVO34*'Makro i swap'!GVM4","v":0},{"$f":"GVP34*'Makro i swap'!GVN4","v":0},{"$f":"GVQ34*'Makro i swap'!GVO4","v":0},{"$f":"GVR34*'Makro i swap'!GVP4","v":0},{"$f":"GVS34*'Makro i swap'!GVQ4","v":0},{"$f":"GVT34*'Makro i swap'!GVR4","v":0},{"$f":"GVU34*'Makro i swap'!GVS4","v":0},{"$f":"GVV34*'Makro i swap'!GVT4","v":0},{"$f":"GVW34*'Makro i swap'!GVU4","v":0},{"$f":"GVX34*'Makro i swap'!GVV4","v":0},{"$f":"GVY34*'Makro i swap'!GVW4","v":0},{"$f":"GVZ34*'Makro i swap'!GVX4","v":0},{"$f":"GWA34*'Makro i swap'!GVY4","v":0},{"$f":"GWB34*'Makro i swap'!GVZ4","v":0},{"$f":"GWC34*'Makro i swap'!GWA4","v":0},{"$f":"GWD34*'Makro i swap'!GWB4","v":0},{"$f":"GWE34*'Makro i swap'!GWC4","v":0},{"$f":"GWF34*'Makro i swap'!GWD4","v":0},{"$f":"GWG34*'Makro i swap'!GWE4","v":0},{"$f":"GWH34*'Makro i swap'!GWF4","v":0},{"$f":"GWI34*'Makro i swap'!GWG4","v":0},{"$f":"GWJ34*'Makro i swap'!GWH4","v":0},{"$f":"GWK34*'Makro i swap'!GWI4","v":0},{"$f":"GWL34*'Makro i swap'!GWJ4","v":0},{"$f":"GWM34*'Makro i swap'!GWK4","v":0},{"$f":"GWN34*'Makro i swap'!GWL4","v":0},{"$f":"GWO34*'Makro i swap'!GWM4","v":0},{"$f":"GWP34*'Makro i swap'!GWN4","v":0},{"$f":"GWQ34*'Makro i swap'!GWO4","v":0},{"$f":"GWR34*'Makro i swap'!GWP4","v":0},{"$f":"GWS34*'Makro i swap'!GWQ4","v":0},{"$f":"GWT34*'Makro i swap'!GWR4","v":0},{"$f":"GWU34*'Makro i swap'!GWS4","v":0},{"$f":"GWV34*'Makro i swap'!GWT4","v":0},{"$f":"GWW34*'Makro i swap'!GWU4","v":0},{"$f":"GWX34*'Makro i swap'!GWV4","v":0},{"$f":"GWY34*'Makro i swap'!GWW4","v":0},{"$f":"GWZ34*'Makro i swap'!GWX4","v":0},{"$f":"GXA34*'Makro i swap'!GWY4","v":0},{"$f":"GXB34*'Makro i swap'!GWZ4","v":0},{"$f":"GXC34*'Makro i swap'!GXA4","v":0},{"$f":"GXD34*'Makro i swap'!GXB4","v":0},{"$f":"GXE34*'Makro i swap'!GXC4","v":0},{"$f":"GXF34*'Makro i swap'!GXD4","v":0},{"$f":"GXG34*'Makro i swap'!GXE4","v":0},{"$f":"GXH34*'Makro i swap'!GXF4","v":0},{"$f":"GXI34*'Makro i swap'!GXG4","v":0},{"$f":"GXJ34*'Makro i swap'!GXH4","v":0},{"$f":"GXK34*'Makro i swap'!GXI4","v":0},{"$f":"GXL34*'Makro i swap'!GXJ4","v":0},{"$f":"GXM34*'Makro i swap'!GXK4","v":0},{"$f":"GXN34*'Makro i swap'!GXL4","v":0},{"$f":"GXO34*'Makro i swap'!GXM4","v":0},{"$f":"GXP34*'Makro i swap'!GXN4","v":0},{"$f":"GXQ34*'Makro i swap'!GXO4","v":0},{"$f":"GXR34*'Makro i swap'!GXP4","v":0},{"$f":"GXS34*'Makro i swap'!GXQ4","v":0},{"$f":"GXT34*'Makro i swap'!GXR4","v":0},{"$f":"GXU34*'Makro i swap'!GXS4","v":0},{"$f":"GXV34*'Makro i swap'!GXT4","v":0},{"$f":"GXW34*'Makro i swap'!GXU4","v":0},{"$f":"GXX34*'Makro i swap'!GXV4","v":0},{"$f":"GXY34*'Makro i swap'!GXW4","v":0},{"$f":"GXZ34*'Makro i swap'!GXX4","v":0},{"$f":"GYA34*'Makro i swap'!GXY4","v":0},{"$f":"GYB34*'Makro i swap'!GXZ4","v":0},{"$f":"GYC34*'Makro i swap'!GYA4","v":0},{"$f":"GYD34*'Makro i swap'!GYB4","v":0},{"$f":"GYE34*'Makro i swap'!GYC4","v":0},{"$f":"GYF34*'Makro i swap'!GYD4","v":0},{"$f":"GYG34*'Makro i swap'!GYE4","v":0},{"$f":"GYH34*'Makro i swap'!GYF4","v":0},{"$f":"GYI34*'Makro i swap'!GYG4","v":0},{"$f":"GYJ34*'Makro i swap'!GYH4","v":0},{"$f":"GYK34*'Makro i swap'!GYI4","v":0},{"$f":"GYL34*'Makro i swap'!GYJ4","v":0},{"$f":"GYM34*'Makro i swap'!GYK4","v":0},{"$f":"GYN34*'Makro i swap'!GYL4","v":0},{"$f":"GYO34*'Makro i swap'!GYM4","v":0},{"$f":"GYP34*'Makro i swap'!GYN4","v":0},{"$f":"GYQ34*'Makro i swap'!GYO4","v":0},{"$f":"GYR34*'Makro i swap'!GYP4","v":0},{"$f":"GYS34*'Makro i swap'!GYQ4","v":0},{"$f":"GYT34*'Makro i swap'!GYR4","v":0},{"$f":"GYU34*'Makro i swap'!GYS4","v":0},{"$f":"GYV34*'Makro i swap'!GYT4","v":0},{"$f":"GYW34*'Makro i swap'!GYU4","v":0},{"$f":"GYX34*'Makro i swap'!GYV4","v":0},{"$f":"GYY34*'Makro i swap'!GYW4","v":0},{"$f":"GYZ34*'Makro i swap'!GYX4","v":0},{"$f":"GZA34*'Makro i swap'!GYY4","v":0},{"$f":"GZB34*'Makro i swap'!GYZ4","v":0},{"$f":"GZC34*'Makro i swap'!GZA4","v":0},{"$f":"GZD34*'Makro i swap'!GZB4","v":0},{"$f":"GZE34*'Makro i swap'!GZC4","v":0},{"$f":"GZF34*'Makro i swap'!GZD4","v":0},{"$f":"GZG34*'Makro i swap'!GZE4","v":0},{"$f":"GZH34*'Makro i swap'!GZF4","v":0},{"$f":"GZI34*'Makro i swap'!GZG4","v":0},{"$f":"GZJ34*'Makro i swap'!GZH4","v":0},{"$f":"GZK34*'Makro i swap'!GZI4","v":0},{"$f":"GZL34*'Makro i swap'!GZJ4","v":0},{"$f":"GZM34*'Makro i swap'!GZK4","v":0},{"$f":"GZN34*'Makro i swap'!GZL4","v":0},{"$f":"GZO34*'Makro i swap'!GZM4","v":0},{"$f":"GZP34*'Makro i swap'!GZN4","v":0},{"$f":"GZQ34*'Makro i swap'!GZO4","v":0},{"$f":"GZR34*'Makro i swap'!GZP4","v":0},{"$f":"GZS34*'Makro i swap'!GZQ4","v":0},{"$f":"GZT34*'Makro i swap'!GZR4","v":0},{"$f":"GZU34*'Makro i swap'!GZS4","v":0},{"$f":"GZV34*'Makro i swap'!GZT4","v":0},{"$f":"GZW34*'Makro i swap'!GZU4","v":0},{"$f":"GZX34*'Makro i swap'!GZV4","v":0},{"$f":"GZY34*'Makro i swap'!GZW4","v":0},{"$f":"GZZ34*'Makro i swap'!GZX4","v":0},{"$f":"HAA34*'Makro i swap'!GZY4","v":0},{"$f":"HAB34*'Makro i swap'!GZZ4","v":0},{"$f":"HAC34*'Makro i swap'!HAA4","v":0},{"$f":"HAD34*'Makro i swap'!HAB4","v":0},{"$f":"HAE34*'Makro i swap'!HAC4","v":0},{"$f":"HAF34*'Makro i swap'!HAD4","v":0},{"$f":"HAG34*'Makro i swap'!HAE4","v":0},{"$f":"HAH34*'Makro i swap'!HAF4","v":0},{"$f":"HAI34*'Makro i swap'!HAG4","v":0},{"$f":"HAJ34*'Makro i swap'!HAH4","v":0},{"$f":"HAK34*'Makro i swap'!HAI4","v":0},{"$f":"HAL34*'Makro i swap'!HAJ4","v":0},{"$f":"HAM34*'Makro i swap'!HAK4","v":0},{"$f":"HAN34*'Makro i swap'!HAL4","v":0},{"$f":"HAO34*'Makro i swap'!HAM4","v":0},{"$f":"HAP34*'Makro i swap'!HAN4","v":0},{"$f":"HAQ34*'Makro i swap'!HAO4","v":0},{"$f":"HAR34*'Makro i swap'!HAP4","v":0},{"$f":"HAS34*'Makro i swap'!HAQ4","v":0},{"$f":"HAT34*'Makro i swap'!HAR4","v":0},{"$f":"HAU34*'Makro i swap'!HAS4","v":0},{"$f":"HAV34*'Makro i swap'!HAT4","v":0},{"$f":"HAW34*'Makro i swap'!HAU4","v":0},{"$f":"HAX34*'Makro i swap'!HAV4","v":0},{"$f":"HAY34*'Makro i swap'!HAW4","v":0},{"$f":"HAZ34*'Makro i swap'!HAX4","v":0},{"$f":"HBA34*'Makro i swap'!HAY4","v":0},{"$f":"HBB34*'Makro i swap'!HAZ4","v":0},{"$f":"HBC34*'Makro i swap'!HBA4","v":0},{"$f":"HBD34*'Makro i swap'!HBB4","v":0},{"$f":"HBE34*'Makro i swap'!HBC4","v":0},{"$f":"HBF34*'Makro i swap'!HBD4","v":0},{"$f":"HBG34*'Makro i swap'!HBE4","v":0},{"$f":"HBH34*'Makro i swap'!HBF4","v":0},{"$f":"HBI34*'Makro i swap'!HBG4","v":0},{"$f":"HBJ34*'Makro i swap'!HBH4","v":0},{"$f":"HBK34*'Makro i swap'!HBI4","v":0},{"$f":"HBL34*'Makro i swap'!HBJ4","v":0},{"$f":"HBM34*'Makro i swap'!HBK4","v":0},{"$f":"HBN34*'Makro i swap'!HBL4","v":0},{"$f":"HBO34*'Makro i swap'!HBM4","v":0},{"$f":"HBP34*'Makro i swap'!HBN4","v":0},{"$f":"HBQ34*'Makro i swap'!HBO4","v":0},{"$f":"HBR34*'Makro i swap'!HBP4","v":0},{"$f":"HBS34*'Makro i swap'!HBQ4","v":0},{"$f":"HBT34*'Makro i swap'!HBR4","v":0},{"$f":"HBU34*'Makro i swap'!HBS4","v":0},{"$f":"HBV34*'Makro i swap'!HBT4","v":0},{"$f":"HBW34*'Makro i swap'!HBU4","v":0},{"$f":"HBX34*'Makro i swap'!HBV4","v":0},{"$f":"HBY34*'Makro i swap'!HBW4","v":0},{"$f":"HBZ34*'Makro i swap'!HBX4","v":0},{"$f":"HCA34*'Makro i swap'!HBY4","v":0},{"$f":"HCB34*'Makro i swap'!HBZ4","v":0},{"$f":"HCC34*'Makro i swap'!HCA4","v":0},{"$f":"HCD34*'Makro i swap'!HCB4","v":0},{"$f":"HCE34*'Makro i swap'!HCC4","v":0},{"$f":"HCF34*'Makro i swap'!HCD4","v":0},{"$f":"HCG34*'Makro i swap'!HCE4","v":0},{"$f":"HCH34*'Makro i swap'!HCF4","v":0},{"$f":"HCI34*'Makro i swap'!HCG4","v":0},{"$f":"HCJ34*'Makro i swap'!HCH4","v":0},{"$f":"HCK34*'Makro i swap'!HCI4","v":0},{"$f":"HCL34*'Makro i swap'!HCJ4","v":0},{"$f":"HCM34*'Makro i swap'!HCK4","v":0},{"$f":"HCN34*'Makro i swap'!HCL4","v":0},{"$f":"HCO34*'Makro i swap'!HCM4","v":0},{"$f":"HCP34*'Makro i swap'!HCN4","v":0},{"$f":"HCQ34*'Makro i swap'!HCO4","v":0},{"$f":"HCR34*'Makro i swap'!HCP4","v":0},{"$f":"HCS34*'Makro i swap'!HCQ4","v":0},{"$f":"HCT34*'Makro i swap'!HCR4","v":0},{"$f":"HCU34*'Makro i swap'!HCS4","v":0},{"$f":"HCV34*'Makro i swap'!HCT4","v":0},{"$f":"HCW34*'Makro i swap'!HCU4","v":0},{"$f":"HCX34*'Makro i swap'!HCV4","v":0},{"$f":"HCY34*'Makro i swap'!HCW4","v":0},{"$f":"HCZ34*'Makro i swap'!HCX4","v":0},{"$f":"HDA34*'Makro i swap'!HCY4","v":0},{"$f":"HDB34*'Makro i swap'!HCZ4","v":0},{"$f":"HDC34*'Makro i swap'!HDA4","v":0},{"$f":"HDD34*'Makro i swap'!HDB4","v":0},{"$f":"HDE34*'Makro i swap'!HDC4","v":0},{"$f":"HDF34*'Makro i swap'!HDD4","v":0},{"$f":"HDG34*'Makro i swap'!HDE4","v":0},{"$f":"HDH34*'Makro i swap'!HDF4","v":0},{"$f":"HDI34*'Makro i swap'!HDG4","v":0},{"$f":"HDJ34*'Makro i swap'!HDH4","v":0},{"$f":"HDK34*'Makro i swap'!HDI4","v":0},{"$f":"HDL34*'Makro i swap'!HDJ4","v":0},{"$f":"HDM34*'Makro i swap'!HDK4","v":0},{"$f":"HDN34*'Makro i swap'!HDL4","v":0},{"$f":"HDO34*'Makro i swap'!HDM4","v":0},{"$f":"HDP34*'Makro i swap'!HDN4","v":0},{"$f":"HDQ34*'Makro i swap'!HDO4","v":0},{"$f":"HDR34*'Makro i swap'!HDP4","v":0},{"$f":"HDS34*'Makro i swap'!HDQ4","v":0},{"$f":"HDT34*'Makro i swap'!HDR4","v":0},{"$f":"HDU34*'Makro i swap'!HDS4","v":0},{"$f":"HDV34*'Makro i swap'!HDT4","v":0},{"$f":"HDW34*'Makro i swap'!HDU4","v":0},{"$f":"HDX34*'Makro i swap'!HDV4","v":0},{"$f":"HDY34*'Makro i swap'!HDW4","v":0},{"$f":"HDZ34*'Makro i swap'!HDX4","v":0},{"$f":"HEA34*'Makro i swap'!HDY4","v":0},{"$f":"HEB34*'Makro i swap'!HDZ4","v":0},{"$f":"HEC34*'Makro i swap'!HEA4","v":0},{"$f":"HED34*'Makro i swap'!HEB4","v":0},{"$f":"HEE34*'Makro i swap'!HEC4","v":0},{"$f":"HEF34*'Makro i swap'!HED4","v":0},{"$f":"HEG34*'Makro i swap'!HEE4","v":0},{"$f":"HEH34*'Makro i swap'!HEF4","v":0},{"$f":"HEI34*'Makro i swap'!HEG4","v":0},{"$f":"HEJ34*'Makro i swap'!HEH4","v":0},{"$f":"HEK34*'Makro i swap'!HEI4","v":0},{"$f":"HEL34*'Makro i swap'!HEJ4","v":0},{"$f":"HEM34*'Makro i swap'!HEK4","v":0},{"$f":"HEN34*'Makro i swap'!HEL4","v":0},{"$f":"HEO34*'Makro i swap'!HEM4","v":0},{"$f":"HEP34*'Makro i swap'!HEN4","v":0},{"$f":"HEQ34*'Makro i swap'!HEO4","v":0},{"$f":"HER34*'Makro i swap'!HEP4","v":0},{"$f":"HES34*'Makro i swap'!HEQ4","v":0},{"$f":"HET34*'Makro i swap'!HER4","v":0},{"$f":"HEU34*'Makro i swap'!HES4","v":0},{"$f":"HEV34*'Makro i swap'!HET4","v":0},{"$f":"HEW34*'Makro i swap'!HEU4","v":0},{"$f":"HEX34*'Makro i swap'!HEV4","v":0},{"$f":"HEY34*'Makro i swap'!HEW4","v":0},{"$f":"HEZ34*'Makro i swap'!HEX4","v":0},{"$f":"HFA34*'Makro i swap'!HEY4","v":0},{"$f":"HFB34*'Makro i swap'!HEZ4","v":0},{"$f":"HFC34*'Makro i swap'!HFA4","v":0},{"$f":"HFD34*'Makro i swap'!HFB4","v":0},{"$f":"HFE34*'Makro i swap'!HFC4","v":0},{"$f":"HFF34*'Makro i swap'!HFD4","v":0},{"$f":"HFG34*'Makro i swap'!HFE4","v":0},{"$f":"HFH34*'Makro i swap'!HFF4","v":0},{"$f":"HFI34*'Makro i swap'!HFG4","v":0},{"$f":"HFJ34*'Makro i swap'!HFH4","v":0},{"$f":"HFK34*'Makro i swap'!HFI4","v":0},{"$f":"HFL34*'Makro i swap'!HFJ4","v":0},{"$f":"HFM34*'Makro i swap'!HFK4","v":0},{"$f":"HFN34*'Makro i swap'!HFL4","v":0},{"$f":"HFO34*'Makro i swap'!HFM4","v":0},{"$f":"HFP34*'Makro i swap'!HFN4","v":0},{"$f":"HFQ34*'Makro i swap'!HFO4","v":0},{"$f":"HFR34*'Makro i swap'!HFP4","v":0},{"$f":"HFS34*'Makro i swap'!HFQ4","v":0},{"$f":"HFT34*'Makro i swap'!HFR4","v":0},{"$f":"HFU34*'Makro i swap'!HFS4","v":0},{"$f":"HFV34*'Makro i swap'!HFT4","v":0},{"$f":"HFW34*'Makro i swap'!HFU4","v":0},{"$f":"HFX34*'Makro i swap'!HFV4","v":0},{"$f":"HFY34*'Makro i swap'!HFW4","v":0},{"$f":"HFZ34*'Makro i swap'!HFX4","v":0},{"$f":"HGA34*'Makro i swap'!HFY4","v":0},{"$f":"HGB34*'Makro i swap'!HFZ4","v":0},{"$f":"HGC34*'Makro i swap'!HGA4","v":0},{"$f":"HGD34*'Makro i swap'!HGB4","v":0},{"$f":"HGE34*'Makro i swap'!HGC4","v":0},{"$f":"HGF34*'Makro i swap'!HGD4","v":0},{"$f":"HGG34*'Makro i swap'!HGE4","v":0},{"$f":"HGH34*'Makro i swap'!HGF4","v":0},{"$f":"HGI34*'Makro i swap'!HGG4","v":0},{"$f":"HGJ34*'Makro i swap'!HGH4","v":0},{"$f":"HGK34*'Makro i swap'!HGI4","v":0},{"$f":"HGL34*'Makro i swap'!HGJ4","v":0},{"$f":"HGM34*'Makro i swap'!HGK4","v":0},{"$f":"HGN34*'Makro i swap'!HGL4","v":0},{"$f":"HGO34*'Makro i swap'!HGM4","v":0},{"$f":"HGP34*'Makro i swap'!HGN4","v":0},{"$f":"HGQ34*'Makro i swap'!HGO4","v":0},{"$f":"HGR34*'Makro i swap'!HGP4","v":0},{"$f":"HGS34*'Makro i swap'!HGQ4","v":0},{"$f":"HGT34*'Makro i swap'!HGR4","v":0},{"$f":"HGU34*'Makro i swap'!HGS4","v":0},{"$f":"HGV34*'Makro i swap'!HGT4","v":0},{"$f":"HGW34*'Makro i swap'!HGU4","v":0},{"$f":"HGX34*'Makro i swap'!HGV4","v":0},{"$f":"HGY34*'Makro i swap'!HGW4","v":0},{"$f":"HGZ34*'Makro i swap'!HGX4","v":0},{"$f":"HHA34*'Makro i swap'!HGY4","v":0},{"$f":"HHB34*'Makro i swap'!HGZ4","v":0},{"$f":"HHC34*'Makro i swap'!HHA4","v":0},{"$f":"HHD34*'Makro i swap'!HHB4","v":0},{"$f":"HHE34*'Makro i swap'!HHC4","v":0},{"$f":"HHF34*'Makro i swap'!HHD4","v":0},{"$f":"HHG34*'Makro i swap'!HHE4","v":0},{"$f":"HHH34*'Makro i swap'!HHF4","v":0},{"$f":"HHI34*'Makro i swap'!HHG4","v":0},{"$f":"HHJ34*'Makro i swap'!HHH4","v":0},{"$f":"HHK34*'Makro i swap'!HHI4","v":0},{"$f":"HHL34*'Makro i swap'!HHJ4","v":0},{"$f":"HHM34*'Makro i swap'!HHK4","v":0},{"$f":"HHN34*'Makro i swap'!HHL4","v":0},{"$f":"HHO34*'Makro i swap'!HHM4","v":0},{"$f":"HHP34*'Makro i swap'!HHN4","v":0},{"$f":"HHQ34*'Makro i swap'!HHO4","v":0},{"$f":"HHR34*'Makro i swap'!HHP4","v":0},{"$f":"HHS34*'Makro i swap'!HHQ4","v":0},{"$f":"HHT34*'Makro i swap'!HHR4","v":0},{"$f":"HHU34*'Makro i swap'!HHS4","v":0},{"$f":"HHV34*'Makro i swap'!HHT4","v":0},{"$f":"HHW34*'Makro i swap'!HHU4","v":0},{"$f":"HHX34*'Makro i swap'!HHV4","v":0},{"$f":"HHY34*'Makro i swap'!HHW4","v":0},{"$f":"HHZ34*'Makro i swap'!HHX4","v":0},{"$f":"HIA34*'Makro i swap'!HHY4","v":0},{"$f":"HIB34*'Makro i swap'!HHZ4","v":0},{"$f":"HIC34*'Makro i swap'!HIA4","v":0},{"$f":"HID34*'Makro i swap'!HIB4","v":0},{"$f":"HIE34*'Makro i swap'!HIC4","v":0},{"$f":"HIF34*'Makro i swap'!HID4","v":0},{"$f":"HIG34*'Makro i swap'!HIE4","v":0},{"$f":"HIH34*'Makro i swap'!HIF4","v":0},{"$f":"HII34*'Makro i swap'!HIG4","v":0},{"$f":"HIJ34*'Makro i swap'!HIH4","v":0},{"$f":"HIK34*'Makro i swap'!HII4","v":0},{"$f":"HIL34*'Makro i swap'!HIJ4","v":0},{"$f":"HIM34*'Makro i swap'!HIK4","v":0},{"$f":"HIN34*'Makro i swap'!HIL4","v":0},{"$f":"HIO34*'Makro i swap'!HIM4","v":0},{"$f":"HIP34*'Makro i swap'!HIN4","v":0},{"$f":"HIQ34*'Makro i swap'!HIO4","v":0},{"$f":"HIR34*'Makro i swap'!HIP4","v":0},{"$f":"HIS34*'Makro i swap'!HIQ4","v":0},{"$f":"HIT34*'Makro i swap'!HIR4","v":0},{"$f":"HIU34*'Makro i swap'!HIS4","v":0},{"$f":"HIV34*'Makro i swap'!HIT4","v":0},{"$f":"HIW34*'Makro i swap'!HIU4","v":0},{"$f":"HIX34*'Makro i swap'!HIV4","v":0},{"$f":"HIY34*'Makro i swap'!HIW4","v":0},{"$f":"HIZ34*'Makro i swap'!HIX4","v":0},{"$f":"HJA34*'Makro i swap'!HIY4","v":0},{"$f":"HJB34*'Makro i swap'!HIZ4","v":0},{"$f":"HJC34*'Makro i swap'!HJA4","v":0},{"$f":"HJD34*'Makro i swap'!HJB4","v":0},{"$f":"HJE34*'Makro i swap'!HJC4","v":0},{"$f":"HJF34*'Makro i swap'!HJD4","v":0},{"$f":"HJG34*'Makro i swap'!HJE4","v":0},{"$f":"HJH34*'Makro i swap'!HJF4","v":0},{"$f":"HJI34*'Makro i swap'!HJG4","v":0},{"$f":"HJJ34*'Makro i swap'!HJH4","v":0},{"$f":"HJK34*'Makro i swap'!HJI4","v":0},{"$f":"HJL34*'Makro i swap'!HJJ4","v":0},{"$f":"HJM34*'Makro i swap'!HJK4","v":0},{"$f":"HJN34*'Makro i swap'!HJL4","v":0},{"$f":"HJO34*'Makro i swap'!HJM4","v":0},{"$f":"HJP34*'Makro i swap'!HJN4","v":0},{"$f":"HJQ34*'Makro i swap'!HJO4","v":0},{"$f":"HJR34*'Makro i swap'!HJP4","v":0},{"$f":"HJS34*'Makro i swap'!HJQ4","v":0},{"$f":"HJT34*'Makro i swap'!HJR4","v":0},{"$f":"HJU34*'Makro i swap'!HJS4","v":0},{"$f":"HJV34*'Makro i swap'!HJT4","v":0},{"$f":"HJW34*'Makro i swap'!HJU4","v":0},{"$f":"HJX34*'Makro i swap'!HJV4","v":0},{"$f":"HJY34*'Makro i swap'!HJW4","v":0},{"$f":"HJZ34*'Makro i swap'!HJX4","v":0},{"$f":"HKA34*'Makro i swap'!HJY4","v":0},{"$f":"HKB34*'Makro i swap'!HJZ4","v":0},{"$f":"HKC34*'Makro i swap'!HKA4","v":0},{"$f":"HKD34*'Makro i swap'!HKB4","v":0},{"$f":"HKE34*'Makro i swap'!HKC4","v":0},{"$f":"HKF34*'Makro i swap'!HKD4","v":0},{"$f":"HKG34*'Makro i swap'!HKE4","v":0},{"$f":"HKH34*'Makro i swap'!HKF4","v":0},{"$f":"HKI34*'Makro i swap'!HKG4","v":0},{"$f":"HKJ34*'Makro i swap'!HKH4","v":0},{"$f":"HKK34*'Makro i swap'!HKI4","v":0},{"$f":"HKL34*'Makro i swap'!HKJ4","v":0},{"$f":"HKM34*'Makro i swap'!HKK4","v":0},{"$f":"HKN34*'Makro i swap'!HKL4","v":0},{"$f":"HKO34*'Makro i swap'!HKM4","v":0},{"$f":"HKP34*'Makro i swap'!HKN4","v":0},{"$f":"HKQ34*'Makro i swap'!HKO4","v":0},{"$f":"HKR34*'Makro i swap'!HKP4","v":0},{"$f":"HKS34*'Makro i swap'!HKQ4","v":0},{"$f":"HKT34*'Makro i swap'!HKR4","v":0},{"$f":"HKU34*'Makro i swap'!HKS4","v":0},{"$f":"HKV34*'Makro i swap'!HKT4","v":0},{"$f":"HKW34*'Makro i swap'!HKU4","v":0},{"$f":"HKX34*'Makro i swap'!HKV4","v":0},{"$f":"HKY34*'Makro i swap'!HKW4","v":0},{"$f":"HKZ34*'Makro i swap'!HKX4","v":0},{"$f":"HLA34*'Makro i swap'!HKY4","v":0},{"$f":"HLB34*'Makro i swap'!HKZ4","v":0},{"$f":"HLC34*'Makro i swap'!HLA4","v":0},{"$f":"HLD34*'Makro i swap'!HLB4","v":0},{"$f":"HLE34*'Makro i swap'!HLC4","v":0},{"$f":"HLF34*'Makro i swap'!HLD4","v":0},{"$f":"HLG34*'Makro i swap'!HLE4","v":0},{"$f":"HLH34*'Makro i swap'!HLF4","v":0},{"$f":"HLI34*'Makro i swap'!HLG4","v":0},{"$f":"HLJ34*'Makro i swap'!HLH4","v":0},{"$f":"HLK34*'Makro i swap'!HLI4","v":0},{"$f":"HLL34*'Makro i swap'!HLJ4","v":0},{"$f":"HLM34*'Makro i swap'!HLK4","v":0},{"$f":"HLN34*'Makro i swap'!HLL4","v":0},{"$f":"HLO34*'Makro i swap'!HLM4","v":0},{"$f":"HLP34*'Makro i swap'!HLN4","v":0},{"$f":"HLQ34*'Makro i swap'!HLO4","v":0},{"$f":"HLR34*'Makro i swap'!HLP4","v":0},{"$f":"HLS34*'Makro i swap'!HLQ4","v":0},{"$f":"HLT34*'Makro i swap'!HLR4","v":0},{"$f":"HLU34*'Makro i swap'!HLS4","v":0},{"$f":"HLV34*'Makro i swap'!HLT4","v":0},{"$f":"HLW34*'Makro i swap'!HLU4","v":0},{"$f":"HLX34*'Makro i swap'!HLV4","v":0},{"$f":"HLY34*'Makro i swap'!HLW4","v":0},{"$f":"HLZ34*'Makro i swap'!HLX4","v":0},{"$f":"HMA34*'Makro i swap'!HLY4","v":0},{"$f":"HMB34*'Makro i swap'!HLZ4","v":0},{"$f":"HMC34*'Makro i swap'!HMA4","v":0},{"$f":"HMD34*'Makro i swap'!HMB4","v":0},{"$f":"HME34*'Makro i swap'!HMC4","v":0},{"$f":"HMF34*'Makro i swap'!HMD4","v":0},{"$f":"HMG34*'Makro i swap'!HME4","v":0},{"$f":"HMH34*'Makro i swap'!HMF4","v":0},{"$f":"HMI34*'Makro i swap'!HMG4","v":0},{"$f":"HMJ34*'Makro i swap'!HMH4","v":0},{"$f":"HMK34*'Makro i swap'!HMI4","v":0},{"$f":"HML34*'Makro i swap'!HMJ4","v":0},{"$f":"HMM34*'Makro i swap'!HMK4","v":0},{"$f":"HMN34*'Makro i swap'!HML4","v":0},{"$f":"HMO34*'Makro i swap'!HMM4","v":0},{"$f":"HMP34*'Makro i swap'!HMN4","v":0},{"$f":"HMQ34*'Makro i swap'!HMO4","v":0},{"$f":"HMR34*'Makro i swap'!HMP4","v":0},{"$f":"HMS34*'Makro i swap'!HMQ4","v":0},{"$f":"HMT34*'Makro i swap'!HMR4","v":0},{"$f":"HMU34*'Makro i swap'!HMS4","v":0},{"$f":"HMV34*'Makro i swap'!HMT4","v":0},{"$f":"HMW34*'Makro i swap'!HMU4","v":0},{"$f":"HMX34*'Makro i swap'!HMV4","v":0},{"$f":"HMY34*'Makro i swap'!HMW4","v":0},{"$f":"HMZ34*'Makro i swap'!HMX4","v":0},{"$f":"HNA34*'Makro i swap'!HMY4","v":0},{"$f":"HNB34*'Makro i swap'!HMZ4","v":0},{"$f":"HNC34*'Makro i swap'!HNA4","v":0},{"$f":"HND34*'Makro i swap'!HNB4","v":0},{"$f":"HNE34*'Makro i swap'!HNC4","v":0},{"$f":"HNF34*'Makro i swap'!HND4","v":0},{"$f":"HNG34*'Makro i swap'!HNE4","v":0},{"$f":"HNH34*'Makro i swap'!HNF4","v":0},{"$f":"HNI34*'Makro i swap'!HNG4","v":0},{"$f":"HNJ34*'Makro i swap'!HNH4","v":0},{"$f":"HNK34*'Makro i swap'!HNI4","v":0},{"$f":"HNL34*'Makro i swap'!HNJ4","v":0},{"$f":"HNM34*'Makro i swap'!HNK4","v":0},{"$f":"HNN34*'Makro i swap'!HNL4","v":0},{"$f":"HNO34*'Makro i swap'!HNM4","v":0},{"$f":"HNP34*'Makro i swap'!HNN4","v":0},{"$f":"HNQ34*'Makro i swap'!HNO4","v":0},{"$f":"HNR34*'Makro i swap'!HNP4","v":0},{"$f":"HNS34*'Makro i swap'!HNQ4","v":0},{"$f":"HNT34*'Makro i swap'!HNR4","v":0},{"$f":"HNU34*'Makro i swap'!HNS4","v":0},{"$f":"HNV34*'Makro i swap'!HNT4","v":0},{"$f":"HNW34*'Makro i swap'!HNU4","v":0},{"$f":"HNX34*'Makro i swap'!HNV4","v":0},{"$f":"HNY34*'Makro i swap'!HNW4","v":0},{"$f":"HNZ34*'Makro i swap'!HNX4","v":0},{"$f":"HOA34*'Makro i swap'!HNY4","v":0},{"$f":"HOB34*'Makro i swap'!HNZ4","v":0},{"$f":"HOC34*'Makro i swap'!HOA4","v":0},{"$f":"HOD34*'Makro i swap'!HOB4","v":0},{"$f":"HOE34*'Makro i swap'!HOC4","v":0},{"$f":"HOF34*'Makro i swap'!HOD4","v":0},{"$f":"HOG34*'Makro i swap'!HOE4","v":0},{"$f":"HOH34*'Makro i swap'!HOF4","v":0},{"$f":"HOI34*'Makro i swap'!HOG4","v":0},{"$f":"HOJ34*'Makro i swap'!HOH4","v":0},{"$f":"HOK34*'Makro i swap'!HOI4","v":0},{"$f":"HOL34*'Makro i swap'!HOJ4","v":0},{"$f":"HOM34*'Makro i swap'!HOK4","v":0},{"$f":"HON34*'Makro i swap'!HOL4","v":0},{"$f":"HOO34*'Makro i swap'!HOM4","v":0},{"$f":"HOP34*'Makro i swap'!HON4","v":0},{"$f":"HOQ34*'Makro i swap'!HOO4","v":0},{"$f":"HOR34*'Makro i swap'!HOP4","v":0},{"$f":"HOS34*'Makro i swap'!HOQ4","v":0},{"$f":"HOT34*'Makro i swap'!HOR4","v":0},{"$f":"HOU34*'Makro i swap'!HOS4","v":0},{"$f":"HOV34*'Makro i swap'!HOT4","v":0},{"$f":"HOW34*'Makro i swap'!HOU4","v":0},{"$f":"HOX34*'Makro i swap'!HOV4","v":0},{"$f":"HOY34*'Makro i swap'!HOW4","v":0},{"$f":"HOZ34*'Makro i swap'!HOX4","v":0},{"$f":"HPA34*'Makro i swap'!HOY4","v":0},{"$f":"HPB34*'Makro i swap'!HOZ4","v":0},{"$f":"HPC34*'Makro i swap'!HPA4","v":0},{"$f":"HPD34*'Makro i swap'!HPB4","v":0},{"$f":"HPE34*'Makro i swap'!HPC4","v":0},{"$f":"HPF34*'Makro i swap'!HPD4","v":0},{"$f":"HPG34*'Makro i swap'!HPE4","v":0},{"$f":"HPH34*'Makro i swap'!HPF4","v":0},{"$f":"HPI34*'Makro i swap'!HPG4","v":0},{"$f":"HPJ34*'Makro i swap'!HPH4","v":0},{"$f":"HPK34*'Makro i swap'!HPI4","v":0},{"$f":"HPL34*'Makro i swap'!HPJ4","v":0},{"$f":"HPM34*'Makro i swap'!HPK4","v":0},{"$f":"HPN34*'Makro i swap'!HPL4","v":0},{"$f":"HPO34*'Makro i swap'!HPM4","v":0},{"$f":"HPP34*'Makro i swap'!HPN4","v":0},{"$f":"HPQ34*'Makro i swap'!HPO4","v":0},{"$f":"HPR34*'Makro i swap'!HPP4","v":0},{"$f":"HPS34*'Makro i swap'!HPQ4","v":0},{"$f":"HPT34*'Makro i swap'!HPR4","v":0},{"$f":"HPU34*'Makro i swap'!HPS4","v":0},{"$f":"HPV34*'Makro i swap'!HPT4","v":0},{"$f":"HPW34*'Makro i swap'!HPU4","v":0},{"$f":"HPX34*'Makro i swap'!HPV4","v":0},{"$f":"HPY34*'Makro i swap'!HPW4","v":0},{"$f":"HPZ34*'Makro i swap'!HPX4","v":0},{"$f":"HQA34*'Makro i swap'!HPY4","v":0},{"$f":"HQB34*'Makro i swap'!HPZ4","v":0},{"$f":"HQC34*'Makro i swap'!HQA4","v":0},{"$f":"HQD34*'Makro i swap'!HQB4","v":0},{"$f":"HQE34*'Makro i swap'!HQC4","v":0},{"$f":"HQF34*'Makro i swap'!HQD4","v":0},{"$f":"HQG34*'Makro i swap'!HQE4","v":0},{"$f":"HQH34*'Makro i swap'!HQF4","v":0},{"$f":"HQI34*'Makro i swap'!HQG4","v":0},{"$f":"HQJ34*'Makro i swap'!HQH4","v":0},{"$f":"HQK34*'Makro i swap'!HQI4","v":0},{"$f":"HQL34*'Makro i swap'!HQJ4","v":0},{"$f":"HQM34*'Makro i swap'!HQK4","v":0},{"$f":"HQN34*'Makro i swap'!HQL4","v":0},{"$f":"HQO34*'Makro i swap'!HQM4","v":0},{"$f":"HQP34*'Makro i swap'!HQN4","v":0},{"$f":"HQQ34*'Makro i swap'!HQO4","v":0},{"$f":"HQR34*'Makro i swap'!HQP4","v":0},{"$f":"HQS34*'Makro i swap'!HQQ4","v":0},{"$f":"HQT34*'Makro i swap'!HQR4","v":0},{"$f":"HQU34*'Makro i swap'!HQS4","v":0},{"$f":"HQV34*'Makro i swap'!HQT4","v":0},{"$f":"HQW34*'Makro i swap'!HQU4","v":0},{"$f":"HQX34*'Makro i swap'!HQV4","v":0},{"$f":"HQY34*'Makro i swap'!HQW4","v":0},{"$f":"HQZ34*'Makro i swap'!HQX4","v":0},{"$f":"HRA34*'Makro i swap'!HQY4","v":0},{"$f":"HRB34*'Makro i swap'!HQZ4","v":0},{"$f":"HRC34*'Makro i swap'!HRA4","v":0},{"$f":"HRD34*'Makro i swap'!HRB4","v":0},{"$f":"HRE34*'Makro i swap'!HRC4","v":0},{"$f":"HRF34*'Makro i swap'!HRD4","v":0},{"$f":"HRG34*'Makro i swap'!HRE4","v":0},{"$f":"HRH34*'Makro i swap'!HRF4","v":0},{"$f":"HRI34*'Makro i swap'!HRG4","v":0},{"$f":"HRJ34*'Makro i swap'!HRH4","v":0},{"$f":"HRK34*'Makro i swap'!HRI4","v":0},{"$f":"HRL34*'Makro i swap'!HRJ4","v":0},{"$f":"HRM34*'Makro i swap'!HRK4","v":0},{"$f":"HRN34*'Makro i swap'!HRL4","v":0},{"$f":"HRO34*'Makro i swap'!HRM4","v":0},{"$f":"HRP34*'Makro i swap'!HRN4","v":0},{"$f":"HRQ34*'Makro i swap'!HRO4","v":0},{"$f":"HRR34*'Makro i swap'!HRP4","v":0},{"$f":"HRS34*'Makro i swap'!HRQ4","v":0},{"$f":"HRT34*'Makro i swap'!HRR4","v":0},{"$f":"HRU34*'Makro i swap'!HRS4","v":0},{"$f":"HRV34*'Makro i swap'!HRT4","v":0},{"$f":"HRW34*'Makro i swap'!HRU4","v":0},{"$f":"HRX34*'Makro i swap'!HRV4","v":0},{"$f":"HRY34*'Makro i swap'!HRW4","v":0},{"$f":"HRZ34*'Makro i swap'!HRX4","v":0},{"$f":"HSA34*'Makro i swap'!HRY4","v":0},{"$f":"HSB34*'Makro i swap'!HRZ4","v":0},{"$f":"HSC34*'Makro i swap'!HSA4","v":0},{"$f":"HSD34*'Makro i swap'!HSB4","v":0},{"$f":"HSE34*'Makro i swap'!HSC4","v":0},{"$f":"HSF34*'Makro i swap'!HSD4","v":0},{"$f":"HSG34*'Makro i swap'!HSE4","v":0},{"$f":"HSH34*'Makro i swap'!HSF4","v":0},{"$f":"HSI34*'Makro i swap'!HSG4","v":0},{"$f":"HSJ34*'Makro i swap'!HSH4","v":0},{"$f":"HSK34*'Makro i swap'!HSI4","v":0},{"$f":"HSL34*'Makro i swap'!HSJ4","v":0},{"$f":"HSM34*'Makro i swap'!HSK4","v":0},{"$f":"HSN34*'Makro i swap'!HSL4","v":0},{"$f":"HSO34*'Makro i swap'!HSM4","v":0},{"$f":"HSP34*'Makro i swap'!HSN4","v":0},{"$f":"HSQ34*'Makro i swap'!HSO4","v":0},{"$f":"HSR34*'Makro i swap'!HSP4","v":0},{"$f":"HSS34*'Makro i swap'!HSQ4","v":0},{"$f":"HST34*'Makro i swap'!HSR4","v":0},{"$f":"HSU34*'Makro i swap'!HSS4","v":0},{"$f":"HSV34*'Makro i swap'!HST4","v":0},{"$f":"HSW34*'Makro i swap'!HSU4","v":0},{"$f":"HSX34*'Makro i swap'!HSV4","v":0},{"$f":"HSY34*'Makro i swap'!HSW4","v":0},{"$f":"HSZ34*'Makro i swap'!HSX4","v":0},{"$f":"HTA34*'Makro i swap'!HSY4","v":0},{"$f":"HTB34*'Makro i swap'!HSZ4","v":0},{"$f":"HTC34*'Makro i swap'!HTA4","v":0},{"$f":"HTD34*'Makro i swap'!HTB4","v":0},{"$f":"HTE34*'Makro i swap'!HTC4","v":0},{"$f":"HTF34*'Makro i swap'!HTD4","v":0},{"$f":"HTG34*'Makro i swap'!HTE4","v":0},{"$f":"HTH34*'Makro i swap'!HTF4","v":0},{"$f":"HTI34*'Makro i swap'!HTG4","v":0},{"$f":"HTJ34*'Makro i swap'!HTH4","v":0},{"$f":"HTK34*'Makro i swap'!HTI4","v":0},{"$f":"HTL34*'Makro i swap'!HTJ4","v":0},{"$f":"HTM34*'Makro i swap'!HTK4","v":0},{"$f":"HTN34*'Makro i swap'!HTL4","v":0},{"$f":"HTO34*'Makro i swap'!HTM4","v":0},{"$f":"HTP34*'Makro i swap'!HTN4","v":0},{"$f":"HTQ34*'Makro i swap'!HTO4","v":0},{"$f":"HTR34*'Makro i swap'!HTP4","v":0},{"$f":"HTS34*'Makro i swap'!HTQ4","v":0},{"$f":"HTT34*'Makro i swap'!HTR4","v":0},{"$f":"HTU34*'Makro i swap'!HTS4","v":0},{"$f":"HTV34*'Makro i swap'!HTT4","v":0},{"$f":"HTW34*'Makro i swap'!HTU4","v":0},{"$f":"HTX34*'Makro i swap'!HTV4","v":0},{"$f":"HTY34*'Makro i swap'!HTW4","v":0},{"$f":"HTZ34*'Makro i swap'!HTX4","v":0},{"$f":"HUA34*'Makro i swap'!HTY4","v":0},{"$f":"HUB34*'Makro i swap'!HTZ4","v":0},{"$f":"HUC34*'Makro i swap'!HUA4","v":0},{"$f":"HUD34*'Makro i swap'!HUB4","v":0},{"$f":"HUE34*'Makro i swap'!HUC4","v":0},{"$f":"HUF34*'Makro i swap'!HUD4","v":0},{"$f":"HUG34*'Makro i swap'!HUE4","v":0},{"$f":"HUH34*'Makro i swap'!HUF4","v":0},{"$f":"HUI34*'Makro i swap'!HUG4","v":0},{"$f":"HUJ34*'Makro i swap'!HUH4","v":0},{"$f":"HUK34*'Makro i swap'!HUI4","v":0},{"$f":"HUL34*'Makro i swap'!HUJ4","v":0},{"$f":"HUM34*'Makro i swap'!HUK4","v":0},{"$f":"HUN34*'Makro i swap'!HUL4","v":0},{"$f":"HUO34*'Makro i swap'!HUM4","v":0},{"$f":"HUP34*'Makro i swap'!HUN4","v":0},{"$f":"HUQ34*'Makro i swap'!HUO4","v":0},{"$f":"HUR34*'Makro i swap'!HUP4","v":0},{"$f":"HUS34*'Makro i swap'!HUQ4","v":0},{"$f":"HUT34*'Makro i swap'!HUR4","v":0},{"$f":"HUU34*'Makro i swap'!HUS4","v":0},{"$f":"HUV34*'Makro i swap'!HUT4","v":0},{"$f":"HUW34*'Makro i swap'!HUU4","v":0},{"$f":"HUX34*'Makro i swap'!HUV4","v":0},{"$f":"HUY34*'Makro i swap'!HUW4","v":0},{"$f":"HUZ34*'Makro i swap'!HUX4","v":0},{"$f":"HVA34*'Makro i swap'!HUY4","v":0},{"$f":"HVB34*'Makro i swap'!HUZ4","v":0},{"$f":"HVC34*'Makro i swap'!HVA4","v":0},{"$f":"HVD34*'Makro i swap'!HVB4","v":0},{"$f":"HVE34*'Makro i swap'!HVC4","v":0},{"$f":"HVF34*'Makro i swap'!HVD4","v":0},{"$f":"HVG34*'Makro i swap'!HVE4","v":0},{"$f":"HVH34*'Makro i swap'!HVF4","v":0},{"$f":"HVI34*'Makro i swap'!HVG4","v":0},{"$f":"HVJ34*'Makro i swap'!HVH4","v":0},{"$f":"HVK34*'Makro i swap'!HVI4","v":0},{"$f":"HVL34*'Makro i swap'!HVJ4","v":0},{"$f":"HVM34*'Makro i swap'!HVK4","v":0},{"$f":"HVN34*'Makro i swap'!HVL4","v":0},{"$f":"HVO34*'Makro i swap'!HVM4","v":0},{"$f":"HVP34*'Makro i swap'!HVN4","v":0},{"$f":"HVQ34*'Makro i swap'!HVO4","v":0},{"$f":"HVR34*'Makro i swap'!HVP4","v":0},{"$f":"HVS34*'Makro i swap'!HVQ4","v":0},{"$f":"HVT34*'Makro i swap'!HVR4","v":0},{"$f":"HVU34*'Makro i swap'!HVS4","v":0},{"$f":"HVV34*'Makro i swap'!HVT4","v":0},{"$f":"HVW34*'Makro i swap'!HVU4","v":0},{"$f":"HVX34*'Makro i swap'!HVV4","v":0},{"$f":"HVY34*'Makro i swap'!HVW4","v":0},{"$f":"HVZ34*'Makro i swap'!HVX4","v":0},{"$f":"HWA34*'Makro i swap'!HVY4","v":0},{"$f":"HWB34*'Makro i swap'!HVZ4","v":0},{"$f":"HWC34*'Makro i swap'!HWA4","v":0},{"$f":"HWD34*'Makro i swap'!HWB4","v":0},{"$f":"HWE34*'Makro i swap'!HWC4","v":0},{"$f":"HWF34*'Makro i swap'!HWD4","v":0},{"$f":"HWG34*'Makro i swap'!HWE4","v":0},{"$f":"HWH34*'Makro i swap'!HWF4","v":0},{"$f":"HWI34*'Makro i swap'!HWG4","v":0},{"$f":"HWJ34*'Makro i swap'!HWH4","v":0},{"$f":"HWK34*'Makro i swap'!HWI4","v":0},{"$f":"HWL34*'Makro i swap'!HWJ4","v":0},{"$f":"HWM34*'Makro i swap'!HWK4","v":0},{"$f":"HWN34*'Makro i swap'!HWL4","v":0},{"$f":"HWO34*'Makro i swap'!HWM4","v":0},{"$f":"HWP34*'Makro i swap'!HWN4","v":0},{"$f":"HWQ34*'Makro i swap'!HWO4","v":0},{"$f":"HWR34*'Makro i swap'!HWP4","v":0},{"$f":"HWS34*'Makro i swap'!HWQ4","v":0},{"$f":"HWT34*'Makro i swap'!HWR4","v":0},{"$f":"HWU34*'Makro i swap'!HWS4","v":0},{"$f":"HWV34*'Makro i swap'!HWT4","v":0},{"$f":"HWW34*'Makro i swap'!HWU4","v":0},{"$f":"HWX34*'Makro i swap'!HWV4","v":0},{"$f":"HWY34*'Makro i swap'!HWW4","v":0},{"$f":"HWZ34*'Makro i swap'!HWX4","v":0},{"$f":"HXA34*'Makro i swap'!HWY4","v":0},{"$f":"HXB34*'Makro i swap'!HWZ4","v":0},{"$f":"HXC34*'Makro i swap'!HXA4","v":0},{"$f":"HXD34*'Makro i swap'!HXB4","v":0},{"$f":"HXE34*'Makro i swap'!HXC4","v":0},{"$f":"HXF34*'Makro i swap'!HXD4","v":0},{"$f":"HXG34*'Makro i swap'!HXE4","v":0},{"$f":"HXH34*'Makro i swap'!HXF4","v":0},{"$f":"HXI34*'Makro i swap'!HXG4","v":0},{"$f":"HXJ34*'Makro i swap'!HXH4","v":0},{"$f":"HXK34*'Makro i swap'!HXI4","v":0},{"$f":"HXL34*'Makro i swap'!HXJ4","v":0},{"$f":"HXM34*'Makro i swap'!HXK4","v":0},{"$f":"HXN34*'Makro i swap'!HXL4","v":0},{"$f":"HXO34*'Makro i swap'!HXM4","v":0},{"$f":"HXP34*'Makro i swap'!HXN4","v":0},{"$f":"HXQ34*'Makro i swap'!HXO4","v":0},{"$f":"HXR34*'Makro i swap'!HXP4","v":0},{"$f":"HXS34*'Makro i swap'!HXQ4","v":0},{"$f":"HXT34*'Makro i swap'!HXR4","v":0},{"$f":"HXU34*'Makro i swap'!HXS4","v":0},{"$f":"HXV34*'Makro i swap'!HXT4","v":0},{"$f":"HXW34*'Makro i swap'!HXU4","v":0},{"$f":"HXX34*'Makro i swap'!HXV4","v":0},{"$f":"HXY34*'Makro i swap'!HXW4","v":0},{"$f":"HXZ34*'Makro i swap'!HXX4","v":0},{"$f":"HYA34*'Makro i swap'!HXY4","v":0},{"$f":"HYB34*'Makro i swap'!HXZ4","v":0},{"$f":"HYC34*'Makro i swap'!HYA4","v":0},{"$f":"HYD34*'Makro i swap'!HYB4","v":0},{"$f":"HYE34*'Makro i swap'!HYC4","v":0},{"$f":"HYF34*'Makro i swap'!HYD4","v":0},{"$f":"HYG34*'Makro i swap'!HYE4","v":0},{"$f":"HYH34*'Makro i swap'!HYF4","v":0},{"$f":"HYI34*'Makro i swap'!HYG4","v":0},{"$f":"HYJ34*'Makro i swap'!HYH4","v":0},{"$f":"HYK34*'Makro i swap'!HYI4","v":0},{"$f":"HYL34*'Makro i swap'!HYJ4","v":0},{"$f":"HYM34*'Makro i swap'!HYK4","v":0},{"$f":"HYN34*'Makro i swap'!HYL4","v":0},{"$f":"HYO34*'Makro i swap'!HYM4","v":0},{"$f":"HYP34*'Makro i swap'!HYN4","v":0},{"$f":"HYQ34*'Makro i swap'!HYO4","v":0},{"$f":"HYR34*'Makro i swap'!HYP4","v":0},{"$f":"HYS34*'Makro i swap'!HYQ4","v":0},{"$f":"HYT34*'Makro i swap'!HYR4","v":0},{"$f":"HYU34*'Makro i swap'!HYS4","v":0},{"$f":"HYV34*'Makro i swap'!HYT4","v":0},{"$f":"HYW34*'Makro i swap'!HYU4","v":0},{"$f":"HYX34*'Makro i swap'!HYV4","v":0},{"$f":"HYY34*'Makro i swap'!HYW4","v":0},{"$f":"HYZ34*'Makro i swap'!HYX4","v":0},{"$f":"HZA34*'Makro i swap'!HYY4","v":0},{"$f":"HZB34*'Makro i swap'!HYZ4","v":0},{"$f":"HZC34*'Makro i swap'!HZA4","v":0},{"$f":"HZD34*'Makro i swap'!HZB4","v":0},{"$f":"HZE34*'Makro i swap'!HZC4","v":0},{"$f":"HZF34*'Makro i swap'!HZD4","v":0},{"$f":"HZG34*'Makro i swap'!HZE4","v":0},{"$f":"HZH34*'Makro i swap'!HZF4","v":0},{"$f":"HZI34*'Makro i swap'!HZG4","v":0},{"$f":"HZJ34*'Makro i swap'!HZH4","v":0},{"$f":"HZK34*'Makro i swap'!HZI4","v":0},{"$f":"HZL34*'Makro i swap'!HZJ4","v":0},{"$f":"HZM34*'Makro i swap'!HZK4","v":0},{"$f":"HZN34*'Makro i swap'!HZL4","v":0},{"$f":"HZO34*'Makro i swap'!HZM4","v":0},{"$f":"HZP34*'Makro i swap'!HZN4","v":0},{"$f":"HZQ34*'Makro i swap'!HZO4","v":0},{"$f":"HZR34*'Makro i swap'!HZP4","v":0},{"$f":"HZS34*'Makro i swap'!HZQ4","v":0},{"$f":"HZT34*'Makro i swap'!HZR4","v":0},{"$f":"HZU34*'Makro i swap'!HZS4","v":0},{"$f":"HZV34*'Makro i swap'!HZT4","v":0},{"$f":"HZW34*'Makro i swap'!HZU4","v":0},{"$f":"HZX34*'Makro i swap'!HZV4","v":0},{"$f":"HZY34*'Makro i swap'!HZW4","v":0},{"$f":"HZZ34*'Makro i swap'!HZX4","v":0},{"$f":"IAA34*'Makro i swap'!HZY4","v":0},{"$f":"IAB34*'Makro i swap'!HZZ4","v":0},{"$f":"IAC34*'Makro i swap'!IAA4","v":0},{"$f":"IAD34*'Makro i swap'!IAB4","v":0},{"$f":"IAE34*'Makro i swap'!IAC4","v":0},{"$f":"IAF34*'Makro i swap'!IAD4","v":0},{"$f":"IAG34*'Makro i swap'!IAE4","v":0},{"$f":"IAH34*'Makro i swap'!IAF4","v":0},{"$f":"IAI34*'Makro i swap'!IAG4","v":0},{"$f":"IAJ34*'Makro i swap'!IAH4","v":0},{"$f":"IAK34*'Makro i swap'!IAI4","v":0},{"$f":"IAL34*'Makro i swap'!IAJ4","v":0},{"$f":"IAM34*'Makro i swap'!IAK4","v":0},{"$f":"IAN34*'Makro i swap'!IAL4","v":0},{"$f":"IAO34*'Makro i swap'!IAM4","v":0},{"$f":"IAP34*'Makro i swap'!IAN4","v":0},{"$f":"IAQ34*'Makro i swap'!IAO4","v":0},{"$f":"IAR34*'Makro i swap'!IAP4","v":0},{"$f":"IAS34*'Makro i swap'!IAQ4","v":0},{"$f":"IAT34*'Makro i swap'!IAR4","v":0},{"$f":"IAU34*'Makro i swap'!IAS4","v":0},{"$f":"IAV34*'Makro i swap'!IAT4","v":0},{"$f":"IAW34*'Makro i swap'!IAU4","v":0},{"$f":"IAX34*'Makro i swap'!IAV4","v":0},{"$f":"IAY34*'Makro i swap'!IAW4","v":0},{"$f":"IAZ34*'Makro i swap'!IAX4","v":0},{"$f":"IBA34*'Makro i swap'!IAY4","v":0},{"$f":"IBB34*'Makro i swap'!IAZ4","v":0},{"$f":"IBC34*'Makro i swap'!IBA4","v":0},{"$f":"IBD34*'Makro i swap'!IBB4","v":0},{"$f":"IBE34*'Makro i swap'!IBC4","v":0},{"$f":"IBF34*'Makro i swap'!IBD4","v":0},{"$f":"IBG34*'Makro i swap'!IBE4","v":0},{"$f":"IBH34*'Makro i swap'!IBF4","v":0},{"$f":"IBI34*'Makro i swap'!IBG4","v":0},{"$f":"IBJ34*'Makro i swap'!IBH4","v":0},{"$f":"IBK34*'Makro i swap'!IBI4","v":0},{"$f":"IBL34*'Makro i swap'!IBJ4","v":0},{"$f":"IBM34*'Makro i swap'!IBK4","v":0},{"$f":"IBN34*'Makro i swap'!IBL4","v":0},{"$f":"IBO34*'Makro i swap'!IBM4","v":0},{"$f":"IBP34*'Makro i swap'!IBN4","v":0},{"$f":"IBQ34*'Makro i swap'!IBO4","v":0},{"$f":"IBR34*'Makro i swap'!IBP4","v":0},{"$f":"IBS34*'Makro i swap'!IBQ4","v":0},{"$f":"IBT34*'Makro i swap'!IBR4","v":0},{"$f":"IBU34*'Makro i swap'!IBS4","v":0},{"$f":"IBV34*'Makro i swap'!IBT4","v":0},{"$f":"IBW34*'Makro i swap'!IBU4","v":0},{"$f":"IBX34*'Makro i swap'!IBV4","v":0},{"$f":"IBY34*'Makro i swap'!IBW4","v":0},{"$f":"IBZ34*'Makro i swap'!IBX4","v":0},{"$f":"ICA34*'Makro i swap'!IBY4","v":0},{"$f":"ICB34*'Makro i swap'!IBZ4","v":0},{"$f":"ICC34*'Makro i swap'!ICA4","v":0},{"$f":"ICD34*'Makro i swap'!ICB4","v":0},{"$f":"ICE34*'Makro i swap'!ICC4","v":0},{"$f":"ICF34*'Makro i swap'!ICD4","v":0},{"$f":"ICG34*'Makro i swap'!ICE4","v":0},{"$f":"ICH34*'Makro i swap'!ICF4","v":0},{"$f":"ICI34*'Makro i swap'!ICG4","v":0},{"$f":"ICJ34*'Makro i swap'!ICH4","v":0},{"$f":"ICK34*'Makro i swap'!ICI4","v":0},{"$f":"ICL34*'Makro i swap'!ICJ4","v":0},{"$f":"ICM34*'Makro i swap'!ICK4","v":0},{"$f":"ICN34*'Makro i swap'!ICL4","v":0},{"$f":"ICO34*'Makro i swap'!ICM4","v":0},{"$f":"ICP34*'Makro i swap'!ICN4","v":0},{"$f":"ICQ34*'Makro i swap'!ICO4","v":0},{"$f":"ICR34*'Makro i swap'!ICP4","v":0},{"$f":"ICS34*'Makro i swap'!ICQ4","v":0},{"$f":"ICT34*'Makro i swap'!ICR4","v":0},{"$f":"ICU34*'Makro i swap'!ICS4","v":0},{"$f":"ICV34*'Makro i swap'!ICT4","v":0},{"$f":"ICW34*'Makro i swap'!ICU4","v":0},{"$f":"ICX34*'Makro i swap'!ICV4","v":0},{"$f":"ICY34*'Makro i swap'!ICW4","v":0},{"$f":"ICZ34*'Makro i swap'!ICX4","v":0},{"$f":"IDA34*'Makro i swap'!ICY4","v":0},{"$f":"IDB34*'Makro i swap'!ICZ4","v":0},{"$f":"IDC34*'Makro i swap'!IDA4","v":0},{"$f":"IDD34*'Makro i swap'!IDB4","v":0},{"$f":"IDE34*'Makro i swap'!IDC4","v":0},{"$f":"IDF34*'Makro i swap'!IDD4","v":0},{"$f":"IDG34*'Makro i swap'!IDE4","v":0},{"$f":"IDH34*'Makro i swap'!IDF4","v":0},{"$f":"IDI34*'Makro i swap'!IDG4","v":0},{"$f":"IDJ34*'Makro i swap'!IDH4","v":0},{"$f":"IDK34*'Makro i swap'!IDI4","v":0},{"$f":"IDL34*'Makro i swap'!IDJ4","v":0},{"$f":"IDM34*'Makro i swap'!IDK4","v":0},{"$f":"IDN34*'Makro i swap'!IDL4","v":0},{"$f":"IDO34*'Makro i swap'!IDM4","v":0},{"$f":"IDP34*'Makro i swap'!IDN4","v":0},{"$f":"IDQ34*'Makro i swap'!IDO4","v":0},{"$f":"IDR34*'Makro i swap'!IDP4","v":0},{"$f":"IDS34*'Makro i swap'!IDQ4","v":0},{"$f":"IDT34*'Makro i swap'!IDR4","v":0},{"$f":"IDU34*'Makro i swap'!IDS4","v":0},{"$f":"IDV34*'Makro i swap'!IDT4","v":0},{"$f":"IDW34*'Makro i swap'!IDU4","v":0},{"$f":"IDX34*'Makro i swap'!IDV4","v":0},{"$f":"IDY34*'Makro i swap'!IDW4","v":0},{"$f":"IDZ34*'Makro i swap'!IDX4","v":0},{"$f":"IEA34*'Makro i swap'!IDY4","v":0},{"$f":"IEB34*'Makro i swap'!IDZ4","v":0},{"$f":"IEC34*'Makro i swap'!IEA4","v":0},{"$f":"IED34*'Makro i swap'!IEB4","v":0},{"$f":"IEE34*'Makro i swap'!IEC4","v":0},{"$f":"IEF34*'Makro i swap'!IED4","v":0},{"$f":"IEG34*'Makro i swap'!IEE4","v":0},{"$f":"IEH34*'Makro i swap'!IEF4","v":0},{"$f":"IEI34*'Makro i swap'!IEG4","v":0},{"$f":"IEJ34*'Makro i swap'!IEH4","v":0},{"$f":"IEK34*'Makro i swap'!IEI4","v":0},{"$f":"IEL34*'Makro i swap'!IEJ4","v":0},{"$f":"IEM34*'Makro i swap'!IEK4","v":0},{"$f":"IEN34*'Makro i swap'!IEL4","v":0},{"$f":"IEO34*'Makro i swap'!IEM4","v":0},{"$f":"IEP34*'Makro i swap'!IEN4","v":0},{"$f":"IEQ34*'Makro i swap'!IEO4","v":0},{"$f":"IER34*'Makro i swap'!IEP4","v":0},{"$f":"IES34*'Makro i swap'!IEQ4","v":0},{"$f":"IET34*'Makro i swap'!IER4","v":0},{"$f":"IEU34*'Makro i swap'!IES4","v":0},{"$f":"IEV34*'Makro i swap'!IET4","v":0},{"$f":"IEW34*'Makro i swap'!IEU4","v":0},{"$f":"IEX34*'Makro i swap'!IEV4","v":0},{"$f":"IEY34*'Makro i swap'!IEW4","v":0},{"$f":"IEZ34*'Makro i swap'!IEX4","v":0},{"$f":"IFA34*'Makro i swap'!IEY4","v":0},{"$f":"IFB34*'Makro i swap'!IEZ4","v":0},{"$f":"IFC34*'Makro i swap'!IFA4","v":0},{"$f":"IFD34*'Makro i swap'!IFB4","v":0},{"$f":"IFE34*'Makro i swap'!IFC4","v":0},{"$f":"IFF34*'Makro i swap'!IFD4","v":0},{"$f":"IFG34*'Makro i swap'!IFE4","v":0},{"$f":"IFH34*'Makro i swap'!IFF4","v":0},{"$f":"IFI34*'Makro i swap'!IFG4","v":0},{"$f":"IFJ34*'Makro i swap'!IFH4","v":0},{"$f":"IFK34*'Makro i swap'!IFI4","v":0},{"$f":"IFL34*'Makro i swap'!IFJ4","v":0},{"$f":"IFM34*'Makro i swap'!IFK4","v":0},{"$f":"IFN34*'Makro i swap'!IFL4","v":0},{"$f":"IFO34*'Makro i swap'!IFM4","v":0},{"$f":"IFP34*'Makro i swap'!IFN4","v":0},{"$f":"IFQ34*'Makro i swap'!IFO4","v":0},{"$f":"IFR34*'Makro i swap'!IFP4","v":0},{"$f":"IFS34*'Makro i swap'!IFQ4","v":0},{"$f":"IFT34*'Makro i swap'!IFR4","v":0},{"$f":"IFU34*'Makro i swap'!IFS4","v":0},{"$f":"IFV34*'Makro i swap'!IFT4","v":0},{"$f":"IFW34*'Makro i swap'!IFU4","v":0},{"$f":"IFX34*'Makro i swap'!IFV4","v":0},{"$f":"IFY34*'Makro i swap'!IFW4","v":0},{"$f":"IFZ34*'Makro i swap'!IFX4","v":0},{"$f":"IGA34*'Makro i swap'!IFY4","v":0},{"$f":"IGB34*'Makro i swap'!IFZ4","v":0},{"$f":"IGC34*'Makro i swap'!IGA4","v":0},{"$f":"IGD34*'Makro i swap'!IGB4","v":0},{"$f":"IGE34*'Makro i swap'!IGC4","v":0},{"$f":"IGF34*'Makro i swap'!IGD4","v":0},{"$f":"IGG34*'Makro i swap'!IGE4","v":0},{"$f":"IGH34*'Makro i swap'!IGF4","v":0},{"$f":"IGI34*'Makro i swap'!IGG4","v":0},{"$f":"IGJ34*'Makro i swap'!IGH4","v":0},{"$f":"IGK34*'Makro i swap'!IGI4","v":0},{"$f":"IGL34*'Makro i swap'!IGJ4","v":0},{"$f":"IGM34*'Makro i swap'!IGK4","v":0},{"$f":"IGN34*'Makro i swap'!IGL4","v":0},{"$f":"IGO34*'Makro i swap'!IGM4","v":0},{"$f":"IGP34*'Makro i swap'!IGN4","v":0},{"$f":"IGQ34*'Makro i swap'!IGO4","v":0},{"$f":"IGR34*'Makro i swap'!IGP4","v":0},{"$f":"IGS34*'Makro i swap'!IGQ4","v":0},{"$f":"IGT34*'Makro i swap'!IGR4","v":0},{"$f":"IGU34*'Makro i swap'!IGS4","v":0},{"$f":"IGV34*'Makro i swap'!IGT4","v":0},{"$f":"IGW34*'Makro i swap'!IGU4","v":0},{"$f":"IGX34*'Makro i swap'!IGV4","v":0},{"$f":"IGY34*'Makro i swap'!IGW4","v":0},{"$f":"IGZ34*'Makro i swap'!IGX4","v":0},{"$f":"IHA34*'Makro i swap'!IGY4","v":0},{"$f":"IHB34*'Makro i swap'!IGZ4","v":0},{"$f":"IHC34*'Makro i swap'!IHA4","v":0},{"$f":"IHD34*'Makro i swap'!IHB4","v":0},{"$f":"IHE34*'Makro i swap'!IHC4","v":0},{"$f":"IHF34*'Makro i swap'!IHD4","v":0},{"$f":"IHG34*'Makro i swap'!IHE4","v":0},{"$f":"IHH34*'Makro i swap'!IHF4","v":0},{"$f":"IHI34*'Makro i swap'!IHG4","v":0},{"$f":"IHJ34*'Makro i swap'!IHH4","v":0},{"$f":"IHK34*'Makro i swap'!IHI4","v":0},{"$f":"IHL34*'Makro i swap'!IHJ4","v":0},{"$f":"IHM34*'Makro i swap'!IHK4","v":0},{"$f":"IHN34*'Makro i swap'!IHL4","v":0},{"$f":"IHO34*'Makro i swap'!IHM4","v":0},{"$f":"IHP34*'Makro i swap'!IHN4","v":0},{"$f":"IHQ34*'Makro i swap'!IHO4","v":0},{"$f":"IHR34*'Makro i swap'!IHP4","v":0},{"$f":"IHS34*'Makro i swap'!IHQ4","v":0},{"$f":"IHT34*'Makro i swap'!IHR4","v":0},{"$f":"IHU34*'Makro i swap'!IHS4","v":0},{"$f":"IHV34*'Makro i swap'!IHT4","v":0},{"$f":"IHW34*'Makro i swap'!IHU4","v":0},{"$f":"IHX34*'Makro i swap'!IHV4","v":0},{"$f":"IHY34*'Makro i swap'!IHW4","v":0},{"$f":"IHZ34*'Makro i swap'!IHX4","v":0},{"$f":"IIA34*'Makro i swap'!IHY4","v":0},{"$f":"IIB34*'Makro i swap'!IHZ4","v":0},{"$f":"IIC34*'Makro i swap'!IIA4","v":0},{"$f":"IID34*'Makro i swap'!IIB4","v":0},{"$f":"IIE34*'Makro i swap'!IIC4","v":0},{"$f":"IIF34*'Makro i swap'!IID4","v":0},{"$f":"IIG34*'Makro i swap'!IIE4","v":0},{"$f":"IIH34*'Makro i swap'!IIF4","v":0},{"$f":"III34*'Makro i swap'!IIG4","v":0},{"$f":"IIJ34*'Makro i swap'!IIH4","v":0},{"$f":"IIK34*'Makro i swap'!III4","v":0},{"$f":"IIL34*'Makro i swap'!IIJ4","v":0},{"$f":"IIM34*'Makro i swap'!IIK4","v":0},{"$f":"IIN34*'Makro i swap'!IIL4","v":0},{"$f":"IIO34*'Makro i swap'!IIM4","v":0},{"$f":"IIP34*'Makro i swap'!IIN4","v":0},{"$f":"IIQ34*'Makro i swap'!IIO4","v":0},{"$f":"IIR34*'Makro i swap'!IIP4","v":0},{"$f":"IIS34*'Makro i swap'!IIQ4","v":0},{"$f":"IIT34*'Makro i swap'!IIR4","v":0},{"$f":"IIU34*'Makro i swap'!IIS4","v":0},{"$f":"IIV34*'Makro i swap'!IIT4","v":0},{"$f":"IIW34*'Makro i swap'!IIU4","v":0},{"$f":"IIX34*'Makro i swap'!IIV4","v":0},{"$f":"IIY34*'Makro i swap'!IIW4","v":0},{"$f":"IIZ34*'Makro i swap'!IIX4","v":0},{"$f":"IJA34*'Makro i swap'!IIY4","v":0},{"$f":"IJB34*'Makro i swap'!IIZ4","v":0},{"$f":"IJC34*'Makro i swap'!IJA4","v":0},{"$f":"IJD34*'Makro i swap'!IJB4","v":0},{"$f":"IJE34*'Makro i swap'!IJC4","v":0},{"$f":"IJF34*'Makro i swap'!IJD4","v":0},{"$f":"IJG34*'Makro i swap'!IJE4","v":0},{"$f":"IJH34*'Makro i swap'!IJF4","v":0},{"$f":"IJI34*'Makro i swap'!IJG4","v":0},{"$f":"IJJ34*'Makro i swap'!IJH4","v":0},{"$f":"IJK34*'Makro i swap'!IJI4","v":0},{"$f":"IJL34*'Makro i swap'!IJJ4","v":0},{"$f":"IJM34*'Makro i swap'!IJK4","v":0},{"$f":"IJN34*'Makro i swap'!IJL4","v":0},{"$f":"IJO34*'Makro i swap'!IJM4","v":0},{"$f":"IJP34*'Makro i swap'!IJN4","v":0},{"$f":"IJQ34*'Makro i swap'!IJO4","v":0},{"$f":"IJR34*'Makro i swap'!IJP4","v":0},{"$f":"IJS34*'Makro i swap'!IJQ4","v":0},{"$f":"IJT34*'Makro i swap'!IJR4","v":0},{"$f":"IJU34*'Makro i swap'!IJS4","v":0},{"$f":"IJV34*'Makro i swap'!IJT4","v":0},{"$f":"IJW34*'Makro i swap'!IJU4","v":0},{"$f":"IJX34*'Makro i swap'!IJV4","v":0},{"$f":"IJY34*'Makro i swap'!IJW4","v":0},{"$f":"IJZ34*'Makro i swap'!IJX4","v":0},{"$f":"IKA34*'Makro i swap'!IJY4","v":0},{"$f":"IKB34*'Makro i swap'!IJZ4","v":0},{"$f":"IKC34*'Makro i swap'!IKA4","v":0},{"$f":"IKD34*'Makro i swap'!IKB4","v":0},{"$f":"IKE34*'Makro i swap'!IKC4","v":0},{"$f":"IKF34*'Makro i swap'!IKD4","v":0},{"$f":"IKG34*'Makro i swap'!IKE4","v":0},{"$f":"IKH34*'Makro i swap'!IKF4","v":0},{"$f":"IKI34*'Makro i swap'!IKG4","v":0},{"$f":"IKJ34*'Makro i swap'!IKH4","v":0},{"$f":"IKK34*'Makro i swap'!IKI4","v":0},{"$f":"IKL34*'Makro i swap'!IKJ4","v":0},{"$f":"IKM34*'Makro i swap'!IKK4","v":0},{"$f":"IKN34*'Makro i swap'!IKL4","v":0},{"$f":"IKO34*'Makro i swap'!IKM4","v":0},{"$f":"IKP34*'Makro i swap'!IKN4","v":0},{"$f":"IKQ34*'Makro i swap'!IKO4","v":0},{"$f":"IKR34*'Makro i swap'!IKP4","v":0},{"$f":"IKS34*'Makro i swap'!IKQ4","v":0},{"$f":"IKT34*'Makro i swap'!IKR4","v":0},{"$f":"IKU34*'Makro i swap'!IKS4","v":0},{"$f":"IKV34*'Makro i swap'!IKT4","v":0},{"$f":"IKW34*'Makro i swap'!IKU4","v":0},{"$f":"IKX34*'Makro i swap'!IKV4","v":0},{"$f":"IKY34*'Makro i swap'!IKW4","v":0},{"$f":"IKZ34*'Makro i swap'!IKX4","v":0},{"$f":"ILA34*'Makro i swap'!IKY4","v":0},{"$f":"ILB34*'Makro i swap'!IKZ4","v":0},{"$f":"ILC34*'Makro i swap'!ILA4","v":0},{"$f":"ILD34*'Makro i swap'!ILB4","v":0},{"$f":"ILE34*'Makro i swap'!ILC4","v":0},{"$f":"ILF34*'Makro i swap'!ILD4","v":0},{"$f":"ILG34*'Makro i swap'!ILE4","v":0},{"$f":"ILH34*'Makro i swap'!ILF4","v":0},{"$f":"ILI34*'Makro i swap'!ILG4","v":0},{"$f":"ILJ34*'Makro i swap'!ILH4","v":0},{"$f":"ILK34*'Makro i swap'!ILI4","v":0},{"$f":"ILL34*'Makro i swap'!ILJ4","v":0},{"$f":"ILM34*'Makro i swap'!ILK4","v":0},{"$f":"ILN34*'Makro i swap'!ILL4","v":0},{"$f":"ILO34*'Makro i swap'!ILM4","v":0},{"$f":"ILP34*'Makro i swap'!ILN4","v":0},{"$f":"ILQ34*'Makro i swap'!ILO4","v":0},{"$f":"ILR34*'Makro i swap'!ILP4","v":0},{"$f":"ILS34*'Makro i swap'!ILQ4","v":0},{"$f":"ILT34*'Makro i swap'!ILR4","v":0},{"$f":"ILU34*'Makro i swap'!ILS4","v":0},{"$f":"ILV34*'Makro i swap'!ILT4","v":0},{"$f":"ILW34*'Makro i swap'!ILU4","v":0},{"$f":"ILX34*'Makro i swap'!ILV4","v":0},{"$f":"ILY34*'Makro i swap'!ILW4","v":0},{"$f":"ILZ34*'Makro i swap'!ILX4","v":0},{"$f":"IMA34*'Makro i swap'!ILY4","v":0},{"$f":"IMB34*'Makro i swap'!ILZ4","v":0},{"$f":"IMC34*'Makro i swap'!IMA4","v":0},{"$f":"IMD34*'Makro i swap'!IMB4","v":0},{"$f":"IME34*'Makro i swap'!IMC4","v":0},{"$f":"IMF34*'Makro i swap'!IMD4","v":0},{"$f":"IMG34*'Makro i swap'!IME4","v":0},{"$f":"IMH34*'Makro i swap'!IMF4","v":0},{"$f":"IMI34*'Makro i swap'!IMG4","v":0},{"$f":"IMJ34*'Makro i swap'!IMH4","v":0},{"$f":"IMK34*'Makro i swap'!IMI4","v":0},{"$f":"IML34*'Makro i swap'!IMJ4","v":0},{"$f":"IMM34*'Makro i swap'!IMK4","v":0},{"$f":"IMN34*'Makro i swap'!IML4","v":0},{"$f":"IMO34*'Makro i swap'!IMM4","v":0},{"$f":"IMP34*'Makro i swap'!IMN4","v":0},{"$f":"IMQ34*'Makro i swap'!IMO4","v":0},{"$f":"IMR34*'Makro i swap'!IMP4","v":0},{"$f":"IMS34*'Makro i swap'!IMQ4","v":0},{"$f":"IMT34*'Makro i swap'!IMR4","v":0},{"$f":"IMU34*'Makro i swap'!IMS4","v":0},{"$f":"IMV34*'Makro i swap'!IMT4","v":0},{"$f":"IMW34*'Makro i swap'!IMU4","v":0},{"$f":"IMX34*'Makro i swap'!IMV4","v":0},{"$f":"IMY34*'Makro i swap'!IMW4","v":0},{"$f":"IMZ34*'Makro i swap'!IMX4","v":0},{"$f":"INA34*'Makro i swap'!IMY4","v":0},{"$f":"INB34*'Makro i swap'!IMZ4","v":0},{"$f":"INC34*'Makro i swap'!INA4","v":0},{"$f":"IND34*'Makro i swap'!INB4","v":0},{"$f":"INE34*'Makro i swap'!INC4","v":0},{"$f":"INF34*'Makro i swap'!IND4","v":0},{"$f":"ING34*'Makro i swap'!INE4","v":0},{"$f":"INH34*'Makro i swap'!INF4","v":0},{"$f":"INI34*'Makro i swap'!ING4","v":0},{"$f":"INJ34*'Makro i swap'!INH4","v":0},{"$f":"INK34*'Makro i swap'!INI4","v":0},{"$f":"INL34*'Makro i swap'!INJ4","v":0},{"$f":"INM34*'Makro i swap'!INK4","v":0},{"$f":"INN34*'Makro i swap'!INL4","v":0},{"$f":"INO34*'Makro i swap'!INM4","v":0},{"$f":"INP34*'Makro i swap'!INN4","v":0},{"$f":"INQ34*'Makro i swap'!INO4","v":0},{"$f":"INR34*'Makro i swap'!INP4","v":0},{"$f":"INS34*'Makro i swap'!INQ4","v":0},{"$f":"INT34*'Makro i swap'!INR4","v":0},{"$f":"INU34*'Makro i swap'!INS4","v":0},{"$f":"INV34*'Makro i swap'!INT4","v":0},{"$f":"INW34*'Makro i swap'!INU4","v":0},{"$f":"INX34*'Makro i swap'!INV4","v":0},{"$f":"INY34*'Makro i swap'!INW4","v":0},{"$f":"INZ34*'Makro i swap'!INX4","v":0},{"$f":"IOA34*'Makro i swap'!INY4","v":0},{"$f":"IOB34*'Makro i swap'!INZ4","v":0},{"$f":"IOC34*'Makro i swap'!IOA4","v":0},{"$f":"IOD34*'Makro i swap'!IOB4","v":0},{"$f":"IOE34*'Makro i swap'!IOC4","v":0},{"$f":"IOF34*'Makro i swap'!IOD4","v":0},{"$f":"IOG34*'Makro i swap'!IOE4","v":0},{"$f":"IOH34*'Makro i swap'!IOF4","v":0},{"$f":"IOI34*'Makro i swap'!IOG4","v":0},{"$f":"IOJ34*'Makro i swap'!IOH4","v":0},{"$f":"IOK34*'Makro i swap'!IOI4","v":0},{"$f":"IOL34*'Makro i swap'!IOJ4","v":0},{"$f":"IOM34*'Makro i swap'!IOK4","v":0},{"$f":"ION34*'Makro i swap'!IOL4","v":0},{"$f":"IOO34*'Makro i swap'!IOM4","v":0},{"$f":"IOP34*'Makro i swap'!ION4","v":0},{"$f":"IOQ34*'Makro i swap'!IOO4","v":0},{"$f":"IOR34*'Makro i swap'!IOP4","v":0},{"$f":"IOS34*'Makro i swap'!IOQ4","v":0},{"$f":"IOT34*'Makro i swap'!IOR4","v":0},{"$f":"IOU34*'Makro i swap'!IOS4","v":0},{"$f":"IOV34*'Makro i swap'!IOT4","v":0},{"$f":"IOW34*'Makro i swap'!IOU4","v":0},{"$f":"IOX34*'Makro i swap'!IOV4","v":0},{"$f":"IOY34*'Makro i swap'!IOW4","v":0},{"$f":"IOZ34*'Makro i swap'!IOX4","v":0},{"$f":"IPA34*'Makro i swap'!IOY4","v":0},{"$f":"IPB34*'Makro i swap'!IOZ4","v":0},{"$f":"IPC34*'Makro i swap'!IPA4","v":0},{"$f":"IPD34*'Makro i swap'!IPB4","v":0},{"$f":"IPE34*'Makro i swap'!IPC4","v":0},{"$f":"IPF34*'Makro i swap'!IPD4","v":0},{"$f":"IPG34*'Makro i swap'!IPE4","v":0},{"$f":"IPH34*'Makro i swap'!IPF4","v":0},{"$f":"IPI34*'Makro i swap'!IPG4","v":0},{"$f":"IPJ34*'Makro i swap'!IPH4","v":0},{"$f":"IPK34*'Makro i swap'!IPI4","v":0},{"$f":"IPL34*'Makro i swap'!IPJ4","v":0},{"$f":"IPM34*'Makro i swap'!IPK4","v":0},{"$f":"IPN34*'Makro i swap'!IPL4","v":0},{"$f":"IPO34*'Makro i swap'!IPM4","v":0},{"$f":"IPP34*'Makro i swap'!IPN4","v":0},{"$f":"IPQ34*'Makro i swap'!IPO4","v":0},{"$f":"IPR34*'Makro i swap'!IPP4","v":0},{"$f":"IPS34*'Makro i swap'!IPQ4","v":0},{"$f":"IPT34*'Makro i swap'!IPR4","v":0},{"$f":"IPU34*'Makro i swap'!IPS4","v":0},{"$f":"IPV34*'Makro i swap'!IPT4","v":0},{"$f":"IPW34*'Makro i swap'!IPU4","v":0},{"$f":"IPX34*'Makro i swap'!IPV4","v":0},{"$f":"IPY34*'Makro i swap'!IPW4","v":0},{"$f":"IPZ34*'Makro i swap'!IPX4","v":0},{"$f":"IQA34*'Makro i swap'!IPY4","v":0},{"$f":"IQB34*'Makro i swap'!IPZ4","v":0},{"$f":"IQC34*'Makro i swap'!IQA4","v":0},{"$f":"IQD34*'Makro i swap'!IQB4","v":0},{"$f":"IQE34*'Makro i swap'!IQC4","v":0},{"$f":"IQF34*'Makro i swap'!IQD4","v":0},{"$f":"IQG34*'Makro i swap'!IQE4","v":0},{"$f":"IQH34*'Makro i swap'!IQF4","v":0},{"$f":"IQI34*'Makro i swap'!IQG4","v":0},{"$f":"IQJ34*'Makro i swap'!IQH4","v":0},{"$f":"IQK34*'Makro i swap'!IQI4","v":0},{"$f":"IQL34*'Makro i swap'!IQJ4","v":0},{"$f":"IQM34*'Makro i swap'!IQK4","v":0},{"$f":"IQN34*'Makro i swap'!IQL4","v":0},{"$f":"IQO34*'Makro i swap'!IQM4","v":0},{"$f":"IQP34*'Makro i swap'!IQN4","v":0},{"$f":"IQQ34*'Makro i swap'!IQO4","v":0},{"$f":"IQR34*'Makro i swap'!IQP4","v":0},{"$f":"IQS34*'Makro i swap'!IQQ4","v":0},{"$f":"IQT34*'Makro i swap'!IQR4","v":0},{"$f":"IQU34*'Makro i swap'!IQS4","v":0},{"$f":"IQV34*'Makro i swap'!IQT4","v":0},{"$f":"IQW34*'Makro i swap'!IQU4","v":0},{"$f":"IQX34*'Makro i swap'!IQV4","v":0},{"$f":"IQY34*'Makro i swap'!IQW4","v":0},{"$f":"IQZ34*'Makro i swap'!IQX4","v":0},{"$f":"IRA34*'Makro i swap'!IQY4","v":0},{"$f":"IRB34*'Makro i swap'!IQZ4","v":0},{"$f":"IRC34*'Makro i swap'!IRA4","v":0},{"$f":"IRD34*'Makro i swap'!IRB4","v":0},{"$f":"IRE34*'Makro i swap'!IRC4","v":0},{"$f":"IRF34*'Makro i swap'!IRD4","v":0},{"$f":"IRG34*'Makro i swap'!IRE4","v":0},{"$f":"IRH34*'Makro i swap'!IRF4","v":0},{"$f":"IRI34*'Makro i swap'!IRG4","v":0},{"$f":"IRJ34*'Makro i swap'!IRH4","v":0},{"$f":"IRK34*'Makro i swap'!IRI4","v":0},{"$f":"IRL34*'Makro i swap'!IRJ4","v":0},{"$f":"IRM34*'Makro i swap'!IRK4","v":0},{"$f":"IRN34*'Makro i swap'!IRL4","v":0},{"$f":"IRO34*'Makro i swap'!IRM4","v":0},{"$f":"IRP34*'Makro i swap'!IRN4","v":0},{"$f":"IRQ34*'Makro i swap'!IRO4","v":0},{"$f":"IRR34*'Makro i swap'!IRP4","v":0},{"$f":"IRS34*'Makro i swap'!IRQ4","v":0},{"$f":"IRT34*'Makro i swap'!IRR4","v":0},{"$f":"IRU34*'Makro i swap'!IRS4","v":0},{"$f":"IRV34*'Makro i swap'!IRT4","v":0},{"$f":"IRW34*'Makro i swap'!IRU4","v":0},{"$f":"IRX34*'Makro i swap'!IRV4","v":0},{"$f":"IRY34*'Makro i swap'!IRW4","v":0},{"$f":"IRZ34*'Makro i swap'!IRX4","v":0},{"$f":"ISA34*'Makro i swap'!IRY4","v":0},{"$f":"ISB34*'Makro i swap'!IRZ4","v":0},{"$f":"ISC34*'Makro i swap'!ISA4","v":0},{"$f":"ISD34*'Makro i swap'!ISB4","v":0},{"$f":"ISE34*'Makro i swap'!ISC4","v":0},{"$f":"ISF34*'Makro i swap'!ISD4","v":0},{"$f":"ISG34*'Makro i swap'!ISE4","v":0},{"$f":"ISH34*'Makro i swap'!ISF4","v":0},{"$f":"ISI34*'Makro i swap'!ISG4","v":0},{"$f":"ISJ34*'Makro i swap'!ISH4","v":0},{"$f":"ISK34*'Makro i swap'!ISI4","v":0},{"$f":"ISL34*'Makro i swap'!ISJ4","v":0},{"$f":"ISM34*'Makro i swap'!ISK4","v":0},{"$f":"ISN34*'Makro i swap'!ISL4","v":0},{"$f":"ISO34*'Makro i swap'!ISM4","v":0},{"$f":"ISP34*'Makro i swap'!ISN4","v":0},{"$f":"ISQ34*'Makro i swap'!ISO4","v":0},{"$f":"ISR34*'Makro i swap'!ISP4","v":0},{"$f":"ISS34*'Makro i swap'!ISQ4","v":0},{"$f":"IST34*'Makro i swap'!ISR4","v":0},{"$f":"ISU34*'Makro i swap'!ISS4","v":0},{"$f":"ISV34*'Makro i swap'!IST4","v":0},{"$f":"ISW34*'Makro i swap'!ISU4","v":0},{"$f":"ISX34*'Makro i swap'!ISV4","v":0},{"$f":"ISY34*'Makro i swap'!ISW4","v":0},{"$f":"ISZ34*'Makro i swap'!ISX4","v":0},{"$f":"ITA34*'Makro i swap'!ISY4","v":0},{"$f":"ITB34*'Makro i swap'!ISZ4","v":0},{"$f":"ITC34*'Makro i swap'!ITA4","v":0},{"$f":"ITD34*'Makro i swap'!ITB4","v":0},{"$f":"ITE34*'Makro i swap'!ITC4","v":0},{"$f":"ITF34*'Makro i swap'!ITD4","v":0},{"$f":"ITG34*'Makro i swap'!ITE4","v":0},{"$f":"ITH34*'Makro i swap'!ITF4","v":0},{"$f":"ITI34*'Makro i swap'!ITG4","v":0},{"$f":"ITJ34*'Makro i swap'!ITH4","v":0},{"$f":"ITK34*'Makro i swap'!ITI4","v":0},{"$f":"ITL34*'Makro i swap'!ITJ4","v":0},{"$f":"ITM34*'Makro i swap'!ITK4","v":0},{"$f":"ITN34*'Makro i swap'!ITL4","v":0},{"$f":"ITO34*'Makro i swap'!ITM4","v":0},{"$f":"ITP34*'Makro i swap'!ITN4","v":0},{"$f":"ITQ34*'Makro i swap'!ITO4","v":0},{"$f":"ITR34*'Makro i swap'!ITP4","v":0},{"$f":"ITS34*'Makro i swap'!ITQ4","v":0},{"$f":"ITT34*'Makro i swap'!ITR4","v":0},{"$f":"ITU34*'Makro i swap'!ITS4","v":0},{"$f":"ITV34*'Makro i swap'!ITT4","v":0},{"$f":"ITW34*'Makro i swap'!ITU4","v":0},{"$f":"ITX34*'Makro i swap'!ITV4","v":0},{"$f":"ITY34*'Makro i swap'!ITW4","v":0},{"$f":"ITZ34*'Makro i swap'!ITX4","v":0},{"$f":"IUA34*'Makro i swap'!ITY4","v":0},{"$f":"IUB34*'Makro i swap'!ITZ4","v":0},{"$f":"IUC34*'Makro i swap'!IUA4","v":0},{"$f":"IUD34*'Makro i swap'!IUB4","v":0},{"$f":"IUE34*'Makro i swap'!IUC4","v":0},{"$f":"IUF34*'Makro i swap'!IUD4","v":0},{"$f":"IUG34*'Makro i swap'!IUE4","v":0},{"$f":"IUH34*'Makro i swap'!IUF4","v":0},{"$f":"IUI34*'Makro i swap'!IUG4","v":0},{"$f":"IUJ34*'Makro i swap'!IUH4","v":0},{"$f":"IUK34*'Makro i swap'!IUI4","v":0},{"$f":"IUL34*'Makro i swap'!IUJ4","v":0},{"$f":"IUM34*'Makro i swap'!IUK4","v":0},{"$f":"IUN34*'Makro i swap'!IUL4","v":0},{"$f":"IUO34*'Makro i swap'!IUM4","v":0},{"$f":"IUP34*'Makro i swap'!IUN4","v":0},{"$f":"IUQ34*'Makro i swap'!IUO4","v":0},{"$f":"IUR34*'Makro i swap'!IUP4","v":0},{"$f":"IUS34*'Makro i swap'!IUQ4","v":0},{"$f":"IUT34*'Makro i swap'!IUR4","v":0},{"$f":"IUU34*'Makro i swap'!IUS4","v":0},{"$f":"IUV34*'Makro i swap'!IUT4","v":0},{"$f":"IUW34*'Makro i swap'!IUU4","v":0},{"$f":"IUX34*'Makro i swap'!IUV4","v":0},{"$f":"IUY34*'Makro i swap'!IUW4","v":0},{"$f":"IUZ34*'Makro i swap'!IUX4","v":0},{"$f":"IVA34*'Makro i swap'!IUY4","v":0},{"$f":"IVB34*'Makro i swap'!IUZ4","v":0},{"$f":"IVC34*'Makro i swap'!IVA4","v":0},{"$f":"IVD34*'Makro i swap'!IVB4","v":0},{"$f":"IVE34*'Makro i swap'!IVC4","v":0},{"$f":"IVF34*'Makro i swap'!IVD4","v":0},{"$f":"IVG34*'Makro i swap'!IVE4","v":0},{"$f":"IVH34*'Makro i swap'!IVF4","v":0},{"$f":"IVI34*'Makro i swap'!IVG4","v":0},{"$f":"IVJ34*'Makro i swap'!IVH4","v":0},{"$f":"IVK34*'Makro i swap'!IVI4","v":0},{"$f":"IVL34*'Makro i swap'!IVJ4","v":0},{"$f":"IVM34*'Makro i swap'!IVK4","v":0},{"$f":"IVN34*'Makro i swap'!IVL4","v":0},{"$f":"IVO34*'Makro i swap'!IVM4","v":0},{"$f":"IVP34*'Makro i swap'!IVN4","v":0},{"$f":"IVQ34*'Makro i swap'!IVO4","v":0},{"$f":"IVR34*'Makro i swap'!IVP4","v":0},{"$f":"IVS34*'Makro i swap'!IVQ4","v":0},{"$f":"IVT34*'Makro i swap'!IVR4","v":0},{"$f":"IVU34*'Makro i swap'!IVS4","v":0},{"$f":"IVV34*'Makro i swap'!IVT4","v":0},{"$f":"IVW34*'Makro i swap'!IVU4","v":0},{"$f":"IVX34*'Makro i swap'!IVV4","v":0},{"$f":"IVY34*'Makro i swap'!IVW4","v":0},{"$f":"IVZ34*'Makro i swap'!IVX4","v":0},{"$f":"IWA34*'Makro i swap'!IVY4","v":0},{"$f":"IWB34*'Makro i swap'!IVZ4","v":0},{"$f":"IWC34*'Makro i swap'!IWA4","v":0},{"$f":"IWD34*'Makro i swap'!IWB4","v":0},{"$f":"IWE34*'Makro i swap'!IWC4","v":0},{"$f":"IWF34*'Makro i swap'!IWD4","v":0},{"$f":"IWG34*'Makro i swap'!IWE4","v":0},{"$f":"IWH34*'Makro i swap'!IWF4","v":0},{"$f":"IWI34*'Makro i swap'!IWG4","v":0},{"$f":"IWJ34*'Makro i swap'!IWH4","v":0},{"$f":"IWK34*'Makro i swap'!IWI4","v":0},{"$f":"IWL34*'Makro i swap'!IWJ4","v":0},{"$f":"IWM34*'Makro i swap'!IWK4","v":0},{"$f":"IWN34*'Makro i swap'!IWL4","v":0},{"$f":"IWO34*'Makro i swap'!IWM4","v":0},{"$f":"IWP34*'Makro i swap'!IWN4","v":0},{"$f":"IWQ34*'Makro i swap'!IWO4","v":0},{"$f":"IWR34*'Makro i swap'!IWP4","v":0},{"$f":"IWS34*'Makro i swap'!IWQ4","v":0},{"$f":"IWT34*'Makro i swap'!IWR4","v":0},{"$f":"IWU34*'Makro i swap'!IWS4","v":0},{"$f":"IWV34*'Makro i swap'!IWT4","v":0},{"$f":"IWW34*'Makro i swap'!IWU4","v":0},{"$f":"IWX34*'Makro i swap'!IWV4","v":0},{"$f":"IWY34*'Makro i swap'!IWW4","v":0},{"$f":"IWZ34*'Makro i swap'!IWX4","v":0},{"$f":"IXA34*'Makro i swap'!IWY4","v":0},{"$f":"IXB34*'Makro i swap'!IWZ4","v":0},{"$f":"IXC34*'Makro i swap'!IXA4","v":0},{"$f":"IXD34*'Makro i swap'!IXB4","v":0},{"$f":"IXE34*'Makro i swap'!IXC4","v":0},{"$f":"IXF34*'Makro i swap'!IXD4","v":0},{"$f":"IXG34*'Makro i swap'!IXE4","v":0},{"$f":"IXH34*'Makro i swap'!IXF4","v":0},{"$f":"IXI34*'Makro i swap'!IXG4","v":0},{"$f":"IXJ34*'Makro i swap'!IXH4","v":0},{"$f":"IXK34*'Makro i swap'!IXI4","v":0},{"$f":"IXL34*'Makro i swap'!IXJ4","v":0},{"$f":"IXM34*'Makro i swap'!IXK4","v":0},{"$f":"IXN34*'Makro i swap'!IXL4","v":0},{"$f":"IXO34*'Makro i swap'!IXM4","v":0},{"$f":"IXP34*'Makro i swap'!IXN4","v":0},{"$f":"IXQ34*'Makro i swap'!IXO4","v":0},{"$f":"IXR34*'Makro i swap'!IXP4","v":0},{"$f":"IXS34*'Makro i swap'!IXQ4","v":0},{"$f":"IXT34*'Makro i swap'!IXR4","v":0},{"$f":"IXU34*'Makro i swap'!IXS4","v":0},{"$f":"IXV34*'Makro i swap'!IXT4","v":0},{"$f":"IXW34*'Makro i swap'!IXU4","v":0},{"$f":"IXX34*'Makro i swap'!IXV4","v":0},{"$f":"IXY34*'Makro i swap'!IXW4","v":0},{"$f":"IXZ34*'Makro i swap'!IXX4","v":0},{"$f":"IYA34*'Makro i swap'!IXY4","v":0},{"$f":"IYB34*'Makro i swap'!IXZ4","v":0},{"$f":"IYC34*'Makro i swap'!IYA4","v":0},{"$f":"IYD34*'Makro i swap'!IYB4","v":0},{"$f":"IYE34*'Makro i swap'!IYC4","v":0},{"$f":"IYF34*'Makro i swap'!IYD4","v":0},{"$f":"IYG34*'Makro i swap'!IYE4","v":0},{"$f":"IYH34*'Makro i swap'!IYF4","v":0},{"$f":"IYI34*'Makro i swap'!IYG4","v":0},{"$f":"IYJ34*'Makro i swap'!IYH4","v":0},{"$f":"IYK34*'Makro i swap'!IYI4","v":0},{"$f":"IYL34*'Makro i swap'!IYJ4","v":0},{"$f":"IYM34*'Makro i swap'!IYK4","v":0},{"$f":"IYN34*'Makro i swap'!IYL4","v":0},{"$f":"IYO34*'Makro i swap'!IYM4","v":0},{"$f":"IYP34*'Makro i swap'!IYN4","v":0},{"$f":"IYQ34*'Makro i swap'!IYO4","v":0},{"$f":"IYR34*'Makro i swap'!IYP4","v":0},{"$f":"IYS34*'Makro i swap'!IYQ4","v":0},{"$f":"IYT34*'Makro i swap'!IYR4","v":0},{"$f":"IYU34*'Makro i swap'!IYS4","v":0},{"$f":"IYV34*'Makro i swap'!IYT4","v":0},{"$f":"IYW34*'Makro i swap'!IYU4","v":0},{"$f":"IYX34*'Makro i swap'!IYV4","v":0},{"$f":"IYY34*'Makro i swap'!IYW4","v":0},{"$f":"IYZ34*'Makro i swap'!IYX4","v":0},{"$f":"IZA34*'Makro i swap'!IYY4","v":0},{"$f":"IZB34*'Makro i swap'!IYZ4","v":0},{"$f":"IZC34*'Makro i swap'!IZA4","v":0},{"$f":"IZD34*'Makro i swap'!IZB4","v":0},{"$f":"IZE34*'Makro i swap'!IZC4","v":0},{"$f":"IZF34*'Makro i swap'!IZD4","v":0},{"$f":"IZG34*'Makro i swap'!IZE4","v":0},{"$f":"IZH34*'Makro i swap'!IZF4","v":0},{"$f":"IZI34*'Makro i swap'!IZG4","v":0},{"$f":"IZJ34*'Makro i swap'!IZH4","v":0},{"$f":"IZK34*'Makro i swap'!IZI4","v":0},{"$f":"IZL34*'Makro i swap'!IZJ4","v":0},{"$f":"IZM34*'Makro i swap'!IZK4","v":0},{"$f":"IZN34*'Makro i swap'!IZL4","v":0},{"$f":"IZO34*'Makro i swap'!IZM4","v":0},{"$f":"IZP34*'Makro i swap'!IZN4","v":0},{"$f":"IZQ34*'Makro i swap'!IZO4","v":0},{"$f":"IZR34*'Makro i swap'!IZP4","v":0},{"$f":"IZS34*'Makro i swap'!IZQ4","v":0},{"$f":"IZT34*'Makro i swap'!IZR4","v":0},{"$f":"IZU34*'Makro i swap'!IZS4","v":0},{"$f":"IZV34*'Makro i swap'!IZT4","v":0},{"$f":"IZW34*'Makro i swap'!IZU4","v":0},{"$f":"IZX34*'Makro i swap'!IZV4","v":0},{"$f":"IZY34*'Makro i swap'!IZW4","v":0},{"$f":"IZZ34*'Makro i swap'!IZX4","v":0},{"$f":"JAA34*'Makro i swap'!IZY4","v":0},{"$f":"JAB34*'Makro i swap'!IZZ4","v":0},{"$f":"JAC34*'Makro i swap'!JAA4","v":0},{"$f":"JAD34*'Makro i swap'!JAB4","v":0},{"$f":"JAE34*'Makro i swap'!JAC4","v":0},{"$f":"JAF34*'Makro i swap'!JAD4","v":0},{"$f":"JAG34*'Makro i swap'!JAE4","v":0},{"$f":"JAH34*'Makro i swap'!JAF4","v":0},{"$f":"JAI34*'Makro i swap'!JAG4","v":0},{"$f":"JAJ34*'Makro i swap'!JAH4","v":0},{"$f":"JAK34*'Makro i swap'!JAI4","v":0},{"$f":"JAL34*'Makro i swap'!JAJ4","v":0},{"$f":"JAM34*'Makro i swap'!JAK4","v":0},{"$f":"JAN34*'Makro i swap'!JAL4","v":0},{"$f":"JAO34*'Makro i swap'!JAM4","v":0},{"$f":"JAP34*'Makro i swap'!JAN4","v":0},{"$f":"JAQ34*'Makro i swap'!JAO4","v":0},{"$f":"JAR34*'Makro i swap'!JAP4","v":0},{"$f":"JAS34*'Makro i swap'!JAQ4","v":0},{"$f":"JAT34*'Makro i swap'!JAR4","v":0},{"$f":"JAU34*'Makro i swap'!JAS4","v":0},{"$f":"JAV34*'Makro i swap'!JAT4","v":0},{"$f":"JAW34*'Makro i swap'!JAU4","v":0},{"$f":"JAX34*'Makro i swap'!JAV4","v":0},{"$f":"JAY34*'Makro i swap'!JAW4","v":0},{"$f":"JAZ34*'Makro i swap'!JAX4","v":0},{"$f":"JBA34*'Makro i swap'!JAY4","v":0},{"$f":"JBB34*'Makro i swap'!JAZ4","v":0},{"$f":"JBC34*'Makro i swap'!JBA4","v":0},{"$f":"JBD34*'Makro i swap'!JBB4","v":0},{"$f":"JBE34*'Makro i swap'!JBC4","v":0},{"$f":"JBF34*'Makro i swap'!JBD4","v":0},{"$f":"JBG34*'Makro i swap'!JBE4","v":0},{"$f":"JBH34*'Makro i swap'!JBF4","v":0},{"$f":"JBI34*'Makro i swap'!JBG4","v":0},{"$f":"JBJ34*'Makro i swap'!JBH4","v":0},{"$f":"JBK34*'Makro i swap'!JBI4","v":0},{"$f":"JBL34*'Makro i swap'!JBJ4","v":0},{"$f":"JBM34*'Makro i swap'!JBK4","v":0},{"$f":"JBN34*'Makro i swap'!JBL4","v":0},{"$f":"JBO34*'Makro i swap'!JBM4","v":0},{"$f":"JBP34*'Makro i swap'!JBN4","v":0},{"$f":"JBQ34*'Makro i swap'!JBO4","v":0},{"$f":"JBR34*'Makro i swap'!JBP4","v":0},{"$f":"JBS34*'Makro i swap'!JBQ4","v":0},{"$f":"JBT34*'Makro i swap'!JBR4","v":0},{"$f":"JBU34*'Makro i swap'!JBS4","v":0},{"$f":"JBV34*'Makro i swap'!JBT4","v":0},{"$f":"JBW34*'Makro i swap'!JBU4","v":0},{"$f":"JBX34*'Makro i swap'!JBV4","v":0},{"$f":"JBY34*'Makro i swap'!JBW4","v":0},{"$f":"JBZ34*'Makro i swap'!JBX4","v":0},{"$f":"JCA34*'Makro i swap'!JBY4","v":0},{"$f":"JCB34*'Makro i swap'!JBZ4","v":0},{"$f":"JCC34*'Makro i swap'!JCA4","v":0},{"$f":"JCD34*'Makro i swap'!JCB4","v":0},{"$f":"JCE34*'Makro i swap'!JCC4","v":0},{"$f":"JCF34*'Makro i swap'!JCD4","v":0},{"$f":"JCG34*'Makro i swap'!JCE4","v":0},{"$f":"JCH34*'Makro i swap'!JCF4","v":0},{"$f":"JCI34*'Makro i swap'!JCG4","v":0},{"$f":"JCJ34*'Makro i swap'!JCH4","v":0},{"$f":"JCK34*'Makro i swap'!JCI4","v":0},{"$f":"JCL34*'Makro i swap'!JCJ4","v":0},{"$f":"JCM34*'Makro i swap'!JCK4","v":0},{"$f":"JCN34*'Makro i swap'!JCL4","v":0},{"$f":"JCO34*'Makro i swap'!JCM4","v":0},{"$f":"JCP34*'Makro i swap'!JCN4","v":0},{"$f":"JCQ34*'Makro i swap'!JCO4","v":0},{"$f":"JCR34*'Makro i swap'!JCP4","v":0},{"$f":"JCS34*'Makro i swap'!JCQ4","v":0},{"$f":"JCT34*'Makro i swap'!JCR4","v":0},{"$f":"JCU34*'Makro i swap'!JCS4","v":0},{"$f":"JCV34*'Makro i swap'!JCT4","v":0},{"$f":"JCW34*'Makro i swap'!JCU4","v":0},{"$f":"JCX34*'Makro i swap'!JCV4","v":0},{"$f":"JCY34*'Makro i swap'!JCW4","v":0},{"$f":"JCZ34*'Makro i swap'!JCX4","v":0},{"$f":"JDA34*'Makro i swap'!JCY4","v":0},{"$f":"JDB34*'Makro i swap'!JCZ4","v":0},{"$f":"JDC34*'Makro i swap'!JDA4","v":0},{"$f":"JDD34*'Makro i swap'!JDB4","v":0},{"$f":"JDE34*'Makro i swap'!JDC4","v":0},{"$f":"JDF34*'Makro i swap'!JDD4","v":0},{"$f":"JDG34*'Makro i swap'!JDE4","v":0},{"$f":"JDH34*'Makro i swap'!JDF4","v":0},{"$f":"JDI34*'Makro i swap'!JDG4","v":0},{"$f":"JDJ34*'Makro i swap'!JDH4","v":0},{"$f":"JDK34*'Makro i swap'!JDI4","v":0},{"$f":"JDL34*'Makro i swap'!JDJ4","v":0},{"$f":"JDM34*'Makro i swap'!JDK4","v":0},{"$f":"JDN34*'Makro i swap'!JDL4","v":0},{"$f":"JDO34*'Makro i swap'!JDM4","v":0},{"$f":"JDP34*'Makro i swap'!JDN4","v":0},{"$f":"JDQ34*'Makro i swap'!JDO4","v":0},{"$f":"JDR34*'Makro i swap'!JDP4","v":0},{"$f":"JDS34*'Makro i swap'!JDQ4","v":0},{"$f":"JDT34*'Makro i swap'!JDR4","v":0},{"$f":"JDU34*'Makro i swap'!JDS4","v":0},{"$f":"JDV34*'Makro i swap'!JDT4","v":0},{"$f":"JDW34*'Makro i swap'!JDU4","v":0},{"$f":"JDX34*'Makro i swap'!JDV4","v":0},{"$f":"JDY34*'Makro i swap'!JDW4","v":0},{"$f":"JDZ34*'Makro i swap'!JDX4","v":0},{"$f":"JEA34*'Makro i swap'!JDY4","v":0},{"$f":"JEB34*'Makro i swap'!JDZ4","v":0},{"$f":"JEC34*'Makro i swap'!JEA4","v":0},{"$f":"JED34*'Makro i swap'!JEB4","v":0},{"$f":"JEE34*'Makro i swap'!JEC4","v":0},{"$f":"JEF34*'Makro i swap'!JED4","v":0},{"$f":"JEG34*'Makro i swap'!JEE4","v":0},{"$f":"JEH34*'Makro i swap'!JEF4","v":0},{"$f":"JEI34*'Makro i swap'!JEG4","v":0},{"$f":"JEJ34*'Makro i swap'!JEH4","v":0},{"$f":"JEK34*'Makro i swap'!JEI4","v":0},{"$f":"JEL34*'Makro i swap'!JEJ4","v":0},{"$f":"JEM34*'Makro i swap'!JEK4","v":0},{"$f":"JEN34*'Makro i swap'!JEL4","v":0},{"$f":"JEO34*'Makro i swap'!JEM4","v":0},{"$f":"JEP34*'Makro i swap'!JEN4","v":0},{"$f":"JEQ34*'Makro i swap'!JEO4","v":0},{"$f":"JER34*'Makro i swap'!JEP4","v":0},{"$f":"JES34*'Makro i swap'!JEQ4","v":0},{"$f":"JET34*'Makro i swap'!JER4","v":0},{"$f":"JEU34*'Makro i swap'!JES4","v":0},{"$f":"JEV34*'Makro i swap'!JET4","v":0},{"$f":"JEW34*'Makro i swap'!JEU4","v":0},{"$f":"JEX34*'Makro i swap'!JEV4","v":0},{"$f":"JEY34*'Makro i swap'!JEW4","v":0},{"$f":"JEZ34*'Makro i swap'!JEX4","v":0},{"$f":"JFA34*'Makro i swap'!JEY4","v":0},{"$f":"JFB34*'Makro i swap'!JEZ4","v":0},{"$f":"JFC34*'Makro i swap'!JFA4","v":0},{"$f":"JFD34*'Makro i swap'!JFB4","v":0},{"$f":"JFE34*'Makro i swap'!JFC4","v":0},{"$f":"JFF34*'Makro i swap'!JFD4","v":0},{"$f":"JFG34*'Makro i swap'!JFE4","v":0},{"$f":"JFH34*'Makro i swap'!JFF4","v":0},{"$f":"JFI34*'Makro i swap'!JFG4","v":0},{"$f":"JFJ34*'Makro i swap'!JFH4","v":0},{"$f":"JFK34*'Makro i swap'!JFI4","v":0},{"$f":"JFL34*'Makro i swap'!JFJ4","v":0},{"$f":"JFM34*'Makro i swap'!JFK4","v":0},{"$f":"JFN34*'Makro i swap'!JFL4","v":0},{"$f":"JFO34*'Makro i swap'!JFM4","v":0},{"$f":"JFP34*'Makro i swap'!JFN4","v":0},{"$f":"JFQ34*'Makro i swap'!JFO4","v":0},{"$f":"JFR34*'Makro i swap'!JFP4","v":0},{"$f":"JFS34*'Makro i swap'!JFQ4","v":0},{"$f":"JFT34*'Makro i swap'!JFR4","v":0},{"$f":"JFU34*'Makro i swap'!JFS4","v":0},{"$f":"JFV34*'Makro i swap'!JFT4","v":0},{"$f":"JFW34*'Makro i swap'!JFU4","v":0},{"$f":"JFX34*'Makro i swap'!JFV4","v":0},{"$f":"JFY34*'Makro i swap'!JFW4","v":0},{"$f":"JFZ34*'Makro i swap'!JFX4","v":0},{"$f":"JGA34*'Makro i swap'!JFY4","v":0},{"$f":"JGB34*'Makro i swap'!JFZ4","v":0},{"$f":"JGC34*'Makro i swap'!JGA4","v":0},{"$f":"JGD34*'Makro i swap'!JGB4","v":0},{"$f":"JGE34*'Makro i swap'!JGC4","v":0},{"$f":"JGF34*'Makro i swap'!JGD4","v":0},{"$f":"JGG34*'Makro i swap'!JGE4","v":0},{"$f":"JGH34*'Makro i swap'!JGF4","v":0},{"$f":"JGI34*'Makro i swap'!JGG4","v":0},{"$f":"JGJ34*'Makro i swap'!JGH4","v":0},{"$f":"JGK34*'Makro i swap'!JGI4","v":0},{"$f":"JGL34*'Makro i swap'!JGJ4","v":0},{"$f":"JGM34*'Makro i swap'!JGK4","v":0},{"$f":"JGN34*'Makro i swap'!JGL4","v":0},{"$f":"JGO34*'Makro i swap'!JGM4","v":0},{"$f":"JGP34*'Makro i swap'!JGN4","v":0},{"$f":"JGQ34*'Makro i swap'!JGO4","v":0},{"$f":"JGR34*'Makro i swap'!JGP4","v":0},{"$f":"JGS34*'Makro i swap'!JGQ4","v":0},{"$f":"JGT34*'Makro i swap'!JGR4","v":0},{"$f":"JGU34*'Makro i swap'!JGS4","v":0},{"$f":"JGV34*'Makro i swap'!JGT4","v":0},{"$f":"JGW34*'Makro i swap'!JGU4","v":0},{"$f":"JGX34*'Makro i swap'!JGV4","v":0},{"$f":"JGY34*'Makro i swap'!JGW4","v":0},{"$f":"JGZ34*'Makro i swap'!JGX4","v":0},{"$f":"JHA34*'Makro i swap'!JGY4","v":0},{"$f":"JHB34*'Makro i swap'!JGZ4","v":0},{"$f":"JHC34*'Makro i swap'!JHA4","v":0},{"$f":"JHD34*'Makro i swap'!JHB4","v":0},{"$f":"JHE34*'Makro i swap'!JHC4","v":0},{"$f":"JHF34*'Makro i swap'!JHD4","v":0},{"$f":"JHG34*'Makro i swap'!JHE4","v":0},{"$f":"JHH34*'Makro i swap'!JHF4","v":0},{"$f":"JHI34*'Makro i swap'!JHG4","v":0},{"$f":"JHJ34*'Makro i swap'!JHH4","v":0},{"$f":"JHK34*'Makro i swap'!JHI4","v":0},{"$f":"JHL34*'Makro i swap'!JHJ4","v":0},{"$f":"JHM34*'Makro i swap'!JHK4","v":0},{"$f":"JHN34*'Makro i swap'!JHL4","v":0},{"$f":"JHO34*'Makro i swap'!JHM4","v":0},{"$f":"JHP34*'Makro i swap'!JHN4","v":0},{"$f":"JHQ34*'Makro i swap'!JHO4","v":0},{"$f":"JHR34*'Makro i swap'!JHP4","v":0},{"$f":"JHS34*'Makro i swap'!JHQ4","v":0},{"$f":"JHT34*'Makro i swap'!JHR4","v":0},{"$f":"JHU34*'Makro i swap'!JHS4","v":0},{"$f":"JHV34*'Makro i swap'!JHT4","v":0},{"$f":"JHW34*'Makro i swap'!JHU4","v":0},{"$f":"JHX34*'Makro i swap'!JHV4","v":0},{"$f":"JHY34*'Makro i swap'!JHW4","v":0},{"$f":"JHZ34*'Makro i swap'!JHX4","v":0},{"$f":"JIA34*'Makro i swap'!JHY4","v":0},{"$f":"JIB34*'Makro i swap'!JHZ4","v":0},{"$f":"JIC34*'Makro i swap'!JIA4","v":0},{"$f":"JID34*'Makro i swap'!JIB4","v":0},{"$f":"JIE34*'Makro i swap'!JIC4","v":0},{"$f":"JIF34*'Makro i swap'!JID4","v":0},{"$f":"JIG34*'Makro i swap'!JIE4","v":0},{"$f":"JIH34*'Makro i swap'!JIF4","v":0},{"$f":"JII34*'Makro i swap'!JIG4","v":0},{"$f":"JIJ34*'Makro i swap'!JIH4","v":0},{"$f":"JIK34*'Makro i swap'!JII4","v":0},{"$f":"JIL34*'Makro i swap'!JIJ4","v":0},{"$f":"JIM34*'Makro i swap'!JIK4","v":0},{"$f":"JIN34*'Makro i swap'!JIL4","v":0},{"$f":"JIO34*'Makro i swap'!JIM4","v":0},{"$f":"JIP34*'Makro i swap'!JIN4","v":0},{"$f":"JIQ34*'Makro i swap'!JIO4","v":0},{"$f":"JIR34*'Makro i swap'!JIP4","v":0},{"$f":"JIS34*'Makro i swap'!JIQ4","v":0},{"$f":"JIT34*'Makro i swap'!JIR4","v":0},{"$f":"JIU34*'Makro i swap'!JIS4","v":0},{"$f":"JIV34*'Makro i swap'!JIT4","v":0},{"$f":"JIW34*'Makro i swap'!JIU4","v":0},{"$f":"JIX34*'Makro i swap'!JIV4","v":0},{"$f":"JIY34*'Makro i swap'!JIW4","v":0},{"$f":"JIZ34*'Makro i swap'!JIX4","v":0},{"$f":"JJA34*'Makro i swap'!JIY4","v":0},{"$f":"JJB34*'Makro i swap'!JIZ4","v":0},{"$f":"JJC34*'Makro i swap'!JJA4","v":0},{"$f":"JJD34*'Makro i swap'!JJB4","v":0},{"$f":"JJE34*'Makro i swap'!JJC4","v":0},{"$f":"JJF34*'Makro i swap'!JJD4","v":0},{"$f":"JJG34*'Makro i swap'!JJE4","v":0},{"$f":"JJH34*'Makro i swap'!JJF4","v":0},{"$f":"JJI34*'Makro i swap'!JJG4","v":0},{"$f":"JJJ34*'Makro i swap'!JJH4","v":0},{"$f":"JJK34*'Makro i swap'!JJI4","v":0},{"$f":"JJL34*'Makro i swap'!JJJ4","v":0},{"$f":"JJM34*'Makro i swap'!JJK4","v":0},{"$f":"JJN34*'Makro i swap'!JJL4","v":0},{"$f":"JJO34*'Makro i swap'!JJM4","v":0},{"$f":"JJP34*'Makro i swap'!JJN4","v":0},{"$f":"JJQ34*'Makro i swap'!JJO4","v":0},{"$f":"JJR34*'Makro i swap'!JJP4","v":0},{"$f":"JJS34*'Makro i swap'!JJQ4","v":0},{"$f":"JJT34*'Makro i swap'!JJR4","v":0},{"$f":"JJU34*'Makro i swap'!JJS4","v":0},{"$f":"JJV34*'Makro i swap'!JJT4","v":0},{"$f":"JJW34*'Makro i swap'!JJU4","v":0},{"$f":"JJX34*'Makro i swap'!JJV4","v":0},{"$f":"JJY34*'Makro i swap'!JJW4","v":0},{"$f":"JJZ34*'Makro i swap'!JJX4","v":0},{"$f":"JKA34*'Makro i swap'!JJY4","v":0},{"$f":"JKB34*'Makro i swap'!JJZ4","v":0},{"$f":"JKC34*'Makro i swap'!JKA4","v":0},{"$f":"JKD34*'Makro i swap'!JKB4","v":0},{"$f":"JKE34*'Makro i swap'!JKC4","v":0},{"$f":"JKF34*'Makro i swap'!JKD4","v":0},{"$f":"JKG34*'Makro i swap'!JKE4","v":0},{"$f":"JKH34*'Makro i swap'!JKF4","v":0},{"$f":"JKI34*'Makro i swap'!JKG4","v":0},{"$f":"JKJ34*'Makro i swap'!JKH4","v":0},{"$f":"JKK34*'Makro i swap'!JKI4","v":0},{"$f":"JKL34*'Makro i swap'!JKJ4","v":0},{"$f":"JKM34*'Makro i swap'!JKK4","v":0},{"$f":"JKN34*'Makro i swap'!JKL4","v":0},{"$f":"JKO34*'Makro i swap'!JKM4","v":0},{"$f":"JKP34*'Makro i swap'!JKN4","v":0},{"$f":"JKQ34*'Makro i swap'!JKO4","v":0},{"$f":"JKR34*'Makro i swap'!JKP4","v":0},{"$f":"JKS34*'Makro i swap'!JKQ4","v":0},{"$f":"JKT34*'Makro i swap'!JKR4","v":0},{"$f":"JKU34*'Makro i swap'!JKS4","v":0},{"$f":"JKV34*'Makro i swap'!JKT4","v":0},{"$f":"JKW34*'Makro i swap'!JKU4","v":0},{"$f":"JKX34*'Makro i swap'!JKV4","v":0},{"$f":"JKY34*'Makro i swap'!JKW4","v":0},{"$f":"JKZ34*'Makro i swap'!JKX4","v":0},{"$f":"JLA34*'Makro i swap'!JKY4","v":0},{"$f":"JLB34*'Makro i swap'!JKZ4","v":0},{"$f":"JLC34*'Makro i swap'!JLA4","v":0},{"$f":"JLD34*'Makro i swap'!JLB4","v":0},{"$f":"JLE34*'Makro i swap'!JLC4","v":0},{"$f":"JLF34*'Makro i swap'!JLD4","v":0},{"$f":"JLG34*'Makro i swap'!JLE4","v":0},{"$f":"JLH34*'Makro i swap'!JLF4","v":0},{"$f":"JLI34*'Makro i swap'!JLG4","v":0},{"$f":"JLJ34*'Makro i swap'!JLH4","v":0},{"$f":"JLK34*'Makro i swap'!JLI4","v":0},{"$f":"JLL34*'Makro i swap'!JLJ4","v":0},{"$f":"JLM34*'Makro i swap'!JLK4","v":0},{"$f":"JLN34*'Makro i swap'!JLL4","v":0},{"$f":"JLO34*'Makro i swap'!JLM4","v":0},{"$f":"JLP34*'Makro i swap'!JLN4","v":0},{"$f":"JLQ34*'Makro i swap'!JLO4","v":0},{"$f":"JLR34*'Makro i swap'!JLP4","v":0},{"$f":"JLS34*'Makro i swap'!JLQ4","v":0},{"$f":"JLT34*'Makro i swap'!JLR4","v":0},{"$f":"JLU34*'Makro i swap'!JLS4","v":0},{"$f":"JLV34*'Makro i swap'!JLT4","v":0},{"$f":"JLW34*'Makro i swap'!JLU4","v":0},{"$f":"JLX34*'Makro i swap'!JLV4","v":0},{"$f":"JLY34*'Makro i swap'!JLW4","v":0},{"$f":"JLZ34*'Makro i swap'!JLX4","v":0},{"$f":"JMA34*'Makro i swap'!JLY4","v":0},{"$f":"JMB34*'Makro i swap'!JLZ4","v":0},{"$f":"JMC34*'Makro i swap'!JMA4","v":0},{"$f":"JMD34*'Makro i swap'!JMB4","v":0},{"$f":"JME34*'Makro i swap'!JMC4","v":0},{"$f":"JMF34*'Makro i swap'!JMD4","v":0},{"$f":"JMG34*'Makro i swap'!JME4","v":0},{"$f":"JMH34*'Makro i swap'!JMF4","v":0},{"$f":"JMI34*'Makro i swap'!JMG4","v":0},{"$f":"JMJ34*'Makro i swap'!JMH4","v":0},{"$f":"JMK34*'Makro i swap'!JMI4","v":0},{"$f":"JML34*'Makro i swap'!JMJ4","v":0},{"$f":"JMM34*'Makro i swap'!JMK4","v":0},{"$f":"JMN34*'Makro i swap'!JML4","v":0},{"$f":"JMO34*'Makro i swap'!JMM4","v":0},{"$f":"JMP34*'Makro i swap'!JMN4","v":0},{"$f":"JMQ34*'Makro i swap'!JMO4","v":0},{"$f":"JMR34*'Makro i swap'!JMP4","v":0},{"$f":"JMS34*'Makro i swap'!JMQ4","v":0},{"$f":"JMT34*'Makro i swap'!JMR4","v":0},{"$f":"JMU34*'Makro i swap'!JMS4","v":0},{"$f":"JMV34*'Makro i swap'!JMT4","v":0},{"$f":"JMW34*'Makro i swap'!JMU4","v":0},{"$f":"JMX34*'Makro i swap'!JMV4","v":0},{"$f":"JMY34*'Makro i swap'!JMW4","v":0},{"$f":"JMZ34*'Makro i swap'!JMX4","v":0},{"$f":"JNA34*'Makro i swap'!JMY4","v":0},{"$f":"JNB34*'Makro i swap'!JMZ4","v":0},{"$f":"JNC34*'Makro i swap'!JNA4","v":0},{"$f":"JND34*'Makro i swap'!JNB4","v":0},{"$f":"JNE34*'Makro i swap'!JNC4","v":0},{"$f":"JNF34*'Makro i swap'!JND4","v":0},{"$f":"JNG34*'Makro i swap'!JNE4","v":0},{"$f":"JNH34*'Makro i swap'!JNF4","v":0},{"$f":"JNI34*'Makro i swap'!JNG4","v":0},{"$f":"JNJ34*'Makro i swap'!JNH4","v":0},{"$f":"JNK34*'Makro i swap'!JNI4","v":0},{"$f":"JNL34*'Makro i swap'!JNJ4","v":0},{"$f":"JNM34*'Makro i swap'!JNK4","v":0},{"$f":"JNN34*'Makro i swap'!JNL4","v":0},{"$f":"JNO34*'Makro i swap'!JNM4","v":0},{"$f":"JNP34*'Makro i swap'!JNN4","v":0},{"$f":"JNQ34*'Makro i swap'!JNO4","v":0},{"$f":"JNR34*'Makro i swap'!JNP4","v":0},{"$f":"JNS34*'Makro i swap'!JNQ4","v":0},{"$f":"JNT34*'Makro i swap'!JNR4","v":0},{"$f":"JNU34*'Makro i swap'!JNS4","v":0},{"$f":"JNV34*'Makro i swap'!JNT4","v":0},{"$f":"JNW34*'Makro i swap'!JNU4","v":0},{"$f":"JNX34*'Makro i swap'!JNV4","v":0},{"$f":"JNY34*'Makro i swap'!JNW4","v":0},{"$f":"JNZ34*'Makro i swap'!JNX4","v":0},{"$f":"JOA34*'Makro i swap'!JNY4","v":0},{"$f":"JOB34*'Makro i swap'!JNZ4","v":0},{"$f":"JOC34*'Makro i swap'!JOA4","v":0},{"$f":"JOD34*'Makro i swap'!JOB4","v":0},{"$f":"JOE34*'Makro i swap'!JOC4","v":0},{"$f":"JOF34*'Makro i swap'!JOD4","v":0},{"$f":"JOG34*'Makro i swap'!JOE4","v":0},{"$f":"JOH34*'Makro i swap'!JOF4","v":0},{"$f":"JOI34*'Makro i swap'!JOG4","v":0},{"$f":"JOJ34*'Makro i swap'!JOH4","v":0},{"$f":"JOK34*'Makro i swap'!JOI4","v":0},{"$f":"JOL34*'Makro i swap'!JOJ4","v":0},{"$f":"JOM34*'Makro i swap'!JOK4","v":0},{"$f":"JON34*'Makro i swap'!JOL4","v":0},{"$f":"JOO34*'Makro i swap'!JOM4","v":0},{"$f":"JOP34*'Makro i swap'!JON4","v":0},{"$f":"JOQ34*'Makro i swap'!JOO4","v":0},{"$f":"JOR34*'Makro i swap'!JOP4","v":0},{"$f":"JOS34*'Makro i swap'!JOQ4","v":0},{"$f":"JOT34*'Makro i swap'!JOR4","v":0},{"$f":"JOU34*'Makro i swap'!JOS4","v":0},{"$f":"JOV34*'Makro i swap'!JOT4","v":0},{"$f":"JOW34*'Makro i swap'!JOU4","v":0},{"$f":"JOX34*'Makro i swap'!JOV4","v":0},{"$f":"JOY34*'Makro i swap'!JOW4","v":0},{"$f":"JOZ34*'Makro i swap'!JOX4","v":0},{"$f":"JPA34*'Makro i swap'!JOY4","v":0},{"$f":"JPB34*'Makro i swap'!JOZ4","v":0},{"$f":"JPC34*'Makro i swap'!JPA4","v":0},{"$f":"JPD34*'Makro i swap'!JPB4","v":0},{"$f":"JPE34*'Makro i swap'!JPC4","v":0},{"$f":"JPF34*'Makro i swap'!JPD4","v":0},{"$f":"JPG34*'Makro i swap'!JPE4","v":0},{"$f":"JPH34*'Makro i swap'!JPF4","v":0},{"$f":"JPI34*'Makro i swap'!JPG4","v":0},{"$f":"JPJ34*'Makro i swap'!JPH4","v":0},{"$f":"JPK34*'Makro i swap'!JPI4","v":0},{"$f":"JPL34*'Makro i swap'!JPJ4","v":0},{"$f":"JPM34*'Makro i swap'!JPK4","v":0},{"$f":"JPN34*'Makro i swap'!JPL4","v":0},{"$f":"JPO34*'Makro i swap'!JPM4","v":0},{"$f":"JPP34*'Makro i swap'!JPN4","v":0},{"$f":"JPQ34*'Makro i swap'!JPO4","v":0},{"$f":"JPR34*'Makro i swap'!JPP4","v":0},{"$f":"JPS34*'Makro i swap'!JPQ4","v":0},{"$f":"JPT34*'Makro i swap'!JPR4","v":0},{"$f":"JPU34*'Makro i swap'!JPS4","v":0},{"$f":"JPV34*'Makro i swap'!JPT4","v":0},{"$f":"JPW34*'Makro i swap'!JPU4","v":0},{"$f":"JPX34*'Makro i swap'!JPV4","v":0},{"$f":"JPY34*'Makro i swap'!JPW4","v":0},{"$f":"JPZ34*'Makro i swap'!JPX4","v":0},{"$f":"JQA34*'Makro i swap'!JPY4","v":0},{"$f":"JQB34*'Makro i swap'!JPZ4","v":0},{"$f":"JQC34*'Makro i swap'!JQA4","v":0},{"$f":"JQD34*'Makro i swap'!JQB4","v":0},{"$f":"JQE34*'Makro i swap'!JQC4","v":0},{"$f":"JQF34*'Makro i swap'!JQD4","v":0},{"$f":"JQG34*'Makro i swap'!JQE4","v":0},{"$f":"JQH34*'Makro i swap'!JQF4","v":0},{"$f":"JQI34*'Makro i swap'!JQG4","v":0},{"$f":"JQJ34*'Makro i swap'!JQH4","v":0},{"$f":"JQK34*'Makro i swap'!JQI4","v":0},{"$f":"JQL34*'Makro i swap'!JQJ4","v":0},{"$f":"JQM34*'Makro i swap'!JQK4","v":0},{"$f":"JQN34*'Makro i swap'!JQL4","v":0},{"$f":"JQO34*'Makro i swap'!JQM4","v":0},{"$f":"JQP34*'Makro i swap'!JQN4","v":0},{"$f":"JQQ34*'Makro i swap'!JQO4","v":0},{"$f":"JQR34*'Makro i swap'!JQP4","v":0},{"$f":"JQS34*'Makro i swap'!JQQ4","v":0},{"$f":"JQT34*'Makro i swap'!JQR4","v":0},{"$f":"JQU34*'Makro i swap'!JQS4","v":0},{"$f":"JQV34*'Makro i swap'!JQT4","v":0},{"$f":"JQW34*'Makro i swap'!JQU4","v":0},{"$f":"JQX34*'Makro i swap'!JQV4","v":0},{"$f":"JQY34*'Makro i swap'!JQW4","v":0},{"$f":"JQZ34*'Makro i swap'!JQX4","v":0},{"$f":"JRA34*'Makro i swap'!JQY4","v":0},{"$f":"JRB34*'Makro i swap'!JQZ4","v":0},{"$f":"JRC34*'Makro i swap'!JRA4","v":0},{"$f":"JRD34*'Makro i swap'!JRB4","v":0},{"$f":"JRE34*'Makro i swap'!JRC4","v":0},{"$f":"JRF34*'Makro i swap'!JRD4","v":0},{"$f":"JRG34*'Makro i swap'!JRE4","v":0},{"$f":"JRH34*'Makro i swap'!JRF4","v":0},{"$f":"JRI34*'Makro i swap'!JRG4","v":0},{"$f":"JRJ34*'Makro i swap'!JRH4","v":0},{"$f":"JRK34*'Makro i swap'!JRI4","v":0},{"$f":"JRL34*'Makro i swap'!JRJ4","v":0},{"$f":"JRM34*'Makro i swap'!JRK4","v":0},{"$f":"JRN34*'Makro i swap'!JRL4","v":0},{"$f":"JRO34*'Makro i swap'!JRM4","v":0},{"$f":"JRP34*'Makro i swap'!JRN4","v":0},{"$f":"JRQ34*'Makro i swap'!JRO4","v":0},{"$f":"JRR34*'Makro i swap'!JRP4","v":0},{"$f":"JRS34*'Makro i swap'!JRQ4","v":0},{"$f":"JRT34*'Makro i swap'!JRR4","v":0},{"$f":"JRU34*'Makro i swap'!JRS4","v":0},{"$f":"JRV34*'Makro i swap'!JRT4","v":0},{"$f":"JRW34*'Makro i swap'!JRU4","v":0},{"$f":"JRX34*'Makro i swap'!JRV4","v":0},{"$f":"JRY34*'Makro i swap'!JRW4","v":0},{"$f":"JRZ34*'Makro i swap'!JRX4","v":0},{"$f":"JSA34*'Makro i swap'!JRY4","v":0},{"$f":"JSB34*'Makro i swap'!JRZ4","v":0},{"$f":"JSC34*'Makro i swap'!JSA4","v":0},{"$f":"JSD34*'Makro i swap'!JSB4","v":0},{"$f":"JSE34*'Makro i swap'!JSC4","v":0},{"$f":"JSF34*'Makro i swap'!JSD4","v":0},{"$f":"JSG34*'Makro i swap'!JSE4","v":0},{"$f":"JSH34*'Makro i swap'!JSF4","v":0},{"$f":"JSI34*'Makro i swap'!JSG4","v":0},{"$f":"JSJ34*'Makro i swap'!JSH4","v":0},{"$f":"JSK34*'Makro i swap'!JSI4","v":0},{"$f":"JSL34*'Makro i swap'!JSJ4","v":0},{"$f":"JSM34*'Makro i swap'!JSK4","v":0},{"$f":"JSN34*'Makro i swap'!JSL4","v":0},{"$f":"JSO34*'Makro i swap'!JSM4","v":0},{"$f":"JSP34*'Makro i swap'!JSN4","v":0},{"$f":"JSQ34*'Makro i swap'!JSO4","v":0},{"$f":"JSR34*'Makro i swap'!JSP4","v":0},{"$f":"JSS34*'Makro i swap'!JSQ4","v":0},{"$f":"JST34*'Makro i swap'!JSR4","v":0},{"$f":"JSU34*'Makro i swap'!JSS4","v":0},{"$f":"JSV34*'Makro i swap'!JST4","v":0},{"$f":"JSW34*'Makro i swap'!JSU4","v":0},{"$f":"JSX34*'Makro i swap'!JSV4","v":0},{"$f":"JSY34*'Makro i swap'!JSW4","v":0},{"$f":"JSZ34*'Makro i swap'!JSX4","v":0},{"$f":"JTA34*'Makro i swap'!JSY4","v":0},{"$f":"JTB34*'Makro i swap'!JSZ4","v":0},{"$f":"JTC34*'Makro i swap'!JTA4","v":0},{"$f":"JTD34*'Makro i swap'!JTB4","v":0},{"$f":"JTE34*'Makro i swap'!JTC4","v":0},{"$f":"JTF34*'Makro i swap'!JTD4","v":0},{"$f":"JTG34*'Makro i swap'!JTE4","v":0},{"$f":"JTH34*'Makro i swap'!JTF4","v":0},{"$f":"JTI34*'Makro i swap'!JTG4","v":0},{"$f":"JTJ34*'Makro i swap'!JTH4","v":0},{"$f":"JTK34*'Makro i swap'!JTI4","v":0},{"$f":"JTL34*'Makro i swap'!JTJ4","v":0},{"$f":"JTM34*'Makro i swap'!JTK4","v":0},{"$f":"JTN34*'Makro i swap'!JTL4","v":0},{"$f":"JTO34*'Makro i swap'!JTM4","v":0},{"$f":"JTP34*'Makro i swap'!JTN4","v":0},{"$f":"JTQ34*'Makro i swap'!JTO4","v":0},{"$f":"JTR34*'Makro i swap'!JTP4","v":0},{"$f":"JTS34*'Makro i swap'!JTQ4","v":0},{"$f":"JTT34*'Makro i swap'!JTR4","v":0},{"$f":"JTU34*'Makro i swap'!JTS4","v":0},{"$f":"JTV34*'Makro i swap'!JTT4","v":0},{"$f":"JTW34*'Makro i swap'!JTU4","v":0},{"$f":"JTX34*'Makro i swap'!JTV4","v":0},{"$f":"JTY34*'Makro i swap'!JTW4","v":0},{"$f":"JTZ34*'Makro i swap'!JTX4","v":0},{"$f":"JUA34*'Makro i swap'!JTY4","v":0},{"$f":"JUB34*'Makro i swap'!JTZ4","v":0},{"$f":"JUC34*'Makro i swap'!JUA4","v":0},{"$f":"JUD34*'Makro i swap'!JUB4","v":0},{"$f":"JUE34*'Makro i swap'!JUC4","v":0},{"$f":"JUF34*'Makro i swap'!JUD4","v":0},{"$f":"JUG34*'Makro i swap'!JUE4","v":0},{"$f":"JUH34*'Makro i swap'!JUF4","v":0},{"$f":"JUI34*'Makro i swap'!JUG4","v":0},{"$f":"JUJ34*'Makro i swap'!JUH4","v":0},{"$f":"JUK34*'Makro i swap'!JUI4","v":0},{"$f":"JUL34*'Makro i swap'!JUJ4","v":0},{"$f":"JUM34*'Makro i swap'!JUK4","v":0},{"$f":"JUN34*'Makro i swap'!JUL4","v":0},{"$f":"JUO34*'Makro i swap'!JUM4","v":0},{"$f":"JUP34*'Makro i swap'!JUN4","v":0},{"$f":"JUQ34*'Makro i swap'!JUO4","v":0},{"$f":"JUR34*'Makro i swap'!JUP4","v":0},{"$f":"JUS34*'Makro i swap'!JUQ4","v":0},{"$f":"JUT34*'Makro i swap'!JUR4","v":0},{"$f":"JUU34*'Makro i swap'!JUS4","v":0},{"$f":"JUV34*'Makro i swap'!JUT4","v":0},{"$f":"JUW34*'Makro i swap'!JUU4","v":0},{"$f":"JUX34*'Makro i swap'!JUV4","v":0},{"$f":"JUY34*'Makro i swap'!JUW4","v":0},{"$f":"JUZ34*'Makro i swap'!JUX4","v":0},{"$f":"JVA34*'Makro i swap'!JUY4","v":0},{"$f":"JVB34*'Makro i swap'!JUZ4","v":0},{"$f":"JVC34*'Makro i swap'!JVA4","v":0},{"$f":"JVD34*'Makro i swap'!JVB4","v":0},{"$f":"JVE34*'Makro i swap'!JVC4","v":0},{"$f":"JVF34*'Makro i swap'!JVD4","v":0},{"$f":"JVG34*'Makro i swap'!JVE4","v":0},{"$f":"JVH34*'Makro i swap'!JVF4","v":0},{"$f":"JVI34*'Makro i swap'!JVG4","v":0},{"$f":"JVJ34*'Makro i swap'!JVH4","v":0},{"$f":"JVK34*'Makro i swap'!JVI4","v":0},{"$f":"JVL34*'Makro i swap'!JVJ4","v":0},{"$f":"JVM34*'Makro i swap'!JVK4","v":0},{"$f":"JVN34*'Makro i swap'!JVL4","v":0},{"$f":"JVO34*'Makro i swap'!JVM4","v":0},{"$f":"JVP34*'Makro i swap'!JVN4","v":0},{"$f":"JVQ34*'Makro i swap'!JVO4","v":0},{"$f":"JVR34*'Makro i swap'!JVP4","v":0},{"$f":"JVS34*'Makro i swap'!JVQ4","v":0},{"$f":"JVT34*'Makro i swap'!JVR4","v":0},{"$f":"JVU34*'Makro i swap'!JVS4","v":0},{"$f":"JVV34*'Makro i swap'!JVT4","v":0},{"$f":"JVW34*'Makro i swap'!JVU4","v":0},{"$f":"JVX34*'Makro i swap'!JVV4","v":0},{"$f":"JVY34*'Makro i swap'!JVW4","v":0},{"$f":"JVZ34*'Makro i swap'!JVX4","v":0},{"$f":"JWA34*'Makro i swap'!JVY4","v":0},{"$f":"JWB34*'Makro i swap'!JVZ4","v":0},{"$f":"JWC34*'Makro i swap'!JWA4","v":0},{"$f":"JWD34*'Makro i swap'!JWB4","v":0},{"$f":"JWE34*'Makro i swap'!JWC4","v":0},{"$f":"JWF34*'Makro i swap'!JWD4","v":0},{"$f":"JWG34*'Makro i swap'!JWE4","v":0},{"$f":"JWH34*'Makro i swap'!JWF4","v":0},{"$f":"JWI34*'Makro i swap'!JWG4","v":0},{"$f":"JWJ34*'Makro i swap'!JWH4","v":0},{"$f":"JWK34*'Makro i swap'!JWI4","v":0},{"$f":"JWL34*'Makro i swap'!JWJ4","v":0},{"$f":"JWM34*'Makro i swap'!JWK4","v":0},{"$f":"JWN34*'Makro i swap'!JWL4","v":0},{"$f":"JWO34*'Makro i swap'!JWM4","v":0},{"$f":"JWP34*'Makro i swap'!JWN4","v":0},{"$f":"JWQ34*'Makro i swap'!JWO4","v":0},{"$f":"JWR34*'Makro i swap'!JWP4","v":0},{"$f":"JWS34*'Makro i swap'!JWQ4","v":0},{"$f":"JWT34*'Makro i swap'!JWR4","v":0},{"$f":"JWU34*'Makro i swap'!JWS4","v":0},{"$f":"JWV34*'Makro i swap'!JWT4","v":0},{"$f":"JWW34*'Makro i swap'!JWU4","v":0},{"$f":"JWX34*'Makro i swap'!JWV4","v":0},{"$f":"JWY34*'Makro i swap'!JWW4","v":0},{"$f":"JWZ34*'Makro i swap'!JWX4","v":0},{"$f":"JXA34*'Makro i swap'!JWY4","v":0},{"$f":"JXB34*'Makro i swap'!JWZ4","v":0},{"$f":"JXC34*'Makro i swap'!JXA4","v":0},{"$f":"JXD34*'Makro i swap'!JXB4","v":0},{"$f":"JXE34*'Makro i swap'!JXC4","v":0},{"$f":"JXF34*'Makro i swap'!JXD4","v":0},{"$f":"JXG34*'Makro i swap'!JXE4","v":0},{"$f":"JXH34*'Makro i swap'!JXF4","v":0},{"$f":"JXI34*'Makro i swap'!JXG4","v":0},{"$f":"JXJ34*'Makro i swap'!JXH4","v":0},{"$f":"JXK34*'Makro i swap'!JXI4","v":0},{"$f":"JXL34*'Makro i swap'!JXJ4","v":0},{"$f":"JXM34*'Makro i swap'!JXK4","v":0},{"$f":"JXN34*'Makro i swap'!JXL4","v":0},{"$f":"JXO34*'Makro i swap'!JXM4","v":0},{"$f":"JXP34*'Makro i swap'!JXN4","v":0},{"$f":"JXQ34*'Makro i swap'!JXO4","v":0},{"$f":"JXR34*'Makro i swap'!JXP4","v":0},{"$f":"JXS34*'Makro i swap'!JXQ4","v":0},{"$f":"JXT34*'Makro i swap'!JXR4","v":0},{"$f":"JXU34*'Makro i swap'!JXS4","v":0},{"$f":"JXV34*'Makro i swap'!JXT4","v":0},{"$f":"JXW34*'Makro i swap'!JXU4","v":0},{"$f":"JXX34*'Makro i swap'!JXV4","v":0},{"$f":"JXY34*'Makro i swap'!JXW4","v":0},{"$f":"JXZ34*'Makro i swap'!JXX4","v":0},{"$f":"JYA34*'Makro i swap'!JXY4","v":0},{"$f":"JYB34*'Makro i swap'!JXZ4","v":0},{"$f":"JYC34*'Makro i swap'!JYA4","v":0},{"$f":"JYD34*'Makro i swap'!JYB4","v":0},{"$f":"JYE34*'Makro i swap'!JYC4","v":0},{"$f":"JYF34*'Makro i swap'!JYD4","v":0},{"$f":"JYG34*'Makro i swap'!JYE4","v":0},{"$f":"JYH34*'Makro i swap'!JYF4","v":0},{"$f":"JYI34*'Makro i swap'!JYG4","v":0},{"$f":"JYJ34*'Makro i swap'!JYH4","v":0},{"$f":"JYK34*'Makro i swap'!JYI4","v":0},{"$f":"JYL34*'Makro i swap'!JYJ4","v":0},{"$f":"JYM34*'Makro i swap'!JYK4","v":0},{"$f":"JYN34*'Makro i swap'!JYL4","v":0},{"$f":"JYO34*'Makro i swap'!JYM4","v":0},{"$f":"JYP34*'Makro i swap'!JYN4","v":0},{"$f":"JYQ34*'Makro i swap'!JYO4","v":0},{"$f":"JYR34*'Makro i swap'!JYP4","v":0},{"$f":"JYS34*'Makro i swap'!JYQ4","v":0},{"$f":"JYT34*'Makro i swap'!JYR4","v":0},{"$f":"JYU34*'Makro i swap'!JYS4","v":0},{"$f":"JYV34*'Makro i swap'!JYT4","v":0},{"$f":"JYW34*'Makro i swap'!JYU4","v":0},{"$f":"JYX34*'Makro i swap'!JYV4","v":0},{"$f":"JYY34*'Makro i swap'!JYW4","v":0},{"$f":"JYZ34*'Makro i swap'!JYX4","v":0},{"$f":"JZA34*'Makro i swap'!JYY4","v":0},{"$f":"JZB34*'Makro i swap'!JYZ4","v":0},{"$f":"JZC34*'Makro i swap'!JZA4","v":0},{"$f":"JZD34*'Makro i swap'!JZB4","v":0},{"$f":"JZE34*'Makro i swap'!JZC4","v":0},{"$f":"JZF34*'Makro i swap'!JZD4","v":0},{"$f":"JZG34*'Makro i swap'!JZE4","v":0},{"$f":"JZH34*'Makro i swap'!JZF4","v":0},{"$f":"JZI34*'Makro i swap'!JZG4","v":0},{"$f":"JZJ34*'Makro i swap'!JZH4","v":0},{"$f":"JZK34*'Makro i swap'!JZI4","v":0},{"$f":"JZL34*'Makro i swap'!JZJ4","v":0},{"$f":"JZM34*'Makro i swap'!JZK4","v":0},{"$f":"JZN34*'Makro i swap'!JZL4","v":0},{"$f":"JZO34*'Makro i swap'!JZM4","v":0},{"$f":"JZP34*'Makro i swap'!JZN4","v":0},{"$f":"JZQ34*'Makro i swap'!JZO4","v":0},{"$f":"JZR34*'Makro i swap'!JZP4","v":0},{"$f":"JZS34*'Makro i swap'!JZQ4","v":0},{"$f":"JZT34*'Makro i swap'!JZR4","v":0},{"$f":"JZU34*'Makro i swap'!JZS4","v":0},{"$f":"JZV34*'Makro i swap'!JZT4","v":0},{"$f":"JZW34*'Makro i swap'!JZU4","v":0},{"$f":"JZX34*'Makro i swap'!JZV4","v":0},{"$f":"JZY34*'Makro i swap'!JZW4","v":0},{"$f":"JZZ34*'Makro i swap'!JZX4","v":0},{"$f":"KAA34*'Makro i swap'!JZY4","v":0},{"$f":"KAB34*'Makro i swap'!JZZ4","v":0},{"$f":"KAC34*'Makro i swap'!KAA4","v":0},{"$f":"KAD34*'Makro i swap'!KAB4","v":0},{"$f":"KAE34*'Makro i swap'!KAC4","v":0},{"$f":"KAF34*'Makro i swap'!KAD4","v":0},{"$f":"KAG34*'Makro i swap'!KAE4","v":0},{"$f":"KAH34*'Makro i swap'!KAF4","v":0},{"$f":"KAI34*'Makro i swap'!KAG4","v":0},{"$f":"KAJ34*'Makro i swap'!KAH4","v":0},{"$f":"KAK34*'Makro i swap'!KAI4","v":0},{"$f":"KAL34*'Makro i swap'!KAJ4","v":0},{"$f":"KAM34*'Makro i swap'!KAK4","v":0},{"$f":"KAN34*'Makro i swap'!KAL4","v":0},{"$f":"KAO34*'Makro i swap'!KAM4","v":0},{"$f":"KAP34*'Makro i swap'!KAN4","v":0},{"$f":"KAQ34*'Makro i swap'!KAO4","v":0},{"$f":"KAR34*'Makro i swap'!KAP4","v":0},{"$f":"KAS34*'Makro i swap'!KAQ4","v":0},{"$f":"KAT34*'Makro i swap'!KAR4","v":0},{"$f":"KAU34*'Makro i swap'!KAS4","v":0},{"$f":"KAV34*'Makro i swap'!KAT4","v":0},{"$f":"KAW34*'Makro i swap'!KAU4","v":0},{"$f":"KAX34*'Makro i swap'!KAV4","v":0},{"$f":"KAY34*'Makro i swap'!KAW4","v":0},{"$f":"KAZ34*'Makro i swap'!KAX4","v":0},{"$f":"KBA34*'Makro i swap'!KAY4","v":0},{"$f":"KBB34*'Makro i swap'!KAZ4","v":0},{"$f":"KBC34*'Makro i swap'!KBA4","v":0},{"$f":"KBD34*'Makro i swap'!KBB4","v":0},{"$f":"KBE34*'Makro i swap'!KBC4","v":0},{"$f":"KBF34*'Makro i swap'!KBD4","v":0},{"$f":"KBG34*'Makro i swap'!KBE4","v":0},{"$f":"KBH34*'Makro i swap'!KBF4","v":0},{"$f":"KBI34*'Makro i swap'!KBG4","v":0},{"$f":"KBJ34*'Makro i swap'!KBH4","v":0},{"$f":"KBK34*'Makro i swap'!KBI4","v":0},{"$f":"KBL34*'Makro i swap'!KBJ4","v":0},{"$f":"KBM34*'Makro i swap'!KBK4","v":0},{"$f":"KBN34*'Makro i swap'!KBL4","v":0},{"$f":"KBO34*'Makro i swap'!KBM4","v":0},{"$f":"KBP34*'Makro i swap'!KBN4","v":0},{"$f":"KBQ34*'Makro i swap'!KBO4","v":0},{"$f":"KBR34*'Makro i swap'!KBP4","v":0},{"$f":"KBS34*'Makro i swap'!KBQ4","v":0},{"$f":"KBT34*'Makro i swap'!KBR4","v":0},{"$f":"KBU34*'Makro i swap'!KBS4","v":0},{"$f":"KBV34*'Makro i swap'!KBT4","v":0},{"$f":"KBW34*'Makro i swap'!KBU4","v":0},{"$f":"KBX34*'Makro i swap'!KBV4","v":0},{"$f":"KBY34*'Makro i swap'!KBW4","v":0},{"$f":"KBZ34*'Makro i swap'!KBX4","v":0},{"$f":"KCA34*'Makro i swap'!KBY4","v":0},{"$f":"KCB34*'Makro i swap'!KBZ4","v":0},{"$f":"KCC34*'Makro i swap'!KCA4","v":0},{"$f":"KCD34*'Makro i swap'!KCB4","v":0},{"$f":"KCE34*'Makro i swap'!KCC4","v":0},{"$f":"KCF34*'Makro i swap'!KCD4","v":0},{"$f":"KCG34*'Makro i swap'!KCE4","v":0},{"$f":"KCH34*'Makro i swap'!KCF4","v":0},{"$f":"KCI34*'Makro i swap'!KCG4","v":0},{"$f":"KCJ34*'Makro i swap'!KCH4","v":0},{"$f":"KCK34*'Makro i swap'!KCI4","v":0},{"$f":"KCL34*'Makro i swap'!KCJ4","v":0},{"$f":"KCM34*'Makro i swap'!KCK4","v":0},{"$f":"KCN34*'Makro i swap'!KCL4","v":0},{"$f":"KCO34*'Makro i swap'!KCM4","v":0},{"$f":"KCP34*'Makro i swap'!KCN4","v":0},{"$f":"KCQ34*'Makro i swap'!KCO4","v":0},{"$f":"KCR34*'Makro i swap'!KCP4","v":0},{"$f":"KCS34*'Makro i swap'!KCQ4","v":0},{"$f":"KCT34*'Makro i swap'!KCR4","v":0},{"$f":"KCU34*'Makro i swap'!KCS4","v":0},{"$f":"KCV34*'Makro i swap'!KCT4","v":0},{"$f":"KCW34*'Makro i swap'!KCU4","v":0},{"$f":"KCX34*'Makro i swap'!KCV4","v":0},{"$f":"KCY34*'Makro i swap'!KCW4","v":0},{"$f":"KCZ34*'Makro i swap'!KCX4","v":0},{"$f":"KDA34*'Makro i swap'!KCY4","v":0},{"$f":"KDB34*'Makro i swap'!KCZ4","v":0},{"$f":"KDC34*'Makro i swap'!KDA4","v":0},{"$f":"KDD34*'Makro i swap'!KDB4","v":0},{"$f":"KDE34*'Makro i swap'!KDC4","v":0},{"$f":"KDF34*'Makro i swap'!KDD4","v":0},{"$f":"KDG34*'Makro i swap'!KDE4","v":0},{"$f":"KDH34*'Makro i swap'!KDF4","v":0},{"$f":"KDI34*'Makro i swap'!KDG4","v":0},{"$f":"KDJ34*'Makro i swap'!KDH4","v":0},{"$f":"KDK34*'Makro i swap'!KDI4","v":0},{"$f":"KDL34*'Makro i swap'!KDJ4","v":0},{"$f":"KDM34*'Makro i swap'!KDK4","v":0},{"$f":"KDN34*'Makro i swap'!KDL4","v":0},{"$f":"KDO34*'Makro i swap'!KDM4","v":0},{"$f":"KDP34*'Makro i swap'!KDN4","v":0},{"$f":"KDQ34*'Makro i swap'!KDO4","v":0},{"$f":"KDR34*'Makro i swap'!KDP4","v":0},{"$f":"KDS34*'Makro i swap'!KDQ4","v":0},{"$f":"KDT34*'Makro i swap'!KDR4","v":0},{"$f":"KDU34*'Makro i swap'!KDS4","v":0},{"$f":"KDV34*'Makro i swap'!KDT4","v":0},{"$f":"KDW34*'Makro i swap'!KDU4","v":0},{"$f":"KDX34*'Makro i swap'!KDV4","v":0},{"$f":"KDY34*'Makro i swap'!KDW4","v":0},{"$f":"KDZ34*'Makro i swap'!KDX4","v":0},{"$f":"KEA34*'Makro i swap'!KDY4","v":0},{"$f":"KEB34*'Makro i swap'!KDZ4","v":0},{"$f":"KEC34*'Makro i swap'!KEA4","v":0},{"$f":"KED34*'Makro i swap'!KEB4","v":0},{"$f":"KEE34*'Makro i swap'!KEC4","v":0},{"$f":"KEF34*'Makro i swap'!KED4","v":0},{"$f":"KEG34*'Makro i swap'!KEE4","v":0},{"$f":"KEH34*'Makro i swap'!KEF4","v":0},{"$f":"KEI34*'Makro i swap'!KEG4","v":0},{"$f":"KEJ34*'Makro i swap'!KEH4","v":0},{"$f":"KEK34*'Makro i swap'!KEI4","v":0},{"$f":"KEL34*'Makro i swap'!KEJ4","v":0},{"$f":"KEM34*'Makro i swap'!KEK4","v":0},{"$f":"KEN34*'Makro i swap'!KEL4","v":0},{"$f":"KEO34*'Makro i swap'!KEM4","v":0},{"$f":"KEP34*'Makro i swap'!KEN4","v":0},{"$f":"KEQ34*'Makro i swap'!KEO4","v":0},{"$f":"KER34*'Makro i swap'!KEP4","v":0},{"$f":"KES34*'Makro i swap'!KEQ4","v":0},{"$f":"KET34*'Makro i swap'!KER4","v":0},{"$f":"KEU34*'Makro i swap'!KES4","v":0},{"$f":"KEV34*'Makro i swap'!KET4","v":0},{"$f":"KEW34*'Makro i swap'!KEU4","v":0},{"$f":"KEX34*'Makro i swap'!KEV4","v":0},{"$f":"KEY34*'Makro i swap'!KEW4","v":0},{"$f":"KEZ34*'Makro i swap'!KEX4","v":0},{"$f":"KFA34*'Makro i swap'!KEY4","v":0},{"$f":"KFB34*'Makro i swap'!KEZ4","v":0},{"$f":"KFC34*'Makro i swap'!KFA4","v":0},{"$f":"KFD34*'Makro i swap'!KFB4","v":0},{"$f":"KFE34*'Makro i swap'!KFC4","v":0},{"$f":"KFF34*'Makro i swap'!KFD4","v":0},{"$f":"KFG34*'Makro i swap'!KFE4","v":0},{"$f":"KFH34*'Makro i swap'!KFF4","v":0},{"$f":"KFI34*'Makro i swap'!KFG4","v":0},{"$f":"KFJ34*'Makro i swap'!KFH4","v":0},{"$f":"KFK34*'Makro i swap'!KFI4","v":0},{"$f":"KFL34*'Makro i swap'!KFJ4","v":0},{"$f":"KFM34*'Makro i swap'!KFK4","v":0},{"$f":"KFN34*'Makro i swap'!KFL4","v":0},{"$f":"KFO34*'Makro i swap'!KFM4","v":0},{"$f":"KFP34*'Makro i swap'!KFN4","v":0},{"$f":"KFQ34*'Makro i swap'!KFO4","v":0},{"$f":"KFR34*'Makro i swap'!KFP4","v":0},{"$f":"KFS34*'Makro i swap'!KFQ4","v":0},{"$f":"KFT34*'Makro i swap'!KFR4","v":0},{"$f":"KFU34*'Makro i swap'!KFS4","v":0},{"$f":"KFV34*'Makro i swap'!KFT4","v":0},{"$f":"KFW34*'Makro i swap'!KFU4","v":0},{"$f":"KFX34*'Makro i swap'!KFV4","v":0},{"$f":"KFY34*'Makro i swap'!KFW4","v":0},{"$f":"KFZ34*'Makro i swap'!KFX4","v":0},{"$f":"KGA34*'Makro i swap'!KFY4","v":0},{"$f":"KGB34*'Makro i swap'!KFZ4","v":0},{"$f":"KGC34*'Makro i swap'!KGA4","v":0},{"$f":"KGD34*'Makro i swap'!KGB4","v":0},{"$f":"KGE34*'Makro i swap'!KGC4","v":0},{"$f":"KGF34*'Makro i swap'!KGD4","v":0},{"$f":"KGG34*'Makro i swap'!KGE4","v":0},{"$f":"KGH34*'Makro i swap'!KGF4","v":0},{"$f":"KGI34*'Makro i swap'!KGG4","v":0},{"$f":"KGJ34*'Makro i swap'!KGH4","v":0},{"$f":"KGK34*'Makro i swap'!KGI4","v":0},{"$f":"KGL34*'Makro i swap'!KGJ4","v":0},{"$f":"KGM34*'Makro i swap'!KGK4","v":0},{"$f":"KGN34*'Makro i swap'!KGL4","v":0},{"$f":"KGO34*'Makro i swap'!KGM4","v":0},{"$f":"KGP34*'Makro i swap'!KGN4","v":0},{"$f":"KGQ34*'Makro i swap'!KGO4","v":0},{"$f":"KGR34*'Makro i swap'!KGP4","v":0},{"$f":"KGS34*'Makro i swap'!KGQ4","v":0},{"$f":"KGT34*'Makro i swap'!KGR4","v":0},{"$f":"KGU34*'Makro i swap'!KGS4","v":0},{"$f":"KGV34*'Makro i swap'!KGT4","v":0},{"$f":"KGW34*'Makro i swap'!KGU4","v":0},{"$f":"KGX34*'Makro i swap'!KGV4","v":0},{"$f":"KGY34*'Makro i swap'!KGW4","v":0},{"$f":"KGZ34*'Makro i swap'!KGX4","v":0},{"$f":"KHA34*'Makro i swap'!KGY4","v":0},{"$f":"KHB34*'Makro i swap'!KGZ4","v":0},{"$f":"KHC34*'Makro i swap'!KHA4","v":0},{"$f":"KHD34*'Makro i swap'!KHB4","v":0},{"$f":"KHE34*'Makro i swap'!KHC4","v":0},{"$f":"KHF34*'Makro i swap'!KHD4","v":0},{"$f":"KHG34*'Makro i swap'!KHE4","v":0},{"$f":"KHH34*'Makro i swap'!KHF4","v":0},{"$f":"KHI34*'Makro i swap'!KHG4","v":0},{"$f":"KHJ34*'Makro i swap'!KHH4","v":0},{"$f":"KHK34*'Makro i swap'!KHI4","v":0},{"$f":"KHL34*'Makro i swap'!KHJ4","v":0},{"$f":"KHM34*'Makro i swap'!KHK4","v":0},{"$f":"KHN34*'Makro i swap'!KHL4","v":0},{"$f":"KHO34*'Makro i swap'!KHM4","v":0},{"$f":"KHP34*'Makro i swap'!KHN4","v":0},{"$f":"KHQ34*'Makro i swap'!KHO4","v":0},{"$f":"KHR34*'Makro i swap'!KHP4","v":0},{"$f":"KHS34*'Makro i swap'!KHQ4","v":0},{"$f":"KHT34*'Makro i swap'!KHR4","v":0},{"$f":"KHU34*'Makro i swap'!KHS4","v":0},{"$f":"KHV34*'Makro i swap'!KHT4","v":0},{"$f":"KHW34*'Makro i swap'!KHU4","v":0},{"$f":"KHX34*'Makro i swap'!KHV4","v":0},{"$f":"KHY34*'Makro i swap'!KHW4","v":0},{"$f":"KHZ34*'Makro i swap'!KHX4","v":0},{"$f":"KIA34*'Makro i swap'!KHY4","v":0},{"$f":"KIB34*'Makro i swap'!KHZ4","v":0},{"$f":"KIC34*'Makro i swap'!KIA4","v":0},{"$f":"KID34*'Makro i swap'!KIB4","v":0},{"$f":"KIE34*'Makro i swap'!KIC4","v":0},{"$f":"KIF34*'Makro i swap'!KID4","v":0},{"$f":"KIG34*'Makro i swap'!KIE4","v":0},{"$f":"KIH34*'Makro i swap'!KIF4","v":0},{"$f":"KII34*'Makro i swap'!KIG4","v":0},{"$f":"KIJ34*'Makro i swap'!KIH4","v":0},{"$f":"KIK34*'Makro i swap'!KII4","v":0},{"$f":"KIL34*'Makro i swap'!KIJ4","v":0},{"$f":"KIM34*'Makro i swap'!KIK4","v":0},{"$f":"KIN34*'Makro i swap'!KIL4","v":0},{"$f":"KIO34*'Makro i swap'!KIM4","v":0},{"$f":"KIP34*'Makro i swap'!KIN4","v":0},{"$f":"KIQ34*'Makro i swap'!KIO4","v":0},{"$f":"KIR34*'Makro i swap'!KIP4","v":0},{"$f":"KIS34*'Makro i swap'!KIQ4","v":0},{"$f":"KIT34*'Makro i swap'!KIR4","v":0},{"$f":"KIU34*'Makro i swap'!KIS4","v":0},{"$f":"KIV34*'Makro i swap'!KIT4","v":0},{"$f":"KIW34*'Makro i swap'!KIU4","v":0},{"$f":"KIX34*'Makro i swap'!KIV4","v":0},{"$f":"KIY34*'Makro i swap'!KIW4","v":0},{"$f":"KIZ34*'Makro i swap'!KIX4","v":0},{"$f":"KJA34*'Makro i swap'!KIY4","v":0},{"$f":"KJB34*'Makro i swap'!KIZ4","v":0},{"$f":"KJC34*'Makro i swap'!KJA4","v":0},{"$f":"KJD34*'Makro i swap'!KJB4","v":0},{"$f":"KJE34*'Makro i swap'!KJC4","v":0},{"$f":"KJF34*'Makro i swap'!KJD4","v":0},{"$f":"KJG34*'Makro i swap'!KJE4","v":0},{"$f":"KJH34*'Makro i swap'!KJF4","v":0},{"$f":"KJI34*'Makro i swap'!KJG4","v":0},{"$f":"KJJ34*'Makro i swap'!KJH4","v":0},{"$f":"KJK34*'Makro i swap'!KJI4","v":0},{"$f":"KJL34*'Makro i swap'!KJJ4","v":0},{"$f":"KJM34*'Makro i swap'!KJK4","v":0},{"$f":"KJN34*'Makro i swap'!KJL4","v":0},{"$f":"KJO34*'Makro i swap'!KJM4","v":0},{"$f":"KJP34*'Makro i swap'!KJN4","v":0},{"$f":"KJQ34*'Makro i swap'!KJO4","v":0},{"$f":"KJR34*'Makro i swap'!KJP4","v":0},{"$f":"KJS34*'Makro i swap'!KJQ4","v":0},{"$f":"KJT34*'Makro i swap'!KJR4","v":0},{"$f":"KJU34*'Makro i swap'!KJS4","v":0},{"$f":"KJV34*'Makro i swap'!KJT4","v":0},{"$f":"KJW34*'Makro i swap'!KJU4","v":0},{"$f":"KJX34*'Makro i swap'!KJV4","v":0},{"$f":"KJY34*'Makro i swap'!KJW4","v":0},{"$f":"KJZ34*'Makro i swap'!KJX4","v":0},{"$f":"KKA34*'Makro i swap'!KJY4","v":0},{"$f":"KKB34*'Makro i swap'!KJZ4","v":0},{"$f":"KKC34*'Makro i swap'!KKA4","v":0},{"$f":"KKD34*'Makro i swap'!KKB4","v":0},{"$f":"KKE34*'Makro i swap'!KKC4","v":0},{"$f":"KKF34*'Makro i swap'!KKD4","v":0},{"$f":"KKG34*'Makro i swap'!KKE4","v":0},{"$f":"KKH34*'Makro i swap'!KKF4","v":0},{"$f":"KKI34*'Makro i swap'!KKG4","v":0},{"$f":"KKJ34*'Makro i swap'!KKH4","v":0},{"$f":"KKK34*'Makro i swap'!KKI4","v":0},{"$f":"KKL34*'Makro i swap'!KKJ4","v":0},{"$f":"KKM34*'Makro i swap'!KKK4","v":0},{"$f":"KKN34*'Makro i swap'!KKL4","v":0},{"$f":"KKO34*'Makro i swap'!KKM4","v":0},{"$f":"KKP34*'Makro i swap'!KKN4","v":0},{"$f":"KKQ34*'Makro i swap'!KKO4","v":0},{"$f":"KKR34*'Makro i swap'!KKP4","v":0},{"$f":"KKS34*'Makro i swap'!KKQ4","v":0},{"$f":"KKT34*'Makro i swap'!KKR4","v":0},{"$f":"KKU34*'Makro i swap'!KKS4","v":0},{"$f":"KKV34*'Makro i swap'!KKT4","v":0},{"$f":"KKW34*'Makro i swap'!KKU4","v":0},{"$f":"KKX34*'Makro i swap'!KKV4","v":0},{"$f":"KKY34*'Makro i swap'!KKW4","v":0},{"$f":"KKZ34*'Makro i swap'!KKX4","v":0},{"$f":"KLA34*'Makro i swap'!KKY4","v":0},{"$f":"KLB34*'Makro i swap'!KKZ4","v":0},{"$f":"KLC34*'Makro i swap'!KLA4","v":0},{"$f":"KLD34*'Makro i swap'!KLB4","v":0},{"$f":"KLE34*'Makro i swap'!KLC4","v":0},{"$f":"KLF34*'Makro i swap'!KLD4","v":0},{"$f":"KLG34*'Makro i swap'!KLE4","v":0},{"$f":"KLH34*'Makro i swap'!KLF4","v":0},{"$f":"KLI34*'Makro i swap'!KLG4","v":0},{"$f":"KLJ34*'Makro i swap'!KLH4","v":0},{"$f":"KLK34*'Makro i swap'!KLI4","v":0},{"$f":"KLL34*'Makro i swap'!KLJ4","v":0},{"$f":"KLM34*'Makro i swap'!KLK4","v":0},{"$f":"KLN34*'Makro i swap'!KLL4","v":0},{"$f":"KLO34*'Makro i swap'!KLM4","v":0},{"$f":"KLP34*'Makro i swap'!KLN4","v":0},{"$f":"KLQ34*'Makro i swap'!KLO4","v":0},{"$f":"KLR34*'Makro i swap'!KLP4","v":0},{"$f":"KLS34*'Makro i swap'!KLQ4","v":0},{"$f":"KLT34*'Makro i swap'!KLR4","v":0},{"$f":"KLU34*'Makro i swap'!KLS4","v":0},{"$f":"KLV34*'Makro i swap'!KLT4","v":0},{"$f":"KLW34*'Makro i swap'!KLU4","v":0},{"$f":"KLX34*'Makro i swap'!KLV4","v":0},{"$f":"KLY34*'Makro i swap'!KLW4","v":0},{"$f":"KLZ34*'Makro i swap'!KLX4","v":0},{"$f":"KMA34*'Makro i swap'!KLY4","v":0},{"$f":"KMB34*'Makro i swap'!KLZ4","v":0},{"$f":"KMC34*'Makro i swap'!KMA4","v":0},{"$f":"KMD34*'Makro i swap'!KMB4","v":0},{"$f":"KME34*'Makro i swap'!KMC4","v":0},{"$f":"KMF34*'Makro i swap'!KMD4","v":0},{"$f":"KMG34*'Makro i swap'!KME4","v":0},{"$f":"KMH34*'Makro i swap'!KMF4","v":0},{"$f":"KMI34*'Makro i swap'!KMG4","v":0},{"$f":"KMJ34*'Makro i swap'!KMH4","v":0},{"$f":"KMK34*'Makro i swap'!KMI4","v":0},{"$f":"KML34*'Makro i swap'!KMJ4","v":0},{"$f":"KMM34*'Makro i swap'!KMK4","v":0},{"$f":"KMN34*'Makro i swap'!KML4","v":0},{"$f":"KMO34*'Makro i swap'!KMM4","v":0},{"$f":"KMP34*'Makro i swap'!KMN4","v":0},{"$f":"KMQ34*'Makro i swap'!KMO4","v":0},{"$f":"KMR34*'Makro i swap'!KMP4","v":0},{"$f":"KMS34*'Makro i swap'!KMQ4","v":0},{"$f":"KMT34*'Makro i swap'!KMR4","v":0},{"$f":"KMU34*'Makro i swap'!KMS4","v":0},{"$f":"KMV34*'Makro i swap'!KMT4","v":0},{"$f":"KMW34*'Makro i swap'!KMU4","v":0},{"$f":"KMX34*'Makro i swap'!KMV4","v":0},{"$f":"KMY34*'Makro i swap'!KMW4","v":0},{"$f":"KMZ34*'Makro i swap'!KMX4","v":0},{"$f":"KNA34*'Makro i swap'!KMY4","v":0},{"$f":"KNB34*'Makro i swap'!KMZ4","v":0},{"$f":"KNC34*'Makro i swap'!KNA4","v":0},{"$f":"KND34*'Makro i swap'!KNB4","v":0},{"$f":"KNE34*'Makro i swap'!KNC4","v":0},{"$f":"KNF34*'Makro i swap'!KND4","v":0},{"$f":"KNG34*'Makro i swap'!KNE4","v":0},{"$f":"KNH34*'Makro i swap'!KNF4","v":0},{"$f":"KNI34*'Makro i swap'!KNG4","v":0},{"$f":"KNJ34*'Makro i swap'!KNH4","v":0},{"$f":"KNK34*'Makro i swap'!KNI4","v":0},{"$f":"KNL34*'Makro i swap'!KNJ4","v":0},{"$f":"KNM34*'Makro i swap'!KNK4","v":0},{"$f":"KNN34*'Makro i swap'!KNL4","v":0},{"$f":"KNO34*'Makro i swap'!KNM4","v":0},{"$f":"KNP34*'Makro i swap'!KNN4","v":0},{"$f":"KNQ34*'Makro i swap'!KNO4","v":0},{"$f":"KNR34*'Makro i swap'!KNP4","v":0},{"$f":"KNS34*'Makro i swap'!KNQ4","v":0},{"$f":"KNT34*'Makro i swap'!KNR4","v":0},{"$f":"KNU34*'Makro i swap'!KNS4","v":0},{"$f":"KNV34*'Makro i swap'!KNT4","v":0},{"$f":"KNW34*'Makro i swap'!KNU4","v":0},{"$f":"KNX34*'Makro i swap'!KNV4","v":0},{"$f":"KNY34*'Makro i swap'!KNW4","v":0},{"$f":"KNZ34*'Makro i swap'!KNX4","v":0},{"$f":"KOA34*'Makro i swap'!KNY4","v":0},{"$f":"KOB34*'Makro i swap'!KNZ4","v":0},{"$f":"KOC34*'Makro i swap'!KOA4","v":0},{"$f":"KOD34*'Makro i swap'!KOB4","v":0},{"$f":"KOE34*'Makro i swap'!KOC4","v":0},{"$f":"KOF34*'Makro i swap'!KOD4","v":0},{"$f":"KOG34*'Makro i swap'!KOE4","v":0},{"$f":"KOH34*'Makro i swap'!KOF4","v":0},{"$f":"KOI34*'Makro i swap'!KOG4","v":0},{"$f":"KOJ34*'Makro i swap'!KOH4","v":0},{"$f":"KOK34*'Makro i swap'!KOI4","v":0},{"$f":"KOL34*'Makro i swap'!KOJ4","v":0},{"$f":"KOM34*'Makro i swap'!KOK4","v":0},{"$f":"KON34*'Makro i swap'!KOL4","v":0},{"$f":"KOO34*'Makro i swap'!KOM4","v":0},{"$f":"KOP34*'Makro i swap'!KON4","v":0},{"$f":"KOQ34*'Makro i swap'!KOO4","v":0},{"$f":"KOR34*'Makro i swap'!KOP4","v":0},{"$f":"KOS34*'Makro i swap'!KOQ4","v":0},{"$f":"KOT34*'Makro i swap'!KOR4","v":0},{"$f":"KOU34*'Makro i swap'!KOS4","v":0},{"$f":"KOV34*'Makro i swap'!KOT4","v":0},{"$f":"KOW34*'Makro i swap'!KOU4","v":0},{"$f":"KOX34*'Makro i swap'!KOV4","v":0},{"$f":"KOY34*'Makro i swap'!KOW4","v":0},{"$f":"KOZ34*'Makro i swap'!KOX4","v":0},{"$f":"KPA34*'Makro i swap'!KOY4","v":0},{"$f":"KPB34*'Makro i swap'!KOZ4","v":0},{"$f":"KPC34*'Makro i swap'!KPA4","v":0},{"$f":"KPD34*'Makro i swap'!KPB4","v":0},{"$f":"KPE34*'Makro i swap'!KPC4","v":0},{"$f":"KPF34*'Makro i swap'!KPD4","v":0},{"$f":"KPG34*'Makro i swap'!KPE4","v":0},{"$f":"KPH34*'Makro i swap'!KPF4","v":0},{"$f":"KPI34*'Makro i swap'!KPG4","v":0},{"$f":"KPJ34*'Makro i swap'!KPH4","v":0},{"$f":"KPK34*'Makro i swap'!KPI4","v":0},{"$f":"KPL34*'Makro i swap'!KPJ4","v":0},{"$f":"KPM34*'Makro i swap'!KPK4","v":0},{"$f":"KPN34*'Makro i swap'!KPL4","v":0},{"$f":"KPO34*'Makro i swap'!KPM4","v":0},{"$f":"KPP34*'Makro i swap'!KPN4","v":0},{"$f":"KPQ34*'Makro i swap'!KPO4","v":0},{"$f":"KPR34*'Makro i swap'!KPP4","v":0},{"$f":"KPS34*'Makro i swap'!KPQ4","v":0},{"$f":"KPT34*'Makro i swap'!KPR4","v":0},{"$f":"KPU34*'Makro i swap'!KPS4","v":0},{"$f":"KPV34*'Makro i swap'!KPT4","v":0},{"$f":"KPW34*'Makro i swap'!KPU4","v":0},{"$f":"KPX34*'Makro i swap'!KPV4","v":0},{"$f":"KPY34*'Makro i swap'!KPW4","v":0},{"$f":"KPZ34*'Makro i swap'!KPX4","v":0},{"$f":"KQA34*'Makro i swap'!KPY4","v":0},{"$f":"KQB34*'Makro i swap'!KPZ4","v":0},{"$f":"KQC34*'Makro i swap'!KQA4","v":0},{"$f":"KQD34*'Makro i swap'!KQB4","v":0},{"$f":"KQE34*'Makro i swap'!KQC4","v":0},{"$f":"KQF34*'Makro i swap'!KQD4","v":0},{"$f":"KQG34*'Makro i swap'!KQE4","v":0},{"$f":"KQH34*'Makro i swap'!KQF4","v":0},{"$f":"KQI34*'Makro i swap'!KQG4","v":0},{"$f":"KQJ34*'Makro i swap'!KQH4","v":0},{"$f":"KQK34*'Makro i swap'!KQI4","v":0},{"$f":"KQL34*'Makro i swap'!KQJ4","v":0},{"$f":"KQM34*'Makro i swap'!KQK4","v":0},{"$f":"KQN34*'Makro i swap'!KQL4","v":0},{"$f":"KQO34*'Makro i swap'!KQM4","v":0},{"$f":"KQP34*'Makro i swap'!KQN4","v":0},{"$f":"KQQ34*'Makro i swap'!KQO4","v":0},{"$f":"KQR34*'Makro i swap'!KQP4","v":0},{"$f":"KQS34*'Makro i swap'!KQQ4","v":0},{"$f":"KQT34*'Makro i swap'!KQR4","v":0},{"$f":"KQU34*'Makro i swap'!KQS4","v":0},{"$f":"KQV34*'Makro i swap'!KQT4","v":0},{"$f":"KQW34*'Makro i swap'!KQU4","v":0},{"$f":"KQX34*'Makro i swap'!KQV4","v":0},{"$f":"KQY34*'Makro i swap'!KQW4","v":0},{"$f":"KQZ34*'Makro i swap'!KQX4","v":0},{"$f":"KRA34*'Makro i swap'!KQY4","v":0},{"$f":"KRB34*'Makro i swap'!KQZ4","v":0},{"$f":"KRC34*'Makro i swap'!KRA4","v":0},{"$f":"KRD34*'Makro i swap'!KRB4","v":0},{"$f":"KRE34*'Makro i swap'!KRC4","v":0},{"$f":"KRF34*'Makro i swap'!KRD4","v":0},{"$f":"KRG34*'Makro i swap'!KRE4","v":0},{"$f":"KRH34*'Makro i swap'!KRF4","v":0},{"$f":"KRI34*'Makro i swap'!KRG4","v":0},{"$f":"KRJ34*'Makro i swap'!KRH4","v":0},{"$f":"KRK34*'Makro i swap'!KRI4","v":0},{"$f":"KRL34*'Makro i swap'!KRJ4","v":0},{"$f":"KRM34*'Makro i swap'!KRK4","v":0},{"$f":"KRN34*'Makro i swap'!KRL4","v":0},{"$f":"KRO34*'Makro i swap'!KRM4","v":0},{"$f":"KRP34*'Makro i swap'!KRN4","v":0},{"$f":"KRQ34*'Makro i swap'!KRO4","v":0},{"$f":"KRR34*'Makro i swap'!KRP4","v":0},{"$f":"KRS34*'Makro i swap'!KRQ4","v":0},{"$f":"KRT34*'Makro i swap'!KRR4","v":0},{"$f":"KRU34*'Makro i swap'!KRS4","v":0},{"$f":"KRV34*'Makro i swap'!KRT4","v":0},{"$f":"KRW34*'Makro i swap'!KRU4","v":0},{"$f":"KRX34*'Makro i swap'!KRV4","v":0},{"$f":"KRY34*'Makro i swap'!KRW4","v":0},{"$f":"KRZ34*'Makro i swap'!KRX4","v":0},{"$f":"KSA34*'Makro i swap'!KRY4","v":0},{"$f":"KSB34*'Makro i swap'!KRZ4","v":0},{"$f":"KSC34*'Makro i swap'!KSA4","v":0},{"$f":"KSD34*'Makro i swap'!KSB4","v":0},{"$f":"KSE34*'Makro i swap'!KSC4","v":0},{"$f":"KSF34*'Makro i swap'!KSD4","v":0},{"$f":"KSG34*'Makro i swap'!KSE4","v":0},{"$f":"KSH34*'Makro i swap'!KSF4","v":0},{"$f":"KSI34*'Makro i swap'!KSG4","v":0},{"$f":"KSJ34*'Makro i swap'!KSH4","v":0},{"$f":"KSK34*'Makro i swap'!KSI4","v":0},{"$f":"KSL34*'Makro i swap'!KSJ4","v":0},{"$f":"KSM34*'Makro i swap'!KSK4","v":0},{"$f":"KSN34*'Makro i swap'!KSL4","v":0},{"$f":"KSO34*'Makro i swap'!KSM4","v":0},{"$f":"KSP34*'Makro i swap'!KSN4","v":0},{"$f":"KSQ34*'Makro i swap'!KSO4","v":0},{"$f":"KSR34*'Makro i swap'!KSP4","v":0},{"$f":"KSS34*'Makro i swap'!KSQ4","v":0},{"$f":"KST34*'Makro i swap'!KSR4","v":0},{"$f":"KSU34*'Makro i swap'!KSS4","v":0},{"$f":"KSV34*'Makro i swap'!KST4","v":0},{"$f":"KSW34*'Makro i swap'!KSU4","v":0},{"$f":"KSX34*'Makro i swap'!KSV4","v":0},{"$f":"KSY34*'Makro i swap'!KSW4","v":0},{"$f":"KSZ34*'Makro i swap'!KSX4","v":0},{"$f":"KTA34*'Makro i swap'!KSY4","v":0},{"$f":"KTB34*'Makro i swap'!KSZ4","v":0},{"$f":"KTC34*'Makro i swap'!KTA4","v":0},{"$f":"KTD34*'Makro i swap'!KTB4","v":0},{"$f":"KTE34*'Makro i swap'!KTC4","v":0},{"$f":"KTF34*'Makro i swap'!KTD4","v":0},{"$f":"KTG34*'Makro i swap'!KTE4","v":0},{"$f":"KTH34*'Makro i swap'!KTF4","v":0},{"$f":"KTI34*'Makro i swap'!KTG4","v":0},{"$f":"KTJ34*'Makro i swap'!KTH4","v":0},{"$f":"KTK34*'Makro i swap'!KTI4","v":0},{"$f":"KTL34*'Makro i swap'!KTJ4","v":0},{"$f":"KTM34*'Makro i swap'!KTK4","v":0},{"$f":"KTN34*'Makro i swap'!KTL4","v":0},{"$f":"KTO34*'Makro i swap'!KTM4","v":0},{"$f":"KTP34*'Makro i swap'!KTN4","v":0},{"$f":"KTQ34*'Makro i swap'!KTO4","v":0},{"$f":"KTR34*'Makro i swap'!KTP4","v":0},{"$f":"KTS34*'Makro i swap'!KTQ4","v":0},{"$f":"KTT34*'Makro i swap'!KTR4","v":0},{"$f":"KTU34*'Makro i swap'!KTS4","v":0},{"$f":"KTV34*'Makro i swap'!KTT4","v":0},{"$f":"KTW34*'Makro i swap'!KTU4","v":0},{"$f":"KTX34*'Makro i swap'!KTV4","v":0},{"$f":"KTY34*'Makro i swap'!KTW4","v":0},{"$f":"KTZ34*'Makro i swap'!KTX4","v":0},{"$f":"KUA34*'Makro i swap'!KTY4","v":0},{"$f":"KUB34*'Makro i swap'!KTZ4","v":0},{"$f":"KUC34*'Makro i swap'!KUA4","v":0},{"$f":"KUD34*'Makro i swap'!KUB4","v":0},{"$f":"KUE34*'Makro i swap'!KUC4","v":0},{"$f":"KUF34*'Makro i swap'!KUD4","v":0},{"$f":"KUG34*'Makro i swap'!KUE4","v":0},{"$f":"KUH34*'Makro i swap'!KUF4","v":0},{"$f":"KUI34*'Makro i swap'!KUG4","v":0},{"$f":"KUJ34*'Makro i swap'!KUH4","v":0},{"$f":"KUK34*'Makro i swap'!KUI4","v":0},{"$f":"KUL34*'Makro i swap'!KUJ4","v":0},{"$f":"KUM34*'Makro i swap'!KUK4","v":0},{"$f":"KUN34*'Makro i swap'!KUL4","v":0},{"$f":"KUO34*'Makro i swap'!KUM4","v":0},{"$f":"KUP34*'Makro i swap'!KUN4","v":0},{"$f":"KUQ34*'Makro i swap'!KUO4","v":0},{"$f":"KUR34*'Makro i swap'!KUP4","v":0},{"$f":"KUS34*'Makro i swap'!KUQ4","v":0},{"$f":"KUT34*'Makro i swap'!KUR4","v":0},{"$f":"KUU34*'Makro i swap'!KUS4","v":0},{"$f":"KUV34*'Makro i swap'!KUT4","v":0},{"$f":"KUW34*'Makro i swap'!KUU4","v":0},{"$f":"KUX34*'Makro i swap'!KUV4","v":0},{"$f":"KUY34*'Makro i swap'!KUW4","v":0},{"$f":"KUZ34*'Makro i swap'!KUX4","v":0},{"$f":"KVA34*'Makro i swap'!KUY4","v":0},{"$f":"KVB34*'Makro i swap'!KUZ4","v":0},{"$f":"KVC34*'Makro i swap'!KVA4","v":0},{"$f":"KVD34*'Makro i swap'!KVB4","v":0},{"$f":"KVE34*'Makro i swap'!KVC4","v":0},{"$f":"KVF34*'Makro i swap'!KVD4","v":0},{"$f":"KVG34*'Makro i swap'!KVE4","v":0},{"$f":"KVH34*'Makro i swap'!KVF4","v":0},{"$f":"KVI34*'Makro i swap'!KVG4","v":0},{"$f":"KVJ34*'Makro i swap'!KVH4","v":0},{"$f":"KVK34*'Makro i swap'!KVI4","v":0},{"$f":"KVL34*'Makro i swap'!KVJ4","v":0},{"$f":"KVM34*'Makro i swap'!KVK4","v":0},{"$f":"KVN34*'Makro i swap'!KVL4","v":0},{"$f":"KVO34*'Makro i swap'!KVM4","v":0},{"$f":"KVP34*'Makro i swap'!KVN4","v":0},{"$f":"KVQ34*'Makro i swap'!KVO4","v":0},{"$f":"KVR34*'Makro i swap'!KVP4","v":0},{"$f":"KVS34*'Makro i swap'!KVQ4","v":0},{"$f":"KVT34*'Makro i swap'!KVR4","v":0},{"$f":"KVU34*'Makro i swap'!KVS4","v":0},{"$f":"KVV34*'Makro i swap'!KVT4","v":0},{"$f":"KVW34*'Makro i swap'!KVU4","v":0},{"$f":"KVX34*'Makro i swap'!KVV4","v":0},{"$f":"KVY34*'Makro i swap'!KVW4","v":0},{"$f":"KVZ34*'Makro i swap'!KVX4","v":0},{"$f":"KWA34*'Makro i swap'!KVY4","v":0},{"$f":"KWB34*'Makro i swap'!KVZ4","v":0},{"$f":"KWC34*'Makro i swap'!KWA4","v":0},{"$f":"KWD34*'Makro i swap'!KWB4","v":0},{"$f":"KWE34*'Makro i swap'!KWC4","v":0},{"$f":"KWF34*'Makro i swap'!KWD4","v":0},{"$f":"KWG34*'Makro i swap'!KWE4","v":0},{"$f":"KWH34*'Makro i swap'!KWF4","v":0},{"$f":"KWI34*'Makro i swap'!KWG4","v":0},{"$f":"KWJ34*'Makro i swap'!KWH4","v":0},{"$f":"KWK34*'Makro i swap'!KWI4","v":0},{"$f":"KWL34*'Makro i swap'!KWJ4","v":0},{"$f":"KWM34*'Makro i swap'!KWK4","v":0},{"$f":"KWN34*'Makro i swap'!KWL4","v":0},{"$f":"KWO34*'Makro i swap'!KWM4","v":0},{"$f":"KWP34*'Makro i swap'!KWN4","v":0},{"$f":"KWQ34*'Makro i swap'!KWO4","v":0},{"$f":"KWR34*'Makro i swap'!KWP4","v":0},{"$f":"KWS34*'Makro i swap'!KWQ4","v":0},{"$f":"KWT34*'Makro i swap'!KWR4","v":0},{"$f":"KWU34*'Makro i swap'!KWS4","v":0},{"$f":"KWV34*'Makro i swap'!KWT4","v":0},{"$f":"KWW34*'Makro i swap'!KWU4","v":0},{"$f":"KWX34*'Makro i swap'!KWV4","v":0},{"$f":"KWY34*'Makro i swap'!KWW4","v":0},{"$f":"KWZ34*'Makro i swap'!KWX4","v":0},{"$f":"KXA34*'Makro i swap'!KWY4","v":0},{"$f":"KXB34*'Makro i swap'!KWZ4","v":0},{"$f":"KXC34*'Makro i swap'!KXA4","v":0},{"$f":"KXD34*'Makro i swap'!KXB4","v":0},{"$f":"KXE34*'Makro i swap'!KXC4","v":0},{"$f":"KXF34*'Makro i swap'!KXD4","v":0},{"$f":"KXG34*'Makro i swap'!KXE4","v":0},{"$f":"KXH34*'Makro i swap'!KXF4","v":0},{"$f":"KXI34*'Makro i swap'!KXG4","v":0},{"$f":"KXJ34*'Makro i swap'!KXH4","v":0},{"$f":"KXK34*'Makro i swap'!KXI4","v":0},{"$f":"KXL34*'Makro i swap'!KXJ4","v":0},{"$f":"KXM34*'Makro i swap'!KXK4","v":0},{"$f":"KXN34*'Makro i swap'!KXL4","v":0},{"$f":"KXO34*'Makro i swap'!KXM4","v":0},{"$f":"KXP34*'Makro i swap'!KXN4","v":0},{"$f":"KXQ34*'Makro i swap'!KXO4","v":0},{"$f":"KXR34*'Makro i swap'!KXP4","v":0},{"$f":"KXS34*'Makro i swap'!KXQ4","v":0},{"$f":"KXT34*'Makro i swap'!KXR4","v":0},{"$f":"KXU34*'Makro i swap'!KXS4","v":0},{"$f":"KXV34*'Makro i swap'!KXT4","v":0},{"$f":"KXW34*'Makro i swap'!KXU4","v":0},{"$f":"KXX34*'Makro i swap'!KXV4","v":0},{"$f":"KXY34*'Makro i swap'!KXW4","v":0},{"$f":"KXZ34*'Makro i swap'!KXX4","v":0},{"$f":"KYA34*'Makro i swap'!KXY4","v":0},{"$f":"KYB34*'Makro i swap'!KXZ4","v":0},{"$f":"KYC34*'Makro i swap'!KYA4","v":0},{"$f":"KYD34*'Makro i swap'!KYB4","v":0},{"$f":"KYE34*'Makro i swap'!KYC4","v":0},{"$f":"KYF34*'Makro i swap'!KYD4","v":0},{"$f":"KYG34*'Makro i swap'!KYE4","v":0},{"$f":"KYH34*'Makro i swap'!KYF4","v":0},{"$f":"KYI34*'Makro i swap'!KYG4","v":0},{"$f":"KYJ34*'Makro i swap'!KYH4","v":0},{"$f":"KYK34*'Makro i swap'!KYI4","v":0},{"$f":"KYL34*'Makro i swap'!KYJ4","v":0},{"$f":"KYM34*'Makro i swap'!KYK4","v":0},{"$f":"KYN34*'Makro i swap'!KYL4","v":0},{"$f":"KYO34*'Makro i swap'!KYM4","v":0},{"$f":"KYP34*'Makro i swap'!KYN4","v":0},{"$f":"KYQ34*'Makro i swap'!KYO4","v":0},{"$f":"KYR34*'Makro i swap'!KYP4","v":0},{"$f":"KYS34*'Makro i swap'!KYQ4","v":0},{"$f":"KYT34*'Makro i swap'!KYR4","v":0},{"$f":"KYU34*'Makro i swap'!KYS4","v":0},{"$f":"KYV34*'Makro i swap'!KYT4","v":0},{"$f":"KYW34*'Makro i swap'!KYU4","v":0},{"$f":"KYX34*'Makro i swap'!KYV4","v":0},{"$f":"KYY34*'Makro i swap'!KYW4","v":0},{"$f":"KYZ34*'Makro i swap'!KYX4","v":0},{"$f":"KZA34*'Makro i swap'!KYY4","v":0},{"$f":"KZB34*'Makro i swap'!KYZ4","v":0},{"$f":"KZC34*'Makro i swap'!KZA4","v":0},{"$f":"KZD34*'Makro i swap'!KZB4","v":0},{"$f":"KZE34*'Makro i swap'!KZC4","v":0},{"$f":"KZF34*'Makro i swap'!KZD4","v":0},{"$f":"KZG34*'Makro i swap'!KZE4","v":0},{"$f":"KZH34*'Makro i swap'!KZF4","v":0},{"$f":"KZI34*'Makro i swap'!KZG4","v":0},{"$f":"KZJ34*'Makro i swap'!KZH4","v":0},{"$f":"KZK34*'Makro i swap'!KZI4","v":0},{"$f":"KZL34*'Makro i swap'!KZJ4","v":0},{"$f":"KZM34*'Makro i swap'!KZK4","v":0},{"$f":"KZN34*'Makro i swap'!KZL4","v":0},{"$f":"KZO34*'Makro i swap'!KZM4","v":0},{"$f":"KZP34*'Makro i swap'!KZN4","v":0},{"$f":"KZQ34*'Makro i swap'!KZO4","v":0},{"$f":"KZR34*'Makro i swap'!KZP4","v":0},{"$f":"KZS34*'Makro i swap'!KZQ4","v":0},{"$f":"KZT34*'Makro i swap'!KZR4","v":0},{"$f":"KZU34*'Makro i swap'!KZS4","v":0},{"$f":"KZV34*'Makro i swap'!KZT4","v":0},{"$f":"KZW34*'Makro i swap'!KZU4","v":0},{"$f":"KZX34*'Makro i swap'!KZV4","v":0},{"$f":"KZY34*'Makro i swap'!KZW4","v":0},{"$f":"KZZ34*'Makro i swap'!KZX4","v":0},{"$f":"LAA34*'Makro i swap'!KZY4","v":0},{"$f":"LAB34*'Makro i swap'!KZZ4","v":0},{"$f":"LAC34*'Makro i swap'!LAA4","v":0},{"$f":"LAD34*'Makro i swap'!LAB4","v":0},{"$f":"LAE34*'Makro i swap'!LAC4","v":0},{"$f":"LAF34*'Makro i swap'!LAD4","v":0},{"$f":"LAG34*'Makro i swap'!LAE4","v":0},{"$f":"LAH34*'Makro i swap'!LAF4","v":0},{"$f":"LAI34*'Makro i swap'!LAG4","v":0},{"$f":"LAJ34*'Makro i swap'!LAH4","v":0},{"$f":"LAK34*'Makro i swap'!LAI4","v":0},{"$f":"LAL34*'Makro i swap'!LAJ4","v":0},{"$f":"LAM34*'Makro i swap'!LAK4","v":0},{"$f":"LAN34*'Makro i swap'!LAL4","v":0},{"$f":"LAO34*'Makro i swap'!LAM4","v":0},{"$f":"LAP34*'Makro i swap'!LAN4","v":0},{"$f":"LAQ34*'Makro i swap'!LAO4","v":0},{"$f":"LAR34*'Makro i swap'!LAP4","v":0},{"$f":"LAS34*'Makro i swap'!LAQ4","v":0},{"$f":"LAT34*'Makro i swap'!LAR4","v":0},{"$f":"LAU34*'Makro i swap'!LAS4","v":0},{"$f":"LAV34*'Makro i swap'!LAT4","v":0},{"$f":"LAW34*'Makro i swap'!LAU4","v":0},{"$f":"LAX34*'Makro i swap'!LAV4","v":0},{"$f":"LAY34*'Makro i swap'!LAW4","v":0},{"$f":"LAZ34*'Makro i swap'!LAX4","v":0},{"$f":"LBA34*'Makro i swap'!LAY4","v":0},{"$f":"LBB34*'Makro i swap'!LAZ4","v":0},{"$f":"LBC34*'Makro i swap'!LBA4","v":0},{"$f":"LBD34*'Makro i swap'!LBB4","v":0},{"$f":"LBE34*'Makro i swap'!LBC4","v":0},{"$f":"LBF34*'Makro i swap'!LBD4","v":0},{"$f":"LBG34*'Makro i swap'!LBE4","v":0},{"$f":"LBH34*'Makro i swap'!LBF4","v":0},{"$f":"LBI34*'Makro i swap'!LBG4","v":0},{"$f":"LBJ34*'Makro i swap'!LBH4","v":0},{"$f":"LBK34*'Makro i swap'!LBI4","v":0},{"$f":"LBL34*'Makro i swap'!LBJ4","v":0},{"$f":"LBM34*'Makro i swap'!LBK4","v":0},{"$f":"LBN34*'Makro i swap'!LBL4","v":0},{"$f":"LBO34*'Makro i swap'!LBM4","v":0},{"$f":"LBP34*'Makro i swap'!LBN4","v":0},{"$f":"LBQ34*'Makro i swap'!LBO4","v":0},{"$f":"LBR34*'Makro i swap'!LBP4","v":0},{"$f":"LBS34*'Makro i swap'!LBQ4","v":0},{"$f":"LBT34*'Makro i swap'!LBR4","v":0},{"$f":"LBU34*'Makro i swap'!LBS4","v":0},{"$f":"LBV34*'Makro i swap'!LBT4","v":0},{"$f":"LBW34*'Makro i swap'!LBU4","v":0},{"$f":"LBX34*'Makro i swap'!LBV4","v":0},{"$f":"LBY34*'Makro i swap'!LBW4","v":0},{"$f":"LBZ34*'Makro i swap'!LBX4","v":0},{"$f":"LCA34*'Makro i swap'!LBY4","v":0},{"$f":"LCB34*'Makro i swap'!LBZ4","v":0},{"$f":"LCC34*'Makro i swap'!LCA4","v":0},{"$f":"LCD34*'Makro i swap'!LCB4","v":0},{"$f":"LCE34*'Makro i swap'!LCC4","v":0},{"$f":"LCF34*'Makro i swap'!LCD4","v":0},{"$f":"LCG34*'Makro i swap'!LCE4","v":0},{"$f":"LCH34*'Makro i swap'!LCF4","v":0},{"$f":"LCI34*'Makro i swap'!LCG4","v":0},{"$f":"LCJ34*'Makro i swap'!LCH4","v":0},{"$f":"LCK34*'Makro i swap'!LCI4","v":0},{"$f":"LCL34*'Makro i swap'!LCJ4","v":0},{"$f":"LCM34*'Makro i swap'!LCK4","v":0},{"$f":"LCN34*'Makro i swap'!LCL4","v":0},{"$f":"LCO34*'Makro i swap'!LCM4","v":0},{"$f":"LCP34*'Makro i swap'!LCN4","v":0},{"$f":"LCQ34*'Makro i swap'!LCO4","v":0},{"$f":"LCR34*'Makro i swap'!LCP4","v":0},{"$f":"LCS34*'Makro i swap'!LCQ4","v":0},{"$f":"LCT34*'Makro i swap'!LCR4","v":0},{"$f":"LCU34*'Makro i swap'!LCS4","v":0},{"$f":"LCV34*'Makro i swap'!LCT4","v":0},{"$f":"LCW34*'Makro i swap'!LCU4","v":0},{"$f":"LCX34*'Makro i swap'!LCV4","v":0},{"$f":"LCY34*'Makro i swap'!LCW4","v":0},{"$f":"LCZ34*'Makro i swap'!LCX4","v":0},{"$f":"LDA34*'Makro i swap'!LCY4","v":0},{"$f":"LDB34*'Makro i swap'!LCZ4","v":0},{"$f":"LDC34*'Makro i swap'!LDA4","v":0},{"$f":"LDD34*'Makro i swap'!LDB4","v":0},{"$f":"LDE34*'Makro i swap'!LDC4","v":0},{"$f":"LDF34*'Makro i swap'!LDD4","v":0},{"$f":"LDG34*'Makro i swap'!LDE4","v":0},{"$f":"LDH34*'Makro i swap'!LDF4","v":0},{"$f":"LDI34*'Makro i swap'!LDG4","v":0},{"$f":"LDJ34*'Makro i swap'!LDH4","v":0},{"$f":"LDK34*'Makro i swap'!LDI4","v":0},{"$f":"LDL34*'Makro i swap'!LDJ4","v":0},{"$f":"LDM34*'Makro i swap'!LDK4","v":0},{"$f":"LDN34*'Makro i swap'!LDL4","v":0},{"$f":"LDO34*'Makro i swap'!LDM4","v":0},{"$f":"LDP34*'Makro i swap'!LDN4","v":0},{"$f":"LDQ34*'Makro i swap'!LDO4","v":0},{"$f":"LDR34*'Makro i swap'!LDP4","v":0},{"$f":"LDS34*'Makro i swap'!LDQ4","v":0},{"$f":"LDT34*'Makro i swap'!LDR4","v":0},{"$f":"LDU34*'Makro i swap'!LDS4","v":0},{"$f":"LDV34*'Makro i swap'!LDT4","v":0},{"$f":"LDW34*'Makro i swap'!LDU4","v":0},{"$f":"LDX34*'Makro i swap'!LDV4","v":0},{"$f":"LDY34*'Makro i swap'!LDW4","v":0},{"$f":"LDZ34*'Makro i swap'!LDX4","v":0},{"$f":"LEA34*'Makro i swap'!LDY4","v":0},{"$f":"LEB34*'Makro i swap'!LDZ4","v":0},{"$f":"LEC34*'Makro i swap'!LEA4","v":0},{"$f":"LED34*'Makro i swap'!LEB4","v":0},{"$f":"LEE34*'Makro i swap'!LEC4","v":0},{"$f":"LEF34*'Makro i swap'!LED4","v":0},{"$f":"LEG34*'Makro i swap'!LEE4","v":0},{"$f":"LEH34*'Makro i swap'!LEF4","v":0},{"$f":"LEI34*'Makro i swap'!LEG4","v":0},{"$f":"LEJ34*'Makro i swap'!LEH4","v":0},{"$f":"LEK34*'Makro i swap'!LEI4","v":0},{"$f":"LEL34*'Makro i swap'!LEJ4","v":0},{"$f":"LEM34*'Makro i swap'!LEK4","v":0},{"$f":"LEN34*'Makro i swap'!LEL4","v":0},{"$f":"LEO34*'Makro i swap'!LEM4","v":0},{"$f":"LEP34*'Makro i swap'!LEN4","v":0},{"$f":"LEQ34*'Makro i swap'!LEO4","v":0},{"$f":"LER34*'Makro i swap'!LEP4","v":0},{"$f":"LES34*'Makro i swap'!LEQ4","v":0},{"$f":"LET34*'Makro i swap'!LER4","v":0},{"$f":"LEU34*'Makro i swap'!LES4","v":0},{"$f":"LEV34*'Makro i swap'!LET4","v":0},{"$f":"LEW34*'Makro i swap'!LEU4","v":0},{"$f":"LEX34*'Makro i swap'!LEV4","v":0},{"$f":"LEY34*'Makro i swap'!LEW4","v":0},{"$f":"LEZ34*'Makro i swap'!LEX4","v":0},{"$f":"LFA34*'Makro i swap'!LEY4","v":0},{"$f":"LFB34*'Makro i swap'!LEZ4","v":0},{"$f":"LFC34*'Makro i swap'!LFA4","v":0},{"$f":"LFD34*'Makro i swap'!LFB4","v":0},{"$f":"LFE34*'Makro i swap'!LFC4","v":0},{"$f":"LFF34*'Makro i swap'!LFD4","v":0},{"$f":"LFG34*'Makro i swap'!LFE4","v":0},{"$f":"LFH34*'Makro i swap'!LFF4","v":0},{"$f":"LFI34*'Makro i swap'!LFG4","v":0},{"$f":"LFJ34*'Makro i swap'!LFH4","v":0},{"$f":"LFK34*'Makro i swap'!LFI4","v":0},{"$f":"LFL34*'Makro i swap'!LFJ4","v":0},{"$f":"LFM34*'Makro i swap'!LFK4","v":0},{"$f":"LFN34*'Makro i swap'!LFL4","v":0},{"$f":"LFO34*'Makro i swap'!LFM4","v":0},{"$f":"LFP34*'Makro i swap'!LFN4","v":0},{"$f":"LFQ34*'Makro i swap'!LFO4","v":0},{"$f":"LFR34*'Makro i swap'!LFP4","v":0},{"$f":"LFS34*'Makro i swap'!LFQ4","v":0},{"$f":"LFT34*'Makro i swap'!LFR4","v":0},{"$f":"LFU34*'Makro i swap'!LFS4","v":0},{"$f":"LFV34*'Makro i swap'!LFT4","v":0},{"$f":"LFW34*'Makro i swap'!LFU4","v":0},{"$f":"LFX34*'Makro i swap'!LFV4","v":0},{"$f":"LFY34*'Makro i swap'!LFW4","v":0},{"$f":"LFZ34*'Makro i swap'!LFX4","v":0},{"$f":"LGA34*'Makro i swap'!LFY4","v":0},{"$f":"LGB34*'Makro i swap'!LFZ4","v":0},{"$f":"LGC34*'Makro i swap'!LGA4","v":0},{"$f":"LGD34*'Makro i swap'!LGB4","v":0},{"$f":"LGE34*'Makro i swap'!LGC4","v":0},{"$f":"LGF34*'Makro i swap'!LGD4","v":0},{"$f":"LGG34*'Makro i swap'!LGE4","v":0},{"$f":"LGH34*'Makro i swap'!LGF4","v":0},{"$f":"LGI34*'Makro i swap'!LGG4","v":0},{"$f":"LGJ34*'Makro i swap'!LGH4","v":0},{"$f":"LGK34*'Makro i swap'!LGI4","v":0},{"$f":"LGL34*'Makro i swap'!LGJ4","v":0},{"$f":"LGM34*'Makro i swap'!LGK4","v":0},{"$f":"LGN34*'Makro i swap'!LGL4","v":0},{"$f":"LGO34*'Makro i swap'!LGM4","v":0},{"$f":"LGP34*'Makro i swap'!LGN4","v":0},{"$f":"LGQ34*'Makro i swap'!LGO4","v":0},{"$f":"LGR34*'Makro i swap'!LGP4","v":0},{"$f":"LGS34*'Makro i swap'!LGQ4","v":0},{"$f":"LGT34*'Makro i swap'!LGR4","v":0},{"$f":"LGU34*'Makro i swap'!LGS4","v":0},{"$f":"LGV34*'Makro i swap'!LGT4","v":0},{"$f":"LGW34*'Makro i swap'!LGU4","v":0},{"$f":"LGX34*'Makro i swap'!LGV4","v":0},{"$f":"LGY34*'Makro i swap'!LGW4","v":0},{"$f":"LGZ34*'Makro i swap'!LGX4","v":0},{"$f":"LHA34*'Makro i swap'!LGY4","v":0},{"$f":"LHB34*'Makro i swap'!LGZ4","v":0},{"$f":"LHC34*'Makro i swap'!LHA4","v":0},{"$f":"LHD34*'Makro i swap'!LHB4","v":0},{"$f":"LHE34*'Makro i swap'!LHC4","v":0},{"$f":"LHF34*'Makro i swap'!LHD4","v":0},{"$f":"LHG34*'Makro i swap'!LHE4","v":0},{"$f":"LHH34*'Makro i swap'!LHF4","v":0},{"$f":"LHI34*'Makro i swap'!LHG4","v":0},{"$f":"LHJ34*'Makro i swap'!LHH4","v":0},{"$f":"LHK34*'Makro i swap'!LHI4","v":0},{"$f":"LHL34*'Makro i swap'!LHJ4","v":0},{"$f":"LHM34*'Makro i swap'!LHK4","v":0},{"$f":"LHN34*'Makro i swap'!LHL4","v":0},{"$f":"LHO34*'Makro i swap'!LHM4","v":0},{"$f":"LHP34*'Makro i swap'!LHN4","v":0},{"$f":"LHQ34*'Makro i swap'!LHO4","v":0},{"$f":"LHR34*'Makro i swap'!LHP4","v":0},{"$f":"LHS34*'Makro i swap'!LHQ4","v":0},{"$f":"LHT34*'Makro i swap'!LHR4","v":0},{"$f":"LHU34*'Makro i swap'!LHS4","v":0},{"$f":"LHV34*'Makro i swap'!LHT4","v":0},{"$f":"LHW34*'Makro i swap'!LHU4","v":0},{"$f":"LHX34*'Makro i swap'!LHV4","v":0},{"$f":"LHY34*'Makro i swap'!LHW4","v":0},{"$f":"LHZ34*'Makro i swap'!LHX4","v":0},{"$f":"LIA34*'Makro i swap'!LHY4","v":0},{"$f":"LIB34*'Makro i swap'!LHZ4","v":0},{"$f":"LIC34*'Makro i swap'!LIA4","v":0},{"$f":"LID34*'Makro i swap'!LIB4","v":0},{"$f":"LIE34*'Makro i swap'!LIC4","v":0},{"$f":"LIF34*'Makro i swap'!LID4","v":0},{"$f":"LIG34*'Makro i swap'!LIE4","v":0},{"$f":"LIH34*'Makro i swap'!LIF4","v":0},{"$f":"LII34*'Makro i swap'!LIG4","v":0},{"$f":"LIJ34*'Makro i swap'!LIH4","v":0},{"$f":"LIK34*'Makro i swap'!LII4","v":0},{"$f":"LIL34*'Makro i swap'!LIJ4","v":0},{"$f":"LIM34*'Makro i swap'!LIK4","v":0},{"$f":"LIN34*'Makro i swap'!LIL4","v":0},{"$f":"LIO34*'Makro i swap'!LIM4","v":0},{"$f":"LIP34*'Makro i swap'!LIN4","v":0},{"$f":"LIQ34*'Makro i swap'!LIO4","v":0},{"$f":"LIR34*'Makro i swap'!LIP4","v":0},{"$f":"LIS34*'Makro i swap'!LIQ4","v":0},{"$f":"LIT34*'Makro i swap'!LIR4","v":0},{"$f":"LIU34*'Makro i swap'!LIS4","v":0},{"$f":"LIV34*'Makro i swap'!LIT4","v":0},{"$f":"LIW34*'Makro i swap'!LIU4","v":0},{"$f":"LIX34*'Makro i swap'!LIV4","v":0},{"$f":"LIY34*'Makro i swap'!LIW4","v":0},{"$f":"LIZ34*'Makro i swap'!LIX4","v":0},{"$f":"LJA34*'Makro i swap'!LIY4","v":0},{"$f":"LJB34*'Makro i swap'!LIZ4","v":0},{"$f":"LJC34*'Makro i swap'!LJA4","v":0},{"$f":"LJD34*'Makro i swap'!LJB4","v":0},{"$f":"LJE34*'Makro i swap'!LJC4","v":0},{"$f":"LJF34*'Makro i swap'!LJD4","v":0},{"$f":"LJG34*'Makro i swap'!LJE4","v":0},{"$f":"LJH34*'Makro i swap'!LJF4","v":0},{"$f":"LJI34*'Makro i swap'!LJG4","v":0},{"$f":"LJJ34*'Makro i swap'!LJH4","v":0},{"$f":"LJK34*'Makro i swap'!LJI4","v":0},{"$f":"LJL34*'Makro i swap'!LJJ4","v":0},{"$f":"LJM34*'Makro i swap'!LJK4","v":0},{"$f":"LJN34*'Makro i swap'!LJL4","v":0},{"$f":"LJO34*'Makro i swap'!LJM4","v":0},{"$f":"LJP34*'Makro i swap'!LJN4","v":0},{"$f":"LJQ34*'Makro i swap'!LJO4","v":0},{"$f":"LJR34*'Makro i swap'!LJP4","v":0},{"$f":"LJS34*'Makro i swap'!LJQ4","v":0},{"$f":"LJT34*'Makro i swap'!LJR4","v":0},{"$f":"LJU34*'Makro i swap'!LJS4","v":0},{"$f":"LJV34*'Makro i swap'!LJT4","v":0},{"$f":"LJW34*'Makro i swap'!LJU4","v":0},{"$f":"LJX34*'Makro i swap'!LJV4","v":0},{"$f":"LJY34*'Makro i swap'!LJW4","v":0},{"$f":"LJZ34*'Makro i swap'!LJX4","v":0},{"$f":"LKA34*'Makro i swap'!LJY4","v":0},{"$f":"LKB34*'Makro i swap'!LJZ4","v":0},{"$f":"LKC34*'Makro i swap'!LKA4","v":0},{"$f":"LKD34*'Makro i swap'!LKB4","v":0},{"$f":"LKE34*'Makro i swap'!LKC4","v":0},{"$f":"LKF34*'Makro i swap'!LKD4","v":0},{"$f":"LKG34*'Makro i swap'!LKE4","v":0},{"$f":"LKH34*'Makro i swap'!LKF4","v":0},{"$f":"LKI34*'Makro i swap'!LKG4","v":0},{"$f":"LKJ34*'Makro i swap'!LKH4","v":0},{"$f":"LKK34*'Makro i swap'!LKI4","v":0},{"$f":"LKL34*'Makro i swap'!LKJ4","v":0},{"$f":"LKM34*'Makro i swap'!LKK4","v":0},{"$f":"LKN34*'Makro i swap'!LKL4","v":0},{"$f":"LKO34*'Makro i swap'!LKM4","v":0},{"$f":"LKP34*'Makro i swap'!LKN4","v":0},{"$f":"LKQ34*'Makro i swap'!LKO4","v":0},{"$f":"LKR34*'Makro i swap'!LKP4","v":0},{"$f":"LKS34*'Makro i swap'!LKQ4","v":0},{"$f":"LKT34*'Makro i swap'!LKR4","v":0},{"$f":"LKU34*'Makro i swap'!LKS4","v":0},{"$f":"LKV34*'Makro i swap'!LKT4","v":0},{"$f":"LKW34*'Makro i swap'!LKU4","v":0},{"$f":"LKX34*'Makro i swap'!LKV4","v":0},{"$f":"LKY34*'Makro i swap'!LKW4","v":0},{"$f":"LKZ34*'Makro i swap'!LKX4","v":0},{"$f":"LLA34*'Makro i swap'!LKY4","v":0},{"$f":"LLB34*'Makro i swap'!LKZ4","v":0},{"$f":"LLC34*'Makro i swap'!LLA4","v":0},{"$f":"LLD34*'Makro i swap'!LLB4","v":0},{"$f":"LLE34*'Makro i swap'!LLC4","v":0},{"$f":"LLF34*'Makro i swap'!LLD4","v":0},{"$f":"LLG34*'Makro i swap'!LLE4","v":0},{"$f":"LLH34*'Makro i swap'!LLF4","v":0},{"$f":"LLI34*'Makro i swap'!LLG4","v":0},{"$f":"LLJ34*'Makro i swap'!LLH4","v":0},{"$f":"LLK34*'Makro i swap'!LLI4","v":0},{"$f":"LLL34*'Makro i swap'!LLJ4","v":0},{"$f":"LLM34*'Makro i swap'!LLK4","v":0},{"$f":"LLN34*'Makro i swap'!LLL4","v":0},{"$f":"LLO34*'Makro i swap'!LLM4","v":0},{"$f":"LLP34*'Makro i swap'!LLN4","v":0},{"$f":"LLQ34*'Makro i swap'!LLO4","v":0},{"$f":"LLR34*'Makro i swap'!LLP4","v":0},{"$f":"LLS34*'Makro i swap'!LLQ4","v":0},{"$f":"LLT34*'Makro i swap'!LLR4","v":0},{"$f":"LLU34*'Makro i swap'!LLS4","v":0},{"$f":"LLV34*'Makro i swap'!LLT4","v":0},{"$f":"LLW34*'Makro i swap'!LLU4","v":0},{"$f":"LLX34*'Makro i swap'!LLV4","v":0},{"$f":"LLY34*'Makro i swap'!LLW4","v":0},{"$f":"LLZ34*'Makro i swap'!LLX4","v":0},{"$f":"LMA34*'Makro i swap'!LLY4","v":0},{"$f":"LMB34*'Makro i swap'!LLZ4","v":0},{"$f":"LMC34*'Makro i swap'!LMA4","v":0},{"$f":"LMD34*'Makro i swap'!LMB4","v":0},{"$f":"LME34*'Makro i swap'!LMC4","v":0},{"$f":"LMF34*'Makro i swap'!LMD4","v":0},{"$f":"LMG34*'Makro i swap'!LME4","v":0},{"$f":"LMH34*'Makro i swap'!LMF4","v":0},{"$f":"LMI34*'Makro i swap'!LMG4","v":0},{"$f":"LMJ34*'Makro i swap'!LMH4","v":0},{"$f":"LMK34*'Makro i swap'!LMI4","v":0},{"$f":"LML34*'Makro i swap'!LMJ4","v":0},{"$f":"LMM34*'Makro i swap'!LMK4","v":0},{"$f":"LMN34*'Makro i swap'!LML4","v":0},{"$f":"LMO34*'Makro i swap'!LMM4","v":0},{"$f":"LMP34*'Makro i swap'!LMN4","v":0},{"$f":"LMQ34*'Makro i swap'!LMO4","v":0},{"$f":"LMR34*'Makro i swap'!LMP4","v":0},{"$f":"LMS34*'Makro i swap'!LMQ4","v":0},{"$f":"LMT34*'Makro i swap'!LMR4","v":0},{"$f":"LMU34*'Makro i swap'!LMS4","v":0},{"$f":"LMV34*'Makro i swap'!LMT4","v":0},{"$f":"LMW34*'Makro i swap'!LMU4","v":0},{"$f":"LMX34*'Makro i swap'!LMV4","v":0},{"$f":"LMY34*'Makro i swap'!LMW4","v":0},{"$f":"LMZ34*'Makro i swap'!LMX4","v":0},{"$f":"LNA34*'Makro i swap'!LMY4","v":0},{"$f":"LNB34*'Makro i swap'!LMZ4","v":0},{"$f":"LNC34*'Makro i swap'!LNA4","v":0},{"$f":"LND34*'Makro i swap'!LNB4","v":0},{"$f":"LNE34*'Makro i swap'!LNC4","v":0},{"$f":"LNF34*'Makro i swap'!LND4","v":0},{"$f":"LNG34*'Makro i swap'!LNE4","v":0},{"$f":"LNH34*'Makro i swap'!LNF4","v":0},{"$f":"LNI34*'Makro i swap'!LNG4","v":0},{"$f":"LNJ34*'Makro i swap'!LNH4","v":0},{"$f":"LNK34*'Makro i swap'!LNI4","v":0},{"$f":"LNL34*'Makro i swap'!LNJ4","v":0},{"$f":"LNM34*'Makro i swap'!LNK4","v":0},{"$f":"LNN34*'Makro i swap'!LNL4","v":0},{"$f":"LNO34*'Makro i swap'!LNM4","v":0},{"$f":"LNP34*'Makro i swap'!LNN4","v":0},{"$f":"LNQ34*'Makro i swap'!LNO4","v":0},{"$f":"LNR34*'Makro i swap'!LNP4","v":0},{"$f":"LNS34*'Makro i swap'!LNQ4","v":0},{"$f":"LNT34*'Makro i swap'!LNR4","v":0},{"$f":"LNU34*'Makro i swap'!LNS4","v":0},{"$f":"LNV34*'Makro i swap'!LNT4","v":0},{"$f":"LNW34*'Makro i swap'!LNU4","v":0},{"$f":"LNX34*'Makro i swap'!LNV4","v":0},{"$f":"LNY34*'Makro i swap'!LNW4","v":0},{"$f":"LNZ34*'Makro i swap'!LNX4","v":0},{"$f":"LOA34*'Makro i swap'!LNY4","v":0},{"$f":"LOB34*'Makro i swap'!LNZ4","v":0},{"$f":"LOC34*'Makro i swap'!LOA4","v":0},{"$f":"LOD34*'Makro i swap'!LOB4","v":0},{"$f":"LOE34*'Makro i swap'!LOC4","v":0},{"$f":"LOF34*'Makro i swap'!LOD4","v":0},{"$f":"LOG34*'Makro i swap'!LOE4","v":0},{"$f":"LOH34*'Makro i swap'!LOF4","v":0},{"$f":"LOI34*'Makro i swap'!LOG4","v":0},{"$f":"LOJ34*'Makro i swap'!LOH4","v":0},{"$f":"LOK34*'Makro i swap'!LOI4","v":0},{"$f":"LOL34*'Makro i swap'!LOJ4","v":0},{"$f":"LOM34*'Makro i swap'!LOK4","v":0},{"$f":"LON34*'Makro i swap'!LOL4","v":0},{"$f":"LOO34*'Makro i swap'!LOM4","v":0},{"$f":"LOP34*'Makro i swap'!LON4","v":0},{"$f":"LOQ34*'Makro i swap'!LOO4","v":0},{"$f":"LOR34*'Makro i swap'!LOP4","v":0},{"$f":"LOS34*'Makro i swap'!LOQ4","v":0},{"$f":"LOT34*'Makro i swap'!LOR4","v":0},{"$f":"LOU34*'Makro i swap'!LOS4","v":0},{"$f":"LOV34*'Makro i swap'!LOT4","v":0},{"$f":"LOW34*'Makro i swap'!LOU4","v":0},{"$f":"LOX34*'Makro i swap'!LOV4","v":0},{"$f":"LOY34*'Makro i swap'!LOW4","v":0},{"$f":"LOZ34*'Makro i swap'!LOX4","v":0},{"$f":"LPA34*'Makro i swap'!LOY4","v":0},{"$f":"LPB34*'Makro i swap'!LOZ4","v":0},{"$f":"LPC34*'Makro i swap'!LPA4","v":0},{"$f":"LPD34*'Makro i swap'!LPB4","v":0},{"$f":"LPE34*'Makro i swap'!LPC4","v":0},{"$f":"LPF34*'Makro i swap'!LPD4","v":0},{"$f":"LPG34*'Makro i swap'!LPE4","v":0},{"$f":"LPH34*'Makro i swap'!LPF4","v":0},{"$f":"LPI34*'Makro i swap'!LPG4","v":0},{"$f":"LPJ34*'Makro i swap'!LPH4","v":0},{"$f":"LPK34*'Makro i swap'!LPI4","v":0},{"$f":"LPL34*'Makro i swap'!LPJ4","v":0},{"$f":"LPM34*'Makro i swap'!LPK4","v":0},{"$f":"LPN34*'Makro i swap'!LPL4","v":0},{"$f":"LPO34*'Makro i swap'!LPM4","v":0},{"$f":"LPP34*'Makro i swap'!LPN4","v":0},{"$f":"LPQ34*'Makro i swap'!LPO4","v":0},{"$f":"LPR34*'Makro i swap'!LPP4","v":0},{"$f":"LPS34*'Makro i swap'!LPQ4","v":0},{"$f":"LPT34*'Makro i swap'!LPR4","v":0},{"$f":"LPU34*'Makro i swap'!LPS4","v":0},{"$f":"LPV34*'Makro i swap'!LPT4","v":0},{"$f":"LPW34*'Makro i swap'!LPU4","v":0},{"$f":"LPX34*'Makro i swap'!LPV4","v":0},{"$f":"LPY34*'Makro i swap'!LPW4","v":0},{"$f":"LPZ34*'Makro i swap'!LPX4","v":0},{"$f":"LQA34*'Makro i swap'!LPY4","v":0},{"$f":"LQB34*'Makro i swap'!LPZ4","v":0},{"$f":"LQC34*'Makro i swap'!LQA4","v":0},{"$f":"LQD34*'Makro i swap'!LQB4","v":0},{"$f":"LQE34*'Makro i swap'!LQC4","v":0},{"$f":"LQF34*'Makro i swap'!LQD4","v":0},{"$f":"LQG34*'Makro i swap'!LQE4","v":0},{"$f":"LQH34*'Makro i swap'!LQF4","v":0},{"$f":"LQI34*'Makro i swap'!LQG4","v":0},{"$f":"LQJ34*'Makro i swap'!LQH4","v":0},{"$f":"LQK34*'Makro i swap'!LQI4","v":0},{"$f":"LQL34*'Makro i swap'!LQJ4","v":0},{"$f":"LQM34*'Makro i swap'!LQK4","v":0},{"$f":"LQN34*'Makro i swap'!LQL4","v":0},{"$f":"LQO34*'Makro i swap'!LQM4","v":0},{"$f":"LQP34*'Makro i swap'!LQN4","v":0},{"$f":"LQQ34*'Makro i swap'!LQO4","v":0},{"$f":"LQR34*'Makro i swap'!LQP4","v":0},{"$f":"LQS34*'Makro i swap'!LQQ4","v":0},{"$f":"LQT34*'Makro i swap'!LQR4","v":0},{"$f":"LQU34*'Makro i swap'!LQS4","v":0},{"$f":"LQV34*'Makro i swap'!LQT4","v":0},{"$f":"LQW34*'Makro i swap'!LQU4","v":0},{"$f":"LQX34*'Makro i swap'!LQV4","v":0},{"$f":"LQY34*'Makro i swap'!LQW4","v":0},{"$f":"LQZ34*'Makro i swap'!LQX4","v":0},{"$f":"LRA34*'Makro i swap'!LQY4","v":0},{"$f":"LRB34*'Makro i swap'!LQZ4","v":0},{"$f":"LRC34*'Makro i swap'!LRA4","v":0},{"$f":"LRD34*'Makro i swap'!LRB4","v":0},{"$f":"LRE34*'Makro i swap'!LRC4","v":0},{"$f":"LRF34*'Makro i swap'!LRD4","v":0},{"$f":"LRG34*'Makro i swap'!LRE4","v":0},{"$f":"LRH34*'Makro i swap'!LRF4","v":0},{"$f":"LRI34*'Makro i swap'!LRG4","v":0},{"$f":"LRJ34*'Makro i swap'!LRH4","v":0},{"$f":"LRK34*'Makro i swap'!LRI4","v":0},{"$f":"LRL34*'Makro i swap'!LRJ4","v":0},{"$f":"LRM34*'Makro i swap'!LRK4","v":0},{"$f":"LRN34*'Makro i swap'!LRL4","v":0},{"$f":"LRO34*'Makro i swap'!LRM4","v":0},{"$f":"LRP34*'Makro i swap'!LRN4","v":0},{"$f":"LRQ34*'Makro i swap'!LRO4","v":0},{"$f":"LRR34*'Makro i swap'!LRP4","v":0},{"$f":"LRS34*'Makro i swap'!LRQ4","v":0},{"$f":"LRT34*'Makro i swap'!LRR4","v":0},{"$f":"LRU34*'Makro i swap'!LRS4","v":0},{"$f":"LRV34*'Makro i swap'!LRT4","v":0},{"$f":"LRW34*'Makro i swap'!LRU4","v":0},{"$f":"LRX34*'Makro i swap'!LRV4","v":0},{"$f":"LRY34*'Makro i swap'!LRW4","v":0},{"$f":"LRZ34*'Makro i swap'!LRX4","v":0},{"$f":"LSA34*'Makro i swap'!LRY4","v":0},{"$f":"LSB34*'Makro i swap'!LRZ4","v":0},{"$f":"LSC34*'Makro i swap'!LSA4","v":0},{"$f":"LSD34*'Makro i swap'!LSB4","v":0},{"$f":"LSE34*'Makro i swap'!LSC4","v":0},{"$f":"LSF34*'Makro i swap'!LSD4","v":0},{"$f":"LSG34*'Makro i swap'!LSE4","v":0},{"$f":"LSH34*'Makro i swap'!LSF4","v":0},{"$f":"LSI34*'Makro i swap'!LSG4","v":0},{"$f":"LSJ34*'Makro i swap'!LSH4","v":0},{"$f":"LSK34*'Makro i swap'!LSI4","v":0},{"$f":"LSL34*'Makro i swap'!LSJ4","v":0},{"$f":"LSM34*'Makro i swap'!LSK4","v":0},{"$f":"LSN34*'Makro i swap'!LSL4","v":0},{"$f":"LSO34*'Makro i swap'!LSM4","v":0},{"$f":"LSP34*'Makro i swap'!LSN4","v":0},{"$f":"LSQ34*'Makro i swap'!LSO4","v":0},{"$f":"LSR34*'Makro i swap'!LSP4","v":0},{"$f":"LSS34*'Makro i swap'!LSQ4","v":0},{"$f":"LST34*'Makro i swap'!LSR4","v":0},{"$f":"LSU34*'Makro i swap'!LSS4","v":0},{"$f":"LSV34*'Makro i swap'!LST4","v":0},{"$f":"LSW34*'Makro i swap'!LSU4","v":0},{"$f":"LSX34*'Makro i swap'!LSV4","v":0},{"$f":"LSY34*'Makro i swap'!LSW4","v":0},{"$f":"LSZ34*'Makro i swap'!LSX4","v":0},{"$f":"LTA34*'Makro i swap'!LSY4","v":0},{"$f":"LTB34*'Makro i swap'!LSZ4","v":0},{"$f":"LTC34*'Makro i swap'!LTA4","v":0},{"$f":"LTD34*'Makro i swap'!LTB4","v":0},{"$f":"LTE34*'Makro i swap'!LTC4","v":0},{"$f":"LTF34*'Makro i swap'!LTD4","v":0},{"$f":"LTG34*'Makro i swap'!LTE4","v":0},{"$f":"LTH34*'Makro i swap'!LTF4","v":0},{"$f":"LTI34*'Makro i swap'!LTG4","v":0},{"$f":"LTJ34*'Makro i swap'!LTH4","v":0},{"$f":"LTK34*'Makro i swap'!LTI4","v":0},{"$f":"LTL34*'Makro i swap'!LTJ4","v":0},{"$f":"LTM34*'Makro i swap'!LTK4","v":0},{"$f":"LTN34*'Makro i swap'!LTL4","v":0},{"$f":"LTO34*'Makro i swap'!LTM4","v":0},{"$f":"LTP34*'Makro i swap'!LTN4","v":0},{"$f":"LTQ34*'Makro i swap'!LTO4","v":0},{"$f":"LTR34*'Makro i swap'!LTP4","v":0},{"$f":"LTS34*'Makro i swap'!LTQ4","v":0},{"$f":"LTT34*'Makro i swap'!LTR4","v":0},{"$f":"LTU34*'Makro i swap'!LTS4","v":0},{"$f":"LTV34*'Makro i swap'!LTT4","v":0},{"$f":"LTW34*'Makro i swap'!LTU4","v":0},{"$f":"LTX34*'Makro i swap'!LTV4","v":0},{"$f":"LTY34*'Makro i swap'!LTW4","v":0},{"$f":"LTZ34*'Makro i swap'!LTX4","v":0},{"$f":"LUA34*'Makro i swap'!LTY4","v":0},{"$f":"LUB34*'Makro i swap'!LTZ4","v":0},{"$f":"LUC34*'Makro i swap'!LUA4","v":0},{"$f":"LUD34*'Makro i swap'!LUB4","v":0},{"$f":"LUE34*'Makro i swap'!LUC4","v":0},{"$f":"LUF34*'Makro i swap'!LUD4","v":0},{"$f":"LUG34*'Makro i swap'!LUE4","v":0},{"$f":"LUH34*'Makro i swap'!LUF4","v":0},{"$f":"LUI34*'Makro i swap'!LUG4","v":0},{"$f":"LUJ34*'Makro i swap'!LUH4","v":0},{"$f":"LUK34*'Makro i swap'!LUI4","v":0},{"$f":"LUL34*'Makro i swap'!LUJ4","v":0},{"$f":"LUM34*'Makro i swap'!LUK4","v":0},{"$f":"LUN34*'Makro i swap'!LUL4","v":0},{"$f":"LUO34*'Makro i swap'!LUM4","v":0},{"$f":"LUP34*'Makro i swap'!LUN4","v":0},{"$f":"LUQ34*'Makro i swap'!LUO4","v":0},{"$f":"LUR34*'Makro i swap'!LUP4","v":0},{"$f":"LUS34*'Makro i swap'!LUQ4","v":0},{"$f":"LUT34*'Makro i swap'!LUR4","v":0},{"$f":"LUU34*'Makro i swap'!LUS4","v":0},{"$f":"LUV34*'Makro i swap'!LUT4","v":0},{"$f":"LUW34*'Makro i swap'!LUU4","v":0},{"$f":"LUX34*'Makro i swap'!LUV4","v":0},{"$f":"LUY34*'Makro i swap'!LUW4","v":0},{"$f":"LUZ34*'Makro i swap'!LUX4","v":0},{"$f":"LVA34*'Makro i swap'!LUY4","v":0},{"$f":"LVB34*'Makro i swap'!LUZ4","v":0},{"$f":"LVC34*'Makro i swap'!LVA4","v":0},{"$f":"LVD34*'Makro i swap'!LVB4","v":0},{"$f":"LVE34*'Makro i swap'!LVC4","v":0},{"$f":"LVF34*'Makro i swap'!LVD4","v":0},{"$f":"LVG34*'Makro i swap'!LVE4","v":0},{"$f":"LVH34*'Makro i swap'!LVF4","v":0},{"$f":"LVI34*'Makro i swap'!LVG4","v":0},{"$f":"LVJ34*'Makro i swap'!LVH4","v":0},{"$f":"LVK34*'Makro i swap'!LVI4","v":0},{"$f":"LVL34*'Makro i swap'!LVJ4","v":0},{"$f":"LVM34*'Makro i swap'!LVK4","v":0},{"$f":"LVN34*'Makro i swap'!LVL4","v":0},{"$f":"LVO34*'Makro i swap'!LVM4","v":0},{"$f":"LVP34*'Makro i swap'!LVN4","v":0},{"$f":"LVQ34*'Makro i swap'!LVO4","v":0},{"$f":"LVR34*'Makro i swap'!LVP4","v":0},{"$f":"LVS34*'Makro i swap'!LVQ4","v":0},{"$f":"LVT34*'Makro i swap'!LVR4","v":0},{"$f":"LVU34*'Makro i swap'!LVS4","v":0},{"$f":"LVV34*'Makro i swap'!LVT4","v":0},{"$f":"LVW34*'Makro i swap'!LVU4","v":0},{"$f":"LVX34*'Makro i swap'!LVV4","v":0},{"$f":"LVY34*'Makro i swap'!LVW4","v":0},{"$f":"LVZ34*'Makro i swap'!LVX4","v":0},{"$f":"LWA34*'Makro i swap'!LVY4","v":0},{"$f":"LWB34*'Makro i swap'!LVZ4","v":0},{"$f":"LWC34*'Makro i swap'!LWA4","v":0},{"$f":"LWD34*'Makro i swap'!LWB4","v":0},{"$f":"LWE34*'Makro i swap'!LWC4","v":0},{"$f":"LWF34*'Makro i swap'!LWD4","v":0},{"$f":"LWG34*'Makro i swap'!LWE4","v":0},{"$f":"LWH34*'Makro i swap'!LWF4","v":0},{"$f":"LWI34*'Makro i swap'!LWG4","v":0},{"$f":"LWJ34*'Makro i swap'!LWH4","v":0},{"$f":"LWK34*'Makro i swap'!LWI4","v":0},{"$f":"LWL34*'Makro i swap'!LWJ4","v":0},{"$f":"LWM34*'Makro i swap'!LWK4","v":0},{"$f":"LWN34*'Makro i swap'!LWL4","v":0},{"$f":"LWO34*'Makro i swap'!LWM4","v":0},{"$f":"LWP34*'Makro i swap'!LWN4","v":0},{"$f":"LWQ34*'Makro i swap'!LWO4","v":0},{"$f":"LWR34*'Makro i swap'!LWP4","v":0},{"$f":"LWS34*'Makro i swap'!LWQ4","v":0},{"$f":"LWT34*'Makro i swap'!LWR4","v":0},{"$f":"LWU34*'Makro i swap'!LWS4","v":0},{"$f":"LWV34*'Makro i swap'!LWT4","v":0},{"$f":"LWW34*'Makro i swap'!LWU4","v":0},{"$f":"LWX34*'Makro i swap'!LWV4","v":0},{"$f":"LWY34*'Makro i swap'!LWW4","v":0},{"$f":"LWZ34*'Makro i swap'!LWX4","v":0},{"$f":"LXA34*'Makro i swap'!LWY4","v":0},{"$f":"LXB34*'Makro i swap'!LWZ4","v":0},{"$f":"LXC34*'Makro i swap'!LXA4","v":0},{"$f":"LXD34*'Makro i swap'!LXB4","v":0},{"$f":"LXE34*'Makro i swap'!LXC4","v":0},{"$f":"LXF34*'Makro i swap'!LXD4","v":0},{"$f":"LXG34*'Makro i swap'!LXE4","v":0},{"$f":"LXH34*'Makro i swap'!LXF4","v":0},{"$f":"LXI34*'Makro i swap'!LXG4","v":0},{"$f":"LXJ34*'Makro i swap'!LXH4","v":0},{"$f":"LXK34*'Makro i swap'!LXI4","v":0},{"$f":"LXL34*'Makro i swap'!LXJ4","v":0},{"$f":"LXM34*'Makro i swap'!LXK4","v":0},{"$f":"LXN34*'Makro i swap'!LXL4","v":0},{"$f":"LXO34*'Makro i swap'!LXM4","v":0},{"$f":"LXP34*'Makro i swap'!LXN4","v":0},{"$f":"LXQ34*'Makro i swap'!LXO4","v":0},{"$f":"LXR34*'Makro i swap'!LXP4","v":0},{"$f":"LXS34*'Makro i swap'!LXQ4","v":0},{"$f":"LXT34*'Makro i swap'!LXR4","v":0},{"$f":"LXU34*'Makro i swap'!LXS4","v":0},{"$f":"LXV34*'Makro i swap'!LXT4","v":0},{"$f":"LXW34*'Makro i swap'!LXU4","v":0},{"$f":"LXX34*'Makro i swap'!LXV4","v":0},{"$f":"LXY34*'Makro i swap'!LXW4","v":0},{"$f":"LXZ34*'Makro i swap'!LXX4","v":0},{"$f":"LYA34*'Makro i swap'!LXY4","v":0},{"$f":"LYB34*'Makro i swap'!LXZ4","v":0},{"$f":"LYC34*'Makro i swap'!LYA4","v":0},{"$f":"LYD34*'Makro i swap'!LYB4","v":0},{"$f":"LYE34*'Makro i swap'!LYC4","v":0},{"$f":"LYF34*'Makro i swap'!LYD4","v":0},{"$f":"LYG34*'Makro i swap'!LYE4","v":0},{"$f":"LYH34*'Makro i swap'!LYF4","v":0},{"$f":"LYI34*'Makro i swap'!LYG4","v":0},{"$f":"LYJ34*'Makro i swap'!LYH4","v":0},{"$f":"LYK34*'Makro i swap'!LYI4","v":0},{"$f":"LYL34*'Makro i swap'!LYJ4","v":0},{"$f":"LYM34*'Makro i swap'!LYK4","v":0},{"$f":"LYN34*'Makro i swap'!LYL4","v":0},{"$f":"LYO34*'Makro i swap'!LYM4","v":0},{"$f":"LYP34*'Makro i swap'!LYN4","v":0},{"$f":"LYQ34*'Makro i swap'!LYO4","v":0},{"$f":"LYR34*'Makro i swap'!LYP4","v":0},{"$f":"LYS34*'Makro i swap'!LYQ4","v":0},{"$f":"LYT34*'Makro i swap'!LYR4","v":0},{"$f":"LYU34*'Makro i swap'!LYS4","v":0},{"$f":"LYV34*'Makro i swap'!LYT4","v":0},{"$f":"LYW34*'Makro i swap'!LYU4","v":0},{"$f":"LYX34*'Makro i swap'!LYV4","v":0},{"$f":"LYY34*'Makro i swap'!LYW4","v":0},{"$f":"LYZ34*'Makro i swap'!LYX4","v":0},{"$f":"LZA34*'Makro i swap'!LYY4","v":0},{"$f":"LZB34*'Makro i swap'!LYZ4","v":0},{"$f":"LZC34*'Makro i swap'!LZA4","v":0},{"$f":"LZD34*'Makro i swap'!LZB4","v":0},{"$f":"LZE34*'Makro i swap'!LZC4","v":0},{"$f":"LZF34*'Makro i swap'!LZD4","v":0},{"$f":"LZG34*'Makro i swap'!LZE4","v":0},{"$f":"LZH34*'Makro i swap'!LZF4","v":0},{"$f":"LZI34*'Makro i swap'!LZG4","v":0},{"$f":"LZJ34*'Makro i swap'!LZH4","v":0},{"$f":"LZK34*'Makro i swap'!LZI4","v":0},{"$f":"LZL34*'Makro i swap'!LZJ4","v":0},{"$f":"LZM34*'Makro i swap'!LZK4","v":0},{"$f":"LZN34*'Makro i swap'!LZL4","v":0},{"$f":"LZO34*'Makro i swap'!LZM4","v":0},{"$f":"LZP34*'Makro i swap'!LZN4","v":0},{"$f":"LZQ34*'Makro i swap'!LZO4","v":0},{"$f":"LZR34*'Makro i swap'!LZP4","v":0},{"$f":"LZS34*'Makro i swap'!LZQ4","v":0},{"$f":"LZT34*'Makro i swap'!LZR4","v":0},{"$f":"LZU34*'Makro i swap'!LZS4","v":0},{"$f":"LZV34*'Makro i swap'!LZT4","v":0},{"$f":"LZW34*'Makro i swap'!LZU4","v":0},{"$f":"LZX34*'Makro i swap'!LZV4","v":0},{"$f":"LZY34*'Makro i swap'!LZW4","v":0},{"$f":"LZZ34*'Makro i swap'!LZX4","v":0},{"$f":"MAA34*'Makro i swap'!LZY4","v":0},{"$f":"MAB34*'Makro i swap'!LZZ4","v":0},{"$f":"MAC34*'Makro i swap'!MAA4","v":0},{"$f":"MAD34*'Makro i swap'!MAB4","v":0},{"$f":"MAE34*'Makro i swap'!MAC4","v":0},{"$f":"MAF34*'Makro i swap'!MAD4","v":0},{"$f":"MAG34*'Makro i swap'!MAE4","v":0},{"$f":"MAH34*'Makro i swap'!MAF4","v":0},{"$f":"MAI34*'Makro i swap'!MAG4","v":0},{"$f":"MAJ34*'Makro i swap'!MAH4","v":0},{"$f":"MAK34*'Makro i swap'!MAI4","v":0},{"$f":"MAL34*'Makro i swap'!MAJ4","v":0},{"$f":"MAM34*'Makro i swap'!MAK4","v":0},{"$f":"MAN34*'Makro i swap'!MAL4","v":0},{"$f":"MAO34*'Makro i swap'!MAM4","v":0},{"$f":"MAP34*'Makro i swap'!MAN4","v":0},{"$f":"MAQ34*'Makro i swap'!MAO4","v":0},{"$f":"MAR34*'Makro i swap'!MAP4","v":0},{"$f":"MAS34*'Makro i swap'!MAQ4","v":0},{"$f":"MAT34*'Makro i swap'!MAR4","v":0},{"$f":"MAU34*'Makro i swap'!MAS4","v":0},{"$f":"MAV34*'Makro i swap'!MAT4","v":0},{"$f":"MAW34*'Makro i swap'!MAU4","v":0},{"$f":"MAX34*'Makro i swap'!MAV4","v":0},{"$f":"MAY34*'Makro i swap'!MAW4","v":0},{"$f":"MAZ34*'Makro i swap'!MAX4","v":0},{"$f":"MBA34*'Makro i swap'!MAY4","v":0},{"$f":"MBB34*'Makro i swap'!MAZ4","v":0},{"$f":"MBC34*'Makro i swap'!MBA4","v":0},{"$f":"MBD34*'Makro i swap'!MBB4","v":0},{"$f":"MBE34*'Makro i swap'!MBC4","v":0},{"$f":"MBF34*'Makro i swap'!MBD4","v":0},{"$f":"MBG34*'Makro i swap'!MBE4","v":0},{"$f":"MBH34*'Makro i swap'!MBF4","v":0},{"$f":"MBI34*'Makro i swap'!MBG4","v":0},{"$f":"MBJ34*'Makro i swap'!MBH4","v":0},{"$f":"MBK34*'Makro i swap'!MBI4","v":0},{"$f":"MBL34*'Makro i swap'!MBJ4","v":0},{"$f":"MBM34*'Makro i swap'!MBK4","v":0},{"$f":"MBN34*'Makro i swap'!MBL4","v":0},{"$f":"MBO34*'Makro i swap'!MBM4","v":0},{"$f":"MBP34*'Makro i swap'!MBN4","v":0},{"$f":"MBQ34*'Makro i swap'!MBO4","v":0},{"$f":"MBR34*'Makro i swap'!MBP4","v":0},{"$f":"MBS34*'Makro i swap'!MBQ4","v":0},{"$f":"MBT34*'Makro i swap'!MBR4","v":0},{"$f":"MBU34*'Makro i swap'!MBS4","v":0},{"$f":"MBV34*'Makro i swap'!MBT4","v":0},{"$f":"MBW34*'Makro i swap'!MBU4","v":0},{"$f":"MBX34*'Makro i swap'!MBV4","v":0},{"$f":"MBY34*'Makro i swap'!MBW4","v":0},{"$f":"MBZ34*'Makro i swap'!MBX4","v":0},{"$f":"MCA34*'Makro i swap'!MBY4","v":0},{"$f":"MCB34*'Makro i swap'!MBZ4","v":0},{"$f":"MCC34*'Makro i swap'!MCA4","v":0},{"$f":"MCD34*'Makro i swap'!MCB4","v":0},{"$f":"MCE34*'Makro i swap'!MCC4","v":0},{"$f":"MCF34*'Makro i swap'!MCD4","v":0},{"$f":"MCG34*'Makro i swap'!MCE4","v":0},{"$f":"MCH34*'Makro i swap'!MCF4","v":0},{"$f":"MCI34*'Makro i swap'!MCG4","v":0},{"$f":"MCJ34*'Makro i swap'!MCH4","v":0},{"$f":"MCK34*'Makro i swap'!MCI4","v":0},{"$f":"MCL34*'Makro i swap'!MCJ4","v":0},{"$f":"MCM34*'Makro i swap'!MCK4","v":0},{"$f":"MCN34*'Makro i swap'!MCL4","v":0},{"$f":"MCO34*'Makro i swap'!MCM4","v":0},{"$f":"MCP34*'Makro i swap'!MCN4","v":0},{"$f":"MCQ34*'Makro i swap'!MCO4","v":0},{"$f":"MCR34*'Makro i swap'!MCP4","v":0},{"$f":"MCS34*'Makro i swap'!MCQ4","v":0},{"$f":"MCT34*'Makro i swap'!MCR4","v":0},{"$f":"MCU34*'Makro i swap'!MCS4","v":0},{"$f":"MCV34*'Makro i swap'!MCT4","v":0},{"$f":"MCW34*'Makro i swap'!MCU4","v":0},{"$f":"MCX34*'Makro i swap'!MCV4","v":0},{"$f":"MCY34*'Makro i swap'!MCW4","v":0},{"$f":"MCZ34*'Makro i swap'!MCX4","v":0},{"$f":"MDA34*'Makro i swap'!MCY4","v":0},{"$f":"MDB34*'Makro i swap'!MCZ4","v":0},{"$f":"MDC34*'Makro i swap'!MDA4","v":0},{"$f":"MDD34*'Makro i swap'!MDB4","v":0},{"$f":"MDE34*'Makro i swap'!MDC4","v":0},{"$f":"MDF34*'Makro i swap'!MDD4","v":0},{"$f":"MDG34*'Makro i swap'!MDE4","v":0},{"$f":"MDH34*'Makro i swap'!MDF4","v":0},{"$f":"MDI34*'Makro i swap'!MDG4","v":0},{"$f":"MDJ34*'Makro i swap'!MDH4","v":0},{"$f":"MDK34*'Makro i swap'!MDI4","v":0},{"$f":"MDL34*'Makro i swap'!MDJ4","v":0},{"$f":"MDM34*'Makro i swap'!MDK4","v":0},{"$f":"MDN34*'Makro i swap'!MDL4","v":0},{"$f":"MDO34*'Makro i swap'!MDM4","v":0},{"$f":"MDP34*'Makro i swap'!MDN4","v":0},{"$f":"MDQ34*'Makro i swap'!MDO4","v":0},{"$f":"MDR34*'Makro i swap'!MDP4","v":0},{"$f":"MDS34*'Makro i swap'!MDQ4","v":0},{"$f":"MDT34*'Makro i swap'!MDR4","v":0},{"$f":"MDU34*'Makro i swap'!MDS4","v":0},{"$f":"MDV34*'Makro i swap'!MDT4","v":0},{"$f":"MDW34*'Makro i swap'!MDU4","v":0},{"$f":"MDX34*'Makro i swap'!MDV4","v":0},{"$f":"MDY34*'Makro i swap'!MDW4","v":0},{"$f":"MDZ34*'Makro i swap'!MDX4","v":0},{"$f":"MEA34*'Makro i swap'!MDY4","v":0},{"$f":"MEB34*'Makro i swap'!MDZ4","v":0},{"$f":"MEC34*'Makro i swap'!MEA4","v":0},{"$f":"MED34*'Makro i swap'!MEB4","v":0},{"$f":"MEE34*'Makro i swap'!MEC4","v":0},{"$f":"MEF34*'Makro i swap'!MED4","v":0},{"$f":"MEG34*'Makro i swap'!MEE4","v":0},{"$f":"MEH34*'Makro i swap'!MEF4","v":0},{"$f":"MEI34*'Makro i swap'!MEG4","v":0},{"$f":"MEJ34*'Makro i swap'!MEH4","v":0},{"$f":"MEK34*'Makro i swap'!MEI4","v":0},{"$f":"MEL34*'Makro i swap'!MEJ4","v":0},{"$f":"MEM34*'Makro i swap'!MEK4","v":0},{"$f":"MEN34*'Makro i swap'!MEL4","v":0},{"$f":"MEO34*'Makro i swap'!MEM4","v":0},{"$f":"MEP34*'Makro i swap'!MEN4","v":0},{"$f":"MEQ34*'Makro i swap'!MEO4","v":0},{"$f":"MER34*'Makro i swap'!MEP4","v":0},{"$f":"MES34*'Makro i swap'!MEQ4","v":0},{"$f":"MET34*'Makro i swap'!MER4","v":0},{"$f":"MEU34*'Makro i swap'!MES4","v":0},{"$f":"MEV34*'Makro i swap'!MET4","v":0},{"$f":"MEW34*'Makro i swap'!MEU4","v":0},{"$f":"MEX34*'Makro i swap'!MEV4","v":0},{"$f":"MEY34*'Makro i swap'!MEW4","v":0},{"$f":"MEZ34*'Makro i swap'!MEX4","v":0},{"$f":"MFA34*'Makro i swap'!MEY4","v":0},{"$f":"MFB34*'Makro i swap'!MEZ4","v":0},{"$f":"MFC34*'Makro i swap'!MFA4","v":0},{"$f":"MFD34*'Makro i swap'!MFB4","v":0},{"$f":"MFE34*'Makro i swap'!MFC4","v":0},{"$f":"MFF34*'Makro i swap'!MFD4","v":0},{"$f":"MFG34*'Makro i swap'!MFE4","v":0},{"$f":"MFH34*'Makro i swap'!MFF4","v":0},{"$f":"MFI34*'Makro i swap'!MFG4","v":0},{"$f":"MFJ34*'Makro i swap'!MFH4","v":0},{"$f":"MFK34*'Makro i swap'!MFI4","v":0},{"$f":"MFL34*'Makro i swap'!MFJ4","v":0},{"$f":"MFM34*'Makro i swap'!MFK4","v":0},{"$f":"MFN34*'Makro i swap'!MFL4","v":0},{"$f":"MFO34*'Makro i swap'!MFM4","v":0},{"$f":"MFP34*'Makro i swap'!MFN4","v":0},{"$f":"MFQ34*'Makro i swap'!MFO4","v":0},{"$f":"MFR34*'Makro i swap'!MFP4","v":0},{"$f":"MFS34*'Makro i swap'!MFQ4","v":0},{"$f":"MFT34*'Makro i swap'!MFR4","v":0},{"$f":"MFU34*'Makro i swap'!MFS4","v":0},{"$f":"MFV34*'Makro i swap'!MFT4","v":0},{"$f":"MFW34*'Makro i swap'!MFU4","v":0},{"$f":"MFX34*'Makro i swap'!MFV4","v":0},{"$f":"MFY34*'Makro i swap'!MFW4","v":0},{"$f":"MFZ34*'Makro i swap'!MFX4","v":0},{"$f":"MGA34*'Makro i swap'!MFY4","v":0},{"$f":"MGB34*'Makro i swap'!MFZ4","v":0},{"$f":"MGC34*'Makro i swap'!MGA4","v":0},{"$f":"MGD34*'Makro i swap'!MGB4","v":0},{"$f":"MGE34*'Makro i swap'!MGC4","v":0},{"$f":"MGF34*'Makro i swap'!MGD4","v":0},{"$f":"MGG34*'Makro i swap'!MGE4","v":0},{"$f":"MGH34*'Makro i swap'!MGF4","v":0},{"$f":"MGI34*'Makro i swap'!MGG4","v":0},{"$f":"MGJ34*'Makro i swap'!MGH4","v":0},{"$f":"MGK34*'Makro i swap'!MGI4","v":0},{"$f":"MGL34*'Makro i swap'!MGJ4","v":0},{"$f":"MGM34*'Makro i swap'!MGK4","v":0},{"$f":"MGN34*'Makro i swap'!MGL4","v":0},{"$f":"MGO34*'Makro i swap'!MGM4","v":0},{"$f":"MGP34*'Makro i swap'!MGN4","v":0},{"$f":"MGQ34*'Makro i swap'!MGO4","v":0},{"$f":"MGR34*'Makro i swap'!MGP4","v":0},{"$f":"MGS34*'Makro i swap'!MGQ4","v":0},{"$f":"MGT34*'Makro i swap'!MGR4","v":0},{"$f":"MGU34*'Makro i swap'!MGS4","v":0},{"$f":"MGV34*'Makro i swap'!MGT4","v":0},{"$f":"MGW34*'Makro i swap'!MGU4","v":0},{"$f":"MGX34*'Makro i swap'!MGV4","v":0},{"$f":"MGY34*'Makro i swap'!MGW4","v":0},{"$f":"MGZ34*'Makro i swap'!MGX4","v":0},{"$f":"MHA34*'Makro i swap'!MGY4","v":0},{"$f":"MHB34*'Makro i swap'!MGZ4","v":0},{"$f":"MHC34*'Makro i swap'!MHA4","v":0},{"$f":"MHD34*'Makro i swap'!MHB4","v":0},{"$f":"MHE34*'Makro i swap'!MHC4","v":0},{"$f":"MHF34*'Makro i swap'!MHD4","v":0},{"$f":"MHG34*'Makro i swap'!MHE4","v":0},{"$f":"MHH34*'Makro i swap'!MHF4","v":0},{"$f":"MHI34*'Makro i swap'!MHG4","v":0},{"$f":"MHJ34*'Makro i swap'!MHH4","v":0},{"$f":"MHK34*'Makro i swap'!MHI4","v":0},{"$f":"MHL34*'Makro i swap'!MHJ4","v":0},{"$f":"MHM34*'Makro i swap'!MHK4","v":0},{"$f":"MHN34*'Makro i swap'!MHL4","v":0},{"$f":"MHO34*'Makro i swap'!MHM4","v":0},{"$f":"MHP34*'Makro i swap'!MHN4","v":0},{"$f":"MHQ34*'Makro i swap'!MHO4","v":0},{"$f":"MHR34*'Makro i swap'!MHP4","v":0},{"$f":"MHS34*'Makro i swap'!MHQ4","v":0},{"$f":"MHT34*'Makro i swap'!MHR4","v":0},{"$f":"MHU34*'Makro i swap'!MHS4","v":0},{"$f":"MHV34*'Makro i swap'!MHT4","v":0},{"$f":"MHW34*'Makro i swap'!MHU4","v":0},{"$f":"MHX34*'Makro i swap'!MHV4","v":0},{"$f":"MHY34*'Makro i swap'!MHW4","v":0},{"$f":"MHZ34*'Makro i swap'!MHX4","v":0},{"$f":"MIA34*'Makro i swap'!MHY4","v":0},{"$f":"MIB34*'Makro i swap'!MHZ4","v":0},{"$f":"MIC34*'Makro i swap'!MIA4","v":0},{"$f":"MID34*'Makro i swap'!MIB4","v":0},{"$f":"MIE34*'Makro i swap'!MIC4","v":0},{"$f":"MIF34*'Makro i swap'!MID4","v":0},{"$f":"MIG34*'Makro i swap'!MIE4","v":0},{"$f":"MIH34*'Makro i swap'!MIF4","v":0},{"$f":"MII34*'Makro i swap'!MIG4","v":0},{"$f":"MIJ34*'Makro i swap'!MIH4","v":0},{"$f":"MIK34*'Makro i swap'!MII4","v":0},{"$f":"MIL34*'Makro i swap'!MIJ4","v":0},{"$f":"MIM34*'Makro i swap'!MIK4","v":0},{"$f":"MIN34*'Makro i swap'!MIL4","v":0},{"$f":"MIO34*'Makro i swap'!MIM4","v":0},{"$f":"MIP34*'Makro i swap'!MIN4","v":0},{"$f":"MIQ34*'Makro i swap'!MIO4","v":0},{"$f":"MIR34*'Makro i swap'!MIP4","v":0},{"$f":"MIS34*'Makro i swap'!MIQ4","v":0},{"$f":"MIT34*'Makro i swap'!MIR4","v":0},{"$f":"MIU34*'Makro i swap'!MIS4","v":0},{"$f":"MIV34*'Makro i swap'!MIT4","v":0},{"$f":"MIW34*'Makro i swap'!MIU4","v":0},{"$f":"MIX34*'Makro i swap'!MIV4","v":0},{"$f":"MIY34*'Makro i swap'!MIW4","v":0},{"$f":"MIZ34*'Makro i swap'!MIX4","v":0},{"$f":"MJA34*'Makro i swap'!MIY4","v":0},{"$f":"MJB34*'Makro i swap'!MIZ4","v":0},{"$f":"MJC34*'Makro i swap'!MJA4","v":0},{"$f":"MJD34*'Makro i swap'!MJB4","v":0},{"$f":"MJE34*'Makro i swap'!MJC4","v":0},{"$f":"MJF34*'Makro i swap'!MJD4","v":0},{"$f":"MJG34*'Makro i swap'!MJE4","v":0},{"$f":"MJH34*'Makro i swap'!MJF4","v":0},{"$f":"MJI34*'Makro i swap'!MJG4","v":0},{"$f":"MJJ34*'Makro i swap'!MJH4","v":0},{"$f":"MJK34*'Makro i swap'!MJI4","v":0},{"$f":"MJL34*'Makro i swap'!MJJ4","v":0},{"$f":"MJM34*'Makro i swap'!MJK4","v":0},{"$f":"MJN34*'Makro i swap'!MJL4","v":0},{"$f":"MJO34*'Makro i swap'!MJM4","v":0},{"$f":"MJP34*'Makro i swap'!MJN4","v":0},{"$f":"MJQ34*'Makro i swap'!MJO4","v":0},{"$f":"MJR34*'Makro i swap'!MJP4","v":0},{"$f":"MJS34*'Makro i swap'!MJQ4","v":0},{"$f":"MJT34*'Makro i swap'!MJR4","v":0},{"$f":"MJU34*'Makro i swap'!MJS4","v":0},{"$f":"MJV34*'Makro i swap'!MJT4","v":0},{"$f":"MJW34*'Makro i swap'!MJU4","v":0},{"$f":"MJX34*'Makro i swap'!MJV4","v":0},{"$f":"MJY34*'Makro i swap'!MJW4","v":0},{"$f":"MJZ34*'Makro i swap'!MJX4","v":0},{"$f":"MKA34*'Makro i swap'!MJY4","v":0},{"$f":"MKB34*'Makro i swap'!MJZ4","v":0},{"$f":"MKC34*'Makro i swap'!MKA4","v":0},{"$f":"MKD34*'Makro i swap'!MKB4","v":0},{"$f":"MKE34*'Makro i swap'!MKC4","v":0},{"$f":"MKF34*'Makro i swap'!MKD4","v":0},{"$f":"MKG34*'Makro i swap'!MKE4","v":0},{"$f":"MKH34*'Makro i swap'!MKF4","v":0},{"$f":"MKI34*'Makro i swap'!MKG4","v":0},{"$f":"MKJ34*'Makro i swap'!MKH4","v":0},{"$f":"MKK34*'Makro i swap'!MKI4","v":0},{"$f":"MKL34*'Makro i swap'!MKJ4","v":0},{"$f":"MKM34*'Makro i swap'!MKK4","v":0},{"$f":"MKN34*'Makro i swap'!MKL4","v":0},{"$f":"MKO34*'Makro i swap'!MKM4","v":0},{"$f":"MKP34*'Makro i swap'!MKN4","v":0},{"$f":"MKQ34*'Makro i swap'!MKO4","v":0},{"$f":"MKR34*'Makro i swap'!MKP4","v":0},{"$f":"MKS34*'Makro i swap'!MKQ4","v":0},{"$f":"MKT34*'Makro i swap'!MKR4","v":0},{"$f":"MKU34*'Makro i swap'!MKS4","v":0},{"$f":"MKV34*'Makro i swap'!MKT4","v":0},{"$f":"MKW34*'Makro i swap'!MKU4","v":0},{"$f":"MKX34*'Makro i swap'!MKV4","v":0},{"$f":"MKY34*'Makro i swap'!MKW4","v":0},{"$f":"MKZ34*'Makro i swap'!MKX4","v":0},{"$f":"MLA34*'Makro i swap'!MKY4","v":0},{"$f":"MLB34*'Makro i swap'!MKZ4","v":0},{"$f":"MLC34*'Makro i swap'!MLA4","v":0},{"$f":"MLD34*'Makro i swap'!MLB4","v":0},{"$f":"MLE34*'Makro i swap'!MLC4","v":0},{"$f":"MLF34*'Makro i swap'!MLD4","v":0},{"$f":"MLG34*'Makro i swap'!MLE4","v":0},{"$f":"MLH34*'Makro i swap'!MLF4","v":0},{"$f":"MLI34*'Makro i swap'!MLG4","v":0},{"$f":"MLJ34*'Makro i swap'!MLH4","v":0},{"$f":"MLK34*'Makro i swap'!MLI4","v":0},{"$f":"MLL34*'Makro i swap'!MLJ4","v":0},{"$f":"MLM34*'Makro i swap'!MLK4","v":0},{"$f":"MLN34*'Makro i swap'!MLL4","v":0},{"$f":"MLO34*'Makro i swap'!MLM4","v":0},{"$f":"MLP34*'Makro i swap'!MLN4","v":0},{"$f":"MLQ34*'Makro i swap'!MLO4","v":0},{"$f":"MLR34*'Makro i swap'!MLP4","v":0},{"$f":"MLS34*'Makro i swap'!MLQ4","v":0},{"$f":"MLT34*'Makro i swap'!MLR4","v":0},{"$f":"MLU34*'Makro i swap'!MLS4","v":0},{"$f":"MLV34*'Makro i swap'!MLT4","v":0},{"$f":"MLW34*'Makro i swap'!MLU4","v":0},{"$f":"MLX34*'Makro i swap'!MLV4","v":0},{"$f":"MLY34*'Makro i swap'!MLW4","v":0},{"$f":"MLZ34*'Makro i swap'!MLX4","v":0},{"$f":"MMA34*'Makro i swap'!MLY4","v":0},{"$f":"MMB34*'Makro i swap'!MLZ4","v":0},{"$f":"MMC34*'Makro i swap'!MMA4","v":0},{"$f":"MMD34*'Makro i swap'!MMB4","v":0},{"$f":"MME34*'Makro i swap'!MMC4","v":0},{"$f":"MMF34*'Makro i swap'!MMD4","v":0},{"$f":"MMG34*'Makro i swap'!MME4","v":0},{"$f":"MMH34*'Makro i swap'!MMF4","v":0},{"$f":"MMI34*'Makro i swap'!MMG4","v":0},{"$f":"MMJ34*'Makro i swap'!MMH4","v":0},{"$f":"MMK34*'Makro i swap'!MMI4","v":0},{"$f":"MML34*'Makro i swap'!MMJ4","v":0},{"$f":"MMM34*'Makro i swap'!MMK4","v":0},{"$f":"MMN34*'Makro i swap'!MML4","v":0},{"$f":"MMO34*'Makro i swap'!MMM4","v":0},{"$f":"MMP34*'Makro i swap'!MMN4","v":0},{"$f":"MMQ34*'Makro i swap'!MMO4","v":0},{"$f":"MMR34*'Makro i swap'!MMP4","v":0},{"$f":"MMS34*'Makro i swap'!MMQ4","v":0},{"$f":"MMT34*'Makro i swap'!MMR4","v":0},{"$f":"MMU34*'Makro i swap'!MMS4","v":0},{"$f":"MMV34*'Makro i swap'!MMT4","v":0},{"$f":"MMW34*'Makro i swap'!MMU4","v":0},{"$f":"MMX34*'Makro i swap'!MMV4","v":0},{"$f":"MMY34*'Makro i swap'!MMW4","v":0},{"$f":"MMZ34*'Makro i swap'!MMX4","v":0},{"$f":"MNA34*'Makro i swap'!MMY4","v":0},{"$f":"MNB34*'Makro i swap'!MMZ4","v":0},{"$f":"MNC34*'Makro i swap'!MNA4","v":0},{"$f":"MND34*'Makro i swap'!MNB4","v":0},{"$f":"MNE34*'Makro i swap'!MNC4","v":0},{"$f":"MNF34*'Makro i swap'!MND4","v":0},{"$f":"MNG34*'Makro i swap'!MNE4","v":0},{"$f":"MNH34*'Makro i swap'!MNF4","v":0},{"$f":"MNI34*'Makro i swap'!MNG4","v":0},{"$f":"MNJ34*'Makro i swap'!MNH4","v":0},{"$f":"MNK34*'Makro i swap'!MNI4","v":0},{"$f":"MNL34*'Makro i swap'!MNJ4","v":0},{"$f":"MNM34*'Makro i swap'!MNK4","v":0},{"$f":"MNN34*'Makro i swap'!MNL4","v":0},{"$f":"MNO34*'Makro i swap'!MNM4","v":0},{"$f":"MNP34*'Makro i swap'!MNN4","v":0},{"$f":"MNQ34*'Makro i swap'!MNO4","v":0},{"$f":"MNR34*'Makro i swap'!MNP4","v":0},{"$f":"MNS34*'Makro i swap'!MNQ4","v":0},{"$f":"MNT34*'Makro i swap'!MNR4","v":0},{"$f":"MNU34*'Makro i swap'!MNS4","v":0},{"$f":"MNV34*'Makro i swap'!MNT4","v":0},{"$f":"MNW34*'Makro i swap'!MNU4","v":0},{"$f":"MNX34*'Makro i swap'!MNV4","v":0},{"$f":"MNY34*'Makro i swap'!MNW4","v":0},{"$f":"MNZ34*'Makro i swap'!MNX4","v":0},{"$f":"MOA34*'Makro i swap'!MNY4","v":0},{"$f":"MOB34*'Makro i swap'!MNZ4","v":0},{"$f":"MOC34*'Makro i swap'!MOA4","v":0},{"$f":"MOD34*'Makro i swap'!MOB4","v":0},{"$f":"MOE34*'Makro i swap'!MOC4","v":0},{"$f":"MOF34*'Makro i swap'!MOD4","v":0},{"$f":"MOG34*'Makro i swap'!MOE4","v":0},{"$f":"MOH34*'Makro i swap'!MOF4","v":0},{"$f":"MOI34*'Makro i swap'!MOG4","v":0},{"$f":"MOJ34*'Makro i swap'!MOH4","v":0},{"$f":"MOK34*'Makro i swap'!MOI4","v":0},{"$f":"MOL34*'Makro i swap'!MOJ4","v":0},{"$f":"MOM34*'Makro i swap'!MOK4","v":0},{"$f":"MON34*'Makro i swap'!MOL4","v":0},{"$f":"MOO34*'Makro i swap'!MOM4","v":0},{"$f":"MOP34*'Makro i swap'!MON4","v":0},{"$f":"MOQ34*'Makro i swap'!MOO4","v":0},{"$f":"MOR34*'Makro i swap'!MOP4","v":0},{"$f":"MOS34*'Makro i swap'!MOQ4","v":0},{"$f":"MOT34*'Makro i swap'!MOR4","v":0},{"$f":"MOU34*'Makro i swap'!MOS4","v":0},{"$f":"MOV34*'Makro i swap'!MOT4","v":0},{"$f":"MOW34*'Makro i swap'!MOU4","v":0},{"$f":"MOX34*'Makro i swap'!MOV4","v":0},{"$f":"MOY34*'Makro i swap'!MOW4","v":0},{"$f":"MOZ34*'Makro i swap'!MOX4","v":0},{"$f":"MPA34*'Makro i swap'!MOY4","v":0},{"$f":"MPB34*'Makro i swap'!MOZ4","v":0},{"$f":"MPC34*'Makro i swap'!MPA4","v":0},{"$f":"MPD34*'Makro i swap'!MPB4","v":0},{"$f":"MPE34*'Makro i swap'!MPC4","v":0},{"$f":"MPF34*'Makro i swap'!MPD4","v":0},{"$f":"MPG34*'Makro i swap'!MPE4","v":0},{"$f":"MPH34*'Makro i swap'!MPF4","v":0},{"$f":"MPI34*'Makro i swap'!MPG4","v":0},{"$f":"MPJ34*'Makro i swap'!MPH4","v":0},{"$f":"MPK34*'Makro i swap'!MPI4","v":0},{"$f":"MPL34*'Makro i swap'!MPJ4","v":0},{"$f":"MPM34*'Makro i swap'!MPK4","v":0},{"$f":"MPN34*'Makro i swap'!MPL4","v":0},{"$f":"MPO34*'Makro i swap'!MPM4","v":0},{"$f":"MPP34*'Makro i swap'!MPN4","v":0},{"$f":"MPQ34*'Makro i swap'!MPO4","v":0},{"$f":"MPR34*'Makro i swap'!MPP4","v":0},{"$f":"MPS34*'Makro i swap'!MPQ4","v":0},{"$f":"MPT34*'Makro i swap'!MPR4","v":0},{"$f":"MPU34*'Makro i swap'!MPS4","v":0},{"$f":"MPV34*'Makro i swap'!MPT4","v":0},{"$f":"MPW34*'Makro i swap'!MPU4","v":0},{"$f":"MPX34*'Makro i swap'!MPV4","v":0},{"$f":"MPY34*'Makro i swap'!MPW4","v":0},{"$f":"MPZ34*'Makro i swap'!MPX4","v":0},{"$f":"MQA34*'Makro i swap'!MPY4","v":0},{"$f":"MQB34*'Makro i swap'!MPZ4","v":0},{"$f":"MQC34*'Makro i swap'!MQA4","v":0},{"$f":"MQD34*'Makro i swap'!MQB4","v":0},{"$f":"MQE34*'Makro i swap'!MQC4","v":0},{"$f":"MQF34*'Makro i swap'!MQD4","v":0},{"$f":"MQG34*'Makro i swap'!MQE4","v":0},{"$f":"MQH34*'Makro i swap'!MQF4","v":0},{"$f":"MQI34*'Makro i swap'!MQG4","v":0},{"$f":"MQJ34*'Makro i swap'!MQH4","v":0},{"$f":"MQK34*'Makro i swap'!MQI4","v":0},{"$f":"MQL34*'Makro i swap'!MQJ4","v":0},{"$f":"MQM34*'Makro i swap'!MQK4","v":0},{"$f":"MQN34*'Makro i swap'!MQL4","v":0},{"$f":"MQO34*'Makro i swap'!MQM4","v":0},{"$f":"MQP34*'Makro i swap'!MQN4","v":0},{"$f":"MQQ34*'Makro i swap'!MQO4","v":0},{"$f":"MQR34*'Makro i swap'!MQP4","v":0},{"$f":"MQS34*'Makro i swap'!MQQ4","v":0},{"$f":"MQT34*'Makro i swap'!MQR4","v":0},{"$f":"MQU34*'Makro i swap'!MQS4","v":0},{"$f":"MQV34*'Makro i swap'!MQT4","v":0},{"$f":"MQW34*'Makro i swap'!MQU4","v":0},{"$f":"MQX34*'Makro i swap'!MQV4","v":0},{"$f":"MQY34*'Makro i swap'!MQW4","v":0},{"$f":"MQZ34*'Makro i swap'!MQX4","v":0},{"$f":"MRA34*'Makro i swap'!MQY4","v":0},{"$f":"MRB34*'Makro i swap'!MQZ4","v":0},{"$f":"MRC34*'Makro i swap'!MRA4","v":0},{"$f":"MRD34*'Makro i swap'!MRB4","v":0},{"$f":"MRE34*'Makro i swap'!MRC4","v":0},{"$f":"MRF34*'Makro i swap'!MRD4","v":0},{"$f":"MRG34*'Makro i swap'!MRE4","v":0},{"$f":"MRH34*'Makro i swap'!MRF4","v":0},{"$f":"MRI34*'Makro i swap'!MRG4","v":0},{"$f":"MRJ34*'Makro i swap'!MRH4","v":0},{"$f":"MRK34*'Makro i swap'!MRI4","v":0},{"$f":"MRL34*'Makro i swap'!MRJ4","v":0},{"$f":"MRM34*'Makro i swap'!MRK4","v":0},{"$f":"MRN34*'Makro i swap'!MRL4","v":0},{"$f":"MRO34*'Makro i swap'!MRM4","v":0},{"$f":"MRP34*'Makro i swap'!MRN4","v":0},{"$f":"MRQ34*'Makro i swap'!MRO4","v":0},{"$f":"MRR34*'Makro i swap'!MRP4","v":0},{"$f":"MRS34*'Makro i swap'!MRQ4","v":0},{"$f":"MRT34*'Makro i swap'!MRR4","v":0},{"$f":"MRU34*'Makro i swap'!MRS4","v":0},{"$f":"MRV34*'Makro i swap'!MRT4","v":0},{"$f":"MRW34*'Makro i swap'!MRU4","v":0},{"$f":"MRX34*'Makro i swap'!MRV4","v":0},{"$f":"MRY34*'Makro i swap'!MRW4","v":0},{"$f":"MRZ34*'Makro i swap'!MRX4","v":0},{"$f":"MSA34*'Makro i swap'!MRY4","v":0},{"$f":"MSB34*'Makro i swap'!MRZ4","v":0},{"$f":"MSC34*'Makro i swap'!MSA4","v":0},{"$f":"MSD34*'Makro i swap'!MSB4","v":0},{"$f":"MSE34*'Makro i swap'!MSC4","v":0},{"$f":"MSF34*'Makro i swap'!MSD4","v":0},{"$f":"MSG34*'Makro i swap'!MSE4","v":0},{"$f":"MSH34*'Makro i swap'!MSF4","v":0},{"$f":"MSI34*'Makro i swap'!MSG4","v":0},{"$f":"MSJ34*'Makro i swap'!MSH4","v":0},{"$f":"MSK34*'Makro i swap'!MSI4","v":0},{"$f":"MSL34*'Makro i swap'!MSJ4","v":0},{"$f":"MSM34*'Makro i swap'!MSK4","v":0},{"$f":"MSN34*'Makro i swap'!MSL4","v":0},{"$f":"MSO34*'Makro i swap'!MSM4","v":0},{"$f":"MSP34*'Makro i swap'!MSN4","v":0},{"$f":"MSQ34*'Makro i swap'!MSO4","v":0},{"$f":"MSR34*'Makro i swap'!MSP4","v":0},{"$f":"MSS34*'Makro i swap'!MSQ4","v":0},{"$f":"MST34*'Makro i swap'!MSR4","v":0},{"$f":"MSU34*'Makro i swap'!MSS4","v":0},{"$f":"MSV34*'Makro i swap'!MST4","v":0},{"$f":"MSW34*'Makro i swap'!MSU4","v":0},{"$f":"MSX34*'Makro i swap'!MSV4","v":0},{"$f":"MSY34*'Makro i swap'!MSW4","v":0},{"$f":"MSZ34*'Makro i swap'!MSX4","v":0},{"$f":"MTA34*'Makro i swap'!MSY4","v":0},{"$f":"MTB34*'Makro i swap'!MSZ4","v":0},{"$f":"MTC34*'Makro i swap'!MTA4","v":0},{"$f":"MTD34*'Makro i swap'!MTB4","v":0},{"$f":"MTE34*'Makro i swap'!MTC4","v":0},{"$f":"MTF34*'Makro i swap'!MTD4","v":0},{"$f":"MTG34*'Makro i swap'!MTE4","v":0},{"$f":"MTH34*'Makro i swap'!MTF4","v":0},{"$f":"MTI34*'Makro i swap'!MTG4","v":0},{"$f":"MTJ34*'Makro i swap'!MTH4","v":0},{"$f":"MTK34*'Makro i swap'!MTI4","v":0},{"$f":"MTL34*'Makro i swap'!MTJ4","v":0},{"$f":"MTM34*'Makro i swap'!MTK4","v":0},{"$f":"MTN34*'Makro i swap'!MTL4","v":0},{"$f":"MTO34*'Makro i swap'!MTM4","v":0},{"$f":"MTP34*'Makro i swap'!MTN4","v":0},{"$f":"MTQ34*'Makro i swap'!MTO4","v":0},{"$f":"MTR34*'Makro i swap'!MTP4","v":0},{"$f":"MTS34*'Makro i swap'!MTQ4","v":0},{"$f":"MTT34*'Makro i swap'!MTR4","v":0},{"$f":"MTU34*'Makro i swap'!MTS4","v":0},{"$f":"MTV34*'Makro i swap'!MTT4","v":0},{"$f":"MTW34*'Makro i swap'!MTU4","v":0},{"$f":"MTX34*'Makro i swap'!MTV4","v":0},{"$f":"MTY34*'Makro i swap'!MTW4","v":0},{"$f":"MTZ34*'Makro i swap'!MTX4","v":0},{"$f":"MUA34*'Makro i swap'!MTY4","v":0},{"$f":"MUB34*'Makro i swap'!MTZ4","v":0},{"$f":"MUC34*'Makro i swap'!MUA4","v":0},{"$f":"MUD34*'Makro i swap'!MUB4","v":0},{"$f":"MUE34*'Makro i swap'!MUC4","v":0},{"$f":"MUF34*'Makro i swap'!MUD4","v":0},{"$f":"MUG34*'Makro i swap'!MUE4","v":0},{"$f":"MUH34*'Makro i swap'!MUF4","v":0},{"$f":"MUI34*'Makro i swap'!MUG4","v":0},{"$f":"MUJ34*'Makro i swap'!MUH4","v":0},{"$f":"MUK34*'Makro i swap'!MUI4","v":0},{"$f":"MUL34*'Makro i swap'!MUJ4","v":0},{"$f":"MUM34*'Makro i swap'!MUK4","v":0},{"$f":"MUN34*'Makro i swap'!MUL4","v":0},{"$f":"MUO34*'Makro i swap'!MUM4","v":0},{"$f":"MUP34*'Makro i swap'!MUN4","v":0},{"$f":"MUQ34*'Makro i swap'!MUO4","v":0},{"$f":"MUR34*'Makro i swap'!MUP4","v":0},{"$f":"MUS34*'Makro i swap'!MUQ4","v":0},{"$f":"MUT34*'Makro i swap'!MUR4","v":0},{"$f":"MUU34*'Makro i swap'!MUS4","v":0},{"$f":"MUV34*'Makro i swap'!MUT4","v":0},{"$f":"MUW34*'Makro i swap'!MUU4","v":0},{"$f":"MUX34*'Makro i swap'!MUV4","v":0},{"$f":"MUY34*'Makro i swap'!MUW4","v":0},{"$f":"MUZ34*'Makro i swap'!MUX4","v":0},{"$f":"MVA34*'Makro i swap'!MUY4","v":0},{"$f":"MVB34*'Makro i swap'!MUZ4","v":0},{"$f":"MVC34*'Makro i swap'!MVA4","v":0},{"$f":"MVD34*'Makro i swap'!MVB4","v":0},{"$f":"MVE34*'Makro i swap'!MVC4","v":0},{"$f":"MVF34*'Makro i swap'!MVD4","v":0},{"$f":"MVG34*'Makro i swap'!MVE4","v":0},{"$f":"MVH34*'Makro i swap'!MVF4","v":0},{"$f":"MVI34*'Makro i swap'!MVG4","v":0},{"$f":"MVJ34*'Makro i swap'!MVH4","v":0},{"$f":"MVK34*'Makro i swap'!MVI4","v":0},{"$f":"MVL34*'Makro i swap'!MVJ4","v":0},{"$f":"MVM34*'Makro i swap'!MVK4","v":0},{"$f":"MVN34*'Makro i swap'!MVL4","v":0},{"$f":"MVO34*'Makro i swap'!MVM4","v":0},{"$f":"MVP34*'Makro i swap'!MVN4","v":0},{"$f":"MVQ34*'Makro i swap'!MVO4","v":0},{"$f":"MVR34*'Makro i swap'!MVP4","v":0},{"$f":"MVS34*'Makro i swap'!MVQ4","v":0},{"$f":"MVT34*'Makro i swap'!MVR4","v":0},{"$f":"MVU34*'Makro i swap'!MVS4","v":0},{"$f":"MVV34*'Makro i swap'!MVT4","v":0},{"$f":"MVW34*'Makro i swap'!MVU4","v":0},{"$f":"MVX34*'Makro i swap'!MVV4","v":0},{"$f":"MVY34*'Makro i swap'!MVW4","v":0},{"$f":"MVZ34*'Makro i swap'!MVX4","v":0},{"$f":"MWA34*'Makro i swap'!MVY4","v":0},{"$f":"MWB34*'Makro i swap'!MVZ4","v":0},{"$f":"MWC34*'Makro i swap'!MWA4","v":0},{"$f":"MWD34*'Makro i swap'!MWB4","v":0},{"$f":"MWE34*'Makro i swap'!MWC4","v":0},{"$f":"MWF34*'Makro i swap'!MWD4","v":0},{"$f":"MWG34*'Makro i swap'!MWE4","v":0},{"$f":"MWH34*'Makro i swap'!MWF4","v":0},{"$f":"MWI34*'Makro i swap'!MWG4","v":0},{"$f":"MWJ34*'Makro i swap'!MWH4","v":0},{"$f":"MWK34*'Makro i swap'!MWI4","v":0},{"$f":"MWL34*'Makro i swap'!MWJ4","v":0},{"$f":"MWM34*'Makro i swap'!MWK4","v":0},{"$f":"MWN34*'Makro i swap'!MWL4","v":0},{"$f":"MWO34*'Makro i swap'!MWM4","v":0},{"$f":"MWP34*'Makro i swap'!MWN4","v":0},{"$f":"MWQ34*'Makro i swap'!MWO4","v":0},{"$f":"MWR34*'Makro i swap'!MWP4","v":0},{"$f":"MWS34*'Makro i swap'!MWQ4","v":0},{"$f":"MWT34*'Makro i swap'!MWR4","v":0},{"$f":"MWU34*'Makro i swap'!MWS4","v":0},{"$f":"MWV34*'Makro i swap'!MWT4","v":0},{"$f":"MWW34*'Makro i swap'!MWU4","v":0},{"$f":"MWX34*'Makro i swap'!MWV4","v":0},{"$f":"MWY34*'Makro i swap'!MWW4","v":0},{"$f":"MWZ34*'Makro i swap'!MWX4","v":0},{"$f":"MXA34*'Makro i swap'!MWY4","v":0},{"$f":"MXB34*'Makro i swap'!MWZ4","v":0},{"$f":"MXC34*'Makro i swap'!MXA4","v":0},{"$f":"MXD34*'Makro i swap'!MXB4","v":0},{"$f":"MXE34*'Makro i swap'!MXC4","v":0},{"$f":"MXF34*'Makro i swap'!MXD4","v":0},{"$f":"MXG34*'Makro i swap'!MXE4","v":0},{"$f":"MXH34*'Makro i swap'!MXF4","v":0},{"$f":"MXI34*'Makro i swap'!MXG4","v":0},{"$f":"MXJ34*'Makro i swap'!MXH4","v":0},{"$f":"MXK34*'Makro i swap'!MXI4","v":0},{"$f":"MXL34*'Makro i swap'!MXJ4","v":0},{"$f":"MXM34*'Makro i swap'!MXK4","v":0},{"$f":"MXN34*'Makro i swap'!MXL4","v":0},{"$f":"MXO34*'Makro i swap'!MXM4","v":0},{"$f":"MXP34*'Makro i swap'!MXN4","v":0},{"$f":"MXQ34*'Makro i swap'!MXO4","v":0},{"$f":"MXR34*'Makro i swap'!MXP4","v":0},{"$f":"MXS34*'Makro i swap'!MXQ4","v":0},{"$f":"MXT34*'Makro i swap'!MXR4","v":0},{"$f":"MXU34*'Makro i swap'!MXS4","v":0},{"$f":"MXV34*'Makro i swap'!MXT4","v":0},{"$f":"MXW34*'Makro i swap'!MXU4","v":0},{"$f":"MXX34*'Makro i swap'!MXV4","v":0},{"$f":"MXY34*'Makro i swap'!MXW4","v":0},{"$f":"MXZ34*'Makro i swap'!MXX4","v":0},{"$f":"MYA34*'Makro i swap'!MXY4","v":0},{"$f":"MYB34*'Makro i swap'!MXZ4","v":0},{"$f":"MYC34*'Makro i swap'!MYA4","v":0},{"$f":"MYD34*'Makro i swap'!MYB4","v":0},{"$f":"MYE34*'Makro i swap'!MYC4","v":0},{"$f":"MYF34*'Makro i swap'!MYD4","v":0},{"$f":"MYG34*'Makro i swap'!MYE4","v":0},{"$f":"MYH34*'Makro i swap'!MYF4","v":0},{"$f":"MYI34*'Makro i swap'!MYG4","v":0},{"$f":"MYJ34*'Makro i swap'!MYH4","v":0},{"$f":"MYK34*'Makro i swap'!MYI4","v":0},{"$f":"MYL34*'Makro i swap'!MYJ4","v":0},{"$f":"MYM34*'Makro i swap'!MYK4","v":0},{"$f":"MYN34*'Makro i swap'!MYL4","v":0},{"$f":"MYO34*'Makro i swap'!MYM4","v":0},{"$f":"MYP34*'Makro i swap'!MYN4","v":0},{"$f":"MYQ34*'Makro i swap'!MYO4","v":0},{"$f":"MYR34*'Makro i swap'!MYP4","v":0},{"$f":"MYS34*'Makro i swap'!MYQ4","v":0},{"$f":"MYT34*'Makro i swap'!MYR4","v":0},{"$f":"MYU34*'Makro i swap'!MYS4","v":0},{"$f":"MYV34*'Makro i swap'!MYT4","v":0},{"$f":"MYW34*'Makro i swap'!MYU4","v":0},{"$f":"MYX34*'Makro i swap'!MYV4","v":0},{"$f":"MYY34*'Makro i swap'!MYW4","v":0},{"$f":"MYZ34*'Makro i swap'!MYX4","v":0},{"$f":"MZA34*'Makro i swap'!MYY4","v":0},{"$f":"MZB34*'Makro i swap'!MYZ4","v":0},{"$f":"MZC34*'Makro i swap'!MZA4","v":0},{"$f":"MZD34*'Makro i swap'!MZB4","v":0},{"$f":"MZE34*'Makro i swap'!MZC4","v":0},{"$f":"MZF34*'Makro i swap'!MZD4","v":0},{"$f":"MZG34*'Makro i swap'!MZE4","v":0},{"$f":"MZH34*'Makro i swap'!MZF4","v":0},{"$f":"MZI34*'Makro i swap'!MZG4","v":0},{"$f":"MZJ34*'Makro i swap'!MZH4","v":0},{"$f":"MZK34*'Makro i swap'!MZI4","v":0},{"$f":"MZL34*'Makro i swap'!MZJ4","v":0},{"$f":"MZM34*'Makro i swap'!MZK4","v":0},{"$f":"MZN34*'Makro i swap'!MZL4","v":0},{"$f":"MZO34*'Makro i swap'!MZM4","v":0},{"$f":"MZP34*'Makro i swap'!MZN4","v":0},{"$f":"MZQ34*'Makro i swap'!MZO4","v":0},{"$f":"MZR34*'Makro i swap'!MZP4","v":0},{"$f":"MZS34*'Makro i swap'!MZQ4","v":0},{"$f":"MZT34*'Makro i swap'!MZR4","v":0},{"$f":"MZU34*'Makro i swap'!MZS4","v":0},{"$f":"MZV34*'Makro i swap'!MZT4","v":0},{"$f":"MZW34*'Makro i swap'!MZU4","v":0},{"$f":"MZX34*'Makro i swap'!MZV4","v":0},{"$f":"MZY34*'Makro i swap'!MZW4","v":0},{"$f":"MZZ34*'Makro i swap'!MZX4","v":0},{"$f":"NAA34*'Makro i swap'!MZY4","v":0},{"$f":"NAB34*'Makro i swap'!MZZ4","v":0},{"$f":"NAC34*'Makro i swap'!NAA4","v":0},{"$f":"NAD34*'Makro i swap'!NAB4","v":0},{"$f":"NAE34*'Makro i swap'!NAC4","v":0},{"$f":"NAF34*'Makro i swap'!NAD4","v":0},{"$f":"NAG34*'Makro i swap'!NAE4","v":0},{"$f":"NAH34*'Makro i swap'!NAF4","v":0},{"$f":"NAI34*'Makro i swap'!NAG4","v":0},{"$f":"NAJ34*'Makro i swap'!NAH4","v":0},{"$f":"NAK34*'Makro i swap'!NAI4","v":0},{"$f":"NAL34*'Makro i swap'!NAJ4","v":0},{"$f":"NAM34*'Makro i swap'!NAK4","v":0},{"$f":"NAN34*'Makro i swap'!NAL4","v":0},{"$f":"NAO34*'Makro i swap'!NAM4","v":0},{"$f":"NAP34*'Makro i swap'!NAN4","v":0},{"$f":"NAQ34*'Makro i swap'!NAO4","v":0},{"$f":"NAR34*'Makro i swap'!NAP4","v":0},{"$f":"NAS34*'Makro i swap'!NAQ4","v":0},{"$f":"NAT34*'Makro i swap'!NAR4","v":0},{"$f":"NAU34*'Makro i swap'!NAS4","v":0},{"$f":"NAV34*'Makro i swap'!NAT4","v":0},{"$f":"NAW34*'Makro i swap'!NAU4","v":0},{"$f":"NAX34*'Makro i swap'!NAV4","v":0},{"$f":"NAY34*'Makro i swap'!NAW4","v":0},{"$f":"NAZ34*'Makro i swap'!NAX4","v":0},{"$f":"NBA34*'Makro i swap'!NAY4","v":0},{"$f":"NBB34*'Makro i swap'!NAZ4","v":0},{"$f":"NBC34*'Makro i swap'!NBA4","v":0},{"$f":"NBD34*'Makro i swap'!NBB4","v":0},{"$f":"NBE34*'Makro i swap'!NBC4","v":0},{"$f":"NBF34*'Makro i swap'!NBD4","v":0},{"$f":"NBG34*'Makro i swap'!NBE4","v":0},{"$f":"NBH34*'Makro i swap'!NBF4","v":0},{"$f":"NBI34*'Makro i swap'!NBG4","v":0},{"$f":"NBJ34*'Makro i swap'!NBH4","v":0},{"$f":"NBK34*'Makro i swap'!NBI4","v":0},{"$f":"NBL34*'Makro i swap'!NBJ4","v":0},{"$f":"NBM34*'Makro i swap'!NBK4","v":0},{"$f":"NBN34*'Makro i swap'!NBL4","v":0},{"$f":"NBO34*'Makro i swap'!NBM4","v":0},{"$f":"NBP34*'Makro i swap'!NBN4","v":0},{"$f":"NBQ34*'Makro i swap'!NBO4","v":0},{"$f":"NBR34*'Makro i swap'!NBP4","v":0},{"$f":"NBS34*'Makro i swap'!NBQ4","v":0},{"$f":"NBT34*'Makro i swap'!NBR4","v":0},{"$f":"NBU34*'Makro i swap'!NBS4","v":0},{"$f":"NBV34*'Makro i swap'!NBT4","v":0},{"$f":"NBW34*'Makro i swap'!NBU4","v":0},{"$f":"NBX34*'Makro i swap'!NBV4","v":0},{"$f":"NBY34*'Makro i swap'!NBW4","v":0},{"$f":"NBZ34*'Makro i swap'!NBX4","v":0},{"$f":"NCA34*'Makro i swap'!NBY4","v":0},{"$f":"NCB34*'Makro i swap'!NBZ4","v":0},{"$f":"NCC34*'Makro i swap'!NCA4","v":0},{"$f":"NCD34*'Makro i swap'!NCB4","v":0},{"$f":"NCE34*'Makro i swap'!NCC4","v":0},{"$f":"NCF34*'Makro i swap'!NCD4","v":0},{"$f":"NCG34*'Makro i swap'!NCE4","v":0},{"$f":"NCH34*'Makro i swap'!NCF4","v":0},{"$f":"NCI34*'Makro i swap'!NCG4","v":0},{"$f":"NCJ34*'Makro i swap'!NCH4","v":0},{"$f":"NCK34*'Makro i swap'!NCI4","v":0},{"$f":"NCL34*'Makro i swap'!NCJ4","v":0},{"$f":"NCM34*'Makro i swap'!NCK4","v":0},{"$f":"NCN34*'Makro i swap'!NCL4","v":0},{"$f":"NCO34*'Makro i swap'!NCM4","v":0},{"$f":"NCP34*'Makro i swap'!NCN4","v":0},{"$f":"NCQ34*'Makro i swap'!NCO4","v":0},{"$f":"NCR34*'Makro i swap'!NCP4","v":0},{"$f":"NCS34*'Makro i swap'!NCQ4","v":0},{"$f":"NCT34*'Makro i swap'!NCR4","v":0},{"$f":"NCU34*'Makro i swap'!NCS4","v":0},{"$f":"NCV34*'Makro i swap'!NCT4","v":0},{"$f":"NCW34*'Makro i swap'!NCU4","v":0},{"$f":"NCX34*'Makro i swap'!NCV4","v":0},{"$f":"NCY34*'Makro i swap'!NCW4","v":0},{"$f":"NCZ34*'Makro i swap'!NCX4","v":0},{"$f":"NDA34*'Makro i swap'!NCY4","v":0},{"$f":"NDB34*'Makro i swap'!NCZ4","v":0},{"$f":"NDC34*'Makro i swap'!NDA4","v":0},{"$f":"NDD34*'Makro i swap'!NDB4","v":0},{"$f":"NDE34*'Makro i swap'!NDC4","v":0},{"$f":"NDF34*'Makro i swap'!NDD4","v":0},{"$f":"NDG34*'Makro i swap'!NDE4","v":0},{"$f":"NDH34*'Makro i swap'!NDF4","v":0},{"$f":"NDI34*'Makro i swap'!NDG4","v":0},{"$f":"NDJ34*'Makro i swap'!NDH4","v":0},{"$f":"NDK34*'Makro i swap'!NDI4","v":0},{"$f":"NDL34*'Makro i swap'!NDJ4","v":0},{"$f":"NDM34*'Makro i swap'!NDK4","v":0},{"$f":"NDN34*'Makro i swap'!NDL4","v":0},{"$f":"NDO34*'Makro i swap'!NDM4","v":0},{"$f":"NDP34*'Makro i swap'!NDN4","v":0},{"$f":"NDQ34*'Makro i swap'!NDO4","v":0},{"$f":"NDR34*'Makro i swap'!NDP4","v":0},{"$f":"NDS34*'Makro i swap'!NDQ4","v":0},{"$f":"NDT34*'Makro i swap'!NDR4","v":0},{"$f":"NDU34*'Makro i swap'!NDS4","v":0},{"$f":"NDV34*'Makro i swap'!NDT4","v":0},{"$f":"NDW34*'Makro i swap'!NDU4","v":0},{"$f":"NDX34*'Makro i swap'!NDV4","v":0},{"$f":"NDY34*'Makro i swap'!NDW4","v":0},{"$f":"NDZ34*'Makro i swap'!NDX4","v":0},{"$f":"NEA34*'Makro i swap'!NDY4","v":0},{"$f":"NEB34*'Makro i swap'!NDZ4","v":0},{"$f":"NEC34*'Makro i swap'!NEA4","v":0},{"$f":"NED34*'Makro i swap'!NEB4","v":0},{"$f":"NEE34*'Makro i swap'!NEC4","v":0},{"$f":"NEF34*'Makro i swap'!NED4","v":0},{"$f":"NEG34*'Makro i swap'!NEE4","v":0},{"$f":"NEH34*'Makro i swap'!NEF4","v":0},{"$f":"NEI34*'Makro i swap'!NEG4","v":0},{"$f":"NEJ34*'Makro i swap'!NEH4","v":0},{"$f":"NEK34*'Makro i swap'!NEI4","v":0},{"$f":"NEL34*'Makro i swap'!NEJ4","v":0},{"$f":"NEM34*'Makro i swap'!NEK4","v":0},{"$f":"NEN34*'Makro i swap'!NEL4","v":0},{"$f":"NEO34*'Makro i swap'!NEM4","v":0},{"$f":"NEP34*'Makro i swap'!NEN4","v":0},{"$f":"NEQ34*'Makro i swap'!NEO4","v":0},{"$f":"NER34*'Makro i swap'!NEP4","v":0},{"$f":"NES34*'Makro i swap'!NEQ4","v":0},{"$f":"NET34*'Makro i swap'!NER4","v":0},{"$f":"NEU34*'Makro i swap'!NES4","v":0},{"$f":"NEV34*'Makro i swap'!NET4","v":0},{"$f":"NEW34*'Makro i swap'!NEU4","v":0},{"$f":"NEX34*'Makro i swap'!NEV4","v":0},{"$f":"NEY34*'Makro i swap'!NEW4","v":0},{"$f":"NEZ34*'Makro i swap'!NEX4","v":0},{"$f":"NFA34*'Makro i swap'!NEY4","v":0},{"$f":"NFB34*'Makro i swap'!NEZ4","v":0},{"$f":"NFC34*'Makro i swap'!NFA4","v":0},{"$f":"NFD34*'Makro i swap'!NFB4","v":0},{"$f":"NFE34*'Makro i swap'!NFC4","v":0},{"$f":"NFF34*'Makro i swap'!NFD4","v":0},{"$f":"NFG34*'Makro i swap'!NFE4","v":0},{"$f":"NFH34*'Makro i swap'!NFF4","v":0},{"$f":"NFI34*'Makro i swap'!NFG4","v":0},{"$f":"NFJ34*'Makro i swap'!NFH4","v":0},{"$f":"NFK34*'Makro i swap'!NFI4","v":0},{"$f":"NFL34*'Makro i swap'!NFJ4","v":0},{"$f":"NFM34*'Makro i swap'!NFK4","v":0},{"$f":"NFN34*'Makro i swap'!NFL4","v":0},{"$f":"NFO34*'Makro i swap'!NFM4","v":0},{"$f":"NFP34*'Makro i swap'!NFN4","v":0},{"$f":"NFQ34*'Makro i swap'!NFO4","v":0},{"$f":"NFR34*'Makro i swap'!NFP4","v":0},{"$f":"NFS34*'Makro i swap'!NFQ4","v":0},{"$f":"NFT34*'Makro i swap'!NFR4","v":0},{"$f":"NFU34*'Makro i swap'!NFS4","v":0},{"$f":"NFV34*'Makro i swap'!NFT4","v":0},{"$f":"NFW34*'Makro i swap'!NFU4","v":0},{"$f":"NFX34*'Makro i swap'!NFV4","v":0},{"$f":"NFY34*'Makro i swap'!NFW4","v":0},{"$f":"NFZ34*'Makro i swap'!NFX4","v":0},{"$f":"NGA34*'Makro i swap'!NFY4","v":0},{"$f":"NGB34*'Makro i swap'!NFZ4","v":0},{"$f":"NGC34*'Makro i swap'!NGA4","v":0},{"$f":"NGD34*'Makro i swap'!NGB4","v":0},{"$f":"NGE34*'Makro i swap'!NGC4","v":0},{"$f":"NGF34*'Makro i swap'!NGD4","v":0},{"$f":"NGG34*'Makro i swap'!NGE4","v":0},{"$f":"NGH34*'Makro i swap'!NGF4","v":0},{"$f":"NGI34*'Makro i swap'!NGG4","v":0},{"$f":"NGJ34*'Makro i swap'!NGH4","v":0},{"$f":"NGK34*'Makro i swap'!NGI4","v":0},{"$f":"NGL34*'Makro i swap'!NGJ4","v":0},{"$f":"NGM34*'Makro i swap'!NGK4","v":0},{"$f":"NGN34*'Makro i swap'!NGL4","v":0},{"$f":"NGO34*'Makro i swap'!NGM4","v":0},{"$f":"NGP34*'Makro i swap'!NGN4","v":0},{"$f":"NGQ34*'Makro i swap'!NGO4","v":0},{"$f":"NGR34*'Makro i swap'!NGP4","v":0},{"$f":"NGS34*'Makro i swap'!NGQ4","v":0},{"$f":"NGT34*'Makro i swap'!NGR4","v":0},{"$f":"NGU34*'Makro i swap'!NGS4","v":0},{"$f":"NGV34*'Makro i swap'!NGT4","v":0},{"$f":"NGW34*'Makro i swap'!NGU4","v":0},{"$f":"NGX34*'Makro i swap'!NGV4","v":0},{"$f":"NGY34*'Makro i swap'!NGW4","v":0},{"$f":"NGZ34*'Makro i swap'!NGX4","v":0},{"$f":"NHA34*'Makro i swap'!NGY4","v":0},{"$f":"NHB34*'Makro i swap'!NGZ4","v":0},{"$f":"NHC34*'Makro i swap'!NHA4","v":0},{"$f":"NHD34*'Makro i swap'!NHB4","v":0},{"$f":"NHE34*'Makro i swap'!NHC4","v":0},{"$f":"NHF34*'Makro i swap'!NHD4","v":0},{"$f":"NHG34*'Makro i swap'!NHE4","v":0},{"$f":"NHH34*'Makro i swap'!NHF4","v":0},{"$f":"NHI34*'Makro i swap'!NHG4","v":0},{"$f":"NHJ34*'Makro i swap'!NHH4","v":0},{"$f":"NHK34*'Makro i swap'!NHI4","v":0},{"$f":"NHL34*'Makro i swap'!NHJ4","v":0},{"$f":"NHM34*'Makro i swap'!NHK4","v":0},{"$f":"NHN34*'Makro i swap'!NHL4","v":0},{"$f":"NHO34*'Makro i swap'!NHM4","v":0},{"$f":"NHP34*'Makro i swap'!NHN4","v":0},{"$f":"NHQ34*'Makro i swap'!NHO4","v":0},{"$f":"NHR34*'Makro i swap'!NHP4","v":0},{"$f":"NHS34*'Makro i swap'!NHQ4","v":0},{"$f":"NHT34*'Makro i swap'!NHR4","v":0},{"$f":"NHU34*'Makro i swap'!NHS4","v":0},{"$f":"NHV34*'Makro i swap'!NHT4","v":0},{"$f":"NHW34*'Makro i swap'!NHU4","v":0},{"$f":"NHX34*'Makro i swap'!NHV4","v":0},{"$f":"NHY34*'Makro i swap'!NHW4","v":0},{"$f":"NHZ34*'Makro i swap'!NHX4","v":0},{"$f":"NIA34*'Makro i swap'!NHY4","v":0},{"$f":"NIB34*'Makro i swap'!NHZ4","v":0},{"$f":"NIC34*'Makro i swap'!NIA4","v":0},{"$f":"NID34*'Makro i swap'!NIB4","v":0},{"$f":"NIE34*'Makro i swap'!NIC4","v":0},{"$f":"NIF34*'Makro i swap'!NID4","v":0},{"$f":"NIG34*'Makro i swap'!NIE4","v":0},{"$f":"NIH34*'Makro i swap'!NIF4","v":0},{"$f":"NII34*'Makro i swap'!NIG4","v":0},{"$f":"NIJ34*'Makro i swap'!NIH4","v":0},{"$f":"NIK34*'Makro i swap'!NII4","v":0},{"$f":"NIL34*'Makro i swap'!NIJ4","v":0},{"$f":"NIM34*'Makro i swap'!NIK4","v":0},{"$f":"NIN34*'Makro i swap'!NIL4","v":0},{"$f":"NIO34*'Makro i swap'!NIM4","v":0},{"$f":"NIP34*'Makro i swap'!NIN4","v":0},{"$f":"NIQ34*'Makro i swap'!NIO4","v":0},{"$f":"NIR34*'Makro i swap'!NIP4","v":0},{"$f":"NIS34*'Makro i swap'!NIQ4","v":0},{"$f":"NIT34*'Makro i swap'!NIR4","v":0},{"$f":"NIU34*'Makro i swap'!NIS4","v":0},{"$f":"NIV34*'Makro i swap'!NIT4","v":0},{"$f":"NIW34*'Makro i swap'!NIU4","v":0},{"$f":"NIX34*'Makro i swap'!NIV4","v":0},{"$f":"NIY34*'Makro i swap'!NIW4","v":0},{"$f":"NIZ34*'Makro i swap'!NIX4","v":0},{"$f":"NJA34*'Makro i swap'!NIY4","v":0},{"$f":"NJB34*'Makro i swap'!NIZ4","v":0},{"$f":"NJC34*'Makro i swap'!NJA4","v":0},{"$f":"NJD34*'Makro i swap'!NJB4","v":0},{"$f":"NJE34*'Makro i swap'!NJC4","v":0},{"$f":"NJF34*'Makro i swap'!NJD4","v":0},{"$f":"NJG34*'Makro i swap'!NJE4","v":0},{"$f":"NJH34*'Makro i swap'!NJF4","v":0},{"$f":"NJI34*'Makro i swap'!NJG4","v":0},{"$f":"NJJ34*'Makro i swap'!NJH4","v":0},{"$f":"NJK34*'Makro i swap'!NJI4","v":0},{"$f":"NJL34*'Makro i swap'!NJJ4","v":0},{"$f":"NJM34*'Makro i swap'!NJK4","v":0},{"$f":"NJN34*'Makro i swap'!NJL4","v":0},{"$f":"NJO34*'Makro i swap'!NJM4","v":0},{"$f":"NJP34*'Makro i swap'!NJN4","v":0},{"$f":"NJQ34*'Makro i swap'!NJO4","v":0},{"$f":"NJR34*'Makro i swap'!NJP4","v":0},{"$f":"NJS34*'Makro i swap'!NJQ4","v":0},{"$f":"NJT34*'Makro i swap'!NJR4","v":0},{"$f":"NJU34*'Makro i swap'!NJS4","v":0},{"$f":"NJV34*'Makro i swap'!NJT4","v":0},{"$f":"NJW34*'Makro i swap'!NJU4","v":0},{"$f":"NJX34*'Makro i swap'!NJV4","v":0},{"$f":"NJY34*'Makro i swap'!NJW4","v":0},{"$f":"NJZ34*'Makro i swap'!NJX4","v":0},{"$f":"NKA34*'Makro i swap'!NJY4","v":0},{"$f":"NKB34*'Makro i swap'!NJZ4","v":0},{"$f":"NKC34*'Makro i swap'!NKA4","v":0},{"$f":"NKD34*'Makro i swap'!NKB4","v":0},{"$f":"NKE34*'Makro i swap'!NKC4","v":0},{"$f":"NKF34*'Makro i swap'!NKD4","v":0},{"$f":"NKG34*'Makro i swap'!NKE4","v":0},{"$f":"NKH34*'Makro i swap'!NKF4","v":0},{"$f":"NKI34*'Makro i swap'!NKG4","v":0},{"$f":"NKJ34*'Makro i swap'!NKH4","v":0},{"$f":"NKK34*'Makro i swap'!NKI4","v":0},{"$f":"NKL34*'Makro i swap'!NKJ4","v":0},{"$f":"NKM34*'Makro i swap'!NKK4","v":0},{"$f":"NKN34*'Makro i swap'!NKL4","v":0},{"$f":"NKO34*'Makro i swap'!NKM4","v":0},{"$f":"NKP34*'Makro i swap'!NKN4","v":0},{"$f":"NKQ34*'Makro i swap'!NKO4","v":0},{"$f":"NKR34*'Makro i swap'!NKP4","v":0},{"$f":"NKS34*'Makro i swap'!NKQ4","v":0},{"$f":"NKT34*'Makro i swap'!NKR4","v":0},{"$f":"NKU34*'Makro i swap'!NKS4","v":0},{"$f":"NKV34*'Makro i swap'!NKT4","v":0},{"$f":"NKW34*'Makro i swap'!NKU4","v":0},{"$f":"NKX34*'Makro i swap'!NKV4","v":0},{"$f":"NKY34*'Makro i swap'!NKW4","v":0},{"$f":"NKZ34*'Makro i swap'!NKX4","v":0},{"$f":"NLA34*'Makro i swap'!NKY4","v":0},{"$f":"NLB34*'Makro i swap'!NKZ4","v":0},{"$f":"NLC34*'Makro i swap'!NLA4","v":0},{"$f":"NLD34*'Makro i swap'!NLB4","v":0},{"$f":"NLE34*'Makro i swap'!NLC4","v":0},{"$f":"NLF34*'Makro i swap'!NLD4","v":0},{"$f":"NLG34*'Makro i swap'!NLE4","v":0},{"$f":"NLH34*'Makro i swap'!NLF4","v":0},{"$f":"NLI34*'Makro i swap'!NLG4","v":0},{"$f":"NLJ34*'Makro i swap'!NLH4","v":0},{"$f":"NLK34*'Makro i swap'!NLI4","v":0},{"$f":"NLL34*'Makro i swap'!NLJ4","v":0},{"$f":"NLM34*'Makro i swap'!NLK4","v":0},{"$f":"NLN34*'Makro i swap'!NLL4","v":0},{"$f":"NLO34*'Makro i swap'!NLM4","v":0},{"$f":"NLP34*'Makro i swap'!NLN4","v":0},{"$f":"NLQ34*'Makro i swap'!NLO4","v":0},{"$f":"NLR34*'Makro i swap'!NLP4","v":0},{"$f":"NLS34*'Makro i swap'!NLQ4","v":0},{"$f":"NLT34*'Makro i swap'!NLR4","v":0},{"$f":"NLU34*'Makro i swap'!NLS4","v":0},{"$f":"NLV34*'Makro i swap'!NLT4","v":0},{"$f":"NLW34*'Makro i swap'!NLU4","v":0},{"$f":"NLX34*'Makro i swap'!NLV4","v":0},{"$f":"NLY34*'Makro i swap'!NLW4","v":0},{"$f":"NLZ34*'Makro i swap'!NLX4","v":0},{"$f":"NMA34*'Makro i swap'!NLY4","v":0},{"$f":"NMB34*'Makro i swap'!NLZ4","v":0},{"$f":"NMC34*'Makro i swap'!NMA4","v":0},{"$f":"NMD34*'Makro i swap'!NMB4","v":0},{"$f":"NME34*'Makro i swap'!NMC4","v":0},{"$f":"NMF34*'Makro i swap'!NMD4","v":0},{"$f":"NMG34*'Makro i swap'!NME4","v":0},{"$f":"NMH34*'Makro i swap'!NMF4","v":0},{"$f":"NMI34*'Makro i swap'!NMG4","v":0},{"$f":"NMJ34*'Makro i swap'!NMH4","v":0},{"$f":"NMK34*'Makro i swap'!NMI4","v":0},{"$f":"NML34*'Makro i swap'!NMJ4","v":0},{"$f":"NMM34*'Makro i swap'!NMK4","v":0},{"$f":"NMN34*'Makro i swap'!NML4","v":0},{"$f":"NMO34*'Makro i swap'!NMM4","v":0},{"$f":"NMP34*'Makro i swap'!NMN4","v":0},{"$f":"NMQ34*'Makro i swap'!NMO4","v":0},{"$f":"NMR34*'Makro i swap'!NMP4","v":0},{"$f":"NMS34*'Makro i swap'!NMQ4","v":0},{"$f":"NMT34*'Makro i swap'!NMR4","v":0},{"$f":"NMU34*'Makro i swap'!NMS4","v":0},{"$f":"NMV34*'Makro i swap'!NMT4","v":0},{"$f":"NMW34*'Makro i swap'!NMU4","v":0},{"$f":"NMX34*'Makro i swap'!NMV4","v":0},{"$f":"NMY34*'Makro i swap'!NMW4","v":0},{"$f":"NMZ34*'Makro i swap'!NMX4","v":0},{"$f":"NNA34*'Makro i swap'!NMY4","v":0},{"$f":"NNB34*'Makro i swap'!NMZ4","v":0},{"$f":"NNC34*'Makro i swap'!NNA4","v":0},{"$f":"NND34*'Makro i swap'!NNB4","v":0},{"$f":"NNE34*'Makro i swap'!NNC4","v":0},{"$f":"NNF34*'Makro i swap'!NND4","v":0},{"$f":"NNG34*'Makro i swap'!NNE4","v":0},{"$f":"NNH34*'Makro i swap'!NNF4","v":0},{"$f":"NNI34*'Makro i swap'!NNG4","v":0},{"$f":"NNJ34*'Makro i swap'!NNH4","v":0},{"$f":"NNK34*'Makro i swap'!NNI4","v":0},{"$f":"NNL34*'Makro i swap'!NNJ4","v":0},{"$f":"NNM34*'Makro i swap'!NNK4","v":0},{"$f":"NNN34*'Makro i swap'!NNL4","v":0},{"$f":"NNO34*'Makro i swap'!NNM4","v":0},{"$f":"NNP34*'Makro i swap'!NNN4","v":0},{"$f":"NNQ34*'Makro i swap'!NNO4","v":0},{"$f":"NNR34*'Makro i swap'!NNP4","v":0},{"$f":"NNS34*'Makro i swap'!NNQ4","v":0},{"$f":"NNT34*'Makro i swap'!NNR4","v":0},{"$f":"NNU34*'Makro i swap'!NNS4","v":0},{"$f":"NNV34*'Makro i swap'!NNT4","v":0},{"$f":"NNW34*'Makro i swap'!NNU4","v":0},{"$f":"NNX34*'Makro i swap'!NNV4","v":0},{"$f":"NNY34*'Makro i swap'!NNW4","v":0},{"$f":"NNZ34*'Makro i swap'!NNX4","v":0},{"$f":"NOA34*'Makro i swap'!NNY4","v":0},{"$f":"NOB34*'Makro i swap'!NNZ4","v":0},{"$f":"NOC34*'Makro i swap'!NOA4","v":0},{"$f":"NOD34*'Makro i swap'!NOB4","v":0},{"$f":"NOE34*'Makro i swap'!NOC4","v":0},{"$f":"NOF34*'Makro i swap'!NOD4","v":0},{"$f":"NOG34*'Makro i swap'!NOE4","v":0},{"$f":"NOH34*'Makro i swap'!NOF4","v":0},{"$f":"NOI34*'Makro i swap'!NOG4","v":0},{"$f":"NOJ34*'Makro i swap'!NOH4","v":0},{"$f":"NOK34*'Makro i swap'!NOI4","v":0},{"$f":"NOL34*'Makro i swap'!NOJ4","v":0},{"$f":"NOM34*'Makro i swap'!NOK4","v":0},{"$f":"NON34*'Makro i swap'!NOL4","v":0},{"$f":"NOO34*'Makro i swap'!NOM4","v":0},{"$f":"NOP34*'Makro i swap'!NON4","v":0},{"$f":"NOQ34*'Makro i swap'!NOO4","v":0},{"$f":"NOR34*'Makro i swap'!NOP4","v":0},{"$f":"NOS34*'Makro i swap'!NOQ4","v":0},{"$f":"NOT34*'Makro i swap'!NOR4","v":0},{"$f":"NOU34*'Makro i swap'!NOS4","v":0},{"$f":"NOV34*'Makro i swap'!NOT4","v":0},{"$f":"NOW34*'Makro i swap'!NOU4","v":0},{"$f":"NOX34*'Makro i swap'!NOV4","v":0},{"$f":"NOY34*'Makro i swap'!NOW4","v":0},{"$f":"NOZ34*'Makro i swap'!NOX4","v":0},{"$f":"NPA34*'Makro i swap'!NOY4","v":0},{"$f":"NPB34*'Makro i swap'!NOZ4","v":0},{"$f":"NPC34*'Makro i swap'!NPA4","v":0},{"$f":"NPD34*'Makro i swap'!NPB4","v":0},{"$f":"NPE34*'Makro i swap'!NPC4","v":0},{"$f":"NPF34*'Makro i swap'!NPD4","v":0},{"$f":"NPG34*'Makro i swap'!NPE4","v":0},{"$f":"NPH34*'Makro i swap'!NPF4","v":0},{"$f":"NPI34*'Makro i swap'!NPG4","v":0},{"$f":"NPJ34*'Makro i swap'!NPH4","v":0},{"$f":"NPK34*'Makro i swap'!NPI4","v":0},{"$f":"NPL34*'Makro i swap'!NPJ4","v":0},{"$f":"NPM34*'Makro i swap'!NPK4","v":0},{"$f":"NPN34*'Makro i swap'!NPL4","v":0},{"$f":"NPO34*'Makro i swap'!NPM4","v":0},{"$f":"NPP34*'Makro i swap'!NPN4","v":0},{"$f":"NPQ34*'Makro i swap'!NPO4","v":0},{"$f":"NPR34*'Makro i swap'!NPP4","v":0},{"$f":"NPS34*'Makro i swap'!NPQ4","v":0},{"$f":"NPT34*'Makro i swap'!NPR4","v":0},{"$f":"NPU34*'Makro i swap'!NPS4","v":0},{"$f":"NPV34*'Makro i swap'!NPT4","v":0},{"$f":"NPW34*'Makro i swap'!NPU4","v":0},{"$f":"NPX34*'Makro i swap'!NPV4","v":0},{"$f":"NPY34*'Makro i swap'!NPW4","v":0},{"$f":"NPZ34*'Makro i swap'!NPX4","v":0},{"$f":"NQA34*'Makro i swap'!NPY4","v":0},{"$f":"NQB34*'Makro i swap'!NPZ4","v":0},{"$f":"NQC34*'Makro i swap'!NQA4","v":0},{"$f":"NQD34*'Makro i swap'!NQB4","v":0},{"$f":"NQE34*'Makro i swap'!NQC4","v":0},{"$f":"NQF34*'Makro i swap'!NQD4","v":0},{"$f":"NQG34*'Makro i swap'!NQE4","v":0},{"$f":"NQH34*'Makro i swap'!NQF4","v":0},{"$f":"NQI34*'Makro i swap'!NQG4","v":0},{"$f":"NQJ34*'Makro i swap'!NQH4","v":0},{"$f":"NQK34*'Makro i swap'!NQI4","v":0},{"$f":"NQL34*'Makro i swap'!NQJ4","v":0},{"$f":"NQM34*'Makro i swap'!NQK4","v":0},{"$f":"NQN34*'Makro i swap'!NQL4","v":0},{"$f":"NQO34*'Makro i swap'!NQM4","v":0},{"$f":"NQP34*'Makro i swap'!NQN4","v":0},{"$f":"NQQ34*'Makro i swap'!NQO4","v":0},{"$f":"NQR34*'Makro i swap'!NQP4","v":0},{"$f":"NQS34*'Makro i swap'!NQQ4","v":0},{"$f":"NQT34*'Makro i swap'!NQR4","v":0},{"$f":"NQU34*'Makro i swap'!NQS4","v":0},{"$f":"NQV34*'Makro i swap'!NQT4","v":0},{"$f":"NQW34*'Makro i swap'!NQU4","v":0},{"$f":"NQX34*'Makro i swap'!NQV4","v":0},{"$f":"NQY34*'Makro i swap'!NQW4","v":0},{"$f":"NQZ34*'Makro i swap'!NQX4","v":0},{"$f":"NRA34*'Makro i swap'!NQY4","v":0},{"$f":"NRB34*'Makro i swap'!NQZ4","v":0},{"$f":"NRC34*'Makro i swap'!NRA4","v":0},{"$f":"NRD34*'Makro i swap'!NRB4","v":0},{"$f":"NRE34*'Makro i swap'!NRC4","v":0},{"$f":"NRF34*'Makro i swap'!NRD4","v":0},{"$f":"NRG34*'Makro i swap'!NRE4","v":0},{"$f":"NRH34*'Makro i swap'!NRF4","v":0},{"$f":"NRI34*'Makro i swap'!NRG4","v":0},{"$f":"NRJ34*'Makro i swap'!NRH4","v":0},{"$f":"NRK34*'Makro i swap'!NRI4","v":0},{"$f":"NRL34*'Makro i swap'!NRJ4","v":0},{"$f":"NRM34*'Makro i swap'!NRK4","v":0},{"$f":"NRN34*'Makro i swap'!NRL4","v":0},{"$f":"NRO34*'Makro i swap'!NRM4","v":0},{"$f":"NRP34*'Makro i swap'!NRN4","v":0},{"$f":"NRQ34*'Makro i swap'!NRO4","v":0},{"$f":"NRR34*'Makro i swap'!NRP4","v":0},{"$f":"NRS34*'Makro i swap'!NRQ4","v":0},{"$f":"NRT34*'Makro i swap'!NRR4","v":0},{"$f":"NRU34*'Makro i swap'!NRS4","v":0},{"$f":"NRV34*'Makro i swap'!NRT4","v":0},{"$f":"NRW34*'Makro i swap'!NRU4","v":0},{"$f":"NRX34*'Makro i swap'!NRV4","v":0},{"$f":"NRY34*'Makro i swap'!NRW4","v":0},{"$f":"NRZ34*'Makro i swap'!NRX4","v":0},{"$f":"NSA34*'Makro i swap'!NRY4","v":0},{"$f":"NSB34*'Makro i swap'!NRZ4","v":0},{"$f":"NSC34*'Makro i swap'!NSA4","v":0},{"$f":"NSD34*'Makro i swap'!NSB4","v":0},{"$f":"NSE34*'Makro i swap'!NSC4","v":0},{"$f":"NSF34*'Makro i swap'!NSD4","v":0},{"$f":"NSG34*'Makro i swap'!NSE4","v":0},{"$f":"NSH34*'Makro i swap'!NSF4","v":0},{"$f":"NSI34*'Makro i swap'!NSG4","v":0},{"$f":"NSJ34*'Makro i swap'!NSH4","v":0},{"$f":"NSK34*'Makro i swap'!NSI4","v":0},{"$f":"NSL34*'Makro i swap'!NSJ4","v":0},{"$f":"NSM34*'Makro i swap'!NSK4","v":0},{"$f":"NSN34*'Makro i swap'!NSL4","v":0},{"$f":"NSO34*'Makro i swap'!NSM4","v":0},{"$f":"NSP34*'Makro i swap'!NSN4","v":0},{"$f":"NSQ34*'Makro i swap'!NSO4","v":0},{"$f":"NSR34*'Makro i swap'!NSP4","v":0},{"$f":"NSS34*'Makro i swap'!NSQ4","v":0},{"$f":"NST34*'Makro i swap'!NSR4","v":0},{"$f":"NSU34*'Makro i swap'!NSS4","v":0},{"$f":"NSV34*'Makro i swap'!NST4","v":0},{"$f":"NSW34*'Makro i swap'!NSU4","v":0},{"$f":"NSX34*'Makro i swap'!NSV4","v":0},{"$f":"NSY34*'Makro i swap'!NSW4","v":0},{"$f":"NSZ34*'Makro i swap'!NSX4","v":0},{"$f":"NTA34*'Makro i swap'!NSY4","v":0},{"$f":"NTB34*'Makro i swap'!NSZ4","v":0},{"$f":"NTC34*'Makro i swap'!NTA4","v":0},{"$f":"NTD34*'Makro i swap'!NTB4","v":0},{"$f":"NTE34*'Makro i swap'!NTC4","v":0},{"$f":"NTF34*'Makro i swap'!NTD4","v":0},{"$f":"NTG34*'Makro i swap'!NTE4","v":0},{"$f":"NTH34*'Makro i swap'!NTF4","v":0},{"$f":"NTI34*'Makro i swap'!NTG4","v":0},{"$f":"NTJ34*'Makro i swap'!NTH4","v":0},{"$f":"NTK34*'Makro i swap'!NTI4","v":0},{"$f":"NTL34*'Makro i swap'!NTJ4","v":0},{"$f":"NTM34*'Makro i swap'!NTK4","v":0},{"$f":"NTN34*'Makro i swap'!NTL4","v":0},{"$f":"NTO34*'Makro i swap'!NTM4","v":0},{"$f":"NTP34*'Makro i swap'!NTN4","v":0},{"$f":"NTQ34*'Makro i swap'!NTO4","v":0},{"$f":"NTR34*'Makro i swap'!NTP4","v":0},{"$f":"NTS34*'Makro i swap'!NTQ4","v":0},{"$f":"NTT34*'Makro i swap'!NTR4","v":0},{"$f":"NTU34*'Makro i swap'!NTS4","v":0},{"$f":"NTV34*'Makro i swap'!NTT4","v":0},{"$f":"NTW34*'Makro i swap'!NTU4","v":0},{"$f":"NTX34*'Makro i swap'!NTV4","v":0},{"$f":"NTY34*'Makro i swap'!NTW4","v":0},{"$f":"NTZ34*'Makro i swap'!NTX4","v":0},{"$f":"NUA34*'Makro i swap'!NTY4","v":0},{"$f":"NUB34*'Makro i swap'!NTZ4","v":0},{"$f":"NUC34*'Makro i swap'!NUA4","v":0},{"$f":"NUD34*'Makro i swap'!NUB4","v":0},{"$f":"NUE34*'Makro i swap'!NUC4","v":0},{"$f":"NUF34*'Makro i swap'!NUD4","v":0},{"$f":"NUG34*'Makro i swap'!NUE4","v":0},{"$f":"NUH34*'Makro i swap'!NUF4","v":0},{"$f":"NUI34*'Makro i swap'!NUG4","v":0},{"$f":"NUJ34*'Makro i swap'!NUH4","v":0},{"$f":"NUK34*'Makro i swap'!NUI4","v":0},{"$f":"NUL34*'Makro i swap'!NUJ4","v":0},{"$f":"NUM34*'Makro i swap'!NUK4","v":0},{"$f":"NUN34*'Makro i swap'!NUL4","v":0},{"$f":"NUO34*'Makro i swap'!NUM4","v":0},{"$f":"NUP34*'Makro i swap'!NUN4","v":0},{"$f":"NUQ34*'Makro i swap'!NUO4","v":0},{"$f":"NUR34*'Makro i swap'!NUP4","v":0},{"$f":"NUS34*'Makro i swap'!NUQ4","v":0},{"$f":"NUT34*'Makro i swap'!NUR4","v":0},{"$f":"NUU34*'Makro i swap'!NUS4","v":0},{"$f":"NUV34*'Makro i swap'!NUT4","v":0},{"$f":"NUW34*'Makro i swap'!NUU4","v":0},{"$f":"NUX34*'Makro i swap'!NUV4","v":0},{"$f":"NUY34*'Makro i swap'!NUW4","v":0},{"$f":"NUZ34*'Makro i swap'!NUX4","v":0},{"$f":"NVA34*'Makro i swap'!NUY4","v":0},{"$f":"NVB34*'Makro i swap'!NUZ4","v":0},{"$f":"NVC34*'Makro i swap'!NVA4","v":0},{"$f":"NVD34*'Makro i swap'!NVB4","v":0},{"$f":"NVE34*'Makro i swap'!NVC4","v":0},{"$f":"NVF34*'Makro i swap'!NVD4","v":0},{"$f":"NVG34*'Makro i swap'!NVE4","v":0},{"$f":"NVH34*'Makro i swap'!NVF4","v":0},{"$f":"NVI34*'Makro i swap'!NVG4","v":0},{"$f":"NVJ34*'Makro i swap'!NVH4","v":0},{"$f":"NVK34*'Makro i swap'!NVI4","v":0},{"$f":"NVL34*'Makro i swap'!NVJ4","v":0},{"$f":"NVM34*'Makro i swap'!NVK4","v":0},{"$f":"NVN34*'Makro i swap'!NVL4","v":0},{"$f":"NVO34*'Makro i swap'!NVM4","v":0},{"$f":"NVP34*'Makro i swap'!NVN4","v":0},{"$f":"NVQ34*'Makro i swap'!NVO4","v":0},{"$f":"NVR34*'Makro i swap'!NVP4","v":0},{"$f":"NVS34*'Makro i swap'!NVQ4","v":0},{"$f":"NVT34*'Makro i swap'!NVR4","v":0},{"$f":"NVU34*'Makro i swap'!NVS4","v":0},{"$f":"NVV34*'Makro i swap'!NVT4","v":0},{"$f":"NVW34*'Makro i swap'!NVU4","v":0},{"$f":"NVX34*'Makro i swap'!NVV4","v":0},{"$f":"NVY34*'Makro i swap'!NVW4","v":0},{"$f":"NVZ34*'Makro i swap'!NVX4","v":0},{"$f":"NWA34*'Makro i swap'!NVY4","v":0},{"$f":"NWB34*'Makro i swap'!NVZ4","v":0},{"$f":"NWC34*'Makro i swap'!NWA4","v":0},{"$f":"NWD34*'Makro i swap'!NWB4","v":0},{"$f":"NWE34*'Makro i swap'!NWC4","v":0},{"$f":"NWF34*'Makro i swap'!NWD4","v":0},{"$f":"NWG34*'Makro i swap'!NWE4","v":0},{"$f":"NWH34*'Makro i swap'!NWF4","v":0},{"$f":"NWI34*'Makro i swap'!NWG4","v":0},{"$f":"NWJ34*'Makro i swap'!NWH4","v":0},{"$f":"NWK34*'Makro i swap'!NWI4","v":0},{"$f":"NWL34*'Makro i swap'!NWJ4","v":0},{"$f":"NWM34*'Makro i swap'!NWK4","v":0},{"$f":"NWN34*'Makro i swap'!NWL4","v":0},{"$f":"NWO34*'Makro i swap'!NWM4","v":0},{"$f":"NWP34*'Makro i swap'!NWN4","v":0},{"$f":"NWQ34*'Makro i swap'!NWO4","v":0},{"$f":"NWR34*'Makro i swap'!NWP4","v":0},{"$f":"NWS34*'Makro i swap'!NWQ4","v":0},{"$f":"NWT34*'Makro i swap'!NWR4","v":0},{"$f":"NWU34*'Makro i swap'!NWS4","v":0},{"$f":"NWV34*'Makro i swap'!NWT4","v":0},{"$f":"NWW34*'Makro i swap'!NWU4","v":0},{"$f":"NWX34*'Makro i swap'!NWV4","v":0},{"$f":"NWY34*'Makro i swap'!NWW4","v":0},{"$f":"NWZ34*'Makro i swap'!NWX4","v":0},{"$f":"NXA34*'Makro i swap'!NWY4","v":0},{"$f":"NXB34*'Makro i swap'!NWZ4","v":0},{"$f":"NXC34*'Makro i swap'!NXA4","v":0},{"$f":"NXD34*'Makro i swap'!NXB4","v":0},{"$f":"NXE34*'Makro i swap'!NXC4","v":0},{"$f":"NXF34*'Makro i swap'!NXD4","v":0},{"$f":"NXG34*'Makro i swap'!NXE4","v":0},{"$f":"NXH34*'Makro i swap'!NXF4","v":0},{"$f":"NXI34*'Makro i swap'!NXG4","v":0},{"$f":"NXJ34*'Makro i swap'!NXH4","v":0},{"$f":"NXK34*'Makro i swap'!NXI4","v":0},{"$f":"NXL34*'Makro i swap'!NXJ4","v":0},{"$f":"NXM34*'Makro i swap'!NXK4","v":0},{"$f":"NXN34*'Makro i swap'!NXL4","v":0},{"$f":"NXO34*'Makro i swap'!NXM4","v":0},{"$f":"NXP34*'Makro i swap'!NXN4","v":0},{"$f":"NXQ34*'Makro i swap'!NXO4","v":0},{"$f":"NXR34*'Makro i swap'!NXP4","v":0},{"$f":"NXS34*'Makro i swap'!NXQ4","v":0},{"$f":"NXT34*'Makro i swap'!NXR4","v":0},{"$f":"NXU34*'Makro i swap'!NXS4","v":0},{"$f":"NXV34*'Makro i swap'!NXT4","v":0},{"$f":"NXW34*'Makro i swap'!NXU4","v":0},{"$f":"NXX34*'Makro i swap'!NXV4","v":0},{"$f":"NXY34*'Makro i swap'!NXW4","v":0},{"$f":"NXZ34*'Makro i swap'!NXX4","v":0},{"$f":"NYA34*'Makro i swap'!NXY4","v":0},{"$f":"NYB34*'Makro i swap'!NXZ4","v":0},{"$f":"NYC34*'Makro i swap'!NYA4","v":0},{"$f":"NYD34*'Makro i swap'!NYB4","v":0},{"$f":"NYE34*'Makro i swap'!NYC4","v":0},{"$f":"NYF34*'Makro i swap'!NYD4","v":0},{"$f":"NYG34*'Makro i swap'!NYE4","v":0},{"$f":"NYH34*'Makro i swap'!NYF4","v":0},{"$f":"NYI34*'Makro i swap'!NYG4","v":0},{"$f":"NYJ34*'Makro i swap'!NYH4","v":0},{"$f":"NYK34*'Makro i swap'!NYI4","v":0},{"$f":"NYL34*'Makro i swap'!NYJ4","v":0},{"$f":"NYM34*'Makro i swap'!NYK4","v":0},{"$f":"NYN34*'Makro i swap'!NYL4","v":0},{"$f":"NYO34*'Makro i swap'!NYM4","v":0},{"$f":"NYP34*'Makro i swap'!NYN4","v":0},{"$f":"NYQ34*'Makro i swap'!NYO4","v":0},{"$f":"NYR34*'Makro i swap'!NYP4","v":0},{"$f":"NYS34*'Makro i swap'!NYQ4","v":0},{"$f":"NYT34*'Makro i swap'!NYR4","v":0},{"$f":"NYU34*'Makro i swap'!NYS4","v":0},{"$f":"NYV34*'Makro i swap'!NYT4","v":0},{"$f":"NYW34*'Makro i swap'!NYU4","v":0},{"$f":"NYX34*'Makro i swap'!NYV4","v":0},{"$f":"NYY34*'Makro i swap'!NYW4","v":0},{"$f":"NYZ34*'Makro i swap'!NYX4","v":0},{"$f":"NZA34*'Makro i swap'!NYY4","v":0},{"$f":"NZB34*'Makro i swap'!NYZ4","v":0},{"$f":"NZC34*'Makro i swap'!NZA4","v":0},{"$f":"NZD34*'Makro i swap'!NZB4","v":0},{"$f":"NZE34*'Makro i swap'!NZC4","v":0},{"$f":"NZF34*'Makro i swap'!NZD4","v":0},{"$f":"NZG34*'Makro i swap'!NZE4","v":0},{"$f":"NZH34*'Makro i swap'!NZF4","v":0},{"$f":"NZI34*'Makro i swap'!NZG4","v":0},{"$f":"NZJ34*'Makro i swap'!NZH4","v":0},{"$f":"NZK34*'Makro i swap'!NZI4","v":0},{"$f":"NZL34*'Makro i swap'!NZJ4","v":0},{"$f":"NZM34*'Makro i swap'!NZK4","v":0},{"$f":"NZN34*'Makro i swap'!NZL4","v":0},{"$f":"NZO34*'Makro i swap'!NZM4","v":0},{"$f":"NZP34*'Makro i swap'!NZN4","v":0},{"$f":"NZQ34*'Makro i swap'!NZO4","v":0},{"$f":"NZR34*'Makro i swap'!NZP4","v":0},{"$f":"NZS34*'Makro i swap'!NZQ4","v":0},{"$f":"NZT34*'Makro i swap'!NZR4","v":0},{"$f":"NZU34*'Makro i swap'!NZS4","v":0},{"$f":"NZV34*'Makro i swap'!NZT4","v":0},{"$f":"NZW34*'Makro i swap'!NZU4","v":0},{"$f":"NZX34*'Makro i swap'!NZV4","v":0},{"$f":"NZY34*'Makro i swap'!NZW4","v":0},{"$f":"NZZ34*'Makro i swap'!NZX4","v":0},{"$f":"OAA34*'Makro i swap'!NZY4","v":0},{"$f":"OAB34*'Makro i swap'!NZZ4","v":0},{"$f":"OAC34*'Makro i swap'!OAA4","v":0},{"$f":"OAD34*'Makro i swap'!OAB4","v":0},{"$f":"OAE34*'Makro i swap'!OAC4","v":0},{"$f":"OAF34*'Makro i swap'!OAD4","v":0},{"$f":"OAG34*'Makro i swap'!OAE4","v":0},{"$f":"OAH34*'Makro i swap'!OAF4","v":0},{"$f":"OAI34*'Makro i swap'!OAG4","v":0},{"$f":"OAJ34*'Makro i swap'!OAH4","v":0},{"$f":"OAK34*'Makro i swap'!OAI4","v":0},{"$f":"OAL34*'Makro i swap'!OAJ4","v":0},{"$f":"OAM34*'Makro i swap'!OAK4","v":0},{"$f":"OAN34*'Makro i swap'!OAL4","v":0},{"$f":"OAO34*'Makro i swap'!OAM4","v":0},{"$f":"OAP34*'Makro i swap'!OAN4","v":0},{"$f":"OAQ34*'Makro i swap'!OAO4","v":0},{"$f":"OAR34*'Makro i swap'!OAP4","v":0},{"$f":"OAS34*'Makro i swap'!OAQ4","v":0},{"$f":"OAT34*'Makro i swap'!OAR4","v":0},{"$f":"OAU34*'Makro i swap'!OAS4","v":0},{"$f":"OAV34*'Makro i swap'!OAT4","v":0},{"$f":"OAW34*'Makro i swap'!OAU4","v":0},{"$f":"OAX34*'Makro i swap'!OAV4","v":0},{"$f":"OAY34*'Makro i swap'!OAW4","v":0},{"$f":"OAZ34*'Makro i swap'!OAX4","v":0},{"$f":"OBA34*'Makro i swap'!OAY4","v":0},{"$f":"OBB34*'Makro i swap'!OAZ4","v":0},{"$f":"OBC34*'Makro i swap'!OBA4","v":0},{"$f":"OBD34*'Makro i swap'!OBB4","v":0},{"$f":"OBE34*'Makro i swap'!OBC4","v":0},{"$f":"OBF34*'Makro i swap'!OBD4","v":0},{"$f":"OBG34*'Makro i swap'!OBE4","v":0},{"$f":"OBH34*'Makro i swap'!OBF4","v":0},{"$f":"OBI34*'Makro i swap'!OBG4","v":0},{"$f":"OBJ34*'Makro i swap'!OBH4","v":0},{"$f":"OBK34*'Makro i swap'!OBI4","v":0},{"$f":"OBL34*'Makro i swap'!OBJ4","v":0},{"$f":"OBM34*'Makro i swap'!OBK4","v":0},{"$f":"OBN34*'Makro i swap'!OBL4","v":0},{"$f":"OBO34*'Makro i swap'!OBM4","v":0},{"$f":"OBP34*'Makro i swap'!OBN4","v":0},{"$f":"OBQ34*'Makro i swap'!OBO4","v":0},{"$f":"OBR34*'Makro i swap'!OBP4","v":0},{"$f":"OBS34*'Makro i swap'!OBQ4","v":0},{"$f":"OBT34*'Makro i swap'!OBR4","v":0},{"$f":"OBU34*'Makro i swap'!OBS4","v":0},{"$f":"OBV34*'Makro i swap'!OBT4","v":0},{"$f":"OBW34*'Makro i swap'!OBU4","v":0},{"$f":"OBX34*'Makro i swap'!OBV4","v":0},{"$f":"OBY34*'Makro i swap'!OBW4","v":0},{"$f":"OBZ34*'Makro i swap'!OBX4","v":0},{"$f":"OCA34*'Makro i swap'!OBY4","v":0},{"$f":"OCB34*'Makro i swap'!OBZ4","v":0},{"$f":"OCC34*'Makro i swap'!OCA4","v":0},{"$f":"OCD34*'Makro i swap'!OCB4","v":0},{"$f":"OCE34*'Makro i swap'!OCC4","v":0},{"$f":"OCF34*'Makro i swap'!OCD4","v":0},{"$f":"OCG34*'Makro i swap'!OCE4","v":0},{"$f":"OCH34*'Makro i swap'!OCF4","v":0},{"$f":"OCI34*'Makro i swap'!OCG4","v":0},{"$f":"OCJ34*'Makro i swap'!OCH4","v":0},{"$f":"OCK34*'Makro i swap'!OCI4","v":0},{"$f":"OCL34*'Makro i swap'!OCJ4","v":0},{"$f":"OCM34*'Makro i swap'!OCK4","v":0},{"$f":"OCN34*'Makro i swap'!OCL4","v":0},{"$f":"OCO34*'Makro i swap'!OCM4","v":0},{"$f":"OCP34*'Makro i swap'!OCN4","v":0},{"$f":"OCQ34*'Makro i swap'!OCO4","v":0},{"$f":"OCR34*'Makro i swap'!OCP4","v":0},{"$f":"OCS34*'Makro i swap'!OCQ4","v":0},{"$f":"OCT34*'Makro i swap'!OCR4","v":0},{"$f":"OCU34*'Makro i swap'!OCS4","v":0},{"$f":"OCV34*'Makro i swap'!OCT4","v":0},{"$f":"OCW34*'Makro i swap'!OCU4","v":0},{"$f":"OCX34*'Makro i swap'!OCV4","v":0},{"$f":"OCY34*'Makro i swap'!OCW4","v":0},{"$f":"OCZ34*'Makro i swap'!OCX4","v":0},{"$f":"ODA34*'Makro i swap'!OCY4","v":0},{"$f":"ODB34*'Makro i swap'!OCZ4","v":0},{"$f":"ODC34*'Makro i swap'!ODA4","v":0},{"$f":"ODD34*'Makro i swap'!ODB4","v":0},{"$f":"ODE34*'Makro i swap'!ODC4","v":0},{"$f":"ODF34*'Makro i swap'!ODD4","v":0},{"$f":"ODG34*'Makro i swap'!ODE4","v":0},{"$f":"ODH34*'Makro i swap'!ODF4","v":0},{"$f":"ODI34*'Makro i swap'!ODG4","v":0},{"$f":"ODJ34*'Makro i swap'!ODH4","v":0},{"$f":"ODK34*'Makro i swap'!ODI4","v":0},{"$f":"ODL34*'Makro i swap'!ODJ4","v":0},{"$f":"ODM34*'Makro i swap'!ODK4","v":0},{"$f":"ODN34*'Makro i swap'!ODL4","v":0},{"$f":"ODO34*'Makro i swap'!ODM4","v":0},{"$f":"ODP34*'Makro i swap'!ODN4","v":0},{"$f":"ODQ34*'Makro i swap'!ODO4","v":0},{"$f":"ODR34*'Makro i swap'!ODP4","v":0},{"$f":"ODS34*'Makro i swap'!ODQ4","v":0},{"$f":"ODT34*'Makro i swap'!ODR4","v":0},{"$f":"ODU34*'Makro i swap'!ODS4","v":0},{"$f":"ODV34*'Makro i swap'!ODT4","v":0},{"$f":"ODW34*'Makro i swap'!ODU4","v":0},{"$f":"ODX34*'Makro i swap'!ODV4","v":0},{"$f":"ODY34*'Makro i swap'!ODW4","v":0},{"$f":"ODZ34*'Makro i swap'!ODX4","v":0},{"$f":"OEA34*'Makro i swap'!ODY4","v":0},{"$f":"OEB34*'Makro i swap'!ODZ4","v":0},{"$f":"OEC34*'Makro i swap'!OEA4","v":0},{"$f":"OED34*'Makro i swap'!OEB4","v":0},{"$f":"OEE34*'Makro i swap'!OEC4","v":0},{"$f":"OEF34*'Makro i swap'!OED4","v":0},{"$f":"OEG34*'Makro i swap'!OEE4","v":0},{"$f":"OEH34*'Makro i swap'!OEF4","v":0},{"$f":"OEI34*'Makro i swap'!OEG4","v":0},{"$f":"OEJ34*'Makro i swap'!OEH4","v":0},{"$f":"OEK34*'Makro i swap'!OEI4","v":0},{"$f":"OEL34*'Makro i swap'!OEJ4","v":0},{"$f":"OEM34*'Makro i swap'!OEK4","v":0},{"$f":"OEN34*'Makro i swap'!OEL4","v":0},{"$f":"OEO34*'Makro i swap'!OEM4","v":0},{"$f":"OEP34*'Makro i swap'!OEN4","v":0},{"$f":"OEQ34*'Makro i swap'!OEO4","v":0},{"$f":"OER34*'Makro i swap'!OEP4","v":0},{"$f":"OES34*'Makro i swap'!OEQ4","v":0},{"$f":"OET34*'Makro i swap'!OER4","v":0},{"$f":"OEU34*'Makro i swap'!OES4","v":0},{"$f":"OEV34*'Makro i swap'!OET4","v":0},{"$f":"OEW34*'Makro i swap'!OEU4","v":0},{"$f":"OEX34*'Makro i swap'!OEV4","v":0},{"$f":"OEY34*'Makro i swap'!OEW4","v":0},{"$f":"OEZ34*'Makro i swap'!OEX4","v":0},{"$f":"OFA34*'Makro i swap'!OEY4","v":0},{"$f":"OFB34*'Makro i swap'!OEZ4","v":0},{"$f":"OFC34*'Makro i swap'!OFA4","v":0},{"$f":"OFD34*'Makro i swap'!OFB4","v":0},{"$f":"OFE34*'Makro i swap'!OFC4","v":0},{"$f":"OFF34*'Makro i swap'!OFD4","v":0},{"$f":"OFG34*'Makro i swap'!OFE4","v":0},{"$f":"OFH34*'Makro i swap'!OFF4","v":0},{"$f":"OFI34*'Makro i swap'!OFG4","v":0},{"$f":"OFJ34*'Makro i swap'!OFH4","v":0},{"$f":"OFK34*'Makro i swap'!OFI4","v":0},{"$f":"OFL34*'Makro i swap'!OFJ4","v":0},{"$f":"OFM34*'Makro i swap'!OFK4","v":0},{"$f":"OFN34*'Makro i swap'!OFL4","v":0},{"$f":"OFO34*'Makro i swap'!OFM4","v":0},{"$f":"OFP34*'Makro i swap'!OFN4","v":0},{"$f":"OFQ34*'Makro i swap'!OFO4","v":0},{"$f":"OFR34*'Makro i swap'!OFP4","v":0},{"$f":"OFS34*'Makro i swap'!OFQ4","v":0},{"$f":"OFT34*'Makro i swap'!OFR4","v":0},{"$f":"OFU34*'Makro i swap'!OFS4","v":0},{"$f":"OFV34*'Makro i swap'!OFT4","v":0},{"$f":"OFW34*'Makro i swap'!OFU4","v":0},{"$f":"OFX34*'Makro i swap'!OFV4","v":0},{"$f":"OFY34*'Makro i swap'!OFW4","v":0},{"$f":"OFZ34*'Makro i swap'!OFX4","v":0},{"$f":"OGA34*'Makro i swap'!OFY4","v":0},{"$f":"OGB34*'Makro i swap'!OFZ4","v":0},{"$f":"OGC34*'Makro i swap'!OGA4","v":0},{"$f":"OGD34*'Makro i swap'!OGB4","v":0},{"$f":"OGE34*'Makro i swap'!OGC4","v":0},{"$f":"OGF34*'Makro i swap'!OGD4","v":0},{"$f":"OGG34*'Makro i swap'!OGE4","v":0},{"$f":"OGH34*'Makro i swap'!OGF4","v":0},{"$f":"OGI34*'Makro i swap'!OGG4","v":0},{"$f":"OGJ34*'Makro i swap'!OGH4","v":0},{"$f":"OGK34*'Makro i swap'!OGI4","v":0},{"$f":"OGL34*'Makro i swap'!OGJ4","v":0},{"$f":"OGM34*'Makro i swap'!OGK4","v":0},{"$f":"OGN34*'Makro i swap'!OGL4","v":0},{"$f":"OGO34*'Makro i swap'!OGM4","v":0},{"$f":"OGP34*'Makro i swap'!OGN4","v":0},{"$f":"OGQ34*'Makro i swap'!OGO4","v":0},{"$f":"OGR34*'Makro i swap'!OGP4","v":0},{"$f":"OGS34*'Makro i swap'!OGQ4","v":0},{"$f":"OGT34*'Makro i swap'!OGR4","v":0},{"$f":"OGU34*'Makro i swap'!OGS4","v":0},{"$f":"OGV34*'Makro i swap'!OGT4","v":0},{"$f":"OGW34*'Makro i swap'!OGU4","v":0},{"$f":"OGX34*'Makro i swap'!OGV4","v":0},{"$f":"OGY34*'Makro i swap'!OGW4","v":0},{"$f":"OGZ34*'Makro i swap'!OGX4","v":0},{"$f":"OHA34*'Makro i swap'!OGY4","v":0},{"$f":"OHB34*'Makro i swap'!OGZ4","v":0},{"$f":"OHC34*'Makro i swap'!OHA4","v":0},{"$f":"OHD34*'Makro i swap'!OHB4","v":0},{"$f":"OHE34*'Makro i swap'!OHC4","v":0},{"$f":"OHF34*'Makro i swap'!OHD4","v":0},{"$f":"OHG34*'Makro i swap'!OHE4","v":0},{"$f":"OHH34*'Makro i swap'!OHF4","v":0},{"$f":"OHI34*'Makro i swap'!OHG4","v":0},{"$f":"OHJ34*'Makro i swap'!OHH4","v":0},{"$f":"OHK34*'Makro i swap'!OHI4","v":0},{"$f":"OHL34*'Makro i swap'!OHJ4","v":0},{"$f":"OHM34*'Makro i swap'!OHK4","v":0},{"$f":"OHN34*'Makro i swap'!OHL4","v":0},{"$f":"OHO34*'Makro i swap'!OHM4","v":0},{"$f":"OHP34*'Makro i swap'!OHN4","v":0},{"$f":"OHQ34*'Makro i swap'!OHO4","v":0},{"$f":"OHR34*'Makro i swap'!OHP4","v":0},{"$f":"OHS34*'Makro i swap'!OHQ4","v":0},{"$f":"OHT34*'Makro i swap'!OHR4","v":0},{"$f":"OHU34*'Makro i swap'!OHS4","v":0},{"$f":"OHV34*'Makro i swap'!OHT4","v":0},{"$f":"OHW34*'Makro i swap'!OHU4","v":0},{"$f":"OHX34*'Makro i swap'!OHV4","v":0},{"$f":"OHY34*'Makro i swap'!OHW4","v":0},{"$f":"OHZ34*'Makro i swap'!OHX4","v":0},{"$f":"OIA34*'Makro i swap'!OHY4","v":0},{"$f":"OIB34*'Makro i swap'!OHZ4","v":0},{"$f":"OIC34*'Makro i swap'!OIA4","v":0},{"$f":"OID34*'Makro i swap'!OIB4","v":0},{"$f":"OIE34*'Makro i swap'!OIC4","v":0},{"$f":"OIF34*'Makro i swap'!OID4","v":0},{"$f":"OIG34*'Makro i swap'!OIE4","v":0},{"$f":"OIH34*'Makro i swap'!OIF4","v":0},{"$f":"OII34*'Makro i swap'!OIG4","v":0},{"$f":"OIJ34*'Makro i swap'!OIH4","v":0},{"$f":"OIK34*'Makro i swap'!OII4","v":0},{"$f":"OIL34*'Makro i swap'!OIJ4","v":0},{"$f":"OIM34*'Makro i swap'!OIK4","v":0},{"$f":"OIN34*'Makro i swap'!OIL4","v":0},{"$f":"OIO34*'Makro i swap'!OIM4","v":0},{"$f":"OIP34*'Makro i swap'!OIN4","v":0},{"$f":"OIQ34*'Makro i swap'!OIO4","v":0},{"$f":"OIR34*'Makro i swap'!OIP4","v":0},{"$f":"OIS34*'Makro i swap'!OIQ4","v":0},{"$f":"OIT34*'Makro i swap'!OIR4","v":0},{"$f":"OIU34*'Makro i swap'!OIS4","v":0},{"$f":"OIV34*'Makro i swap'!OIT4","v":0},{"$f":"OIW34*'Makro i swap'!OIU4","v":0},{"$f":"OIX34*'Makro i swap'!OIV4","v":0},{"$f":"OIY34*'Makro i swap'!OIW4","v":0},{"$f":"OIZ34*'Makro i swap'!OIX4","v":0},{"$f":"OJA34*'Makro i swap'!OIY4","v":0},{"$f":"OJB34*'Makro i swap'!OIZ4","v":0},{"$f":"OJC34*'Makro i swap'!OJA4","v":0},{"$f":"OJD34*'Makro i swap'!OJB4","v":0},{"$f":"OJE34*'Makro i swap'!OJC4","v":0},{"$f":"OJF34*'Makro i swap'!OJD4","v":0},{"$f":"OJG34*'Makro i swap'!OJE4","v":0},{"$f":"OJH34*'Makro i swap'!OJF4","v":0},{"$f":"OJI34*'Makro i swap'!OJG4","v":0},{"$f":"OJJ34*'Makro i swap'!OJH4","v":0},{"$f":"OJK34*'Makro i swap'!OJI4","v":0},{"$f":"OJL34*'Makro i swap'!OJJ4","v":0},{"$f":"OJM34*'Makro i swap'!OJK4","v":0},{"$f":"OJN34*'Makro i swap'!OJL4","v":0},{"$f":"OJO34*'Makro i swap'!OJM4","v":0},{"$f":"OJP34*'Makro i swap'!OJN4","v":0},{"$f":"OJQ34*'Makro i swap'!OJO4","v":0},{"$f":"OJR34*'Makro i swap'!OJP4","v":0},{"$f":"OJS34*'Makro i swap'!OJQ4","v":0},{"$f":"OJT34*'Makro i swap'!OJR4","v":0},{"$f":"OJU34*'Makro i swap'!OJS4","v":0},{"$f":"OJV34*'Makro i swap'!OJT4","v":0},{"$f":"OJW34*'Makro i swap'!OJU4","v":0},{"$f":"OJX34*'Makro i swap'!OJV4","v":0},{"$f":"OJY34*'Makro i swap'!OJW4","v":0},{"$f":"OJZ34*'Makro i swap'!OJX4","v":0},{"$f":"OKA34*'Makro i swap'!OJY4","v":0},{"$f":"OKB34*'Makro i swap'!OJZ4","v":0},{"$f":"OKC34*'Makro i swap'!OKA4","v":0},{"$f":"OKD34*'Makro i swap'!OKB4","v":0},{"$f":"OKE34*'Makro i swap'!OKC4","v":0},{"$f":"OKF34*'Makro i swap'!OKD4","v":0},{"$f":"OKG34*'Makro i swap'!OKE4","v":0},{"$f":"OKH34*'Makro i swap'!OKF4","v":0},{"$f":"OKI34*'Makro i swap'!OKG4","v":0},{"$f":"OKJ34*'Makro i swap'!OKH4","v":0},{"$f":"OKK34*'Makro i swap'!OKI4","v":0},{"$f":"OKL34*'Makro i swap'!OKJ4","v":0},{"$f":"OKM34*'Makro i swap'!OKK4","v":0},{"$f":"OKN34*'Makro i swap'!OKL4","v":0},{"$f":"OKO34*'Makro i swap'!OKM4","v":0},{"$f":"OKP34*'Makro i swap'!OKN4","v":0},{"$f":"OKQ34*'Makro i swap'!OKO4","v":0},{"$f":"OKR34*'Makro i swap'!OKP4","v":0},{"$f":"OKS34*'Makro i swap'!OKQ4","v":0},{"$f":"OKT34*'Makro i swap'!OKR4","v":0},{"$f":"OKU34*'Makro i swap'!OKS4","v":0},{"$f":"OKV34*'Makro i swap'!OKT4","v":0},{"$f":"OKW34*'Makro i swap'!OKU4","v":0},{"$f":"OKX34*'Makro i swap'!OKV4","v":0},{"$f":"OKY34*'Makro i swap'!OKW4","v":0},{"$f":"OKZ34*'Makro i swap'!OKX4","v":0},{"$f":"OLA34*'Makro i swap'!OKY4","v":0},{"$f":"OLB34*'Makro i swap'!OKZ4","v":0},{"$f":"OLC34*'Makro i swap'!OLA4","v":0},{"$f":"OLD34*'Makro i swap'!OLB4","v":0},{"$f":"OLE34*'Makro i swap'!OLC4","v":0},{"$f":"OLF34*'Makro i swap'!OLD4","v":0},{"$f":"OLG34*'Makro i swap'!OLE4","v":0},{"$f":"OLH34*'Makro i swap'!OLF4","v":0},{"$f":"OLI34*'Makro i swap'!OLG4","v":0},{"$f":"OLJ34*'Makro i swap'!OLH4","v":0},{"$f":"OLK34*'Makro i swap'!OLI4","v":0},{"$f":"OLL34*'Makro i swap'!OLJ4","v":0},{"$f":"OLM34*'Makro i swap'!OLK4","v":0},{"$f":"OLN34*'Makro i swap'!OLL4","v":0},{"$f":"OLO34*'Makro i swap'!OLM4","v":0},{"$f":"OLP34*'Makro i swap'!OLN4","v":0},{"$f":"OLQ34*'Makro i swap'!OLO4","v":0},{"$f":"OLR34*'Makro i swap'!OLP4","v":0},{"$f":"OLS34*'Makro i swap'!OLQ4","v":0},{"$f":"OLT34*'Makro i swap'!OLR4","v":0},{"$f":"OLU34*'Makro i swap'!OLS4","v":0},{"$f":"OLV34*'Makro i swap'!OLT4","v":0},{"$f":"OLW34*'Makro i swap'!OLU4","v":0},{"$f":"OLX34*'Makro i swap'!OLV4","v":0},{"$f":"OLY34*'Makro i swap'!OLW4","v":0},{"$f":"OLZ34*'Makro i swap'!OLX4","v":0},{"$f":"OMA34*'Makro i swap'!OLY4","v":0},{"$f":"OMB34*'Makro i swap'!OLZ4","v":0},{"$f":"OMC34*'Makro i swap'!OMA4","v":0},{"$f":"OMD34*'Makro i swap'!OMB4","v":0},{"$f":"OME34*'Makro i swap'!OMC4","v":0},{"$f":"OMF34*'Makro i swap'!OMD4","v":0},{"$f":"OMG34*'Makro i swap'!OME4","v":0},{"$f":"OMH34*'Makro i swap'!OMF4","v":0},{"$f":"OMI34*'Makro i swap'!OMG4","v":0},{"$f":"OMJ34*'Makro i swap'!OMH4","v":0},{"$f":"OMK34*'Makro i swap'!OMI4","v":0},{"$f":"OML34*'Makro i swap'!OMJ4","v":0},{"$f":"OMM34*'Makro i swap'!OMK4","v":0},{"$f":"OMN34*'Makro i swap'!OML4","v":0},{"$f":"OMO34*'Makro i swap'!OMM4","v":0},{"$f":"OMP34*'Makro i swap'!OMN4","v":0},{"$f":"OMQ34*'Makro i swap'!OMO4","v":0},{"$f":"OMR34*'Makro i swap'!OMP4","v":0},{"$f":"OMS34*'Makro i swap'!OMQ4","v":0},{"$f":"OMT34*'Makro i swap'!OMR4","v":0},{"$f":"OMU34*'Makro i swap'!OMS4","v":0},{"$f":"OMV34*'Makro i swap'!OMT4","v":0},{"$f":"OMW34*'Makro i swap'!OMU4","v":0},{"$f":"OMX34*'Makro i swap'!OMV4","v":0},{"$f":"OMY34*'Makro i swap'!OMW4","v":0},{"$f":"OMZ34*'Makro i swap'!OMX4","v":0},{"$f":"ONA34*'Makro i swap'!OMY4","v":0},{"$f":"ONB34*'Makro i swap'!OMZ4","v":0},{"$f":"ONC34*'Makro i swap'!ONA4","v":0},{"$f":"OND34*'Makro i swap'!ONB4","v":0},{"$f":"ONE34*'Makro i swap'!ONC4","v":0},{"$f":"ONF34*'Makro i swap'!OND4","v":0},{"$f":"ONG34*'Makro i swap'!ONE4","v":0},{"$f":"ONH34*'Makro i swap'!ONF4","v":0},{"$f":"ONI34*'Makro i swap'!ONG4","v":0},{"$f":"ONJ34*'Makro i swap'!ONH4","v":0},{"$f":"ONK34*'Makro i swap'!ONI4","v":0},{"$f":"ONL34*'Makro i swap'!ONJ4","v":0},{"$f":"ONM34*'Makro i swap'!ONK4","v":0},{"$f":"ONN34*'Makro i swap'!ONL4","v":0},{"$f":"ONO34*'Makro i swap'!ONM4","v":0},{"$f":"ONP34*'Makro i swap'!ONN4","v":0},{"$f":"ONQ34*'Makro i swap'!ONO4","v":0},{"$f":"ONR34*'Makro i swap'!ONP4","v":0},{"$f":"ONS34*'Makro i swap'!ONQ4","v":0},{"$f":"ONT34*'Makro i swap'!ONR4","v":0},{"$f":"ONU34*'Makro i swap'!ONS4","v":0},{"$f":"ONV34*'Makro i swap'!ONT4","v":0},{"$f":"ONW34*'Makro i swap'!ONU4","v":0},{"$f":"ONX34*'Makro i swap'!ONV4","v":0},{"$f":"ONY34*'Makro i swap'!ONW4","v":0},{"$f":"ONZ34*'Makro i swap'!ONX4","v":0},{"$f":"OOA34*'Makro i swap'!ONY4","v":0},{"$f":"OOB34*'Makro i swap'!ONZ4","v":0},{"$f":"OOC34*'Makro i swap'!OOA4","v":0},{"$f":"OOD34*'Makro i swap'!OOB4","v":0},{"$f":"OOE34*'Makro i swap'!OOC4","v":0},{"$f":"OOF34*'Makro i swap'!OOD4","v":0},{"$f":"OOG34*'Makro i swap'!OOE4","v":0},{"$f":"OOH34*'Makro i swap'!OOF4","v":0},{"$f":"OOI34*'Makro i swap'!OOG4","v":0},{"$f":"OOJ34*'Makro i swap'!OOH4","v":0},{"$f":"OOK34*'Makro i swap'!OOI4","v":0},{"$f":"OOL34*'Makro i swap'!OOJ4","v":0},{"$f":"OOM34*'Makro i swap'!OOK4","v":0},{"$f":"OON34*'Makro i swap'!OOL4","v":0},{"$f":"OOO34*'Makro i swap'!OOM4","v":0},{"$f":"OOP34*'Makro i swap'!OON4","v":0},{"$f":"OOQ34*'Makro i swap'!OOO4","v":0},{"$f":"OOR34*'Makro i swap'!OOP4","v":0},{"$f":"OOS34*'Makro i swap'!OOQ4","v":0},{"$f":"OOT34*'Makro i swap'!OOR4","v":0},{"$f":"OOU34*'Makro i swap'!OOS4","v":0},{"$f":"OOV34*'Makro i swap'!OOT4","v":0},{"$f":"OOW34*'Makro i swap'!OOU4","v":0},{"$f":"OOX34*'Makro i swap'!OOV4","v":0},{"$f":"OOY34*'Makro i swap'!OOW4","v":0},{"$f":"OOZ34*'Makro i swap'!OOX4","v":0},{"$f":"OPA34*'Makro i swap'!OOY4","v":0},{"$f":"OPB34*'Makro i swap'!OOZ4","v":0},{"$f":"OPC34*'Makro i swap'!OPA4","v":0},{"$f":"OPD34*'Makro i swap'!OPB4","v":0},{"$f":"OPE34*'Makro i swap'!OPC4","v":0},{"$f":"OPF34*'Makro i swap'!OPD4","v":0},{"$f":"OPG34*'Makro i swap'!OPE4","v":0},{"$f":"OPH34*'Makro i swap'!OPF4","v":0},{"$f":"OPI34*'Makro i swap'!OPG4","v":0},{"$f":"OPJ34*'Makro i swap'!OPH4","v":0},{"$f":"OPK34*'Makro i swap'!OPI4","v":0},{"$f":"OPL34*'Makro i swap'!OPJ4","v":0},{"$f":"OPM34*'Makro i swap'!OPK4","v":0},{"$f":"OPN34*'Makro i swap'!OPL4","v":0},{"$f":"OPO34*'Makro i swap'!OPM4","v":0},{"$f":"OPP34*'Makro i swap'!OPN4","v":0},{"$f":"OPQ34*'Makro i swap'!OPO4","v":0},{"$f":"OPR34*'Makro i swap'!OPP4","v":0},{"$f":"OPS34*'Makro i swap'!OPQ4","v":0},{"$f":"OPT34*'Makro i swap'!OPR4","v":0},{"$f":"OPU34*'Makro i swap'!OPS4","v":0},{"$f":"OPV34*'Makro i swap'!OPT4","v":0},{"$f":"OPW34*'Makro i swap'!OPU4","v":0},{"$f":"OPX34*'Makro i swap'!OPV4","v":0},{"$f":"OPY34*'Makro i swap'!OPW4","v":0},{"$f":"OPZ34*'Makro i swap'!OPX4","v":0},{"$f":"OQA34*'Makro i swap'!OPY4","v":0},{"$f":"OQB34*'Makro i swap'!OPZ4","v":0},{"$f":"OQC34*'Makro i swap'!OQA4","v":0},{"$f":"OQD34*'Makro i swap'!OQB4","v":0},{"$f":"OQE34*'Makro i swap'!OQC4","v":0},{"$f":"OQF34*'Makro i swap'!OQD4","v":0},{"$f":"OQG34*'Makro i swap'!OQE4","v":0},{"$f":"OQH34*'Makro i swap'!OQF4","v":0},{"$f":"OQI34*'Makro i swap'!OQG4","v":0},{"$f":"OQJ34*'Makro i swap'!OQH4","v":0},{"$f":"OQK34*'Makro i swap'!OQI4","v":0},{"$f":"OQL34*'Makro i swap'!OQJ4","v":0},{"$f":"OQM34*'Makro i swap'!OQK4","v":0},{"$f":"OQN34*'Makro i swap'!OQL4","v":0},{"$f":"OQO34*'Makro i swap'!OQM4","v":0},{"$f":"OQP34*'Makro i swap'!OQN4","v":0},{"$f":"OQQ34*'Makro i swap'!OQO4","v":0},{"$f":"OQR34*'Makro i swap'!OQP4","v":0},{"$f":"OQS34*'Makro i swap'!OQQ4","v":0},{"$f":"OQT34*'Makro i swap'!OQR4","v":0},{"$f":"OQU34*'Makro i swap'!OQS4","v":0},{"$f":"OQV34*'Makro i swap'!OQT4","v":0},{"$f":"OQW34*'Makro i swap'!OQU4","v":0},{"$f":"OQX34*'Makro i swap'!OQV4","v":0},{"$f":"OQY34*'Makro i swap'!OQW4","v":0},{"$f":"OQZ34*'Makro i swap'!OQX4","v":0},{"$f":"ORA34*'Makro i swap'!OQY4","v":0},{"$f":"ORB34*'Makro i swap'!OQZ4","v":0},{"$f":"ORC34*'Makro i swap'!ORA4","v":0},{"$f":"ORD34*'Makro i swap'!ORB4","v":0},{"$f":"ORE34*'Makro i swap'!ORC4","v":0},{"$f":"ORF34*'Makro i swap'!ORD4","v":0},{"$f":"ORG34*'Makro i swap'!ORE4","v":0},{"$f":"ORH34*'Makro i swap'!ORF4","v":0},{"$f":"ORI34*'Makro i swap'!ORG4","v":0},{"$f":"ORJ34*'Makro i swap'!ORH4","v":0},{"$f":"ORK34*'Makro i swap'!ORI4","v":0},{"$f":"ORL34*'Makro i swap'!ORJ4","v":0},{"$f":"ORM34*'Makro i swap'!ORK4","v":0},{"$f":"ORN34*'Makro i swap'!ORL4","v":0},{"$f":"ORO34*'Makro i swap'!ORM4","v":0},{"$f":"ORP34*'Makro i swap'!ORN4","v":0},{"$f":"ORQ34*'Makro i swap'!ORO4","v":0},{"$f":"ORR34*'Makro i swap'!ORP4","v":0},{"$f":"ORS34*'Makro i swap'!ORQ4","v":0},{"$f":"ORT34*'Makro i swap'!ORR4","v":0},{"$f":"ORU34*'Makro i swap'!ORS4","v":0},{"$f":"ORV34*'Makro i swap'!ORT4","v":0},{"$f":"ORW34*'Makro i swap'!ORU4","v":0},{"$f":"ORX34*'Makro i swap'!ORV4","v":0},{"$f":"ORY34*'Makro i swap'!ORW4","v":0},{"$f":"ORZ34*'Makro i swap'!ORX4","v":0},{"$f":"OSA34*'Makro i swap'!ORY4","v":0},{"$f":"OSB34*'Makro i swap'!ORZ4","v":0},{"$f":"OSC34*'Makro i swap'!OSA4","v":0},{"$f":"OSD34*'Makro i swap'!OSB4","v":0},{"$f":"OSE34*'Makro i swap'!OSC4","v":0},{"$f":"OSF34*'Makro i swap'!OSD4","v":0},{"$f":"OSG34*'Makro i swap'!OSE4","v":0},{"$f":"OSH34*'Makro i swap'!OSF4","v":0},{"$f":"OSI34*'Makro i swap'!OSG4","v":0},{"$f":"OSJ34*'Makro i swap'!OSH4","v":0},{"$f":"OSK34*'Makro i swap'!OSI4","v":0},{"$f":"OSL34*'Makro i swap'!OSJ4","v":0},{"$f":"OSM34*'Makro i swap'!OSK4","v":0},{"$f":"OSN34*'Makro i swap'!OSL4","v":0},{"$f":"OSO34*'Makro i swap'!OSM4","v":0},{"$f":"OSP34*'Makro i swap'!OSN4","v":0},{"$f":"OSQ34*'Makro i swap'!OSO4","v":0},{"$f":"OSR34*'Makro i swap'!OSP4","v":0},{"$f":"OSS34*'Makro i swap'!OSQ4","v":0},{"$f":"OST34*'Makro i swap'!OSR4","v":0},{"$f":"OSU34*'Makro i swap'!OSS4","v":0},{"$f":"OSV34*'Makro i swap'!OST4","v":0},{"$f":"OSW34*'Makro i swap'!OSU4","v":0},{"$f":"OSX34*'Makro i swap'!OSV4","v":0},{"$f":"OSY34*'Makro i swap'!OSW4","v":0},{"$f":"OSZ34*'Makro i swap'!OSX4","v":0},{"$f":"OTA34*'Makro i swap'!OSY4","v":0},{"$f":"OTB34*'Makro i swap'!OSZ4","v":0},{"$f":"OTC34*'Makro i swap'!OTA4","v":0},{"$f":"OTD34*'Makro i swap'!OTB4","v":0},{"$f":"OTE34*'Makro i swap'!OTC4","v":0},{"$f":"OTF34*'Makro i swap'!OTD4","v":0},{"$f":"OTG34*'Makro i swap'!OTE4","v":0},{"$f":"OTH34*'Makro i swap'!OTF4","v":0},{"$f":"OTI34*'Makro i swap'!OTG4","v":0},{"$f":"OTJ34*'Makro i swap'!OTH4","v":0},{"$f":"OTK34*'Makro i swap'!OTI4","v":0},{"$f":"OTL34*'Makro i swap'!OTJ4","v":0},{"$f":"OTM34*'Makro i swap'!OTK4","v":0},{"$f":"OTN34*'Makro i swap'!OTL4","v":0},{"$f":"OTO34*'Makro i swap'!OTM4","v":0},{"$f":"OTP34*'Makro i swap'!OTN4","v":0},{"$f":"OTQ34*'Makro i swap'!OTO4","v":0},{"$f":"OTR34*'Makro i swap'!OTP4","v":0},{"$f":"OTS34*'Makro i swap'!OTQ4","v":0},{"$f":"OTT34*'Makro i swap'!OTR4","v":0},{"$f":"OTU34*'Makro i swap'!OTS4","v":0},{"$f":"OTV34*'Makro i swap'!OTT4","v":0},{"$f":"OTW34*'Makro i swap'!OTU4","v":0},{"$f":"OTX34*'Makro i swap'!OTV4","v":0},{"$f":"OTY34*'Makro i swap'!OTW4","v":0},{"$f":"OTZ34*'Makro i swap'!OTX4","v":0},{"$f":"OUA34*'Makro i swap'!OTY4","v":0},{"$f":"OUB34*'Makro i swap'!OTZ4","v":0},{"$f":"OUC34*'Makro i swap'!OUA4","v":0},{"$f":"OUD34*'Makro i swap'!OUB4","v":0},{"$f":"OUE34*'Makro i swap'!OUC4","v":0},{"$f":"OUF34*'Makro i swap'!OUD4","v":0},{"$f":"OUG34*'Makro i swap'!OUE4","v":0},{"$f":"OUH34*'Makro i swap'!OUF4","v":0},{"$f":"OUI34*'Makro i swap'!OUG4","v":0},{"$f":"OUJ34*'Makro i swap'!OUH4","v":0},{"$f":"OUK34*'Makro i swap'!OUI4","v":0},{"$f":"OUL34*'Makro i swap'!OUJ4","v":0},{"$f":"OUM34*'Makro i swap'!OUK4","v":0},{"$f":"OUN34*'Makro i swap'!OUL4","v":0},{"$f":"OUO34*'Makro i swap'!OUM4","v":0},{"$f":"OUP34*'Makro i swap'!OUN4","v":0},{"$f":"OUQ34*'Makro i swap'!OUO4","v":0},{"$f":"OUR34*'Makro i swap'!OUP4","v":0},{"$f":"OUS34*'Makro i swap'!OUQ4","v":0},{"$f":"OUT34*'Makro i swap'!OUR4","v":0},{"$f":"OUU34*'Makro i swap'!OUS4","v":0},{"$f":"OUV34*'Makro i swap'!OUT4","v":0},{"$f":"OUW34*'Makro i swap'!OUU4","v":0},{"$f":"OUX34*'Makro i swap'!OUV4","v":0},{"$f":"OUY34*'Makro i swap'!OUW4","v":0},{"$f":"OUZ34*'Makro i swap'!OUX4","v":0},{"$f":"OVA34*'Makro i swap'!OUY4","v":0},{"$f":"OVB34*'Makro i swap'!OUZ4","v":0},{"$f":"OVC34*'Makro i swap'!OVA4","v":0},{"$f":"OVD34*'Makro i swap'!OVB4","v":0},{"$f":"OVE34*'Makro i swap'!OVC4","v":0},{"$f":"OVF34*'Makro i swap'!OVD4","v":0},{"$f":"OVG34*'Makro i swap'!OVE4","v":0},{"$f":"OVH34*'Makro i swap'!OVF4","v":0},{"$f":"OVI34*'Makro i swap'!OVG4","v":0},{"$f":"OVJ34*'Makro i swap'!OVH4","v":0},{"$f":"OVK34*'Makro i swap'!OVI4","v":0},{"$f":"OVL34*'Makro i swap'!OVJ4","v":0},{"$f":"OVM34*'Makro i swap'!OVK4","v":0},{"$f":"OVN34*'Makro i swap'!OVL4","v":0},{"$f":"OVO34*'Makro i swap'!OVM4","v":0},{"$f":"OVP34*'Makro i swap'!OVN4","v":0},{"$f":"OVQ34*'Makro i swap'!OVO4","v":0},{"$f":"OVR34*'Makro i swap'!OVP4","v":0},{"$f":"OVS34*'Makro i swap'!OVQ4","v":0},{"$f":"OVT34*'Makro i swap'!OVR4","v":0},{"$f":"OVU34*'Makro i swap'!OVS4","v":0},{"$f":"OVV34*'Makro i swap'!OVT4","v":0},{"$f":"OVW34*'Makro i swap'!OVU4","v":0},{"$f":"OVX34*'Makro i swap'!OVV4","v":0},{"$f":"OVY34*'Makro i swap'!OVW4","v":0},{"$f":"OVZ34*'Makro i swap'!OVX4","v":0},{"$f":"OWA34*'Makro i swap'!OVY4","v":0},{"$f":"OWB34*'Makro i swap'!OVZ4","v":0},{"$f":"OWC34*'Makro i swap'!OWA4","v":0},{"$f":"OWD34*'Makro i swap'!OWB4","v":0},{"$f":"OWE34*'Makro i swap'!OWC4","v":0},{"$f":"OWF34*'Makro i swap'!OWD4","v":0},{"$f":"OWG34*'Makro i swap'!OWE4","v":0},{"$f":"OWH34*'Makro i swap'!OWF4","v":0},{"$f":"OWI34*'Makro i swap'!OWG4","v":0},{"$f":"OWJ34*'Makro i swap'!OWH4","v":0},{"$f":"OWK34*'Makro i swap'!OWI4","v":0},{"$f":"OWL34*'Makro i swap'!OWJ4","v":0},{"$f":"OWM34*'Makro i swap'!OWK4","v":0},{"$f":"OWN34*'Makro i swap'!OWL4","v":0},{"$f":"OWO34*'Makro i swap'!OWM4","v":0},{"$f":"OWP34*'Makro i swap'!OWN4","v":0},{"$f":"OWQ34*'Makro i swap'!OWO4","v":0},{"$f":"OWR34*'Makro i swap'!OWP4","v":0},{"$f":"OWS34*'Makro i swap'!OWQ4","v":0},{"$f":"OWT34*'Makro i swap'!OWR4","v":0},{"$f":"OWU34*'Makro i swap'!OWS4","v":0},{"$f":"OWV34*'Makro i swap'!OWT4","v":0},{"$f":"OWW34*'Makro i swap'!OWU4","v":0},{"$f":"OWX34*'Makro i swap'!OWV4","v":0},{"$f":"OWY34*'Makro i swap'!OWW4","v":0},{"$f":"OWZ34*'Makro i swap'!OWX4","v":0},{"$f":"OXA34*'Makro i swap'!OWY4","v":0},{"$f":"OXB34*'Makro i swap'!OWZ4","v":0},{"$f":"OXC34*'Makro i swap'!OXA4","v":0},{"$f":"OXD34*'Makro i swap'!OXB4","v":0},{"$f":"OXE34*'Makro i swap'!OXC4","v":0},{"$f":"OXF34*'Makro i swap'!OXD4","v":0},{"$f":"OXG34*'Makro i swap'!OXE4","v":0},{"$f":"OXH34*'Makro i swap'!OXF4","v":0},{"$f":"OXI34*'Makro i swap'!OXG4","v":0},{"$f":"OXJ34*'Makro i swap'!OXH4","v":0},{"$f":"OXK34*'Makro i swap'!OXI4","v":0},{"$f":"OXL34*'Makro i swap'!OXJ4","v":0},{"$f":"OXM34*'Makro i swap'!OXK4","v":0},{"$f":"OXN34*'Makro i swap'!OXL4","v":0},{"$f":"OXO34*'Makro i swap'!OXM4","v":0},{"$f":"OXP34*'Makro i swap'!OXN4","v":0},{"$f":"OXQ34*'Makro i swap'!OXO4","v":0},{"$f":"OXR34*'Makro i swap'!OXP4","v":0},{"$f":"OXS34*'Makro i swap'!OXQ4","v":0},{"$f":"OXT34*'Makro i swap'!OXR4","v":0},{"$f":"OXU34*'Makro i swap'!OXS4","v":0},{"$f":"OXV34*'Makro i swap'!OXT4","v":0},{"$f":"OXW34*'Makro i swap'!OXU4","v":0},{"$f":"OXX34*'Makro i swap'!OXV4","v":0},{"$f":"OXY34*'Makro i swap'!OXW4","v":0},{"$f":"OXZ34*'Makro i swap'!OXX4","v":0},{"$f":"OYA34*'Makro i swap'!OXY4","v":0},{"$f":"OYB34*'Makro i swap'!OXZ4","v":0},{"$f":"OYC34*'Makro i swap'!OYA4","v":0},{"$f":"OYD34*'Makro i swap'!OYB4","v":0},{"$f":"OYE34*'Makro i swap'!OYC4","v":0},{"$f":"OYF34*'Makro i swap'!OYD4","v":0},{"$f":"OYG34*'Makro i swap'!OYE4","v":0},{"$f":"OYH34*'Makro i swap'!OYF4","v":0},{"$f":"OYI34*'Makro i swap'!OYG4","v":0},{"$f":"OYJ34*'Makro i swap'!OYH4","v":0},{"$f":"OYK34*'Makro i swap'!OYI4","v":0},{"$f":"OYL34*'Makro i swap'!OYJ4","v":0},{"$f":"OYM34*'Makro i swap'!OYK4","v":0},{"$f":"OYN34*'Makro i swap'!OYL4","v":0},{"$f":"OYO34*'Makro i swap'!OYM4","v":0},{"$f":"OYP34*'Makro i swap'!OYN4","v":0},{"$f":"OYQ34*'Makro i swap'!OYO4","v":0},{"$f":"OYR34*'Makro i swap'!OYP4","v":0},{"$f":"OYS34*'Makro i swap'!OYQ4","v":0},{"$f":"OYT34*'Makro i swap'!OYR4","v":0},{"$f":"OYU34*'Makro i swap'!OYS4","v":0},{"$f":"OYV34*'Makro i swap'!OYT4","v":0},{"$f":"OYW34*'Makro i swap'!OYU4","v":0},{"$f":"OYX34*'Makro i swap'!OYV4","v":0},{"$f":"OYY34*'Makro i swap'!OYW4","v":0},{"$f":"OYZ34*'Makro i swap'!OYX4","v":0},{"$f":"OZA34*'Makro i swap'!OYY4","v":0},{"$f":"OZB34*'Makro i swap'!OYZ4","v":0},{"$f":"OZC34*'Makro i swap'!OZA4","v":0},{"$f":"OZD34*'Makro i swap'!OZB4","v":0},{"$f":"OZE34*'Makro i swap'!OZC4","v":0},{"$f":"OZF34*'Makro i swap'!OZD4","v":0},{"$f":"OZG34*'Makro i swap'!OZE4","v":0},{"$f":"OZH34*'Makro i swap'!OZF4","v":0},{"$f":"OZI34*'Makro i swap'!OZG4","v":0},{"$f":"OZJ34*'Makro i swap'!OZH4","v":0},{"$f":"OZK34*'Makro i swap'!OZI4","v":0},{"$f":"OZL34*'Makro i swap'!OZJ4","v":0},{"$f":"OZM34*'Makro i swap'!OZK4","v":0},{"$f":"OZN34*'Makro i swap'!OZL4","v":0},{"$f":"OZO34*'Makro i swap'!OZM4","v":0},{"$f":"OZP34*'Makro i swap'!OZN4","v":0},{"$f":"OZQ34*'Makro i swap'!OZO4","v":0},{"$f":"OZR34*'Makro i swap'!OZP4","v":0},{"$f":"OZS34*'Makro i swap'!OZQ4","v":0},{"$f":"OZT34*'Makro i swap'!OZR4","v":0},{"$f":"OZU34*'Makro i swap'!OZS4","v":0},{"$f":"OZV34*'Makro i swap'!OZT4","v":0},{"$f":"OZW34*'Makro i swap'!OZU4","v":0},{"$f":"OZX34*'Makro i swap'!OZV4","v":0},{"$f":"OZY34*'Makro i swap'!OZW4","v":0},{"$f":"OZZ34*'Makro i swap'!OZX4","v":0},{"$f":"PAA34*'Makro i swap'!OZY4","v":0},{"$f":"PAB34*'Makro i swap'!OZZ4","v":0},{"$f":"PAC34*'Makro i swap'!PAA4","v":0},{"$f":"PAD34*'Makro i swap'!PAB4","v":0},{"$f":"PAE34*'Makro i swap'!PAC4","v":0},{"$f":"PAF34*'Makro i swap'!PAD4","v":0},{"$f":"PAG34*'Makro i swap'!PAE4","v":0},{"$f":"PAH34*'Makro i swap'!PAF4","v":0},{"$f":"PAI34*'Makro i swap'!PAG4","v":0},{"$f":"PAJ34*'Makro i swap'!PAH4","v":0},{"$f":"PAK34*'Makro i swap'!PAI4","v":0},{"$f":"PAL34*'Makro i swap'!PAJ4","v":0},{"$f":"PAM34*'Makro i swap'!PAK4","v":0},{"$f":"PAN34*'Makro i swap'!PAL4","v":0},{"$f":"PAO34*'Makro i swap'!PAM4","v":0},{"$f":"PAP34*'Makro i swap'!PAN4","v":0},{"$f":"PAQ34*'Makro i swap'!PAO4","v":0},{"$f":"PAR34*'Makro i swap'!PAP4","v":0},{"$f":"PAS34*'Makro i swap'!PAQ4","v":0},{"$f":"PAT34*'Makro i swap'!PAR4","v":0},{"$f":"PAU34*'Makro i swap'!PAS4","v":0},{"$f":"PAV34*'Makro i swap'!PAT4","v":0},{"$f":"PAW34*'Makro i swap'!PAU4","v":0},{"$f":"PAX34*'Makro i swap'!PAV4","v":0},{"$f":"PAY34*'Makro i swap'!PAW4","v":0},{"$f":"PAZ34*'Makro i swap'!PAX4","v":0},{"$f":"PBA34*'Makro i swap'!PAY4","v":0},{"$f":"PBB34*'Makro i swap'!PAZ4","v":0},{"$f":"PBC34*'Makro i swap'!PBA4","v":0},{"$f":"PBD34*'Makro i swap'!PBB4","v":0},{"$f":"PBE34*'Makro i swap'!PBC4","v":0},{"$f":"PBF34*'Makro i swap'!PBD4","v":0},{"$f":"PBG34*'Makro i swap'!PBE4","v":0},{"$f":"PBH34*'Makro i swap'!PBF4","v":0},{"$f":"PBI34*'Makro i swap'!PBG4","v":0},{"$f":"PBJ34*'Makro i swap'!PBH4","v":0},{"$f":"PBK34*'Makro i swap'!PBI4","v":0},{"$f":"PBL34*'Makro i swap'!PBJ4","v":0},{"$f":"PBM34*'Makro i swap'!PBK4","v":0},{"$f":"PBN34*'Makro i swap'!PBL4","v":0},{"$f":"PBO34*'Makro i swap'!PBM4","v":0},{"$f":"PBP34*'Makro i swap'!PBN4","v":0},{"$f":"PBQ34*'Makro i swap'!PBO4","v":0},{"$f":"PBR34*'Makro i swap'!PBP4","v":0},{"$f":"PBS34*'Makro i swap'!PBQ4","v":0},{"$f":"PBT34*'Makro i swap'!PBR4","v":0},{"$f":"PBU34*'Makro i swap'!PBS4","v":0},{"$f":"PBV34*'Makro i swap'!PBT4","v":0},{"$f":"PBW34*'Makro i swap'!PBU4","v":0},{"$f":"PBX34*'Makro i swap'!PBV4","v":0},{"$f":"PBY34*'Makro i swap'!PBW4","v":0},{"$f":"PBZ34*'Makro i swap'!PBX4","v":0},{"$f":"PCA34*'Makro i swap'!PBY4","v":0},{"$f":"PCB34*'Makro i swap'!PBZ4","v":0},{"$f":"PCC34*'Makro i swap'!PCA4","v":0},{"$f":"PCD34*'Makro i swap'!PCB4","v":0},{"$f":"PCE34*'Makro i swap'!PCC4","v":0},{"$f":"PCF34*'Makro i swap'!PCD4","v":0},{"$f":"PCG34*'Makro i swap'!PCE4","v":0},{"$f":"PCH34*'Makro i swap'!PCF4","v":0},{"$f":"PCI34*'Makro i swap'!PCG4","v":0},{"$f":"PCJ34*'Makro i swap'!PCH4","v":0},{"$f":"PCK34*'Makro i swap'!PCI4","v":0},{"$f":"PCL34*'Makro i swap'!PCJ4","v":0},{"$f":"PCM34*'Makro i swap'!PCK4","v":0},{"$f":"PCN34*'Makro i swap'!PCL4","v":0},{"$f":"PCO34*'Makro i swap'!PCM4","v":0},{"$f":"PCP34*'Makro i swap'!PCN4","v":0},{"$f":"PCQ34*'Makro i swap'!PCO4","v":0},{"$f":"PCR34*'Makro i swap'!PCP4","v":0},{"$f":"PCS34*'Makro i swap'!PCQ4","v":0},{"$f":"PCT34*'Makro i swap'!PCR4","v":0},{"$f":"PCU34*'Makro i swap'!PCS4","v":0},{"$f":"PCV34*'Makro i swap'!PCT4","v":0},{"$f":"PCW34*'Makro i swap'!PCU4","v":0},{"$f":"PCX34*'Makro i swap'!PCV4","v":0},{"$f":"PCY34*'Makro i swap'!PCW4","v":0},{"$f":"PCZ34*'Makro i swap'!PCX4","v":0},{"$f":"PDA34*'Makro i swap'!PCY4","v":0},{"$f":"PDB34*'Makro i swap'!PCZ4","v":0},{"$f":"PDC34*'Makro i swap'!PDA4","v":0},{"$f":"PDD34*'Makro i swap'!PDB4","v":0},{"$f":"PDE34*'Makro i swap'!PDC4","v":0},{"$f":"PDF34*'Makro i swap'!PDD4","v":0},{"$f":"PDG34*'Makro i swap'!PDE4","v":0},{"$f":"PDH34*'Makro i swap'!PDF4","v":0},{"$f":"PDI34*'Makro i swap'!PDG4","v":0},{"$f":"PDJ34*'Makro i swap'!PDH4","v":0},{"$f":"PDK34*'Makro i swap'!PDI4","v":0},{"$f":"PDL34*'Makro i swap'!PDJ4","v":0},{"$f":"PDM34*'Makro i swap'!PDK4","v":0},{"$f":"PDN34*'Makro i swap'!PDL4","v":0},{"$f":"PDO34*'Makro i swap'!PDM4","v":0},{"$f":"PDP34*'Makro i swap'!PDN4","v":0},{"$f":"PDQ34*'Makro i swap'!PDO4","v":0},{"$f":"PDR34*'Makro i swap'!PDP4","v":0},{"$f":"PDS34*'Makro i swap'!PDQ4","v":0},{"$f":"PDT34*'Makro i swap'!PDR4","v":0},{"$f":"PDU34*'Makro i swap'!PDS4","v":0},{"$f":"PDV34*'Makro i swap'!PDT4","v":0},{"$f":"PDW34*'Makro i swap'!PDU4","v":0},{"$f":"PDX34*'Makro i swap'!PDV4","v":0},{"$f":"PDY34*'Makro i swap'!PDW4","v":0},{"$f":"PDZ34*'Makro i swap'!PDX4","v":0},{"$f":"PEA34*'Makro i swap'!PDY4","v":0},{"$f":"PEB34*'Makro i swap'!PDZ4","v":0},{"$f":"PEC34*'Makro i swap'!PEA4","v":0},{"$f":"PED34*'Makro i swap'!PEB4","v":0},{"$f":"PEE34*'Makro i swap'!PEC4","v":0},{"$f":"PEF34*'Makro i swap'!PED4","v":0},{"$f":"PEG34*'Makro i swap'!PEE4","v":0},{"$f":"PEH34*'Makro i swap'!PEF4","v":0},{"$f":"PEI34*'Makro i swap'!PEG4","v":0},{"$f":"PEJ34*'Makro i swap'!PEH4","v":0},{"$f":"PEK34*'Makro i swap'!PEI4","v":0},{"$f":"PEL34*'Makro i swap'!PEJ4","v":0},{"$f":"PEM34*'Makro i swap'!PEK4","v":0},{"$f":"PEN34*'Makro i swap'!PEL4","v":0},{"$f":"PEO34*'Makro i swap'!PEM4","v":0},{"$f":"PEP34*'Makro i swap'!PEN4","v":0},{"$f":"PEQ34*'Makro i swap'!PEO4","v":0},{"$f":"PER34*'Makro i swap'!PEP4","v":0},{"$f":"PES34*'Makro i swap'!PEQ4","v":0},{"$f":"PET34*'Makro i swap'!PER4","v":0},{"$f":"PEU34*'Makro i swap'!PES4","v":0},{"$f":"PEV34*'Makro i swap'!PET4","v":0},{"$f":"PEW34*'Makro i swap'!PEU4","v":0},{"$f":"PEX34*'Makro i swap'!PEV4","v":0},{"$f":"PEY34*'Makro i swap'!PEW4","v":0},{"$f":"PEZ34*'Makro i swap'!PEX4","v":0},{"$f":"PFA34*'Makro i swap'!PEY4","v":0},{"$f":"PFB34*'Makro i swap'!PEZ4","v":0},{"$f":"PFC34*'Makro i swap'!PFA4","v":0},{"$f":"PFD34*'Makro i swap'!PFB4","v":0},{"$f":"PFE34*'Makro i swap'!PFC4","v":0},{"$f":"PFF34*'Makro i swap'!PFD4","v":0},{"$f":"PFG34*'Makro i swap'!PFE4","v":0},{"$f":"PFH34*'Makro i swap'!PFF4","v":0},{"$f":"PFI34*'Makro i swap'!PFG4","v":0},{"$f":"PFJ34*'Makro i swap'!PFH4","v":0},{"$f":"PFK34*'Makro i swap'!PFI4","v":0},{"$f":"PFL34*'Makro i swap'!PFJ4","v":0},{"$f":"PFM34*'Makro i swap'!PFK4","v":0},{"$f":"PFN34*'Makro i swap'!PFL4","v":0},{"$f":"PFO34*'Makro i swap'!PFM4","v":0},{"$f":"PFP34*'Makro i swap'!PFN4","v":0},{"$f":"PFQ34*'Makro i swap'!PFO4","v":0},{"$f":"PFR34*'Makro i swap'!PFP4","v":0},{"$f":"PFS34*'Makro i swap'!PFQ4","v":0},{"$f":"PFT34*'Makro i swap'!PFR4","v":0},{"$f":"PFU34*'Makro i swap'!PFS4","v":0},{"$f":"PFV34*'Makro i swap'!PFT4","v":0},{"$f":"PFW34*'Makro i swap'!PFU4","v":0},{"$f":"PFX34*'Makro i swap'!PFV4","v":0},{"$f":"PFY34*'Makro i swap'!PFW4","v":0},{"$f":"PFZ34*'Makro i swap'!PFX4","v":0},{"$f":"PGA34*'Makro i swap'!PFY4","v":0},{"$f":"PGB34*'Makro i swap'!PFZ4","v":0},{"$f":"PGC34*'Makro i swap'!PGA4","v":0},{"$f":"PGD34*'Makro i swap'!PGB4","v":0},{"$f":"PGE34*'Makro i swap'!PGC4","v":0},{"$f":"PGF34*'Makro i swap'!PGD4","v":0},{"$f":"PGG34*'Makro i swap'!PGE4","v":0},{"$f":"PGH34*'Makro i swap'!PGF4","v":0},{"$f":"PGI34*'Makro i swap'!PGG4","v":0},{"$f":"PGJ34*'Makro i swap'!PGH4","v":0},{"$f":"PGK34*'Makro i swap'!PGI4","v":0},{"$f":"PGL34*'Makro i swap'!PGJ4","v":0},{"$f":"PGM34*'Makro i swap'!PGK4","v":0},{"$f":"PGN34*'Makro i swap'!PGL4","v":0},{"$f":"PGO34*'Makro i swap'!PGM4","v":0},{"$f":"PGP34*'Makro i swap'!PGN4","v":0},{"$f":"PGQ34*'Makro i swap'!PGO4","v":0},{"$f":"PGR34*'Makro i swap'!PGP4","v":0},{"$f":"PGS34*'Makro i swap'!PGQ4","v":0},{"$f":"PGT34*'Makro i swap'!PGR4","v":0},{"$f":"PGU34*'Makro i swap'!PGS4","v":0},{"$f":"PGV34*'Makro i swap'!PGT4","v":0},{"$f":"PGW34*'Makro i swap'!PGU4","v":0},{"$f":"PGX34*'Makro i swap'!PGV4","v":0},{"$f":"PGY34*'Makro i swap'!PGW4","v":0},{"$f":"PGZ34*'Makro i swap'!PGX4","v":0},{"$f":"PHA34*'Makro i swap'!PGY4","v":0},{"$f":"PHB34*'Makro i swap'!PGZ4","v":0},{"$f":"PHC34*'Makro i swap'!PHA4","v":0},{"$f":"PHD34*'Makro i swap'!PHB4","v":0},{"$f":"PHE34*'Makro i swap'!PHC4","v":0},{"$f":"PHF34*'Makro i swap'!PHD4","v":0},{"$f":"PHG34*'Makro i swap'!PHE4","v":0},{"$f":"PHH34*'Makro i swap'!PHF4","v":0},{"$f":"PHI34*'Makro i swap'!PHG4","v":0},{"$f":"PHJ34*'Makro i swap'!PHH4","v":0},{"$f":"PHK34*'Makro i swap'!PHI4","v":0},{"$f":"PHL34*'Makro i swap'!PHJ4","v":0},{"$f":"PHM34*'Makro i swap'!PHK4","v":0},{"$f":"PHN34*'Makro i swap'!PHL4","v":0},{"$f":"PHO34*'Makro i swap'!PHM4","v":0},{"$f":"PHP34*'Makro i swap'!PHN4","v":0},{"$f":"PHQ34*'Makro i swap'!PHO4","v":0},{"$f":"PHR34*'Makro i swap'!PHP4","v":0},{"$f":"PHS34*'Makro i swap'!PHQ4","v":0},{"$f":"PHT34*'Makro i swap'!PHR4","v":0},{"$f":"PHU34*'Makro i swap'!PHS4","v":0},{"$f":"PHV34*'Makro i swap'!PHT4","v":0},{"$f":"PHW34*'Makro i swap'!PHU4","v":0},{"$f":"PHX34*'Makro i swap'!PHV4","v":0},{"$f":"PHY34*'Makro i swap'!PHW4","v":0},{"$f":"PHZ34*'Makro i swap'!PHX4","v":0},{"$f":"PIA34*'Makro i swap'!PHY4","v":0},{"$f":"PIB34*'Makro i swap'!PHZ4","v":0},{"$f":"PIC34*'Makro i swap'!PIA4","v":0},{"$f":"PID34*'Makro i swap'!PIB4","v":0},{"$f":"PIE34*'Makro i swap'!PIC4","v":0},{"$f":"PIF34*'Makro i swap'!PID4","v":0},{"$f":"PIG34*'Makro i swap'!PIE4","v":0},{"$f":"PIH34*'Makro i swap'!PIF4","v":0},{"$f":"PII34*'Makro i swap'!PIG4","v":0},{"$f":"PIJ34*'Makro i swap'!PIH4","v":0},{"$f":"PIK34*'Makro i swap'!PII4","v":0},{"$f":"PIL34*'Makro i swap'!PIJ4","v":0},{"$f":"PIM34*'Makro i swap'!PIK4","v":0},{"$f":"PIN34*'Makro i swap'!PIL4","v":0},{"$f":"PIO34*'Makro i swap'!PIM4","v":0},{"$f":"PIP34*'Makro i swap'!PIN4","v":0},{"$f":"PIQ34*'Makro i swap'!PIO4","v":0},{"$f":"PIR34*'Makro i swap'!PIP4","v":0},{"$f":"PIS34*'Makro i swap'!PIQ4","v":0},{"$f":"PIT34*'Makro i swap'!PIR4","v":0},{"$f":"PIU34*'Makro i swap'!PIS4","v":0},{"$f":"PIV34*'Makro i swap'!PIT4","v":0},{"$f":"PIW34*'Makro i swap'!PIU4","v":0},{"$f":"PIX34*'Makro i swap'!PIV4","v":0},{"$f":"PIY34*'Makro i swap'!PIW4","v":0},{"$f":"PIZ34*'Makro i swap'!PIX4","v":0},{"$f":"PJA34*'Makro i swap'!PIY4","v":0},{"$f":"PJB34*'Makro i swap'!PIZ4","v":0},{"$f":"PJC34*'Makro i swap'!PJA4","v":0},{"$f":"PJD34*'Makro i swap'!PJB4","v":0},{"$f":"PJE34*'Makro i swap'!PJC4","v":0},{"$f":"PJF34*'Makro i swap'!PJD4","v":0},{"$f":"PJG34*'Makro i swap'!PJE4","v":0},{"$f":"PJH34*'Makro i swap'!PJF4","v":0},{"$f":"PJI34*'Makro i swap'!PJG4","v":0},{"$f":"PJJ34*'Makro i swap'!PJH4","v":0},{"$f":"PJK34*'Makro i swap'!PJI4","v":0},{"$f":"PJL34*'Makro i swap'!PJJ4","v":0},{"$f":"PJM34*'Makro i swap'!PJK4","v":0},{"$f":"PJN34*'Makro i swap'!PJL4","v":0},{"$f":"PJO34*'Makro i swap'!PJM4","v":0},{"$f":"PJP34*'Makro i swap'!PJN4","v":0},{"$f":"PJQ34*'Makro i swap'!PJO4","v":0},{"$f":"PJR34*'Makro i swap'!PJP4","v":0},{"$f":"PJS34*'Makro i swap'!PJQ4","v":0},{"$f":"PJT34*'Makro i swap'!PJR4","v":0},{"$f":"PJU34*'Makro i swap'!PJS4","v":0},{"$f":"PJV34*'Makro i swap'!PJT4","v":0},{"$f":"PJW34*'Makro i swap'!PJU4","v":0},{"$f":"PJX34*'Makro i swap'!PJV4","v":0},{"$f":"PJY34*'Makro i swap'!PJW4","v":0},{"$f":"PJZ34*'Makro i swap'!PJX4","v":0},{"$f":"PKA34*'Makro i swap'!PJY4","v":0},{"$f":"PKB34*'Makro i swap'!PJZ4","v":0},{"$f":"PKC34*'Makro i swap'!PKA4","v":0},{"$f":"PKD34*'Makro i swap'!PKB4","v":0},{"$f":"PKE34*'Makro i swap'!PKC4","v":0},{"$f":"PKF34*'Makro i swap'!PKD4","v":0},{"$f":"PKG34*'Makro i swap'!PKE4","v":0},{"$f":"PKH34*'Makro i swap'!PKF4","v":0},{"$f":"PKI34*'Makro i swap'!PKG4","v":0},{"$f":"PKJ34*'Makro i swap'!PKH4","v":0},{"$f":"PKK34*'Makro i swap'!PKI4","v":0},{"$f":"PKL34*'Makro i swap'!PKJ4","v":0},{"$f":"PKM34*'Makro i swap'!PKK4","v":0},{"$f":"PKN34*'Makro i swap'!PKL4","v":0},{"$f":"PKO34*'Makro i swap'!PKM4","v":0},{"$f":"PKP34*'Makro i swap'!PKN4","v":0},{"$f":"PKQ34*'Makro i swap'!PKO4","v":0},{"$f":"PKR34*'Makro i swap'!PKP4","v":0},{"$f":"PKS34*'Makro i swap'!PKQ4","v":0},{"$f":"PKT34*'Makro i swap'!PKR4","v":0},{"$f":"PKU34*'Makro i swap'!PKS4","v":0},{"$f":"PKV34*'Makro i swap'!PKT4","v":0},{"$f":"PKW34*'Makro i swap'!PKU4","v":0},{"$f":"PKX34*'Makro i swap'!PKV4","v":0},{"$f":"PKY34*'Makro i swap'!PKW4","v":0},{"$f":"PKZ34*'Makro i swap'!PKX4","v":0},{"$f":"PLA34*'Makro i swap'!PKY4","v":0},{"$f":"PLB34*'Makro i swap'!PKZ4","v":0},{"$f":"PLC34*'Makro i swap'!PLA4","v":0},{"$f":"PLD34*'Makro i swap'!PLB4","v":0},{"$f":"PLE34*'Makro i swap'!PLC4","v":0},{"$f":"PLF34*'Makro i swap'!PLD4","v":0},{"$f":"PLG34*'Makro i swap'!PLE4","v":0},{"$f":"PLH34*'Makro i swap'!PLF4","v":0},{"$f":"PLI34*'Makro i swap'!PLG4","v":0},{"$f":"PLJ34*'Makro i swap'!PLH4","v":0},{"$f":"PLK34*'Makro i swap'!PLI4","v":0},{"$f":"PLL34*'Makro i swap'!PLJ4","v":0},{"$f":"PLM34*'Makro i swap'!PLK4","v":0},{"$f":"PLN34*'Makro i swap'!PLL4","v":0},{"$f":"PLO34*'Makro i swap'!PLM4","v":0},{"$f":"PLP34*'Makro i swap'!PLN4","v":0},{"$f":"PLQ34*'Makro i swap'!PLO4","v":0},{"$f":"PLR34*'Makro i swap'!PLP4","v":0},{"$f":"PLS34*'Makro i swap'!PLQ4","v":0},{"$f":"PLT34*'Makro i swap'!PLR4","v":0},{"$f":"PLU34*'Makro i swap'!PLS4","v":0},{"$f":"PLV34*'Makro i swap'!PLT4","v":0},{"$f":"PLW34*'Makro i swap'!PLU4","v":0},{"$f":"PLX34*'Makro i swap'!PLV4","v":0},{"$f":"PLY34*'Makro i swap'!PLW4","v":0},{"$f":"PLZ34*'Makro i swap'!PLX4","v":0},{"$f":"PMA34*'Makro i swap'!PLY4","v":0},{"$f":"PMB34*'Makro i swap'!PLZ4","v":0},{"$f":"PMC34*'Makro i swap'!PMA4","v":0},{"$f":"PMD34*'Makro i swap'!PMB4","v":0},{"$f":"PME34*'Makro i swap'!PMC4","v":0},{"$f":"PMF34*'Makro i swap'!PMD4","v":0},{"$f":"PMG34*'Makro i swap'!PME4","v":0},{"$f":"PMH34*'Makro i swap'!PMF4","v":0},{"$f":"PMI34*'Makro i swap'!PMG4","v":0},{"$f":"PMJ34*'Makro i swap'!PMH4","v":0},{"$f":"PMK34*'Makro i swap'!PMI4","v":0},{"$f":"PML34*'Makro i swap'!PMJ4","v":0},{"$f":"PMM34*'Makro i swap'!PMK4","v":0},{"$f":"PMN34*'Makro i swap'!PML4","v":0},{"$f":"PMO34*'Makro i swap'!PMM4","v":0},{"$f":"PMP34*'Makro i swap'!PMN4","v":0},{"$f":"PMQ34*'Makro i swap'!PMO4","v":0},{"$f":"PMR34*'Makro i swap'!PMP4","v":0},{"$f":"PMS34*'Makro i swap'!PMQ4","v":0},{"$f":"PMT34*'Makro i swap'!PMR4","v":0},{"$f":"PMU34*'Makro i swap'!PMS4","v":0},{"$f":"PMV34*'Makro i swap'!PMT4","v":0},{"$f":"PMW34*'Makro i swap'!PMU4","v":0},{"$f":"PMX34*'Makro i swap'!PMV4","v":0},{"$f":"PMY34*'Makro i swap'!PMW4","v":0},{"$f":"PMZ34*'Makro i swap'!PMX4","v":0},{"$f":"PNA34*'Makro i swap'!PMY4","v":0},{"$f":"PNB34*'Makro i swap'!PMZ4","v":0},{"$f":"PNC34*'Makro i swap'!PNA4","v":0},{"$f":"PND34*'Makro i swap'!PNB4","v":0},{"$f":"PNE34*'Makro i swap'!PNC4","v":0},{"$f":"PNF34*'Makro i swap'!PND4","v":0},{"$f":"PNG34*'Makro i swap'!PNE4","v":0},{"$f":"PNH34*'Makro i swap'!PNF4","v":0},{"$f":"PNI34*'Makro i swap'!PNG4","v":0},{"$f":"PNJ34*'Makro i swap'!PNH4","v":0},{"$f":"PNK34*'Makro i swap'!PNI4","v":0},{"$f":"PNL34*'Makro i swap'!PNJ4","v":0},{"$f":"PNM34*'Makro i swap'!PNK4","v":0},{"$f":"PNN34*'Makro i swap'!PNL4","v":0},{"$f":"PNO34*'Makro i swap'!PNM4","v":0},{"$f":"PNP34*'Makro i swap'!PNN4","v":0},{"$f":"PNQ34*'Makro i swap'!PNO4","v":0},{"$f":"PNR34*'Makro i swap'!PNP4","v":0},{"$f":"PNS34*'Makro i swap'!PNQ4","v":0},{"$f":"PNT34*'Makro i swap'!PNR4","v":0},{"$f":"PNU34*'Makro i swap'!PNS4","v":0},{"$f":"PNV34*'Makro i swap'!PNT4","v":0},{"$f":"PNW34*'Makro i swap'!PNU4","v":0},{"$f":"PNX34*'Makro i swap'!PNV4","v":0},{"$f":"PNY34*'Makro i swap'!PNW4","v":0},{"$f":"PNZ34*'Makro i swap'!PNX4","v":0},{"$f":"POA34*'Makro i swap'!PNY4","v":0},{"$f":"POB34*'Makro i swap'!PNZ4","v":0},{"$f":"POC34*'Makro i swap'!POA4","v":0},{"$f":"POD34*'Makro i swap'!POB4","v":0},{"$f":"POE34*'Makro i swap'!POC4","v":0},{"$f":"POF34*'Makro i swap'!POD4","v":0},{"$f":"POG34*'Makro i swap'!POE4","v":0},{"$f":"POH34*'Makro i swap'!POF4","v":0},{"$f":"POI34*'Makro i swap'!POG4","v":0},{"$f":"POJ34*'Makro i swap'!POH4","v":0},{"$f":"POK34*'Makro i swap'!POI4","v":0},{"$f":"POL34*'Makro i swap'!POJ4","v":0},{"$f":"POM34*'Makro i swap'!POK4","v":0},{"$f":"PON34*'Makro i swap'!POL4","v":0},{"$f":"POO34*'Makro i swap'!POM4","v":0},{"$f":"POP34*'Makro i swap'!PON4","v":0},{"$f":"POQ34*'Makro i swap'!POO4","v":0},{"$f":"POR34*'Makro i swap'!POP4","v":0},{"$f":"POS34*'Makro i swap'!POQ4","v":0},{"$f":"POT34*'Makro i swap'!POR4","v":0},{"$f":"POU34*'Makro i swap'!POS4","v":0},{"$f":"POV34*'Makro i swap'!POT4","v":0},{"$f":"POW34*'Makro i swap'!POU4","v":0},{"$f":"POX34*'Makro i swap'!POV4","v":0},{"$f":"POY34*'Makro i swap'!POW4","v":0},{"$f":"POZ34*'Makro i swap'!POX4","v":0},{"$f":"PPA34*'Makro i swap'!POY4","v":0},{"$f":"PPB34*'Makro i swap'!POZ4","v":0},{"$f":"PPC34*'Makro i swap'!PPA4","v":0},{"$f":"PPD34*'Makro i swap'!PPB4","v":0},{"$f":"PPE34*'Makro i swap'!PPC4","v":0},{"$f":"PPF34*'Makro i swap'!PPD4","v":0},{"$f":"PPG34*'Makro i swap'!PPE4","v":0},{"$f":"PPH34*'Makro i swap'!PPF4","v":0},{"$f":"PPI34*'Makro i swap'!PPG4","v":0},{"$f":"PPJ34*'Makro i swap'!PPH4","v":0},{"$f":"PPK34*'Makro i swap'!PPI4","v":0},{"$f":"PPL34*'Makro i swap'!PPJ4","v":0},{"$f":"PPM34*'Makro i swap'!PPK4","v":0},{"$f":"PPN34*'Makro i swap'!PPL4","v":0},{"$f":"PPO34*'Makro i swap'!PPM4","v":0},{"$f":"PPP34*'Makro i swap'!PPN4","v":0},{"$f":"PPQ34*'Makro i swap'!PPO4","v":0},{"$f":"PPR34*'Makro i swap'!PPP4","v":0},{"$f":"PPS34*'Makro i swap'!PPQ4","v":0},{"$f":"PPT34*'Makro i swap'!PPR4","v":0},{"$f":"PPU34*'Makro i swap'!PPS4","v":0},{"$f":"PPV34*'Makro i swap'!PPT4","v":0},{"$f":"PPW34*'Makro i swap'!PPU4","v":0},{"$f":"PPX34*'Makro i swap'!PPV4","v":0},{"$f":"PPY34*'Makro i swap'!PPW4","v":0},{"$f":"PPZ34*'Makro i swap'!PPX4","v":0},{"$f":"PQA34*'Makro i swap'!PPY4","v":0},{"$f":"PQB34*'Makro i swap'!PPZ4","v":0},{"$f":"PQC34*'Makro i swap'!PQA4","v":0},{"$f":"PQD34*'Makro i swap'!PQB4","v":0},{"$f":"PQE34*'Makro i swap'!PQC4","v":0},{"$f":"PQF34*'Makro i swap'!PQD4","v":0},{"$f":"PQG34*'Makro i swap'!PQE4","v":0},{"$f":"PQH34*'Makro i swap'!PQF4","v":0},{"$f":"PQI34*'Makro i swap'!PQG4","v":0},{"$f":"PQJ34*'Makro i swap'!PQH4","v":0},{"$f":"PQK34*'Makro i swap'!PQI4","v":0},{"$f":"PQL34*'Makro i swap'!PQJ4","v":0},{"$f":"PQM34*'Makro i swap'!PQK4","v":0},{"$f":"PQN34*'Makro i swap'!PQL4","v":0},{"$f":"PQO34*'Makro i swap'!PQM4","v":0},{"$f":"PQP34*'Makro i swap'!PQN4","v":0},{"$f":"PQQ34*'Makro i swap'!PQO4","v":0},{"$f":"PQR34*'Makro i swap'!PQP4","v":0},{"$f":"PQS34*'Makro i swap'!PQQ4","v":0},{"$f":"PQT34*'Makro i swap'!PQR4","v":0},{"$f":"PQU34*'Makro i swap'!PQS4","v":0},{"$f":"PQV34*'Makro i swap'!PQT4","v":0},{"$f":"PQW34*'Makro i swap'!PQU4","v":0},{"$f":"PQX34*'Makro i swap'!PQV4","v":0},{"$f":"PQY34*'Makro i swap'!PQW4","v":0},{"$f":"PQZ34*'Makro i swap'!PQX4","v":0},{"$f":"PRA34*'Makro i swap'!PQY4","v":0},{"$f":"PRB34*'Makro i swap'!PQZ4","v":0},{"$f":"PRC34*'Makro i swap'!PRA4","v":0},{"$f":"PRD34*'Makro i swap'!PRB4","v":0},{"$f":"PRE34*'Makro i swap'!PRC4","v":0},{"$f":"PRF34*'Makro i swap'!PRD4","v":0},{"$f":"PRG34*'Makro i swap'!PRE4","v":0},{"$f":"PRH34*'Makro i swap'!PRF4","v":0},{"$f":"PRI34*'Makro i swap'!PRG4","v":0},{"$f":"PRJ34*'Makro i swap'!PRH4","v":0},{"$f":"PRK34*'Makro i swap'!PRI4","v":0},{"$f":"PRL34*'Makro i swap'!PRJ4","v":0},{"$f":"PRM34*'Makro i swap'!PRK4","v":0},{"$f":"PRN34*'Makro i swap'!PRL4","v":0},{"$f":"PRO34*'Makro i swap'!PRM4","v":0},{"$f":"PRP34*'Makro i swap'!PRN4","v":0},{"$f":"PRQ34*'Makro i swap'!PRO4","v":0},{"$f":"PRR34*'Makro i swap'!PRP4","v":0},{"$f":"PRS34*'Makro i swap'!PRQ4","v":0},{"$f":"PRT34*'Makro i swap'!PRR4","v":0},{"$f":"PRU34*'Makro i swap'!PRS4","v":0},{"$f":"PRV34*'Makro i swap'!PRT4","v":0},{"$f":"PRW34*'Makro i swap'!PRU4","v":0},{"$f":"PRX34*'Makro i swap'!PRV4","v":0},{"$f":"PRY34*'Makro i swap'!PRW4","v":0},{"$f":"PRZ34*'Makro i swap'!PRX4","v":0},{"$f":"PSA34*'Makro i swap'!PRY4","v":0},{"$f":"PSB34*'Makro i swap'!PRZ4","v":0},{"$f":"PSC34*'Makro i swap'!PSA4","v":0},{"$f":"PSD34*'Makro i swap'!PSB4","v":0},{"$f":"PSE34*'Makro i swap'!PSC4","v":0},{"$f":"PSF34*'Makro i swap'!PSD4","v":0},{"$f":"PSG34*'Makro i swap'!PSE4","v":0},{"$f":"PSH34*'Makro i swap'!PSF4","v":0},{"$f":"PSI34*'Makro i swap'!PSG4","v":0},{"$f":"PSJ34*'Makro i swap'!PSH4","v":0},{"$f":"PSK34*'Makro i swap'!PSI4","v":0},{"$f":"PSL34*'Makro i swap'!PSJ4","v":0},{"$f":"PSM34*'Makro i swap'!PSK4","v":0},{"$f":"PSN34*'Makro i swap'!PSL4","v":0},{"$f":"PSO34*'Makro i swap'!PSM4","v":0},{"$f":"PSP34*'Makro i swap'!PSN4","v":0},{"$f":"PSQ34*'Makro i swap'!PSO4","v":0},{"$f":"PSR34*'Makro i swap'!PSP4","v":0},{"$f":"PSS34*'Makro i swap'!PSQ4","v":0},{"$f":"PST34*'Makro i swap'!PSR4","v":0},{"$f":"PSU34*'Makro i swap'!PSS4","v":0},{"$f":"PSV34*'Makro i swap'!PST4","v":0},{"$f":"PSW34*'Makro i swap'!PSU4","v":0},{"$f":"PSX34*'Makro i swap'!PSV4","v":0},{"$f":"PSY34*'Makro i swap'!PSW4","v":0},{"$f":"PSZ34*'Makro i swap'!PSX4","v":0},{"$f":"PTA34*'Makro i swap'!PSY4","v":0},{"$f":"PTB34*'Makro i swap'!PSZ4","v":0},{"$f":"PTC34*'Makro i swap'!PTA4","v":0},{"$f":"PTD34*'Makro i swap'!PTB4","v":0},{"$f":"PTE34*'Makro i swap'!PTC4","v":0},{"$f":"PTF34*'Makro i swap'!PTD4","v":0},{"$f":"PTG34*'Makro i swap'!PTE4","v":0},{"$f":"PTH34*'Makro i swap'!PTF4","v":0},{"$f":"PTI34*'Makro i swap'!PTG4","v":0},{"$f":"PTJ34*'Makro i swap'!PTH4","v":0},{"$f":"PTK34*'Makro i swap'!PTI4","v":0},{"$f":"PTL34*'Makro i swap'!PTJ4","v":0},{"$f":"PTM34*'Makro i swap'!PTK4","v":0},{"$f":"PTN34*'Makro i swap'!PTL4","v":0},{"$f":"PTO34*'Makro i swap'!PTM4","v":0},{"$f":"PTP34*'Makro i swap'!PTN4","v":0},{"$f":"PTQ34*'Makro i swap'!PTO4","v":0},{"$f":"PTR34*'Makro i swap'!PTP4","v":0},{"$f":"PTS34*'Makro i swap'!PTQ4","v":0},{"$f":"PTT34*'Makro i swap'!PTR4","v":0},{"$f":"PTU34*'Makro i swap'!PTS4","v":0},{"$f":"PTV34*'Makro i swap'!PTT4","v":0},{"$f":"PTW34*'Makro i swap'!PTU4","v":0},{"$f":"PTX34*'Makro i swap'!PTV4","v":0},{"$f":"PTY34*'Makro i swap'!PTW4","v":0},{"$f":"PTZ34*'Makro i swap'!PTX4","v":0},{"$f":"PUA34*'Makro i swap'!PTY4","v":0},{"$f":"PUB34*'Makro i swap'!PTZ4","v":0},{"$f":"PUC34*'Makro i swap'!PUA4","v":0},{"$f":"PUD34*'Makro i swap'!PUB4","v":0},{"$f":"PUE34*'Makro i swap'!PUC4","v":0},{"$f":"PUF34*'Makro i swap'!PUD4","v":0},{"$f":"PUG34*'Makro i swap'!PUE4","v":0},{"$f":"PUH34*'Makro i swap'!PUF4","v":0},{"$f":"PUI34*'Makro i swap'!PUG4","v":0},{"$f":"PUJ34*'Makro i swap'!PUH4","v":0},{"$f":"PUK34*'Makro i swap'!PUI4","v":0},{"$f":"PUL34*'Makro i swap'!PUJ4","v":0},{"$f":"PUM34*'Makro i swap'!PUK4","v":0},{"$f":"PUN34*'Makro i swap'!PUL4","v":0},{"$f":"PUO34*'Makro i swap'!PUM4","v":0},{"$f":"PUP34*'Makro i swap'!PUN4","v":0},{"$f":"PUQ34*'Makro i swap'!PUO4","v":0},{"$f":"PUR34*'Makro i swap'!PUP4","v":0},{"$f":"PUS34*'Makro i swap'!PUQ4","v":0},{"$f":"PUT34*'Makro i swap'!PUR4","v":0},{"$f":"PUU34*'Makro i swap'!PUS4","v":0},{"$f":"PUV34*'Makro i swap'!PUT4","v":0},{"$f":"PUW34*'Makro i swap'!PUU4","v":0},{"$f":"PUX34*'Makro i swap'!PUV4","v":0},{"$f":"PUY34*'Makro i swap'!PUW4","v":0},{"$f":"PUZ34*'Makro i swap'!PUX4","v":0},{"$f":"PVA34*'Makro i swap'!PUY4","v":0},{"$f":"PVB34*'Makro i swap'!PUZ4","v":0},{"$f":"PVC34*'Makro i swap'!PVA4","v":0},{"$f":"PVD34*'Makro i swap'!PVB4","v":0},{"$f":"PVE34*'Makro i swap'!PVC4","v":0},{"$f":"PVF34*'Makro i swap'!PVD4","v":0},{"$f":"PVG34*'Makro i swap'!PVE4","v":0},{"$f":"PVH34*'Makro i swap'!PVF4","v":0},{"$f":"PVI34*'Makro i swap'!PVG4","v":0},{"$f":"PVJ34*'Makro i swap'!PVH4","v":0},{"$f":"PVK34*'Makro i swap'!PVI4","v":0},{"$f":"PVL34*'Makro i swap'!PVJ4","v":0},{"$f":"PVM34*'Makro i swap'!PVK4","v":0},{"$f":"PVN34*'Makro i swap'!PVL4","v":0},{"$f":"PVO34*'Makro i swap'!PVM4","v":0},{"$f":"PVP34*'Makro i swap'!PVN4","v":0},{"$f":"PVQ34*'Makro i swap'!PVO4","v":0},{"$f":"PVR34*'Makro i swap'!PVP4","v":0},{"$f":"PVS34*'Makro i swap'!PVQ4","v":0},{"$f":"PVT34*'Makro i swap'!PVR4","v":0},{"$f":"PVU34*'Makro i swap'!PVS4","v":0},{"$f":"PVV34*'Makro i swap'!PVT4","v":0},{"$f":"PVW34*'Makro i swap'!PVU4","v":0},{"$f":"PVX34*'Makro i swap'!PVV4","v":0},{"$f":"PVY34*'Makro i swap'!PVW4","v":0},{"$f":"PVZ34*'Makro i swap'!PVX4","v":0},{"$f":"PWA34*'Makro i swap'!PVY4","v":0},{"$f":"PWB34*'Makro i swap'!PVZ4","v":0},{"$f":"PWC34*'Makro i swap'!PWA4","v":0},{"$f":"PWD34*'Makro i swap'!PWB4","v":0},{"$f":"PWE34*'Makro i swap'!PWC4","v":0},{"$f":"PWF34*'Makro i swap'!PWD4","v":0},{"$f":"PWG34*'Makro i swap'!PWE4","v":0},{"$f":"PWH34*'Makro i swap'!PWF4","v":0},{"$f":"PWI34*'Makro i swap'!PWG4","v":0},{"$f":"PWJ34*'Makro i swap'!PWH4","v":0},{"$f":"PWK34*'Makro i swap'!PWI4","v":0},{"$f":"PWL34*'Makro i swap'!PWJ4","v":0},{"$f":"PWM34*'Makro i swap'!PWK4","v":0},{"$f":"PWN34*'Makro i swap'!PWL4","v":0},{"$f":"PWO34*'Makro i swap'!PWM4","v":0},{"$f":"PWP34*'Makro i swap'!PWN4","v":0},{"$f":"PWQ34*'Makro i swap'!PWO4","v":0},{"$f":"PWR34*'Makro i swap'!PWP4","v":0},{"$f":"PWS34*'Makro i swap'!PWQ4","v":0},{"$f":"PWT34*'Makro i swap'!PWR4","v":0},{"$f":"PWU34*'Makro i swap'!PWS4","v":0},{"$f":"PWV34*'Makro i swap'!PWT4","v":0},{"$f":"PWW34*'Makro i swap'!PWU4","v":0},{"$f":"PWX34*'Makro i swap'!PWV4","v":0},{"$f":"PWY34*'Makro i swap'!PWW4","v":0},{"$f":"PWZ34*'Makro i swap'!PWX4","v":0},{"$f":"PXA34*'Makro i swap'!PWY4","v":0},{"$f":"PXB34*'Makro i swap'!PWZ4","v":0},{"$f":"PXC34*'Makro i swap'!PXA4","v":0},{"$f":"PXD34*'Makro i swap'!PXB4","v":0},{"$f":"PXE34*'Makro i swap'!PXC4","v":0},{"$f":"PXF34*'Makro i swap'!PXD4","v":0},{"$f":"PXG34*'Makro i swap'!PXE4","v":0},{"$f":"PXH34*'Makro i swap'!PXF4","v":0},{"$f":"PXI34*'Makro i swap'!PXG4","v":0},{"$f":"PXJ34*'Makro i swap'!PXH4","v":0},{"$f":"PXK34*'Makro i swap'!PXI4","v":0},{"$f":"PXL34*'Makro i swap'!PXJ4","v":0},{"$f":"PXM34*'Makro i swap'!PXK4","v":0},{"$f":"PXN34*'Makro i swap'!PXL4","v":0},{"$f":"PXO34*'Makro i swap'!PXM4","v":0},{"$f":"PXP34*'Makro i swap'!PXN4","v":0},{"$f":"PXQ34*'Makro i swap'!PXO4","v":0},{"$f":"PXR34*'Makro i swap'!PXP4","v":0},{"$f":"PXS34*'Makro i swap'!PXQ4","v":0},{"$f":"PXT34*'Makro i swap'!PXR4","v":0},{"$f":"PXU34*'Makro i swap'!PXS4","v":0},{"$f":"PXV34*'Makro i swap'!PXT4","v":0},{"$f":"PXW34*'Makro i swap'!PXU4","v":0},{"$f":"PXX34*'Makro i swap'!PXV4","v":0},{"$f":"PXY34*'Makro i swap'!PXW4","v":0},{"$f":"PXZ34*'Makro i swap'!PXX4","v":0},{"$f":"PYA34*'Makro i swap'!PXY4","v":0},{"$f":"PYB34*'Makro i swap'!PXZ4","v":0},{"$f":"PYC34*'Makro i swap'!PYA4","v":0},{"$f":"PYD34*'Makro i swap'!PYB4","v":0},{"$f":"PYE34*'Makro i swap'!PYC4","v":0},{"$f":"PYF34*'Makro i swap'!PYD4","v":0},{"$f":"PYG34*'Makro i swap'!PYE4","v":0},{"$f":"PYH34*'Makro i swap'!PYF4","v":0},{"$f":"PYI34*'Makro i swap'!PYG4","v":0},{"$f":"PYJ34*'Makro i swap'!PYH4","v":0},{"$f":"PYK34*'Makro i swap'!PYI4","v":0},{"$f":"PYL34*'Makro i swap'!PYJ4","v":0},{"$f":"PYM34*'Makro i swap'!PYK4","v":0},{"$f":"PYN34*'Makro i swap'!PYL4","v":0},{"$f":"PYO34*'Makro i swap'!PYM4","v":0},{"$f":"PYP34*'Makro i swap'!PYN4","v":0},{"$f":"PYQ34*'Makro i swap'!PYO4","v":0},{"$f":"PYR34*'Makro i swap'!PYP4","v":0},{"$f":"PYS34*'Makro i swap'!PYQ4","v":0},{"$f":"PYT34*'Makro i swap'!PYR4","v":0},{"$f":"PYU34*'Makro i swap'!PYS4","v":0},{"$f":"PYV34*'Makro i swap'!PYT4","v":0},{"$f":"PYW34*'Makro i swap'!PYU4","v":0},{"$f":"PYX34*'Makro i swap'!PYV4","v":0},{"$f":"PYY34*'Makro i swap'!PYW4","v":0},{"$f":"PYZ34*'Makro i swap'!PYX4","v":0},{"$f":"PZA34*'Makro i swap'!PYY4","v":0},{"$f":"PZB34*'Makro i swap'!PYZ4","v":0},{"$f":"PZC34*'Makro i swap'!PZA4","v":0},{"$f":"PZD34*'Makro i swap'!PZB4","v":0},{"$f":"PZE34*'Makro i swap'!PZC4","v":0},{"$f":"PZF34*'Makro i swap'!PZD4","v":0},{"$f":"PZG34*'Makro i swap'!PZE4","v":0},{"$f":"PZH34*'Makro i swap'!PZF4","v":0},{"$f":"PZI34*'Makro i swap'!PZG4","v":0},{"$f":"PZJ34*'Makro i swap'!PZH4","v":0},{"$f":"PZK34*'Makro i swap'!PZI4","v":0},{"$f":"PZL34*'Makro i swap'!PZJ4","v":0},{"$f":"PZM34*'Makro i swap'!PZK4","v":0},{"$f":"PZN34*'Makro i swap'!PZL4","v":0},{"$f":"PZO34*'Makro i swap'!PZM4","v":0},{"$f":"PZP34*'Makro i swap'!PZN4","v":0},{"$f":"PZQ34*'Makro i swap'!PZO4","v":0},{"$f":"PZR34*'Makro i swap'!PZP4","v":0},{"$f":"PZS34*'Makro i swap'!PZQ4","v":0},{"$f":"PZT34*'Makro i swap'!PZR4","v":0},{"$f":"PZU34*'Makro i swap'!PZS4","v":0},{"$f":"PZV34*'Makro i swap'!PZT4","v":0},{"$f":"PZW34*'Makro i swap'!PZU4","v":0},{"$f":"PZX34*'Makro i swap'!PZV4","v":0},{"$f":"PZY34*'Makro i swap'!PZW4","v":0},{"$f":"PZZ34*'Makro i swap'!PZX4","v":0},{"$f":"QAA34*'Makro i swap'!PZY4","v":0},{"$f":"QAB34*'Makro i swap'!PZZ4","v":0},{"$f":"QAC34*'Makro i swap'!QAA4","v":0},{"$f":"QAD34*'Makro i swap'!QAB4","v":0},{"$f":"QAE34*'Makro i swap'!QAC4","v":0},{"$f":"QAF34*'Makro i swap'!QAD4","v":0},{"$f":"QAG34*'Makro i swap'!QAE4","v":0},{"$f":"QAH34*'Makro i swap'!QAF4","v":0},{"$f":"QAI34*'Makro i swap'!QAG4","v":0},{"$f":"QAJ34*'Makro i swap'!QAH4","v":0},{"$f":"QAK34*'Makro i swap'!QAI4","v":0},{"$f":"QAL34*'Makro i swap'!QAJ4","v":0},{"$f":"QAM34*'Makro i swap'!QAK4","v":0},{"$f":"QAN34*'Makro i swap'!QAL4","v":0},{"$f":"QAO34*'Makro i swap'!QAM4","v":0},{"$f":"QAP34*'Makro i swap'!QAN4","v":0},{"$f":"QAQ34*'Makro i swap'!QAO4","v":0},{"$f":"QAR34*'Makro i swap'!QAP4","v":0},{"$f":"QAS34*'Makro i swap'!QAQ4","v":0},{"$f":"QAT34*'Makro i swap'!QAR4","v":0},{"$f":"QAU34*'Makro i swap'!QAS4","v":0},{"$f":"QAV34*'Makro i swap'!QAT4","v":0},{"$f":"QAW34*'Makro i swap'!QAU4","v":0},{"$f":"QAX34*'Makro i swap'!QAV4","v":0},{"$f":"QAY34*'Makro i swap'!QAW4","v":0},{"$f":"QAZ34*'Makro i swap'!QAX4","v":0},{"$f":"QBA34*'Makro i swap'!QAY4","v":0},{"$f":"QBB34*'Makro i swap'!QAZ4","v":0},{"$f":"QBC34*'Makro i swap'!QBA4","v":0},{"$f":"QBD34*'Makro i swap'!QBB4","v":0},{"$f":"QBE34*'Makro i swap'!QBC4","v":0},{"$f":"QBF34*'Makro i swap'!QBD4","v":0},{"$f":"QBG34*'Makro i swap'!QBE4","v":0},{"$f":"QBH34*'Makro i swap'!QBF4","v":0},{"$f":"QBI34*'Makro i swap'!QBG4","v":0},{"$f":"QBJ34*'Makro i swap'!QBH4","v":0},{"$f":"QBK34*'Makro i swap'!QBI4","v":0},{"$f":"QBL34*'Makro i swap'!QBJ4","v":0},{"$f":"QBM34*'Makro i swap'!QBK4","v":0},{"$f":"QBN34*'Makro i swap'!QBL4","v":0},{"$f":"QBO34*'Makro i swap'!QBM4","v":0},{"$f":"QBP34*'Makro i swap'!QBN4","v":0},{"$f":"QBQ34*'Makro i swap'!QBO4","v":0},{"$f":"QBR34*'Makro i swap'!QBP4","v":0},{"$f":"QBS34*'Makro i swap'!QBQ4","v":0},{"$f":"QBT34*'Makro i swap'!QBR4","v":0},{"$f":"QBU34*'Makro i swap'!QBS4","v":0},{"$f":"QBV34*'Makro i swap'!QBT4","v":0},{"$f":"QBW34*'Makro i swap'!QBU4","v":0},{"$f":"QBX34*'Makro i swap'!QBV4","v":0},{"$f":"QBY34*'Makro i swap'!QBW4","v":0},{"$f":"QBZ34*'Makro i swap'!QBX4","v":0},{"$f":"QCA34*'Makro i swap'!QBY4","v":0},{"$f":"QCB34*'Makro i swap'!QBZ4","v":0},{"$f":"QCC34*'Makro i swap'!QCA4","v":0},{"$f":"QCD34*'Makro i swap'!QCB4","v":0},{"$f":"QCE34*'Makro i swap'!QCC4","v":0},{"$f":"QCF34*'Makro i swap'!QCD4","v":0},{"$f":"QCG34*'Makro i swap'!QCE4","v":0},{"$f":"QCH34*'Makro i swap'!QCF4","v":0},{"$f":"QCI34*'Makro i swap'!QCG4","v":0},{"$f":"QCJ34*'Makro i swap'!QCH4","v":0},{"$f":"QCK34*'Makro i swap'!QCI4","v":0},{"$f":"QCL34*'Makro i swap'!QCJ4","v":0},{"$f":"QCM34*'Makro i swap'!QCK4","v":0},{"$f":"QCN34*'Makro i swap'!QCL4","v":0},{"$f":"QCO34*'Makro i swap'!QCM4","v":0},{"$f":"QCP34*'Makro i swap'!QCN4","v":0},{"$f":"QCQ34*'Makro i swap'!QCO4","v":0},{"$f":"QCR34*'Makro i swap'!QCP4","v":0},{"$f":"QCS34*'Makro i swap'!QCQ4","v":0},{"$f":"QCT34*'Makro i swap'!QCR4","v":0},{"$f":"QCU34*'Makro i swap'!QCS4","v":0},{"$f":"QCV34*'Makro i swap'!QCT4","v":0},{"$f":"QCW34*'Makro i swap'!QCU4","v":0},{"$f":"QCX34*'Makro i swap'!QCV4","v":0},{"$f":"QCY34*'Makro i swap'!QCW4","v":0},{"$f":"QCZ34*'Makro i swap'!QCX4","v":0},{"$f":"QDA34*'Makro i swap'!QCY4","v":0},{"$f":"QDB34*'Makro i swap'!QCZ4","v":0},{"$f":"QDC34*'Makro i swap'!QDA4","v":0},{"$f":"QDD34*'Makro i swap'!QDB4","v":0},{"$f":"QDE34*'Makro i swap'!QDC4","v":0},{"$f":"QDF34*'Makro i swap'!QDD4","v":0},{"$f":"QDG34*'Makro i swap'!QDE4","v":0},{"$f":"QDH34*'Makro i swap'!QDF4","v":0},{"$f":"QDI34*'Makro i swap'!QDG4","v":0},{"$f":"QDJ34*'Makro i swap'!QDH4","v":0},{"$f":"QDK34*'Makro i swap'!QDI4","v":0},{"$f":"QDL34*'Makro i swap'!QDJ4","v":0},{"$f":"QDM34*'Makro i swap'!QDK4","v":0},{"$f":"QDN34*'Makro i swap'!QDL4","v":0},{"$f":"QDO34*'Makro i swap'!QDM4","v":0},{"$f":"QDP34*'Makro i swap'!QDN4","v":0},{"$f":"QDQ34*'Makro i swap'!QDO4","v":0},{"$f":"QDR34*'Makro i swap'!QDP4","v":0},{"$f":"QDS34*'Makro i swap'!QDQ4","v":0},{"$f":"QDT34*'Makro i swap'!QDR4","v":0},{"$f":"QDU34*'Makro i swap'!QDS4","v":0},{"$f":"QDV34*'Makro i swap'!QDT4","v":0},{"$f":"QDW34*'Makro i swap'!QDU4","v":0},{"$f":"QDX34*'Makro i swap'!QDV4","v":0},{"$f":"QDY34*'Makro i swap'!QDW4","v":0},{"$f":"QDZ34*'Makro i swap'!QDX4","v":0},{"$f":"QEA34*'Makro i swap'!QDY4","v":0},{"$f":"QEB34*'Makro i swap'!QDZ4","v":0},{"$f":"QEC34*'Makro i swap'!QEA4","v":0},{"$f":"QED34*'Makro i swap'!QEB4","v":0},{"$f":"QEE34*'Makro i swap'!QEC4","v":0},{"$f":"QEF34*'Makro i swap'!QED4","v":0},{"$f":"QEG34*'Makro i swap'!QEE4","v":0},{"$f":"QEH34*'Makro i swap'!QEF4","v":0},{"$f":"QEI34*'Makro i swap'!QEG4","v":0},{"$f":"QEJ34*'Makro i swap'!QEH4","v":0},{"$f":"QEK34*'Makro i swap'!QEI4","v":0},{"$f":"QEL34*'Makro i swap'!QEJ4","v":0},{"$f":"QEM34*'Makro i swap'!QEK4","v":0},{"$f":"QEN34*'Makro i swap'!QEL4","v":0},{"$f":"QEO34*'Makro i swap'!QEM4","v":0},{"$f":"QEP34*'Makro i swap'!QEN4","v":0},{"$f":"QEQ34*'Makro i swap'!QEO4","v":0},{"$f":"QER34*'Makro i swap'!QEP4","v":0},{"$f":"QES34*'Makro i swap'!QEQ4","v":0},{"$f":"QET34*'Makro i swap'!QER4","v":0},{"$f":"QEU34*'Makro i swap'!QES4","v":0},{"$f":"QEV34*'Makro i swap'!QET4","v":0},{"$f":"QEW34*'Makro i swap'!QEU4","v":0},{"$f":"QEX34*'Makro i swap'!QEV4","v":0},{"$f":"QEY34*'Makro i swap'!QEW4","v":0},{"$f":"QEZ34*'Makro i swap'!QEX4","v":0},{"$f":"QFA34*'Makro i swap'!QEY4","v":0},{"$f":"QFB34*'Makro i swap'!QEZ4","v":0},{"$f":"QFC34*'Makro i swap'!QFA4","v":0},{"$f":"QFD34*'Makro i swap'!QFB4","v":0},{"$f":"QFE34*'Makro i swap'!QFC4","v":0},{"$f":"QFF34*'Makro i swap'!QFD4","v":0},{"$f":"QFG34*'Makro i swap'!QFE4","v":0},{"$f":"QFH34*'Makro i swap'!QFF4","v":0},{"$f":"QFI34*'Makro i swap'!QFG4","v":0},{"$f":"QFJ34*'Makro i swap'!QFH4","v":0},{"$f":"QFK34*'Makro i swap'!QFI4","v":0},{"$f":"QFL34*'Makro i swap'!QFJ4","v":0},{"$f":"QFM34*'Makro i swap'!QFK4","v":0},{"$f":"QFN34*'Makro i swap'!QFL4","v":0},{"$f":"QFO34*'Makro i swap'!QFM4","v":0},{"$f":"QFP34*'Makro i swap'!QFN4","v":0},{"$f":"QFQ34*'Makro i swap'!QFO4","v":0},{"$f":"QFR34*'Makro i swap'!QFP4","v":0},{"$f":"QFS34*'Makro i swap'!QFQ4","v":0},{"$f":"QFT34*'Makro i swap'!QFR4","v":0},{"$f":"QFU34*'Makro i swap'!QFS4","v":0},{"$f":"QFV34*'Makro i swap'!QFT4","v":0},{"$f":"QFW34*'Makro i swap'!QFU4","v":0},{"$f":"QFX34*'Makro i swap'!QFV4","v":0},{"$f":"QFY34*'Makro i swap'!QFW4","v":0},{"$f":"QFZ34*'Makro i swap'!QFX4","v":0},{"$f":"QGA34*'Makro i swap'!QFY4","v":0},{"$f":"QGB34*'Makro i swap'!QFZ4","v":0},{"$f":"QGC34*'Makro i swap'!QGA4","v":0},{"$f":"QGD34*'Makro i swap'!QGB4","v":0},{"$f":"QGE34*'Makro i swap'!QGC4","v":0},{"$f":"QGF34*'Makro i swap'!QGD4","v":0},{"$f":"QGG34*'Makro i swap'!QGE4","v":0},{"$f":"QGH34*'Makro i swap'!QGF4","v":0},{"$f":"QGI34*'Makro i swap'!QGG4","v":0},{"$f":"QGJ34*'Makro i swap'!QGH4","v":0},{"$f":"QGK34*'Makro i swap'!QGI4","v":0},{"$f":"QGL34*'Makro i swap'!QGJ4","v":0},{"$f":"QGM34*'Makro i swap'!QGK4","v":0},{"$f":"QGN34*'Makro i swap'!QGL4","v":0},{"$f":"QGO34*'Makro i swap'!QGM4","v":0},{"$f":"QGP34*'Makro i swap'!QGN4","v":0},{"$f":"QGQ34*'Makro i swap'!QGO4","v":0},{"$f":"QGR34*'Makro i swap'!QGP4","v":0},{"$f":"QGS34*'Makro i swap'!QGQ4","v":0},{"$f":"QGT34*'Makro i swap'!QGR4","v":0},{"$f":"QGU34*'Makro i swap'!QGS4","v":0},{"$f":"QGV34*'Makro i swap'!QGT4","v":0},{"$f":"QGW34*'Makro i swap'!QGU4","v":0},{"$f":"QGX34*'Makro i swap'!QGV4","v":0},{"$f":"QGY34*'Makro i swap'!QGW4","v":0},{"$f":"QGZ34*'Makro i swap'!QGX4","v":0},{"$f":"QHA34*'Makro i swap'!QGY4","v":0},{"$f":"QHB34*'Makro i swap'!QGZ4","v":0},{"$f":"QHC34*'Makro i swap'!QHA4","v":0},{"$f":"QHD34*'Makro i swap'!QHB4","v":0},{"$f":"QHE34*'Makro i swap'!QHC4","v":0},{"$f":"QHF34*'Makro i swap'!QHD4","v":0},{"$f":"QHG34*'Makro i swap'!QHE4","v":0},{"$f":"QHH34*'Makro i swap'!QHF4","v":0},{"$f":"QHI34*'Makro i swap'!QHG4","v":0},{"$f":"QHJ34*'Makro i swap'!QHH4","v":0},{"$f":"QHK34*'Makro i swap'!QHI4","v":0},{"$f":"QHL34*'Makro i swap'!QHJ4","v":0},{"$f":"QHM34*'Makro i swap'!QHK4","v":0},{"$f":"QHN34*'Makro i swap'!QHL4","v":0},{"$f":"QHO34*'Makro i swap'!QHM4","v":0},{"$f":"QHP34*'Makro i swap'!QHN4","v":0},{"$f":"QHQ34*'Makro i swap'!QHO4","v":0},{"$f":"QHR34*'Makro i swap'!QHP4","v":0},{"$f":"QHS34*'Makro i swap'!QHQ4","v":0},{"$f":"QHT34*'Makro i swap'!QHR4","v":0},{"$f":"QHU34*'Makro i swap'!QHS4","v":0},{"$f":"QHV34*'Makro i swap'!QHT4","v":0},{"$f":"QHW34*'Makro i swap'!QHU4","v":0},{"$f":"QHX34*'Makro i swap'!QHV4","v":0},{"$f":"QHY34*'Makro i swap'!QHW4","v":0},{"$f":"QHZ34*'Makro i swap'!QHX4","v":0},{"$f":"QIA34*'Makro i swap'!QHY4","v":0},{"$f":"QIB34*'Makro i swap'!QHZ4","v":0},{"$f":"QIC34*'Makro i swap'!QIA4","v":0},{"$f":"QID34*'Makro i swap'!QIB4","v":0},{"$f":"QIE34*'Makro i swap'!QIC4","v":0},{"$f":"QIF34*'Makro i swap'!QID4","v":0},{"$f":"QIG34*'Makro i swap'!QIE4","v":0},{"$f":"QIH34*'Makro i swap'!QIF4","v":0},{"$f":"QII34*'Makro i swap'!QIG4","v":0},{"$f":"QIJ34*'Makro i swap'!QIH4","v":0},{"$f":"QIK34*'Makro i swap'!QII4","v":0},{"$f":"QIL34*'Makro i swap'!QIJ4","v":0},{"$f":"QIM34*'Makro i swap'!QIK4","v":0},{"$f":"QIN34*'Makro i swap'!QIL4","v":0},{"$f":"QIO34*'Makro i swap'!QIM4","v":0},{"$f":"QIP34*'Makro i swap'!QIN4","v":0},{"$f":"QIQ34*'Makro i swap'!QIO4","v":0},{"$f":"QIR34*'Makro i swap'!QIP4","v":0},{"$f":"QIS34*'Makro i swap'!QIQ4","v":0},{"$f":"QIT34*'Makro i swap'!QIR4","v":0},{"$f":"QIU34*'Makro i swap'!QIS4","v":0},{"$f":"QIV34*'Makro i swap'!QIT4","v":0},{"$f":"QIW34*'Makro i swap'!QIU4","v":0},{"$f":"QIX34*'Makro i swap'!QIV4","v":0},{"$f":"QIY34*'Makro i swap'!QIW4","v":0},{"$f":"QIZ34*'Makro i swap'!QIX4","v":0},{"$f":"QJA34*'Makro i swap'!QIY4","v":0},{"$f":"QJB34*'Makro i swap'!QIZ4","v":0},{"$f":"QJC34*'Makro i swap'!QJA4","v":0},{"$f":"QJD34*'Makro i swap'!QJB4","v":0},{"$f":"QJE34*'Makro i swap'!QJC4","v":0},{"$f":"QJF34*'Makro i swap'!QJD4","v":0},{"$f":"QJG34*'Makro i swap'!QJE4","v":0},{"$f":"QJH34*'Makro i swap'!QJF4","v":0},{"$f":"QJI34*'Makro i swap'!QJG4","v":0},{"$f":"QJJ34*'Makro i swap'!QJH4","v":0},{"$f":"QJK34*'Makro i swap'!QJI4","v":0},{"$f":"QJL34*'Makro i swap'!QJJ4","v":0},{"$f":"QJM34*'Makro i swap'!QJK4","v":0},{"$f":"QJN34*'Makro i swap'!QJL4","v":0},{"$f":"QJO34*'Makro i swap'!QJM4","v":0},{"$f":"QJP34*'Makro i swap'!QJN4","v":0},{"$f":"QJQ34*'Makro i swap'!QJO4","v":0},{"$f":"QJR34*'Makro i swap'!QJP4","v":0},{"$f":"QJS34*'Makro i swap'!QJQ4","v":0},{"$f":"QJT34*'Makro i swap'!QJR4","v":0},{"$f":"QJU34*'Makro i swap'!QJS4","v":0},{"$f":"QJV34*'Makro i swap'!QJT4","v":0},{"$f":"QJW34*'Makro i swap'!QJU4","v":0},{"$f":"QJX34*'Makro i swap'!QJV4","v":0},{"$f":"QJY34*'Makro i swap'!QJW4","v":0},{"$f":"QJZ34*'Makro i swap'!QJX4","v":0},{"$f":"QKA34*'Makro i swap'!QJY4","v":0},{"$f":"QKB34*'Makro i swap'!QJZ4","v":0},{"$f":"QKC34*'Makro i swap'!QKA4","v":0},{"$f":"QKD34*'Makro i swap'!QKB4","v":0},{"$f":"QKE34*'Makro i swap'!QKC4","v":0},{"$f":"QKF34*'Makro i swap'!QKD4","v":0},{"$f":"QKG34*'Makro i swap'!QKE4","v":0},{"$f":"QKH34*'Makro i swap'!QKF4","v":0},{"$f":"QKI34*'Makro i swap'!QKG4","v":0},{"$f":"QKJ34*'Makro i swap'!QKH4","v":0},{"$f":"QKK34*'Makro i swap'!QKI4","v":0},{"$f":"QKL34*'Makro i swap'!QKJ4","v":0},{"$f":"QKM34*'Makro i swap'!QKK4","v":0},{"$f":"QKN34*'Makro i swap'!QKL4","v":0},{"$f":"QKO34*'Makro i swap'!QKM4","v":0},{"$f":"QKP34*'Makro i swap'!QKN4","v":0},{"$f":"QKQ34*'Makro i swap'!QKO4","v":0},{"$f":"QKR34*'Makro i swap'!QKP4","v":0},{"$f":"QKS34*'Makro i swap'!QKQ4","v":0},{"$f":"QKT34*'Makro i swap'!QKR4","v":0},{"$f":"QKU34*'Makro i swap'!QKS4","v":0},{"$f":"QKV34*'Makro i swap'!QKT4","v":0},{"$f":"QKW34*'Makro i swap'!QKU4","v":0},{"$f":"QKX34*'Makro i swap'!QKV4","v":0},{"$f":"QKY34*'Makro i swap'!QKW4","v":0},{"$f":"QKZ34*'Makro i swap'!QKX4","v":0},{"$f":"QLA34*'Makro i swap'!QKY4","v":0},{"$f":"QLB34*'Makro i swap'!QKZ4","v":0},{"$f":"QLC34*'Makro i swap'!QLA4","v":0},{"$f":"QLD34*'Makro i swap'!QLB4","v":0},{"$f":"QLE34*'Makro i swap'!QLC4","v":0},{"$f":"QLF34*'Makro i swap'!QLD4","v":0},{"$f":"QLG34*'Makro i swap'!QLE4","v":0},{"$f":"QLH34*'Makro i swap'!QLF4","v":0},{"$f":"QLI34*'Makro i swap'!QLG4","v":0},{"$f":"QLJ34*'Makro i swap'!QLH4","v":0},{"$f":"QLK34*'Makro i swap'!QLI4","v":0},{"$f":"QLL34*'Makro i swap'!QLJ4","v":0},{"$f":"QLM34*'Makro i swap'!QLK4","v":0},{"$f":"QLN34*'Makro i swap'!QLL4","v":0},{"$f":"QLO34*'Makro i swap'!QLM4","v":0},{"$f":"QLP34*'Makro i swap'!QLN4","v":0},{"$f":"QLQ34*'Makro i swap'!QLO4","v":0},{"$f":"QLR34*'Makro i swap'!QLP4","v":0},{"$f":"QLS34*'Makro i swap'!QLQ4","v":0},{"$f":"QLT34*'Makro i swap'!QLR4","v":0},{"$f":"QLU34*'Makro i swap'!QLS4","v":0},{"$f":"QLV34*'Makro i swap'!QLT4","v":0},{"$f":"QLW34*'Makro i swap'!QLU4","v":0},{"$f":"QLX34*'Makro i swap'!QLV4","v":0},{"$f":"QLY34*'Makro i swap'!QLW4","v":0},{"$f":"QLZ34*'Makro i swap'!QLX4","v":0},{"$f":"QMA34*'Makro i swap'!QLY4","v":0},{"$f":"QMB34*'Makro i swap'!QLZ4","v":0},{"$f":"QMC34*'Makro i swap'!QMA4","v":0},{"$f":"QMD34*'Makro i swap'!QMB4","v":0},{"$f":"QME34*'Makro i swap'!QMC4","v":0},{"$f":"QMF34*'Makro i swap'!QMD4","v":0},{"$f":"QMG34*'Makro i swap'!QME4","v":0},{"$f":"QMH34*'Makro i swap'!QMF4","v":0},{"$f":"QMI34*'Makro i swap'!QMG4","v":0},{"$f":"QMJ34*'Makro i swap'!QMH4","v":0},{"$f":"QMK34*'Makro i swap'!QMI4","v":0},{"$f":"QML34*'Makro i swap'!QMJ4","v":0},{"$f":"QMM34*'Makro i swap'!QMK4","v":0},{"$f":"QMN34*'Makro i swap'!QML4","v":0},{"$f":"QMO34*'Makro i swap'!QMM4","v":0},{"$f":"QMP34*'Makro i swap'!QMN4","v":0},{"$f":"QMQ34*'Makro i swap'!QMO4","v":0},{"$f":"QMR34*'Makro i swap'!QMP4","v":0},{"$f":"QMS34*'Makro i swap'!QMQ4","v":0},{"$f":"QMT34*'Makro i swap'!QMR4","v":0},{"$f":"QMU34*'Makro i swap'!QMS4","v":0},{"$f":"QMV34*'Makro i swap'!QMT4","v":0},{"$f":"QMW34*'Makro i swap'!QMU4","v":0},{"$f":"QMX34*'Makro i swap'!QMV4","v":0},{"$f":"QMY34*'Makro i swap'!QMW4","v":0},{"$f":"QMZ34*'Makro i swap'!QMX4","v":0},{"$f":"QNA34*'Makro i swap'!QMY4","v":0},{"$f":"QNB34*'Makro i swap'!QMZ4","v":0},{"$f":"QNC34*'Makro i swap'!QNA4","v":0},{"$f":"QND34*'Makro i swap'!QNB4","v":0},{"$f":"QNE34*'Makro i swap'!QNC4","v":0},{"$f":"QNF34*'Makro i swap'!QND4","v":0},{"$f":"QNG34*'Makro i swap'!QNE4","v":0},{"$f":"QNH34*'Makro i swap'!QNF4","v":0},{"$f":"QNI34*'Makro i swap'!QNG4","v":0},{"$f":"QNJ34*'Makro i swap'!QNH4","v":0},{"$f":"QNK34*'Makro i swap'!QNI4","v":0},{"$f":"QNL34*'Makro i swap'!QNJ4","v":0},{"$f":"QNM34*'Makro i swap'!QNK4","v":0},{"$f":"QNN34*'Makro i swap'!QNL4","v":0},{"$f":"QNO34*'Makro i swap'!QNM4","v":0},{"$f":"QNP34*'Makro i swap'!QNN4","v":0},{"$f":"QNQ34*'Makro i swap'!QNO4","v":0},{"$f":"QNR34*'Makro i swap'!QNP4","v":0},{"$f":"QNS34*'Makro i swap'!QNQ4","v":0},{"$f":"QNT34*'Makro i swap'!QNR4","v":0},{"$f":"QNU34*'Makro i swap'!QNS4","v":0},{"$f":"QNV34*'Makro i swap'!QNT4","v":0},{"$f":"QNW34*'Makro i swap'!QNU4","v":0},{"$f":"QNX34*'Makro i swap'!QNV4","v":0},{"$f":"QNY34*'Makro i swap'!QNW4","v":0},{"$f":"QNZ34*'Makro i swap'!QNX4","v":0},{"$f":"QOA34*'Makro i swap'!QNY4","v":0},{"$f":"QOB34*'Makro i swap'!QNZ4","v":0},{"$f":"QOC34*'Makro i swap'!QOA4","v":0},{"$f":"QOD34*'Makro i swap'!QOB4","v":0},{"$f":"QOE34*'Makro i swap'!QOC4","v":0},{"$f":"QOF34*'Makro i swap'!QOD4","v":0},{"$f":"QOG34*'Makro i swap'!QOE4","v":0},{"$f":"QOH34*'Makro i swap'!QOF4","v":0},{"$f":"QOI34*'Makro i swap'!QOG4","v":0},{"$f":"QOJ34*'Makro i swap'!QOH4","v":0},{"$f":"QOK34*'Makro i swap'!QOI4","v":0},{"$f":"QOL34*'Makro i swap'!QOJ4","v":0},{"$f":"QOM34*'Makro i swap'!QOK4","v":0},{"$f":"QON34*'Makro i swap'!QOL4","v":0},{"$f":"QOO34*'Makro i swap'!QOM4","v":0},{"$f":"QOP34*'Makro i swap'!QON4","v":0},{"$f":"QOQ34*'Makro i swap'!QOO4","v":0},{"$f":"QOR34*'Makro i swap'!QOP4","v":0},{"$f":"QOS34*'Makro i swap'!QOQ4","v":0},{"$f":"QOT34*'Makro i swap'!QOR4","v":0},{"$f":"QOU34*'Makro i swap'!QOS4","v":0},{"$f":"QOV34*'Makro i swap'!QOT4","v":0},{"$f":"QOW34*'Makro i swap'!QOU4","v":0},{"$f":"QOX34*'Makro i swap'!QOV4","v":0},{"$f":"QOY34*'Makro i swap'!QOW4","v":0},{"$f":"QOZ34*'Makro i swap'!QOX4","v":0},{"$f":"QPA34*'Makro i swap'!QOY4","v":0},{"$f":"QPB34*'Makro i swap'!QOZ4","v":0},{"$f":"QPC34*'Makro i swap'!QPA4","v":0},{"$f":"QPD34*'Makro i swap'!QPB4","v":0},{"$f":"QPE34*'Makro i swap'!QPC4","v":0},{"$f":"QPF34*'Makro i swap'!QPD4","v":0},{"$f":"QPG34*'Makro i swap'!QPE4","v":0},{"$f":"QPH34*'Makro i swap'!QPF4","v":0},{"$f":"QPI34*'Makro i swap'!QPG4","v":0},{"$f":"QPJ34*'Makro i swap'!QPH4","v":0},{"$f":"QPK34*'Makro i swap'!QPI4","v":0},{"$f":"QPL34*'Makro i swap'!QPJ4","v":0},{"$f":"QPM34*'Makro i swap'!QPK4","v":0},{"$f":"QPN34*'Makro i swap'!QPL4","v":0},{"$f":"QPO34*'Makro i swap'!QPM4","v":0},{"$f":"QPP34*'Makro i swap'!QPN4","v":0},{"$f":"QPQ34*'Makro i swap'!QPO4","v":0},{"$f":"QPR34*'Makro i swap'!QPP4","v":0},{"$f":"QPS34*'Makro i swap'!QPQ4","v":0},{"$f":"QPT34*'Makro i swap'!QPR4","v":0},{"$f":"QPU34*'Makro i swap'!QPS4","v":0},{"$f":"QPV34*'Makro i swap'!QPT4","v":0},{"$f":"QPW34*'Makro i swap'!QPU4","v":0},{"$f":"QPX34*'Makro i swap'!QPV4","v":0},{"$f":"QPY34*'Makro i swap'!QPW4","v":0},{"$f":"QPZ34*'Makro i swap'!QPX4","v":0},{"$f":"QQA34*'Makro i swap'!QPY4","v":0},{"$f":"QQB34*'Makro i swap'!QPZ4","v":0},{"$f":"QQC34*'Makro i swap'!QQA4","v":0},{"$f":"QQD34*'Makro i swap'!QQB4","v":0},{"$f":"QQE34*'Makro i swap'!QQC4","v":0},{"$f":"QQF34*'Makro i swap'!QQD4","v":0},{"$f":"QQG34*'Makro i swap'!QQE4","v":0},{"$f":"QQH34*'Makro i swap'!QQF4","v":0},{"$f":"QQI34*'Makro i swap'!QQG4","v":0},{"$f":"QQJ34*'Makro i swap'!QQH4","v":0},{"$f":"QQK34*'Makro i swap'!QQI4","v":0},{"$f":"QQL34*'Makro i swap'!QQJ4","v":0},{"$f":"QQM34*'Makro i swap'!QQK4","v":0},{"$f":"QQN34*'Makro i swap'!QQL4","v":0},{"$f":"QQO34*'Makro i swap'!QQM4","v":0},{"$f":"QQP34*'Makro i swap'!QQN4","v":0},{"$f":"QQQ34*'Makro i swap'!QQO4","v":0},{"$f":"QQR34*'Makro i swap'!QQP4","v":0},{"$f":"QQS34*'Makro i swap'!QQQ4","v":0},{"$f":"QQT34*'Makro i swap'!QQR4","v":0},{"$f":"QQU34*'Makro i swap'!QQS4","v":0},{"$f":"QQV34*'Makro i swap'!QQT4","v":0},{"$f":"QQW34*'Makro i swap'!QQU4","v":0},{"$f":"QQX34*'Makro i swap'!QQV4","v":0},{"$f":"QQY34*'Makro i swap'!QQW4","v":0},{"$f":"QQZ34*'Makro i swap'!QQX4","v":0},{"$f":"QRA34*'Makro i swap'!QQY4","v":0},{"$f":"QRB34*'Makro i swap'!QQZ4","v":0},{"$f":"QRC34*'Makro i swap'!QRA4","v":0},{"$f":"QRD34*'Makro i swap'!QRB4","v":0},{"$f":"QRE34*'Makro i swap'!QRC4","v":0},{"$f":"QRF34*'Makro i swap'!QRD4","v":0},{"$f":"QRG34*'Makro i swap'!QRE4","v":0},{"$f":"QRH34*'Makro i swap'!QRF4","v":0},{"$f":"QRI34*'Makro i swap'!QRG4","v":0},{"$f":"QRJ34*'Makro i swap'!QRH4","v":0},{"$f":"QRK34*'Makro i swap'!QRI4","v":0},{"$f":"QRL34*'Makro i swap'!QRJ4","v":0},{"$f":"QRM34*'Makro i swap'!QRK4","v":0},{"$f":"QRN34*'Makro i swap'!QRL4","v":0},{"$f":"QRO34*'Makro i swap'!QRM4","v":0},{"$f":"QRP34*'Makro i swap'!QRN4","v":0},{"$f":"QRQ34*'Makro i swap'!QRO4","v":0},{"$f":"QRR34*'Makro i swap'!QRP4","v":0},{"$f":"QRS34*'Makro i swap'!QRQ4","v":0},{"$f":"QRT34*'Makro i swap'!QRR4","v":0},{"$f":"QRU34*'Makro i swap'!QRS4","v":0},{"$f":"QRV34*'Makro i swap'!QRT4","v":0},{"$f":"QRW34*'Makro i swap'!QRU4","v":0},{"$f":"QRX34*'Makro i swap'!QRV4","v":0},{"$f":"QRY34*'Makro i swap'!QRW4","v":0},{"$f":"QRZ34*'Makro i swap'!QRX4","v":0},{"$f":"QSA34*'Makro i swap'!QRY4","v":0},{"$f":"QSB34*'Makro i swap'!QRZ4","v":0},{"$f":"QSC34*'Makro i swap'!QSA4","v":0},{"$f":"QSD34*'Makro i swap'!QSB4","v":0},{"$f":"QSE34*'Makro i swap'!QSC4","v":0},{"$f":"QSF34*'Makro i swap'!QSD4","v":0},{"$f":"QSG34*'Makro i swap'!QSE4","v":0},{"$f":"QSH34*'Makro i swap'!QSF4","v":0},{"$f":"QSI34*'Makro i swap'!QSG4","v":0},{"$f":"QSJ34*'Makro i swap'!QSH4","v":0},{"$f":"QSK34*'Makro i swap'!QSI4","v":0},{"$f":"QSL34*'Makro i swap'!QSJ4","v":0},{"$f":"QSM34*'Makro i swap'!QSK4","v":0},{"$f":"QSN34*'Makro i swap'!QSL4","v":0},{"$f":"QSO34*'Makro i swap'!QSM4","v":0},{"$f":"QSP34*'Makro i swap'!QSN4","v":0},{"$f":"QSQ34*'Makro i swap'!QSO4","v":0},{"$f":"QSR34*'Makro i swap'!QSP4","v":0},{"$f":"QSS34*'Makro i swap'!QSQ4","v":0},{"$f":"QST34*'Makro i swap'!QSR4","v":0},{"$f":"QSU34*'Makro i swap'!QSS4","v":0},{"$f":"QSV34*'Makro i swap'!QST4","v":0},{"$f":"QSW34*'Makro i swap'!QSU4","v":0},{"$f":"QSX34*'Makro i swap'!QSV4","v":0},{"$f":"QSY34*'Makro i swap'!QSW4","v":0},{"$f":"QSZ34*'Makro i swap'!QSX4","v":0},{"$f":"QTA34*'Makro i swap'!QSY4","v":0},{"$f":"QTB34*'Makro i swap'!QSZ4","v":0},{"$f":"QTC34*'Makro i swap'!QTA4","v":0},{"$f":"QTD34*'Makro i swap'!QTB4","v":0},{"$f":"QTE34*'Makro i swap'!QTC4","v":0},{"$f":"QTF34*'Makro i swap'!QTD4","v":0},{"$f":"QTG34*'Makro i swap'!QTE4","v":0},{"$f":"QTH34*'Makro i swap'!QTF4","v":0},{"$f":"QTI34*'Makro i swap'!QTG4","v":0},{"$f":"QTJ34*'Makro i swap'!QTH4","v":0},{"$f":"QTK34*'Makro i swap'!QTI4","v":0},{"$f":"QTL34*'Makro i swap'!QTJ4","v":0},{"$f":"QTM34*'Makro i swap'!QTK4","v":0},{"$f":"QTN34*'Makro i swap'!QTL4","v":0},{"$f":"QTO34*'Makro i swap'!QTM4","v":0},{"$f":"QTP34*'Makro i swap'!QTN4","v":0},{"$f":"QTQ34*'Makro i swap'!QTO4","v":0},{"$f":"QTR34*'Makro i swap'!QTP4","v":0},{"$f":"QTS34*'Makro i swap'!QTQ4","v":0},{"$f":"QTT34*'Makro i swap'!QTR4","v":0},{"$f":"QTU34*'Makro i swap'!QTS4","v":0},{"$f":"QTV34*'Makro i swap'!QTT4","v":0},{"$f":"QTW34*'Makro i swap'!QTU4","v":0},{"$f":"QTX34*'Makro i swap'!QTV4","v":0},{"$f":"QTY34*'Makro i swap'!QTW4","v":0},{"$f":"QTZ34*'Makro i swap'!QTX4","v":0},{"$f":"QUA34*'Makro i swap'!QTY4","v":0},{"$f":"QUB34*'Makro i swap'!QTZ4","v":0},{"$f":"QUC34*'Makro i swap'!QUA4","v":0},{"$f":"QUD34*'Makro i swap'!QUB4","v":0},{"$f":"QUE34*'Makro i swap'!QUC4","v":0},{"$f":"QUF34*'Makro i swap'!QUD4","v":0},{"$f":"QUG34*'Makro i swap'!QUE4","v":0},{"$f":"QUH34*'Makro i swap'!QUF4","v":0},{"$f":"QUI34*'Makro i swap'!QUG4","v":0},{"$f":"QUJ34*'Makro i swap'!QUH4","v":0},{"$f":"QUK34*'Makro i swap'!QUI4","v":0},{"$f":"QUL34*'Makro i swap'!QUJ4","v":0},{"$f":"QUM34*'Makro i swap'!QUK4","v":0},{"$f":"QUN34*'Makro i swap'!QUL4","v":0},{"$f":"QUO34*'Makro i swap'!QUM4","v":0},{"$f":"QUP34*'Makro i swap'!QUN4","v":0},{"$f":"QUQ34*'Makro i swap'!QUO4","v":0},{"$f":"QUR34*'Makro i swap'!QUP4","v":0},{"$f":"QUS34*'Makro i swap'!QUQ4","v":0},{"$f":"QUT34*'Makro i swap'!QUR4","v":0},{"$f":"QUU34*'Makro i swap'!QUS4","v":0},{"$f":"QUV34*'Makro i swap'!QUT4","v":0},{"$f":"QUW34*'Makro i swap'!QUU4","v":0},{"$f":"QUX34*'Makro i swap'!QUV4","v":0},{"$f":"QUY34*'Makro i swap'!QUW4","v":0},{"$f":"QUZ34*'Makro i swap'!QUX4","v":0},{"$f":"QVA34*'Makro i swap'!QUY4","v":0},{"$f":"QVB34*'Makro i swap'!QUZ4","v":0},{"$f":"QVC34*'Makro i swap'!QVA4","v":0},{"$f":"QVD34*'Makro i swap'!QVB4","v":0},{"$f":"QVE34*'Makro i swap'!QVC4","v":0},{"$f":"QVF34*'Makro i swap'!QVD4","v":0},{"$f":"QVG34*'Makro i swap'!QVE4","v":0},{"$f":"QVH34*'Makro i swap'!QVF4","v":0},{"$f":"QVI34*'Makro i swap'!QVG4","v":0},{"$f":"QVJ34*'Makro i swap'!QVH4","v":0},{"$f":"QVK34*'Makro i swap'!QVI4","v":0},{"$f":"QVL34*'Makro i swap'!QVJ4","v":0},{"$f":"QVM34*'Makro i swap'!QVK4","v":0},{"$f":"QVN34*'Makro i swap'!QVL4","v":0},{"$f":"QVO34*'Makro i swap'!QVM4","v":0},{"$f":"QVP34*'Makro i swap'!QVN4","v":0},{"$f":"QVQ34*'Makro i swap'!QVO4","v":0},{"$f":"QVR34*'Makro i swap'!QVP4","v":0},{"$f":"QVS34*'Makro i swap'!QVQ4","v":0},{"$f":"QVT34*'Makro i swap'!QVR4","v":0},{"$f":"QVU34*'Makro i swap'!QVS4","v":0},{"$f":"QVV34*'Makro i swap'!QVT4","v":0},{"$f":"QVW34*'Makro i swap'!QVU4","v":0},{"$f":"QVX34*'Makro i swap'!QVV4","v":0},{"$f":"QVY34*'Makro i swap'!QVW4","v":0},{"$f":"QVZ34*'Makro i swap'!QVX4","v":0},{"$f":"QWA34*'Makro i swap'!QVY4","v":0},{"$f":"QWB34*'Makro i swap'!QVZ4","v":0},{"$f":"QWC34*'Makro i swap'!QWA4","v":0},{"$f":"QWD34*'Makro i swap'!QWB4","v":0},{"$f":"QWE34*'Makro i swap'!QWC4","v":0},{"$f":"QWF34*'Makro i swap'!QWD4","v":0},{"$f":"QWG34*'Makro i swap'!QWE4","v":0},{"$f":"QWH34*'Makro i swap'!QWF4","v":0},{"$f":"QWI34*'Makro i swap'!QWG4","v":0},{"$f":"QWJ34*'Makro i swap'!QWH4","v":0},{"$f":"QWK34*'Makro i swap'!QWI4","v":0},{"$f":"QWL34*'Makro i swap'!QWJ4","v":0},{"$f":"QWM34*'Makro i swap'!QWK4","v":0},{"$f":"QWN34*'Makro i swap'!QWL4","v":0},{"$f":"QWO34*'Makro i swap'!QWM4","v":0},{"$f":"QWP34*'Makro i swap'!QWN4","v":0},{"$f":"QWQ34*'Makro i swap'!QWO4","v":0},{"$f":"QWR34*'Makro i swap'!QWP4","v":0},{"$f":"QWS34*'Makro i swap'!QWQ4","v":0},{"$f":"QWT34*'Makro i swap'!QWR4","v":0},{"$f":"QWU34*'Makro i swap'!QWS4","v":0},{"$f":"QWV34*'Makro i swap'!QWT4","v":0},{"$f":"QWW34*'Makro i swap'!QWU4","v":0},{"$f":"QWX34*'Makro i swap'!QWV4","v":0},{"$f":"QWY34*'Makro i swap'!QWW4","v":0},{"$f":"QWZ34*'Makro i swap'!QWX4","v":0},{"$f":"QXA34*'Makro i swap'!QWY4","v":0},{"$f":"QXB34*'Makro i swap'!QWZ4","v":0},{"$f":"QXC34*'Makro i swap'!QXA4","v":0},{"$f":"QXD34*'Makro i swap'!QXB4","v":0},{"$f":"QXE34*'Makro i swap'!QXC4","v":0},{"$f":"QXF34*'Makro i swap'!QXD4","v":0},{"$f":"QXG34*'Makro i swap'!QXE4","v":0},{"$f":"QXH34*'Makro i swap'!QXF4","v":0},{"$f":"QXI34*'Makro i swap'!QXG4","v":0},{"$f":"QXJ34*'Makro i swap'!QXH4","v":0},{"$f":"QXK34*'Makro i swap'!QXI4","v":0},{"$f":"QXL34*'Makro i swap'!QXJ4","v":0},{"$f":"QXM34*'Makro i swap'!QXK4","v":0},{"$f":"QXN34*'Makro i swap'!QXL4","v":0},{"$f":"QXO34*'Makro i swap'!QXM4","v":0},{"$f":"QXP34*'Makro i swap'!QXN4","v":0},{"$f":"QXQ34*'Makro i swap'!QXO4","v":0},{"$f":"QXR34*'Makro i swap'!QXP4","v":0},{"$f":"QXS34*'Makro i swap'!QXQ4","v":0},{"$f":"QXT34*'Makro i swap'!QXR4","v":0},{"$f":"QXU34*'Makro i swap'!QXS4","v":0},{"$f":"QXV34*'Makro i swap'!QXT4","v":0},{"$f":"QXW34*'Makro i swap'!QXU4","v":0},{"$f":"QXX34*'Makro i swap'!QXV4","v":0},{"$f":"QXY34*'Makro i swap'!QXW4","v":0},{"$f":"QXZ34*'Makro i swap'!QXX4","v":0},{"$f":"QYA34*'Makro i swap'!QXY4","v":0},{"$f":"QYB34*'Makro i swap'!QXZ4","v":0},{"$f":"QYC34*'Makro i swap'!QYA4","v":0},{"$f":"QYD34*'Makro i swap'!QYB4","v":0},{"$f":"QYE34*'Makro i swap'!QYC4","v":0},{"$f":"QYF34*'Makro i swap'!QYD4","v":0},{"$f":"QYG34*'Makro i swap'!QYE4","v":0},{"$f":"QYH34*'Makro i swap'!QYF4","v":0},{"$f":"QYI34*'Makro i swap'!QYG4","v":0},{"$f":"QYJ34*'Makro i swap'!QYH4","v":0},{"$f":"QYK34*'Makro i swap'!QYI4","v":0},{"$f":"QYL34*'Makro i swap'!QYJ4","v":0},{"$f":"QYM34*'Makro i swap'!QYK4","v":0},{"$f":"QYN34*'Makro i swap'!QYL4","v":0},{"$f":"QYO34*'Makro i swap'!QYM4","v":0},{"$f":"QYP34*'Makro i swap'!QYN4","v":0},{"$f":"QYQ34*'Makro i swap'!QYO4","v":0},{"$f":"QYR34*'Makro i swap'!QYP4","v":0},{"$f":"QYS34*'Makro i swap'!QYQ4","v":0},{"$f":"QYT34*'Makro i swap'!QYR4","v":0},{"$f":"QYU34*'Makro i swap'!QYS4","v":0},{"$f":"QYV34*'Makro i swap'!QYT4","v":0},{"$f":"QYW34*'Makro i swap'!QYU4","v":0},{"$f":"QYX34*'Makro i swap'!QYV4","v":0},{"$f":"QYY34*'Makro i swap'!QYW4","v":0},{"$f":"QYZ34*'Makro i swap'!QYX4","v":0},{"$f":"QZA34*'Makro i swap'!QYY4","v":0},{"$f":"QZB34*'Makro i swap'!QYZ4","v":0},{"$f":"QZC34*'Makro i swap'!QZA4","v":0},{"$f":"QZD34*'Makro i swap'!QZB4","v":0},{"$f":"QZE34*'Makro i swap'!QZC4","v":0},{"$f":"QZF34*'Makro i swap'!QZD4","v":0},{"$f":"QZG34*'Makro i swap'!QZE4","v":0},{"$f":"QZH34*'Makro i swap'!QZF4","v":0},{"$f":"QZI34*'Makro i swap'!QZG4","v":0},{"$f":"QZJ34*'Makro i swap'!QZH4","v":0},{"$f":"QZK34*'Makro i swap'!QZI4","v":0},{"$f":"QZL34*'Makro i swap'!QZJ4","v":0},{"$f":"QZM34*'Makro i swap'!QZK4","v":0},{"$f":"QZN34*'Makro i swap'!QZL4","v":0},{"$f":"QZO34*'Makro i swap'!QZM4","v":0},{"$f":"QZP34*'Makro i swap'!QZN4","v":0},{"$f":"QZQ34*'Makro i swap'!QZO4","v":0},{"$f":"QZR34*'Makro i swap'!QZP4","v":0},{"$f":"QZS34*'Makro i swap'!QZQ4","v":0},{"$f":"QZT34*'Makro i swap'!QZR4","v":0},{"$f":"QZU34*'Makro i swap'!QZS4","v":0},{"$f":"QZV34*'Makro i swap'!QZT4","v":0},{"$f":"QZW34*'Makro i swap'!QZU4","v":0},{"$f":"QZX34*'Makro i swap'!QZV4","v":0},{"$f":"QZY34*'Makro i swap'!QZW4","v":0},{"$f":"QZZ34*'Makro i swap'!QZX4","v":0},{"$f":"RAA34*'Makro i swap'!QZY4","v":0},{"$f":"RAB34*'Makro i swap'!QZZ4","v":0},{"$f":"RAC34*'Makro i swap'!RAA4","v":0},{"$f":"RAD34*'Makro i swap'!RAB4","v":0},{"$f":"RAE34*'Makro i swap'!RAC4","v":0},{"$f":"RAF34*'Makro i swap'!RAD4","v":0},{"$f":"RAG34*'Makro i swap'!RAE4","v":0},{"$f":"RAH34*'Makro i swap'!RAF4","v":0},{"$f":"RAI34*'Makro i swap'!RAG4","v":0},{"$f":"RAJ34*'Makro i swap'!RAH4","v":0},{"$f":"RAK34*'Makro i swap'!RAI4","v":0},{"$f":"RAL34*'Makro i swap'!RAJ4","v":0},{"$f":"RAM34*'Makro i swap'!RAK4","v":0},{"$f":"RAN34*'Makro i swap'!RAL4","v":0},{"$f":"RAO34*'Makro i swap'!RAM4","v":0},{"$f":"RAP34*'Makro i swap'!RAN4","v":0},{"$f":"RAQ34*'Makro i swap'!RAO4","v":0},{"$f":"RAR34*'Makro i swap'!RAP4","v":0},{"$f":"RAS34*'Makro i swap'!RAQ4","v":0},{"$f":"RAT34*'Makro i swap'!RAR4","v":0},{"$f":"RAU34*'Makro i swap'!RAS4","v":0},{"$f":"RAV34*'Makro i swap'!RAT4","v":0},{"$f":"RAW34*'Makro i swap'!RAU4","v":0},{"$f":"RAX34*'Makro i swap'!RAV4","v":0},{"$f":"RAY34*'Makro i swap'!RAW4","v":0},{"$f":"RAZ34*'Makro i swap'!RAX4","v":0},{"$f":"RBA34*'Makro i swap'!RAY4","v":0},{"$f":"RBB34*'Makro i swap'!RAZ4","v":0},{"$f":"RBC34*'Makro i swap'!RBA4","v":0},{"$f":"RBD34*'Makro i swap'!RBB4","v":0},{"$f":"RBE34*'Makro i swap'!RBC4","v":0},{"$f":"RBF34*'Makro i swap'!RBD4","v":0},{"$f":"RBG34*'Makro i swap'!RBE4","v":0},{"$f":"RBH34*'Makro i swap'!RBF4","v":0},{"$f":"RBI34*'Makro i swap'!RBG4","v":0},{"$f":"RBJ34*'Makro i swap'!RBH4","v":0},{"$f":"RBK34*'Makro i swap'!RBI4","v":0},{"$f":"RBL34*'Makro i swap'!RBJ4","v":0},{"$f":"RBM34*'Makro i swap'!RBK4","v":0},{"$f":"RBN34*'Makro i swap'!RBL4","v":0},{"$f":"RBO34*'Makro i swap'!RBM4","v":0},{"$f":"RBP34*'Makro i swap'!RBN4","v":0},{"$f":"RBQ34*'Makro i swap'!RBO4","v":0},{"$f":"RBR34*'Makro i swap'!RBP4","v":0},{"$f":"RBS34*'Makro i swap'!RBQ4","v":0},{"$f":"RBT34*'Makro i swap'!RBR4","v":0},{"$f":"RBU34*'Makro i swap'!RBS4","v":0},{"$f":"RBV34*'Makro i swap'!RBT4","v":0},{"$f":"RBW34*'Makro i swap'!RBU4","v":0},{"$f":"RBX34*'Makro i swap'!RBV4","v":0},{"$f":"RBY34*'Makro i swap'!RBW4","v":0},{"$f":"RBZ34*'Makro i swap'!RBX4","v":0},{"$f":"RCA34*'Makro i swap'!RBY4","v":0},{"$f":"RCB34*'Makro i swap'!RBZ4","v":0},{"$f":"RCC34*'Makro i swap'!RCA4","v":0},{"$f":"RCD34*'Makro i swap'!RCB4","v":0},{"$f":"RCE34*'Makro i swap'!RCC4","v":0},{"$f":"RCF34*'Makro i swap'!RCD4","v":0},{"$f":"RCG34*'Makro i swap'!RCE4","v":0},{"$f":"RCH34*'Makro i swap'!RCF4","v":0},{"$f":"RCI34*'Makro i swap'!RCG4","v":0},{"$f":"RCJ34*'Makro i swap'!RCH4","v":0},{"$f":"RCK34*'Makro i swap'!RCI4","v":0},{"$f":"RCL34*'Makro i swap'!RCJ4","v":0},{"$f":"RCM34*'Makro i swap'!RCK4","v":0},{"$f":"RCN34*'Makro i swap'!RCL4","v":0},{"$f":"RCO34*'Makro i swap'!RCM4","v":0},{"$f":"RCP34*'Makro i swap'!RCN4","v":0},{"$f":"RCQ34*'Makro i swap'!RCO4","v":0},{"$f":"RCR34*'Makro i swap'!RCP4","v":0},{"$f":"RCS34*'Makro i swap'!RCQ4","v":0},{"$f":"RCT34*'Makro i swap'!RCR4","v":0},{"$f":"RCU34*'Makro i swap'!RCS4","v":0},{"$f":"RCV34*'Makro i swap'!RCT4","v":0},{"$f":"RCW34*'Makro i swap'!RCU4","v":0},{"$f":"RCX34*'Makro i swap'!RCV4","v":0},{"$f":"RCY34*'Makro i swap'!RCW4","v":0},{"$f":"RCZ34*'Makro i swap'!RCX4","v":0},{"$f":"RDA34*'Makro i swap'!RCY4","v":0},{"$f":"RDB34*'Makro i swap'!RCZ4","v":0},{"$f":"RDC34*'Makro i swap'!RDA4","v":0},{"$f":"RDD34*'Makro i swap'!RDB4","v":0},{"$f":"RDE34*'Makro i swap'!RDC4","v":0},{"$f":"RDF34*'Makro i swap'!RDD4","v":0},{"$f":"RDG34*'Makro i swap'!RDE4","v":0},{"$f":"RDH34*'Makro i swap'!RDF4","v":0},{"$f":"RDI34*'Makro i swap'!RDG4","v":0},{"$f":"RDJ34*'Makro i swap'!RDH4","v":0},{"$f":"RDK34*'Makro i swap'!RDI4","v":0},{"$f":"RDL34*'Makro i swap'!RDJ4","v":0},{"$f":"RDM34*'Makro i swap'!RDK4","v":0},{"$f":"RDN34*'Makro i swap'!RDL4","v":0},{"$f":"RDO34*'Makro i swap'!RDM4","v":0},{"$f":"RDP34*'Makro i swap'!RDN4","v":0},{"$f":"RDQ34*'Makro i swap'!RDO4","v":0},{"$f":"RDR34*'Makro i swap'!RDP4","v":0},{"$f":"RDS34*'Makro i swap'!RDQ4","v":0},{"$f":"RDT34*'Makro i swap'!RDR4","v":0},{"$f":"RDU34*'Makro i swap'!RDS4","v":0},{"$f":"RDV34*'Makro i swap'!RDT4","v":0},{"$f":"RDW34*'Makro i swap'!RDU4","v":0},{"$f":"RDX34*'Makro i swap'!RDV4","v":0},{"$f":"RDY34*'Makro i swap'!RDW4","v":0},{"$f":"RDZ34*'Makro i swap'!RDX4","v":0},{"$f":"REA34*'Makro i swap'!RDY4","v":0},{"$f":"REB34*'Makro i swap'!RDZ4","v":0},{"$f":"REC34*'Makro i swap'!REA4","v":0},{"$f":"RED34*'Makro i swap'!REB4","v":0},{"$f":"REE34*'Makro i swap'!REC4","v":0},{"$f":"REF34*'Makro i swap'!RED4","v":0},{"$f":"REG34*'Makro i swap'!REE4","v":0},{"$f":"REH34*'Makro i swap'!REF4","v":0},{"$f":"REI34*'Makro i swap'!REG4","v":0},{"$f":"REJ34*'Makro i swap'!REH4","v":0},{"$f":"REK34*'Makro i swap'!REI4","v":0},{"$f":"REL34*'Makro i swap'!REJ4","v":0},{"$f":"REM34*'Makro i swap'!REK4","v":0},{"$f":"REN34*'Makro i swap'!REL4","v":0},{"$f":"REO34*'Makro i swap'!REM4","v":0},{"$f":"REP34*'Makro i swap'!REN4","v":0},{"$f":"REQ34*'Makro i swap'!REO4","v":0},{"$f":"RER34*'Makro i swap'!REP4","v":0},{"$f":"RES34*'Makro i swap'!REQ4","v":0},{"$f":"RET34*'Makro i swap'!RER4","v":0},{"$f":"REU34*'Makro i swap'!RES4","v":0},{"$f":"REV34*'Makro i swap'!RET4","v":0},{"$f":"REW34*'Makro i swap'!REU4","v":0},{"$f":"REX34*'Makro i swap'!REV4","v":0},{"$f":"REY34*'Makro i swap'!REW4","v":0},{"$f":"REZ34*'Makro i swap'!REX4","v":0},{"$f":"RFA34*'Makro i swap'!REY4","v":0},{"$f":"RFB34*'Makro i swap'!REZ4","v":0},{"$f":"RFC34*'Makro i swap'!RFA4","v":0},{"$f":"RFD34*'Makro i swap'!RFB4","v":0},{"$f":"RFE34*'Makro i swap'!RFC4","v":0},{"$f":"RFF34*'Makro i swap'!RFD4","v":0},{"$f":"RFG34*'Makro i swap'!RFE4","v":0},{"$f":"RFH34*'Makro i swap'!RFF4","v":0},{"$f":"RFI34*'Makro i swap'!RFG4","v":0},{"$f":"RFJ34*'Makro i swap'!RFH4","v":0},{"$f":"RFK34*'Makro i swap'!RFI4","v":0},{"$f":"RFL34*'Makro i swap'!RFJ4","v":0},{"$f":"RFM34*'Makro i swap'!RFK4","v":0},{"$f":"RFN34*'Makro i swap'!RFL4","v":0},{"$f":"RFO34*'Makro i swap'!RFM4","v":0},{"$f":"RFP34*'Makro i swap'!RFN4","v":0},{"$f":"RFQ34*'Makro i swap'!RFO4","v":0},{"$f":"RFR34*'Makro i swap'!RFP4","v":0},{"$f":"RFS34*'Makro i swap'!RFQ4","v":0},{"$f":"RFT34*'Makro i swap'!RFR4","v":0},{"$f":"RFU34*'Makro i swap'!RFS4","v":0},{"$f":"RFV34*'Makro i swap'!RFT4","v":0},{"$f":"RFW34*'Makro i swap'!RFU4","v":0},{"$f":"RFX34*'Makro i swap'!RFV4","v":0},{"$f":"RFY34*'Makro i swap'!RFW4","v":0},{"$f":"RFZ34*'Makro i swap'!RFX4","v":0},{"$f":"RGA34*'Makro i swap'!RFY4","v":0},{"$f":"RGB34*'Makro i swap'!RFZ4","v":0},{"$f":"RGC34*'Makro i swap'!RGA4","v":0},{"$f":"RGD34*'Makro i swap'!RGB4","v":0},{"$f":"RGE34*'Makro i swap'!RGC4","v":0},{"$f":"RGF34*'Makro i swap'!RGD4","v":0},{"$f":"RGG34*'Makro i swap'!RGE4","v":0},{"$f":"RGH34*'Makro i swap'!RGF4","v":0},{"$f":"RGI34*'Makro i swap'!RGG4","v":0},{"$f":"RGJ34*'Makro i swap'!RGH4","v":0},{"$f":"RGK34*'Makro i swap'!RGI4","v":0},{"$f":"RGL34*'Makro i swap'!RGJ4","v":0},{"$f":"RGM34*'Makro i swap'!RGK4","v":0},{"$f":"RGN34*'Makro i swap'!RGL4","v":0},{"$f":"RGO34*'Makro i swap'!RGM4","v":0},{"$f":"RGP34*'Makro i swap'!RGN4","v":0},{"$f":"RGQ34*'Makro i swap'!RGO4","v":0},{"$f":"RGR34*'Makro i swap'!RGP4","v":0},{"$f":"RGS34*'Makro i swap'!RGQ4","v":0},{"$f":"RGT34*'Makro i swap'!RGR4","v":0},{"$f":"RGU34*'Makro i swap'!RGS4","v":0},{"$f":"RGV34*'Makro i swap'!RGT4","v":0},{"$f":"RGW34*'Makro i swap'!RGU4","v":0},{"$f":"RGX34*'Makro i swap'!RGV4","v":0},{"$f":"RGY34*'Makro i swap'!RGW4","v":0},{"$f":"RGZ34*'Makro i swap'!RGX4","v":0},{"$f":"RHA34*'Makro i swap'!RGY4","v":0},{"$f":"RHB34*'Makro i swap'!RGZ4","v":0},{"$f":"RHC34*'Makro i swap'!RHA4","v":0},{"$f":"RHD34*'Makro i swap'!RHB4","v":0},{"$f":"RHE34*'Makro i swap'!RHC4","v":0},{"$f":"RHF34*'Makro i swap'!RHD4","v":0},{"$f":"RHG34*'Makro i swap'!RHE4","v":0},{"$f":"RHH34*'Makro i swap'!RHF4","v":0},{"$f":"RHI34*'Makro i swap'!RHG4","v":0},{"$f":"RHJ34*'Makro i swap'!RHH4","v":0},{"$f":"RHK34*'Makro i swap'!RHI4","v":0},{"$f":"RHL34*'Makro i swap'!RHJ4","v":0},{"$f":"RHM34*'Makro i swap'!RHK4","v":0},{"$f":"RHN34*'Makro i swap'!RHL4","v":0},{"$f":"RHO34*'Makro i swap'!RHM4","v":0},{"$f":"RHP34*'Makro i swap'!RHN4","v":0},{"$f":"RHQ34*'Makro i swap'!RHO4","v":0},{"$f":"RHR34*'Makro i swap'!RHP4","v":0},{"$f":"RHS34*'Makro i swap'!RHQ4","v":0},{"$f":"RHT34*'Makro i swap'!RHR4","v":0},{"$f":"RHU34*'Makro i swap'!RHS4","v":0},{"$f":"RHV34*'Makro i swap'!RHT4","v":0},{"$f":"RHW34*'Makro i swap'!RHU4","v":0},{"$f":"RHX34*'Makro i swap'!RHV4","v":0},{"$f":"RHY34*'Makro i swap'!RHW4","v":0},{"$f":"RHZ34*'Makro i swap'!RHX4","v":0},{"$f":"RIA34*'Makro i swap'!RHY4","v":0},{"$f":"RIB34*'Makro i swap'!RHZ4","v":0},{"$f":"RIC34*'Makro i swap'!RIA4","v":0},{"$f":"RID34*'Makro i swap'!RIB4","v":0},{"$f":"RIE34*'Makro i swap'!RIC4","v":0},{"$f":"RIF34*'Makro i swap'!RID4","v":0},{"$f":"RIG34*'Makro i swap'!RIE4","v":0},{"$f":"RIH34*'Makro i swap'!RIF4","v":0},{"$f":"RII34*'Makro i swap'!RIG4","v":0},{"$f":"RIJ34*'Makro i swap'!RIH4","v":0},{"$f":"RIK34*'Makro i swap'!RII4","v":0},{"$f":"RIL34*'Makro i swap'!RIJ4","v":0},{"$f":"RIM34*'Makro i swap'!RIK4","v":0},{"$f":"RIN34*'Makro i swap'!RIL4","v":0},{"$f":"RIO34*'Makro i swap'!RIM4","v":0},{"$f":"RIP34*'Makro i swap'!RIN4","v":0},{"$f":"RIQ34*'Makro i swap'!RIO4","v":0},{"$f":"RIR34*'Makro i swap'!RIP4","v":0},{"$f":"RIS34*'Makro i swap'!RIQ4","v":0},{"$f":"RIT34*'Makro i swap'!RIR4","v":0},{"$f":"RIU34*'Makro i swap'!RIS4","v":0},{"$f":"RIV34*'Makro i swap'!RIT4","v":0},{"$f":"RIW34*'Makro i swap'!RIU4","v":0},{"$f":"RIX34*'Makro i swap'!RIV4","v":0},{"$f":"RIY34*'Makro i swap'!RIW4","v":0},{"$f":"RIZ34*'Makro i swap'!RIX4","v":0},{"$f":"RJA34*'Makro i swap'!RIY4","v":0},{"$f":"RJB34*'Makro i swap'!RIZ4","v":0},{"$f":"RJC34*'Makro i swap'!RJA4","v":0},{"$f":"RJD34*'Makro i swap'!RJB4","v":0},{"$f":"RJE34*'Makro i swap'!RJC4","v":0},{"$f":"RJF34*'Makro i swap'!RJD4","v":0},{"$f":"RJG34*'Makro i swap'!RJE4","v":0},{"$f":"RJH34*'Makro i swap'!RJF4","v":0},{"$f":"RJI34*'Makro i swap'!RJG4","v":0},{"$f":"RJJ34*'Makro i swap'!RJH4","v":0},{"$f":"RJK34*'Makro i swap'!RJI4","v":0},{"$f":"RJL34*'Makro i swap'!RJJ4","v":0},{"$f":"RJM34*'Makro i swap'!RJK4","v":0},{"$f":"RJN34*'Makro i swap'!RJL4","v":0},{"$f":"RJO34*'Makro i swap'!RJM4","v":0},{"$f":"RJP34*'Makro i swap'!RJN4","v":0},{"$f":"RJQ34*'Makro i swap'!RJO4","v":0},{"$f":"RJR34*'Makro i swap'!RJP4","v":0},{"$f":"RJS34*'Makro i swap'!RJQ4","v":0},{"$f":"RJT34*'Makro i swap'!RJR4","v":0},{"$f":"RJU34*'Makro i swap'!RJS4","v":0},{"$f":"RJV34*'Makro i swap'!RJT4","v":0},{"$f":"RJW34*'Makro i swap'!RJU4","v":0},{"$f":"RJX34*'Makro i swap'!RJV4","v":0},{"$f":"RJY34*'Makro i swap'!RJW4","v":0},{"$f":"RJZ34*'Makro i swap'!RJX4","v":0},{"$f":"RKA34*'Makro i swap'!RJY4","v":0},{"$f":"RKB34*'Makro i swap'!RJZ4","v":0},{"$f":"RKC34*'Makro i swap'!RKA4","v":0},{"$f":"RKD34*'Makro i swap'!RKB4","v":0},{"$f":"RKE34*'Makro i swap'!RKC4","v":0},{"$f":"RKF34*'Makro i swap'!RKD4","v":0},{"$f":"RKG34*'Makro i swap'!RKE4","v":0},{"$f":"RKH34*'Makro i swap'!RKF4","v":0},{"$f":"RKI34*'Makro i swap'!RKG4","v":0},{"$f":"RKJ34*'Makro i swap'!RKH4","v":0},{"$f":"RKK34*'Makro i swap'!RKI4","v":0},{"$f":"RKL34*'Makro i swap'!RKJ4","v":0},{"$f":"RKM34*'Makro i swap'!RKK4","v":0},{"$f":"RKN34*'Makro i swap'!RKL4","v":0},{"$f":"RKO34*'Makro i swap'!RKM4","v":0},{"$f":"RKP34*'Makro i swap'!RKN4","v":0},{"$f":"RKQ34*'Makro i swap'!RKO4","v":0},{"$f":"RKR34*'Makro i swap'!RKP4","v":0},{"$f":"RKS34*'Makro i swap'!RKQ4","v":0},{"$f":"RKT34*'Makro i swap'!RKR4","v":0},{"$f":"RKU34*'Makro i swap'!RKS4","v":0},{"$f":"RKV34*'Makro i swap'!RKT4","v":0},{"$f":"RKW34*'Makro i swap'!RKU4","v":0},{"$f":"RKX34*'Makro i swap'!RKV4","v":0},{"$f":"RKY34*'Makro i swap'!RKW4","v":0},{"$f":"RKZ34*'Makro i swap'!RKX4","v":0},{"$f":"RLA34*'Makro i swap'!RKY4","v":0},{"$f":"RLB34*'Makro i swap'!RKZ4","v":0},{"$f":"RLC34*'Makro i swap'!RLA4","v":0},{"$f":"RLD34*'Makro i swap'!RLB4","v":0},{"$f":"RLE34*'Makro i swap'!RLC4","v":0},{"$f":"RLF34*'Makro i swap'!RLD4","v":0},{"$f":"RLG34*'Makro i swap'!RLE4","v":0},{"$f":"RLH34*'Makro i swap'!RLF4","v":0},{"$f":"RLI34*'Makro i swap'!RLG4","v":0},{"$f":"RLJ34*'Makro i swap'!RLH4","v":0},{"$f":"RLK34*'Makro i swap'!RLI4","v":0},{"$f":"RLL34*'Makro i swap'!RLJ4","v":0},{"$f":"RLM34*'Makro i swap'!RLK4","v":0},{"$f":"RLN34*'Makro i swap'!RLL4","v":0},{"$f":"RLO34*'Makro i swap'!RLM4","v":0},{"$f":"RLP34*'Makro i swap'!RLN4","v":0},{"$f":"RLQ34*'Makro i swap'!RLO4","v":0},{"$f":"RLR34*'Makro i swap'!RLP4","v":0},{"$f":"RLS34*'Makro i swap'!RLQ4","v":0},{"$f":"RLT34*'Makro i swap'!RLR4","v":0},{"$f":"RLU34*'Makro i swap'!RLS4","v":0},{"$f":"RLV34*'Makro i swap'!RLT4","v":0},{"$f":"RLW34*'Makro i swap'!RLU4","v":0},{"$f":"RLX34*'Makro i swap'!RLV4","v":0},{"$f":"RLY34*'Makro i swap'!RLW4","v":0},{"$f":"RLZ34*'Makro i swap'!RLX4","v":0},{"$f":"RMA34*'Makro i swap'!RLY4","v":0},{"$f":"RMB34*'Makro i swap'!RLZ4","v":0},{"$f":"RMC34*'Makro i swap'!RMA4","v":0},{"$f":"RMD34*'Makro i swap'!RMB4","v":0},{"$f":"RME34*'Makro i swap'!RMC4","v":0},{"$f":"RMF34*'Makro i swap'!RMD4","v":0},{"$f":"RMG34*'Makro i swap'!RME4","v":0},{"$f":"RMH34*'Makro i swap'!RMF4","v":0},{"$f":"RMI34*'Makro i swap'!RMG4","v":0},{"$f":"RMJ34*'Makro i swap'!RMH4","v":0},{"$f":"RMK34*'Makro i swap'!RMI4","v":0},{"$f":"RML34*'Makro i swap'!RMJ4","v":0},{"$f":"RMM34*'Makro i swap'!RMK4","v":0},{"$f":"RMN34*'Makro i swap'!RML4","v":0},{"$f":"RMO34*'Makro i swap'!RMM4","v":0},{"$f":"RMP34*'Makro i swap'!RMN4","v":0},{"$f":"RMQ34*'Makro i swap'!RMO4","v":0},{"$f":"RMR34*'Makro i swap'!RMP4","v":0},{"$f":"RMS34*'Makro i swap'!RMQ4","v":0},{"$f":"RMT34*'Makro i swap'!RMR4","v":0},{"$f":"RMU34*'Makro i swap'!RMS4","v":0},{"$f":"RMV34*'Makro i swap'!RMT4","v":0},{"$f":"RMW34*'Makro i swap'!RMU4","v":0},{"$f":"RMX34*'Makro i swap'!RMV4","v":0},{"$f":"RMY34*'Makro i swap'!RMW4","v":0},{"$f":"RMZ34*'Makro i swap'!RMX4","v":0},{"$f":"RNA34*'Makro i swap'!RMY4","v":0},{"$f":"RNB34*'Makro i swap'!RMZ4","v":0},{"$f":"RNC34*'Makro i swap'!RNA4","v":0},{"$f":"RND34*'Makro i swap'!RNB4","v":0},{"$f":"RNE34*'Makro i swap'!RNC4","v":0},{"$f":"RNF34*'Makro i swap'!RND4","v":0},{"$f":"RNG34*'Makro i swap'!RNE4","v":0},{"$f":"RNH34*'Makro i swap'!RNF4","v":0},{"$f":"RNI34*'Makro i swap'!RNG4","v":0},{"$f":"RNJ34*'Makro i swap'!RNH4","v":0},{"$f":"RNK34*'Makro i swap'!RNI4","v":0},{"$f":"RNL34*'Makro i swap'!RNJ4","v":0},{"$f":"RNM34*'Makro i swap'!RNK4","v":0},{"$f":"RNN34*'Makro i swap'!RNL4","v":0},{"$f":"RNO34*'Makro i swap'!RNM4","v":0},{"$f":"RNP34*'Makro i swap'!RNN4","v":0},{"$f":"RNQ34*'Makro i swap'!RNO4","v":0},{"$f":"RNR34*'Makro i swap'!RNP4","v":0},{"$f":"RNS34*'Makro i swap'!RNQ4","v":0},{"$f":"RNT34*'Makro i swap'!RNR4","v":0},{"$f":"RNU34*'Makro i swap'!RNS4","v":0},{"$f":"RNV34*'Makro i swap'!RNT4","v":0},{"$f":"RNW34*'Makro i swap'!RNU4","v":0},{"$f":"RNX34*'Makro i swap'!RNV4","v":0},{"$f":"RNY34*'Makro i swap'!RNW4","v":0},{"$f":"RNZ34*'Makro i swap'!RNX4","v":0},{"$f":"ROA34*'Makro i swap'!RNY4","v":0},{"$f":"ROB34*'Makro i swap'!RNZ4","v":0},{"$f":"ROC34*'Makro i swap'!ROA4","v":0},{"$f":"ROD34*'Makro i swap'!ROB4","v":0},{"$f":"ROE34*'Makro i swap'!ROC4","v":0},{"$f":"ROF34*'Makro i swap'!ROD4","v":0},{"$f":"ROG34*'Makro i swap'!ROE4","v":0},{"$f":"ROH34*'Makro i swap'!ROF4","v":0},{"$f":"ROI34*'Makro i swap'!ROG4","v":0},{"$f":"ROJ34*'Makro i swap'!ROH4","v":0},{"$f":"ROK34*'Makro i swap'!ROI4","v":0},{"$f":"ROL34*'Makro i swap'!ROJ4","v":0},{"$f":"ROM34*'Makro i swap'!ROK4","v":0},{"$f":"RON34*'Makro i swap'!ROL4","v":0},{"$f":"ROO34*'Makro i swap'!ROM4","v":0},{"$f":"ROP34*'Makro i swap'!RON4","v":0},{"$f":"ROQ34*'Makro i swap'!ROO4","v":0},{"$f":"ROR34*'Makro i swap'!ROP4","v":0},{"$f":"ROS34*'Makro i swap'!ROQ4","v":0},{"$f":"ROT34*'Makro i swap'!ROR4","v":0},{"$f":"ROU34*'Makro i swap'!ROS4","v":0},{"$f":"ROV34*'Makro i swap'!ROT4","v":0},{"$f":"ROW34*'Makro i swap'!ROU4","v":0},{"$f":"ROX34*'Makro i swap'!ROV4","v":0},{"$f":"ROY34*'Makro i swap'!ROW4","v":0},{"$f":"ROZ34*'Makro i swap'!ROX4","v":0},{"$f":"RPA34*'Makro i swap'!ROY4","v":0},{"$f":"RPB34*'Makro i swap'!ROZ4","v":0},{"$f":"RPC34*'Makro i swap'!RPA4","v":0},{"$f":"RPD34*'Makro i swap'!RPB4","v":0},{"$f":"RPE34*'Makro i swap'!RPC4","v":0},{"$f":"RPF34*'Makro i swap'!RPD4","v":0},{"$f":"RPG34*'Makro i swap'!RPE4","v":0},{"$f":"RPH34*'Makro i swap'!RPF4","v":0},{"$f":"RPI34*'Makro i swap'!RPG4","v":0},{"$f":"RPJ34*'Makro i swap'!RPH4","v":0},{"$f":"RPK34*'Makro i swap'!RPI4","v":0},{"$f":"RPL34*'Makro i swap'!RPJ4","v":0},{"$f":"RPM34*'Makro i swap'!RPK4","v":0},{"$f":"RPN34*'Makro i swap'!RPL4","v":0},{"$f":"RPO34*'Makro i swap'!RPM4","v":0},{"$f":"RPP34*'Makro i swap'!RPN4","v":0},{"$f":"RPQ34*'Makro i swap'!RPO4","v":0},{"$f":"RPR34*'Makro i swap'!RPP4","v":0},{"$f":"RPS34*'Makro i swap'!RPQ4","v":0},{"$f":"RPT34*'Makro i swap'!RPR4","v":0},{"$f":"RPU34*'Makro i swap'!RPS4","v":0},{"$f":"RPV34*'Makro i swap'!RPT4","v":0},{"$f":"RPW34*'Makro i swap'!RPU4","v":0},{"$f":"RPX34*'Makro i swap'!RPV4","v":0},{"$f":"RPY34*'Makro i swap'!RPW4","v":0},{"$f":"RPZ34*'Makro i swap'!RPX4","v":0},{"$f":"RQA34*'Makro i swap'!RPY4","v":0},{"$f":"RQB34*'Makro i swap'!RPZ4","v":0},{"$f":"RQC34*'Makro i swap'!RQA4","v":0},{"$f":"RQD34*'Makro i swap'!RQB4","v":0},{"$f":"RQE34*'Makro i swap'!RQC4","v":0},{"$f":"RQF34*'Makro i swap'!RQD4","v":0},{"$f":"RQG34*'Makro i swap'!RQE4","v":0},{"$f":"RQH34*'Makro i swap'!RQF4","v":0},{"$f":"RQI34*'Makro i swap'!RQG4","v":0},{"$f":"RQJ34*'Makro i swap'!RQH4","v":0},{"$f":"RQK34*'Makro i swap'!RQI4","v":0},{"$f":"RQL34*'Makro i swap'!RQJ4","v":0},{"$f":"RQM34*'Makro i swap'!RQK4","v":0},{"$f":"RQN34*'Makro i swap'!RQL4","v":0},{"$f":"RQO34*'Makro i swap'!RQM4","v":0},{"$f":"RQP34*'Makro i swap'!RQN4","v":0},{"$f":"RQQ34*'Makro i swap'!RQO4","v":0},{"$f":"RQR34*'Makro i swap'!RQP4","v":0},{"$f":"RQS34*'Makro i swap'!RQQ4","v":0},{"$f":"RQT34*'Makro i swap'!RQR4","v":0},{"$f":"RQU34*'Makro i swap'!RQS4","v":0},{"$f":"RQV34*'Makro i swap'!RQT4","v":0},{"$f":"RQW34*'Makro i swap'!RQU4","v":0},{"$f":"RQX34*'Makro i swap'!RQV4","v":0},{"$f":"RQY34*'Makro i swap'!RQW4","v":0},{"$f":"RQZ34*'Makro i swap'!RQX4","v":0},{"$f":"RRA34*'Makro i swap'!RQY4","v":0},{"$f":"RRB34*'Makro i swap'!RQZ4","v":0},{"$f":"RRC34*'Makro i swap'!RRA4","v":0},{"$f":"RRD34*'Makro i swap'!RRB4","v":0},{"$f":"RRE34*'Makro i swap'!RRC4","v":0},{"$f":"RRF34*'Makro i swap'!RRD4","v":0},{"$f":"RRG34*'Makro i swap'!RRE4","v":0},{"$f":"RRH34*'Makro i swap'!RRF4","v":0},{"$f":"RRI34*'Makro i swap'!RRG4","v":0},{"$f":"RRJ34*'Makro i swap'!RRH4","v":0},{"$f":"RRK34*'Makro i swap'!RRI4","v":0},{"$f":"RRL34*'Makro i swap'!RRJ4","v":0},{"$f":"RRM34*'Makro i swap'!RRK4","v":0},{"$f":"RRN34*'Makro i swap'!RRL4","v":0},{"$f":"RRO34*'Makro i swap'!RRM4","v":0},{"$f":"RRP34*'Makro i swap'!RRN4","v":0},{"$f":"RRQ34*'Makro i swap'!RRO4","v":0},{"$f":"RRR34*'Makro i swap'!RRP4","v":0},{"$f":"RRS34*'Makro i swap'!RRQ4","v":0},{"$f":"RRT34*'Makro i swap'!RRR4","v":0},{"$f":"RRU34*'Makro i swap'!RRS4","v":0},{"$f":"RRV34*'Makro i swap'!RRT4","v":0},{"$f":"RRW34*'Makro i swap'!RRU4","v":0},{"$f":"RRX34*'Makro i swap'!RRV4","v":0},{"$f":"RRY34*'Makro i swap'!RRW4","v":0},{"$f":"RRZ34*'Makro i swap'!RRX4","v":0},{"$f":"RSA34*'Makro i swap'!RRY4","v":0},{"$f":"RSB34*'Makro i swap'!RRZ4","v":0},{"$f":"RSC34*'Makro i swap'!RSA4","v":0},{"$f":"RSD34*'Makro i swap'!RSB4","v":0},{"$f":"RSE34*'Makro i swap'!RSC4","v":0},{"$f":"RSF34*'Makro i swap'!RSD4","v":0},{"$f":"RSG34*'Makro i swap'!RSE4","v":0},{"$f":"RSH34*'Makro i swap'!RSF4","v":0},{"$f":"RSI34*'Makro i swap'!RSG4","v":0},{"$f":"RSJ34*'Makro i swap'!RSH4","v":0},{"$f":"RSK34*'Makro i swap'!RSI4","v":0},{"$f":"RSL34*'Makro i swap'!RSJ4","v":0},{"$f":"RSM34*'Makro i swap'!RSK4","v":0},{"$f":"RSN34*'Makro i swap'!RSL4","v":0},{"$f":"RSO34*'Makro i swap'!RSM4","v":0},{"$f":"RSP34*'Makro i swap'!RSN4","v":0},{"$f":"RSQ34*'Makro i swap'!RSO4","v":0},{"$f":"RSR34*'Makro i swap'!RSP4","v":0},{"$f":"RSS34*'Makro i swap'!RSQ4","v":0},{"$f":"RST34*'Makro i swap'!RSR4","v":0},{"$f":"RSU34*'Makro i swap'!RSS4","v":0},{"$f":"RSV34*'Makro i swap'!RST4","v":0},{"$f":"RSW34*'Makro i swap'!RSU4","v":0},{"$f":"RSX34*'Makro i swap'!RSV4","v":0},{"$f":"RSY34*'Makro i swap'!RSW4","v":0},{"$f":"RSZ34*'Makro i swap'!RSX4","v":0},{"$f":"RTA34*'Makro i swap'!RSY4","v":0},{"$f":"RTB34*'Makro i swap'!RSZ4","v":0},{"$f":"RTC34*'Makro i swap'!RTA4","v":0},{"$f":"RTD34*'Makro i swap'!RTB4","v":0},{"$f":"RTE34*'Makro i swap'!RTC4","v":0},{"$f":"RTF34*'Makro i swap'!RTD4","v":0},{"$f":"RTG34*'Makro i swap'!RTE4","v":0},{"$f":"RTH34*'Makro i swap'!RTF4","v":0},{"$f":"RTI34*'Makro i swap'!RTG4","v":0},{"$f":"RTJ34*'Makro i swap'!RTH4","v":0},{"$f":"RTK34*'Makro i swap'!RTI4","v":0},{"$f":"RTL34*'Makro i swap'!RTJ4","v":0},{"$f":"RTM34*'Makro i swap'!RTK4","v":0},{"$f":"RTN34*'Makro i swap'!RTL4","v":0},{"$f":"RTO34*'Makro i swap'!RTM4","v":0},{"$f":"RTP34*'Makro i swap'!RTN4","v":0},{"$f":"RTQ34*'Makro i swap'!RTO4","v":0},{"$f":"RTR34*'Makro i swap'!RTP4","v":0},{"$f":"RTS34*'Makro i swap'!RTQ4","v":0},{"$f":"RTT34*'Makro i swap'!RTR4","v":0},{"$f":"RTU34*'Makro i swap'!RTS4","v":0},{"$f":"RTV34*'Makro i swap'!RTT4","v":0},{"$f":"RTW34*'Makro i swap'!RTU4","v":0},{"$f":"RTX34*'Makro i swap'!RTV4","v":0},{"$f":"RTY34*'Makro i swap'!RTW4","v":0},{"$f":"RTZ34*'Makro i swap'!RTX4","v":0},{"$f":"RUA34*'Makro i swap'!RTY4","v":0},{"$f":"RUB34*'Makro i swap'!RTZ4","v":0},{"$f":"RUC34*'Makro i swap'!RUA4","v":0},{"$f":"RUD34*'Makro i swap'!RUB4","v":0},{"$f":"RUE34*'Makro i swap'!RUC4","v":0},{"$f":"RUF34*'Makro i swap'!RUD4","v":0},{"$f":"RUG34*'Makro i swap'!RUE4","v":0},{"$f":"RUH34*'Makro i swap'!RUF4","v":0},{"$f":"RUI34*'Makro i swap'!RUG4","v":0},{"$f":"RUJ34*'Makro i swap'!RUH4","v":0},{"$f":"RUK34*'Makro i swap'!RUI4","v":0},{"$f":"RUL34*'Makro i swap'!RUJ4","v":0},{"$f":"RUM34*'Makro i swap'!RUK4","v":0},{"$f":"RUN34*'Makro i swap'!RUL4","v":0},{"$f":"RUO34*'Makro i swap'!RUM4","v":0},{"$f":"RUP34*'Makro i swap'!RUN4","v":0},{"$f":"RUQ34*'Makro i swap'!RUO4","v":0},{"$f":"RUR34*'Makro i swap'!RUP4","v":0},{"$f":"RUS34*'Makro i swap'!RUQ4","v":0},{"$f":"RUT34*'Makro i swap'!RUR4","v":0},{"$f":"RUU34*'Makro i swap'!RUS4","v":0},{"$f":"RUV34*'Makro i swap'!RUT4","v":0},{"$f":"RUW34*'Makro i swap'!RUU4","v":0},{"$f":"RUX34*'Makro i swap'!RUV4","v":0},{"$f":"RUY34*'Makro i swap'!RUW4","v":0},{"$f":"RUZ34*'Makro i swap'!RUX4","v":0},{"$f":"RVA34*'Makro i swap'!RUY4","v":0},{"$f":"RVB34*'Makro i swap'!RUZ4","v":0},{"$f":"RVC34*'Makro i swap'!RVA4","v":0},{"$f":"RVD34*'Makro i swap'!RVB4","v":0},{"$f":"RVE34*'Makro i swap'!RVC4","v":0},{"$f":"RVF34*'Makro i swap'!RVD4","v":0},{"$f":"RVG34*'Makro i swap'!RVE4","v":0},{"$f":"RVH34*'Makro i swap'!RVF4","v":0},{"$f":"RVI34*'Makro i swap'!RVG4","v":0},{"$f":"RVJ34*'Makro i swap'!RVH4","v":0},{"$f":"RVK34*'Makro i swap'!RVI4","v":0},{"$f":"RVL34*'Makro i swap'!RVJ4","v":0},{"$f":"RVM34*'Makro i swap'!RVK4","v":0},{"$f":"RVN34*'Makro i swap'!RVL4","v":0},{"$f":"RVO34*'Makro i swap'!RVM4","v":0},{"$f":"RVP34*'Makro i swap'!RVN4","v":0},{"$f":"RVQ34*'Makro i swap'!RVO4","v":0},{"$f":"RVR34*'Makro i swap'!RVP4","v":0},{"$f":"RVS34*'Makro i swap'!RVQ4","v":0},{"$f":"RVT34*'Makro i swap'!RVR4","v":0},{"$f":"RVU34*'Makro i swap'!RVS4","v":0},{"$f":"RVV34*'Makro i swap'!RVT4","v":0},{"$f":"RVW34*'Makro i swap'!RVU4","v":0},{"$f":"RVX34*'Makro i swap'!RVV4","v":0},{"$f":"RVY34*'Makro i swap'!RVW4","v":0},{"$f":"RVZ34*'Makro i swap'!RVX4","v":0},{"$f":"RWA34*'Makro i swap'!RVY4","v":0},{"$f":"RWB34*'Makro i swap'!RVZ4","v":0},{"$f":"RWC34*'Makro i swap'!RWA4","v":0},{"$f":"RWD34*'Makro i swap'!RWB4","v":0},{"$f":"RWE34*'Makro i swap'!RWC4","v":0},{"$f":"RWF34*'Makro i swap'!RWD4","v":0},{"$f":"RWG34*'Makro i swap'!RWE4","v":0},{"$f":"RWH34*'Makro i swap'!RWF4","v":0},{"$f":"RWI34*'Makro i swap'!RWG4","v":0},{"$f":"RWJ34*'Makro i swap'!RWH4","v":0},{"$f":"RWK34*'Makro i swap'!RWI4","v":0},{"$f":"RWL34*'Makro i swap'!RWJ4","v":0},{"$f":"RWM34*'Makro i swap'!RWK4","v":0},{"$f":"RWN34*'Makro i swap'!RWL4","v":0},{"$f":"RWO34*'Makro i swap'!RWM4","v":0},{"$f":"RWP34*'Makro i swap'!RWN4","v":0},{"$f":"RWQ34*'Makro i swap'!RWO4","v":0},{"$f":"RWR34*'Makro i swap'!RWP4","v":0},{"$f":"RWS34*'Makro i swap'!RWQ4","v":0},{"$f":"RWT34*'Makro i swap'!RWR4","v":0},{"$f":"RWU34*'Makro i swap'!RWS4","v":0},{"$f":"RWV34*'Makro i swap'!RWT4","v":0},{"$f":"RWW34*'Makro i swap'!RWU4","v":0},{"$f":"RWX34*'Makro i swap'!RWV4","v":0},{"$f":"RWY34*'Makro i swap'!RWW4","v":0},{"$f":"RWZ34*'Makro i swap'!RWX4","v":0},{"$f":"RXA34*'Makro i swap'!RWY4","v":0},{"$f":"RXB34*'Makro i swap'!RWZ4","v":0},{"$f":"RXC34*'Makro i swap'!RXA4","v":0},{"$f":"RXD34*'Makro i swap'!RXB4","v":0},{"$f":"RXE34*'Makro i swap'!RXC4","v":0},{"$f":"RXF34*'Makro i swap'!RXD4","v":0},{"$f":"RXG34*'Makro i swap'!RXE4","v":0},{"$f":"RXH34*'Makro i swap'!RXF4","v":0},{"$f":"RXI34*'Makro i swap'!RXG4","v":0},{"$f":"RXJ34*'Makro i swap'!RXH4","v":0},{"$f":"RXK34*'Makro i swap'!RXI4","v":0},{"$f":"RXL34*'Makro i swap'!RXJ4","v":0},{"$f":"RXM34*'Makro i swap'!RXK4","v":0},{"$f":"RXN34*'Makro i swap'!RXL4","v":0},{"$f":"RXO34*'Makro i swap'!RXM4","v":0},{"$f":"RXP34*'Makro i swap'!RXN4","v":0},{"$f":"RXQ34*'Makro i swap'!RXO4","v":0},{"$f":"RXR34*'Makro i swap'!RXP4","v":0},{"$f":"RXS34*'Makro i swap'!RXQ4","v":0},{"$f":"RXT34*'Makro i swap'!RXR4","v":0},{"$f":"RXU34*'Makro i swap'!RXS4","v":0},{"$f":"RXV34*'Makro i swap'!RXT4","v":0},{"$f":"RXW34*'Makro i swap'!RXU4","v":0},{"$f":"RXX34*'Makro i swap'!RXV4","v":0},{"$f":"RXY34*'Makro i swap'!RXW4","v":0},{"$f":"RXZ34*'Makro i swap'!RXX4","v":0},{"$f":"RYA34*'Makro i swap'!RXY4","v":0},{"$f":"RYB34*'Makro i swap'!RXZ4","v":0},{"$f":"RYC34*'Makro i swap'!RYA4","v":0},{"$f":"RYD34*'Makro i swap'!RYB4","v":0},{"$f":"RYE34*'Makro i swap'!RYC4","v":0},{"$f":"RYF34*'Makro i swap'!RYD4","v":0},{"$f":"RYG34*'Makro i swap'!RYE4","v":0},{"$f":"RYH34*'Makro i swap'!RYF4","v":0},{"$f":"RYI34*'Makro i swap'!RYG4","v":0},{"$f":"RYJ34*'Makro i swap'!RYH4","v":0},{"$f":"RYK34*'Makro i swap'!RYI4","v":0},{"$f":"RYL34*'Makro i swap'!RYJ4","v":0},{"$f":"RYM34*'Makro i swap'!RYK4","v":0},{"$f":"RYN34*'Makro i swap'!RYL4","v":0},{"$f":"RYO34*'Makro i swap'!RYM4","v":0},{"$f":"RYP34*'Makro i swap'!RYN4","v":0},{"$f":"RYQ34*'Makro i swap'!RYO4","v":0},{"$f":"RYR34*'Makro i swap'!RYP4","v":0},{"$f":"RYS34*'Makro i swap'!RYQ4","v":0},{"$f":"RYT34*'Makro i swap'!RYR4","v":0},{"$f":"RYU34*'Makro i swap'!RYS4","v":0},{"$f":"RYV34*'Makro i swap'!RYT4","v":0},{"$f":"RYW34*'Makro i swap'!RYU4","v":0},{"$f":"RYX34*'Makro i swap'!RYV4","v":0},{"$f":"RYY34*'Makro i swap'!RYW4","v":0},{"$f":"RYZ34*'Makro i swap'!RYX4","v":0},{"$f":"RZA34*'Makro i swap'!RYY4","v":0},{"$f":"RZB34*'Makro i swap'!RYZ4","v":0},{"$f":"RZC34*'Makro i swap'!RZA4","v":0},{"$f":"RZD34*'Makro i swap'!RZB4","v":0},{"$f":"RZE34*'Makro i swap'!RZC4","v":0},{"$f":"RZF34*'Makro i swap'!RZD4","v":0},{"$f":"RZG34*'Makro i swap'!RZE4","v":0},{"$f":"RZH34*'Makro i swap'!RZF4","v":0},{"$f":"RZI34*'Makro i swap'!RZG4","v":0},{"$f":"RZJ34*'Makro i swap'!RZH4","v":0},{"$f":"RZK34*'Makro i swap'!RZI4","v":0},{"$f":"RZL34*'Makro i swap'!RZJ4","v":0},{"$f":"RZM34*'Makro i swap'!RZK4","v":0},{"$f":"RZN34*'Makro i swap'!RZL4","v":0},{"$f":"RZO34*'Makro i swap'!RZM4","v":0},{"$f":"RZP34*'Makro i swap'!RZN4","v":0},{"$f":"RZQ34*'Makro i swap'!RZO4","v":0},{"$f":"RZR34*'Makro i swap'!RZP4","v":0},{"$f":"RZS34*'Makro i swap'!RZQ4","v":0},{"$f":"RZT34*'Makro i swap'!RZR4","v":0},{"$f":"RZU34*'Makro i swap'!RZS4","v":0},{"$f":"RZV34*'Makro i swap'!RZT4","v":0},{"$f":"RZW34*'Makro i swap'!RZU4","v":0},{"$f":"RZX34*'Makro i swap'!RZV4","v":0},{"$f":"RZY34*'Makro i swap'!RZW4","v":0},{"$f":"RZZ34*'Makro i swap'!RZX4","v":0},{"$f":"SAA34*'Makro i swap'!RZY4","v":0},{"$f":"SAB34*'Makro i swap'!RZZ4","v":0},{"$f":"SAC34*'Makro i swap'!SAA4","v":0},{"$f":"SAD34*'Makro i swap'!SAB4","v":0},{"$f":"SAE34*'Makro i swap'!SAC4","v":0},{"$f":"SAF34*'Makro i swap'!SAD4","v":0},{"$f":"SAG34*'Makro i swap'!SAE4","v":0},{"$f":"SAH34*'Makro i swap'!SAF4","v":0},{"$f":"SAI34*'Makro i swap'!SAG4","v":0},{"$f":"SAJ34*'Makro i swap'!SAH4","v":0},{"$f":"SAK34*'Makro i swap'!SAI4","v":0},{"$f":"SAL34*'Makro i swap'!SAJ4","v":0},{"$f":"SAM34*'Makro i swap'!SAK4","v":0},{"$f":"SAN34*'Makro i swap'!SAL4","v":0},{"$f":"SAO34*'Makro i swap'!SAM4","v":0},{"$f":"SAP34*'Makro i swap'!SAN4","v":0},{"$f":"SAQ34*'Makro i swap'!SAO4","v":0},{"$f":"SAR34*'Makro i swap'!SAP4","v":0},{"$f":"SAS34*'Makro i swap'!SAQ4","v":0},{"$f":"SAT34*'Makro i swap'!SAR4","v":0},{"$f":"SAU34*'Makro i swap'!SAS4","v":0},{"$f":"SAV34*'Makro i swap'!SAT4","v":0},{"$f":"SAW34*'Makro i swap'!SAU4","v":0},{"$f":"SAX34*'Makro i swap'!SAV4","v":0},{"$f":"SAY34*'Makro i swap'!SAW4","v":0},{"$f":"SAZ34*'Makro i swap'!SAX4","v":0},{"$f":"SBA34*'Makro i swap'!SAY4","v":0},{"$f":"SBB34*'Makro i swap'!SAZ4","v":0},{"$f":"SBC34*'Makro i swap'!SBA4","v":0},{"$f":"SBD34*'Makro i swap'!SBB4","v":0},{"$f":"SBE34*'Makro i swap'!SBC4","v":0},{"$f":"SBF34*'Makro i swap'!SBD4","v":0},{"$f":"SBG34*'Makro i swap'!SBE4","v":0},{"$f":"SBH34*'Makro i swap'!SBF4","v":0},{"$f":"SBI34*'Makro i swap'!SBG4","v":0},{"$f":"SBJ34*'Makro i swap'!SBH4","v":0},{"$f":"SBK34*'Makro i swap'!SBI4","v":0},{"$f":"SBL34*'Makro i swap'!SBJ4","v":0},{"$f":"SBM34*'Makro i swap'!SBK4","v":0},{"$f":"SBN34*'Makro i swap'!SBL4","v":0},{"$f":"SBO34*'Makro i swap'!SBM4","v":0},{"$f":"SBP34*'Makro i swap'!SBN4","v":0},{"$f":"SBQ34*'Makro i swap'!SBO4","v":0},{"$f":"SBR34*'Makro i swap'!SBP4","v":0},{"$f":"SBS34*'Makro i swap'!SBQ4","v":0},{"$f":"SBT34*'Makro i swap'!SBR4","v":0},{"$f":"SBU34*'Makro i swap'!SBS4","v":0},{"$f":"SBV34*'Makro i swap'!SBT4","v":0},{"$f":"SBW34*'Makro i swap'!SBU4","v":0},{"$f":"SBX34*'Makro i swap'!SBV4","v":0},{"$f":"SBY34*'Makro i swap'!SBW4","v":0},{"$f":"SBZ34*'Makro i swap'!SBX4","v":0},{"$f":"SCA34*'Makro i swap'!SBY4","v":0},{"$f":"SCB34*'Makro i swap'!SBZ4","v":0},{"$f":"SCC34*'Makro i swap'!SCA4","v":0},{"$f":"SCD34*'Makro i swap'!SCB4","v":0},{"$f":"SCE34*'Makro i swap'!SCC4","v":0},{"$f":"SCF34*'Makro i swap'!SCD4","v":0},{"$f":"SCG34*'Makro i swap'!SCE4","v":0},{"$f":"SCH34*'Makro i swap'!SCF4","v":0},{"$f":"SCI34*'Makro i swap'!SCG4","v":0},{"$f":"SCJ34*'Makro i swap'!SCH4","v":0},{"$f":"SCK34*'Makro i swap'!SCI4","v":0},{"$f":"SCL34*'Makro i swap'!SCJ4","v":0},{"$f":"SCM34*'Makro i swap'!SCK4","v":0},{"$f":"SCN34*'Makro i swap'!SCL4","v":0},{"$f":"SCO34*'Makro i swap'!SCM4","v":0},{"$f":"SCP34*'Makro i swap'!SCN4","v":0},{"$f":"SCQ34*'Makro i swap'!SCO4","v":0},{"$f":"SCR34*'Makro i swap'!SCP4","v":0},{"$f":"SCS34*'Makro i swap'!SCQ4","v":0},{"$f":"SCT34*'Makro i swap'!SCR4","v":0},{"$f":"SCU34*'Makro i swap'!SCS4","v":0},{"$f":"SCV34*'Makro i swap'!SCT4","v":0},{"$f":"SCW34*'Makro i swap'!SCU4","v":0},{"$f":"SCX34*'Makro i swap'!SCV4","v":0},{"$f":"SCY34*'Makro i swap'!SCW4","v":0},{"$f":"SCZ34*'Makro i swap'!SCX4","v":0},{"$f":"SDA34*'Makro i swap'!SCY4","v":0},{"$f":"SDB34*'Makro i swap'!SCZ4","v":0},{"$f":"SDC34*'Makro i swap'!SDA4","v":0},{"$f":"SDD34*'Makro i swap'!SDB4","v":0},{"$f":"SDE34*'Makro i swap'!SDC4","v":0},{"$f":"SDF34*'Makro i swap'!SDD4","v":0},{"$f":"SDG34*'Makro i swap'!SDE4","v":0},{"$f":"SDH34*'Makro i swap'!SDF4","v":0},{"$f":"SDI34*'Makro i swap'!SDG4","v":0},{"$f":"SDJ34*'Makro i swap'!SDH4","v":0},{"$f":"SDK34*'Makro i swap'!SDI4","v":0},{"$f":"SDL34*'Makro i swap'!SDJ4","v":0},{"$f":"SDM34*'Makro i swap'!SDK4","v":0},{"$f":"SDN34*'Makro i swap'!SDL4","v":0},{"$f":"SDO34*'Makro i swap'!SDM4","v":0},{"$f":"SDP34*'Makro i swap'!SDN4","v":0},{"$f":"SDQ34*'Makro i swap'!SDO4","v":0},{"$f":"SDR34*'Makro i swap'!SDP4","v":0},{"$f":"SDS34*'Makro i swap'!SDQ4","v":0},{"$f":"SDT34*'Makro i swap'!SDR4","v":0},{"$f":"SDU34*'Makro i swap'!SDS4","v":0},{"$f":"SDV34*'Makro i swap'!SDT4","v":0},{"$f":"SDW34*'Makro i swap'!SDU4","v":0},{"$f":"SDX34*'Makro i swap'!SDV4","v":0},{"$f":"SDY34*'Makro i swap'!SDW4","v":0},{"$f":"SDZ34*'Makro i swap'!SDX4","v":0},{"$f":"SEA34*'Makro i swap'!SDY4","v":0},{"$f":"SEB34*'Makro i swap'!SDZ4","v":0},{"$f":"SEC34*'Makro i swap'!SEA4","v":0},{"$f":"SED34*'Makro i swap'!SEB4","v":0},{"$f":"SEE34*'Makro i swap'!SEC4","v":0},{"$f":"SEF34*'Makro i swap'!SED4","v":0},{"$f":"SEG34*'Makro i swap'!SEE4","v":0},{"$f":"SEH34*'Makro i swap'!SEF4","v":0},{"$f":"SEI34*'Makro i swap'!SEG4","v":0},{"$f":"SEJ34*'Makro i swap'!SEH4","v":0},{"$f":"SEK34*'Makro i swap'!SEI4","v":0},{"$f":"SEL34*'Makro i swap'!SEJ4","v":0},{"$f":"SEM34*'Makro i swap'!SEK4","v":0},{"$f":"SEN34*'Makro i swap'!SEL4","v":0},{"$f":"SEO34*'Makro i swap'!SEM4","v":0},{"$f":"SEP34*'Makro i swap'!SEN4","v":0},{"$f":"SEQ34*'Makro i swap'!SEO4","v":0},{"$f":"SER34*'Makro i swap'!SEP4","v":0},{"$f":"SES34*'Makro i swap'!SEQ4","v":0},{"$f":"SET34*'Makro i swap'!SER4","v":0},{"$f":"SEU34*'Makro i swap'!SES4","v":0},{"$f":"SEV34*'Makro i swap'!SET4","v":0},{"$f":"SEW34*'Makro i swap'!SEU4","v":0},{"$f":"SEX34*'Makro i swap'!SEV4","v":0},{"$f":"SEY34*'Makro i swap'!SEW4","v":0},{"$f":"SEZ34*'Makro i swap'!SEX4","v":0},{"$f":"SFA34*'Makro i swap'!SEY4","v":0},{"$f":"SFB34*'Makro i swap'!SEZ4","v":0},{"$f":"SFC34*'Makro i swap'!SFA4","v":0},{"$f":"SFD34*'Makro i swap'!SFB4","v":0},{"$f":"SFE34*'Makro i swap'!SFC4","v":0},{"$f":"SFF34*'Makro i swap'!SFD4","v":0},{"$f":"SFG34*'Makro i swap'!SFE4","v":0},{"$f":"SFH34*'Makro i swap'!SFF4","v":0},{"$f":"SFI34*'Makro i swap'!SFG4","v":0},{"$f":"SFJ34*'Makro i swap'!SFH4","v":0},{"$f":"SFK34*'Makro i swap'!SFI4","v":0},{"$f":"SFL34*'Makro i swap'!SFJ4","v":0},{"$f":"SFM34*'Makro i swap'!SFK4","v":0},{"$f":"SFN34*'Makro i swap'!SFL4","v":0},{"$f":"SFO34*'Makro i swap'!SFM4","v":0},{"$f":"SFP34*'Makro i swap'!SFN4","v":0},{"$f":"SFQ34*'Makro i swap'!SFO4","v":0},{"$f":"SFR34*'Makro i swap'!SFP4","v":0},{"$f":"SFS34*'Makro i swap'!SFQ4","v":0},{"$f":"SFT34*'Makro i swap'!SFR4","v":0},{"$f":"SFU34*'Makro i swap'!SFS4","v":0},{"$f":"SFV34*'Makro i swap'!SFT4","v":0},{"$f":"SFW34*'Makro i swap'!SFU4","v":0},{"$f":"SFX34*'Makro i swap'!SFV4","v":0},{"$f":"SFY34*'Makro i swap'!SFW4","v":0},{"$f":"SFZ34*'Makro i swap'!SFX4","v":0},{"$f":"SGA34*'Makro i swap'!SFY4","v":0},{"$f":"SGB34*'Makro i swap'!SFZ4","v":0},{"$f":"SGC34*'Makro i swap'!SGA4","v":0},{"$f":"SGD34*'Makro i swap'!SGB4","v":0},{"$f":"SGE34*'Makro i swap'!SGC4","v":0},{"$f":"SGF34*'Makro i swap'!SGD4","v":0},{"$f":"SGG34*'Makro i swap'!SGE4","v":0},{"$f":"SGH34*'Makro i swap'!SGF4","v":0},{"$f":"SGI34*'Makro i swap'!SGG4","v":0},{"$f":"SGJ34*'Makro i swap'!SGH4","v":0},{"$f":"SGK34*'Makro i swap'!SGI4","v":0},{"$f":"SGL34*'Makro i swap'!SGJ4","v":0},{"$f":"SGM34*'Makro i swap'!SGK4","v":0},{"$f":"SGN34*'Makro i swap'!SGL4","v":0},{"$f":"SGO34*'Makro i swap'!SGM4","v":0},{"$f":"SGP34*'Makro i swap'!SGN4","v":0},{"$f":"SGQ34*'Makro i swap'!SGO4","v":0},{"$f":"SGR34*'Makro i swap'!SGP4","v":0},{"$f":"SGS34*'Makro i swap'!SGQ4","v":0},{"$f":"SGT34*'Makro i swap'!SGR4","v":0},{"$f":"SGU34*'Makro i swap'!SGS4","v":0},{"$f":"SGV34*'Makro i swap'!SGT4","v":0},{"$f":"SGW34*'Makro i swap'!SGU4","v":0},{"$f":"SGX34*'Makro i swap'!SGV4","v":0},{"$f":"SGY34*'Makro i swap'!SGW4","v":0},{"$f":"SGZ34*'Makro i swap'!SGX4","v":0},{"$f":"SHA34*'Makro i swap'!SGY4","v":0},{"$f":"SHB34*'Makro i swap'!SGZ4","v":0},{"$f":"SHC34*'Makro i swap'!SHA4","v":0},{"$f":"SHD34*'Makro i swap'!SHB4","v":0},{"$f":"SHE34*'Makro i swap'!SHC4","v":0},{"$f":"SHF34*'Makro i swap'!SHD4","v":0},{"$f":"SHG34*'Makro i swap'!SHE4","v":0},{"$f":"SHH34*'Makro i swap'!SHF4","v":0},{"$f":"SHI34*'Makro i swap'!SHG4","v":0},{"$f":"SHJ34*'Makro i swap'!SHH4","v":0},{"$f":"SHK34*'Makro i swap'!SHI4","v":0},{"$f":"SHL34*'Makro i swap'!SHJ4","v":0},{"$f":"SHM34*'Makro i swap'!SHK4","v":0},{"$f":"SHN34*'Makro i swap'!SHL4","v":0},{"$f":"SHO34*'Makro i swap'!SHM4","v":0},{"$f":"SHP34*'Makro i swap'!SHN4","v":0},{"$f":"SHQ34*'Makro i swap'!SHO4","v":0},{"$f":"SHR34*'Makro i swap'!SHP4","v":0},{"$f":"SHS34*'Makro i swap'!SHQ4","v":0},{"$f":"SHT34*'Makro i swap'!SHR4","v":0},{"$f":"SHU34*'Makro i swap'!SHS4","v":0},{"$f":"SHV34*'Makro i swap'!SHT4","v":0},{"$f":"SHW34*'Makro i swap'!SHU4","v":0},{"$f":"SHX34*'Makro i swap'!SHV4","v":0},{"$f":"SHY34*'Makro i swap'!SHW4","v":0},{"$f":"SHZ34*'Makro i swap'!SHX4","v":0},{"$f":"SIA34*'Makro i swap'!SHY4","v":0},{"$f":"SIB34*'Makro i swap'!SHZ4","v":0},{"$f":"SIC34*'Makro i swap'!SIA4","v":0},{"$f":"SID34*'Makro i swap'!SIB4","v":0},{"$f":"SIE34*'Makro i swap'!SIC4","v":0},{"$f":"SIF34*'Makro i swap'!SID4","v":0},{"$f":"SIG34*'Makro i swap'!SIE4","v":0},{"$f":"SIH34*'Makro i swap'!SIF4","v":0},{"$f":"SII34*'Makro i swap'!SIG4","v":0},{"$f":"SIJ34*'Makro i swap'!SIH4","v":0},{"$f":"SIK34*'Makro i swap'!SII4","v":0},{"$f":"SIL34*'Makro i swap'!SIJ4","v":0},{"$f":"SIM34*'Makro i swap'!SIK4","v":0},{"$f":"SIN34*'Makro i swap'!SIL4","v":0},{"$f":"SIO34*'Makro i swap'!SIM4","v":0},{"$f":"SIP34*'Makro i swap'!SIN4","v":0},{"$f":"SIQ34*'Makro i swap'!SIO4","v":0},{"$f":"SIR34*'Makro i swap'!SIP4","v":0},{"$f":"SIS34*'Makro i swap'!SIQ4","v":0},{"$f":"SIT34*'Makro i swap'!SIR4","v":0},{"$f":"SIU34*'Makro i swap'!SIS4","v":0},{"$f":"SIV34*'Makro i swap'!SIT4","v":0},{"$f":"SIW34*'Makro i swap'!SIU4","v":0},{"$f":"SIX34*'Makro i swap'!SIV4","v":0},{"$f":"SIY34*'Makro i swap'!SIW4","v":0},{"$f":"SIZ34*'Makro i swap'!SIX4","v":0},{"$f":"SJA34*'Makro i swap'!SIY4","v":0},{"$f":"SJB34*'Makro i swap'!SIZ4","v":0},{"$f":"SJC34*'Makro i swap'!SJA4","v":0},{"$f":"SJD34*'Makro i swap'!SJB4","v":0},{"$f":"SJE34*'Makro i swap'!SJC4","v":0},{"$f":"SJF34*'Makro i swap'!SJD4","v":0},{"$f":"SJG34*'Makro i swap'!SJE4","v":0},{"$f":"SJH34*'Makro i swap'!SJF4","v":0},{"$f":"SJI34*'Makro i swap'!SJG4","v":0},{"$f":"SJJ34*'Makro i swap'!SJH4","v":0},{"$f":"SJK34*'Makro i swap'!SJI4","v":0},{"$f":"SJL34*'Makro i swap'!SJJ4","v":0},{"$f":"SJM34*'Makro i swap'!SJK4","v":0},{"$f":"SJN34*'Makro i swap'!SJL4","v":0},{"$f":"SJO34*'Makro i swap'!SJM4","v":0},{"$f":"SJP34*'Makro i swap'!SJN4","v":0},{"$f":"SJQ34*'Makro i swap'!SJO4","v":0},{"$f":"SJR34*'Makro i swap'!SJP4","v":0},{"$f":"SJS34*'Makro i swap'!SJQ4","v":0},{"$f":"SJT34*'Makro i swap'!SJR4","v":0},{"$f":"SJU34*'Makro i swap'!SJS4","v":0},{"$f":"SJV34*'Makro i swap'!SJT4","v":0},{"$f":"SJW34*'Makro i swap'!SJU4","v":0},{"$f":"SJX34*'Makro i swap'!SJV4","v":0},{"$f":"SJY34*'Makro i swap'!SJW4","v":0},{"$f":"SJZ34*'Makro i swap'!SJX4","v":0},{"$f":"SKA34*'Makro i swap'!SJY4","v":0},{"$f":"SKB34*'Makro i swap'!SJZ4","v":0},{"$f":"SKC34*'Makro i swap'!SKA4","v":0},{"$f":"SKD34*'Makro i swap'!SKB4","v":0},{"$f":"SKE34*'Makro i swap'!SKC4","v":0},{"$f":"SKF34*'Makro i swap'!SKD4","v":0},{"$f":"SKG34*'Makro i swap'!SKE4","v":0},{"$f":"SKH34*'Makro i swap'!SKF4","v":0},{"$f":"SKI34*'Makro i swap'!SKG4","v":0},{"$f":"SKJ34*'Makro i swap'!SKH4","v":0},{"$f":"SKK34*'Makro i swap'!SKI4","v":0},{"$f":"SKL34*'Makro i swap'!SKJ4","v":0},{"$f":"SKM34*'Makro i swap'!SKK4","v":0},{"$f":"SKN34*'Makro i swap'!SKL4","v":0},{"$f":"SKO34*'Makro i swap'!SKM4","v":0},{"$f":"SKP34*'Makro i swap'!SKN4","v":0},{"$f":"SKQ34*'Makro i swap'!SKO4","v":0},{"$f":"SKR34*'Makro i swap'!SKP4","v":0},{"$f":"SKS34*'Makro i swap'!SKQ4","v":0},{"$f":"SKT34*'Makro i swap'!SKR4","v":0},{"$f":"SKU34*'Makro i swap'!SKS4","v":0},{"$f":"SKV34*'Makro i swap'!SKT4","v":0},{"$f":"SKW34*'Makro i swap'!SKU4","v":0},{"$f":"SKX34*'Makro i swap'!SKV4","v":0},{"$f":"SKY34*'Makro i swap'!SKW4","v":0},{"$f":"SKZ34*'Makro i swap'!SKX4","v":0},{"$f":"SLA34*'Makro i swap'!SKY4","v":0},{"$f":"SLB34*'Makro i swap'!SKZ4","v":0},{"$f":"SLC34*'Makro i swap'!SLA4","v":0},{"$f":"SLD34*'Makro i swap'!SLB4","v":0},{"$f":"SLE34*'Makro i swap'!SLC4","v":0},{"$f":"SLF34*'Makro i swap'!SLD4","v":0},{"$f":"SLG34*'Makro i swap'!SLE4","v":0},{"$f":"SLH34*'Makro i swap'!SLF4","v":0},{"$f":"SLI34*'Makro i swap'!SLG4","v":0},{"$f":"SLJ34*'Makro i swap'!SLH4","v":0},{"$f":"SLK34*'Makro i swap'!SLI4","v":0},{"$f":"SLL34*'Makro i swap'!SLJ4","v":0},{"$f":"SLM34*'Makro i swap'!SLK4","v":0},{"$f":"SLN34*'Makro i swap'!SLL4","v":0},{"$f":"SLO34*'Makro i swap'!SLM4","v":0},{"$f":"SLP34*'Makro i swap'!SLN4","v":0},{"$f":"SLQ34*'Makro i swap'!SLO4","v":0},{"$f":"SLR34*'Makro i swap'!SLP4","v":0},{"$f":"SLS34*'Makro i swap'!SLQ4","v":0},{"$f":"SLT34*'Makro i swap'!SLR4","v":0},{"$f":"SLU34*'Makro i swap'!SLS4","v":0},{"$f":"SLV34*'Makro i swap'!SLT4","v":0},{"$f":"SLW34*'Makro i swap'!SLU4","v":0},{"$f":"SLX34*'Makro i swap'!SLV4","v":0},{"$f":"SLY34*'Makro i swap'!SLW4","v":0},{"$f":"SLZ34*'Makro i swap'!SLX4","v":0},{"$f":"SMA34*'Makro i swap'!SLY4","v":0},{"$f":"SMB34*'Makro i swap'!SLZ4","v":0},{"$f":"SMC34*'Makro i swap'!SMA4","v":0},{"$f":"SMD34*'Makro i swap'!SMB4","v":0},{"$f":"SME34*'Makro i swap'!SMC4","v":0},{"$f":"SMF34*'Makro i swap'!SMD4","v":0},{"$f":"SMG34*'Makro i swap'!SME4","v":0},{"$f":"SMH34*'Makro i swap'!SMF4","v":0},{"$f":"SMI34*'Makro i swap'!SMG4","v":0},{"$f":"SMJ34*'Makro i swap'!SMH4","v":0},{"$f":"SMK34*'Makro i swap'!SMI4","v":0},{"$f":"SML34*'Makro i swap'!SMJ4","v":0},{"$f":"SMM34*'Makro i swap'!SMK4","v":0},{"$f":"SMN34*'Makro i swap'!SML4","v":0},{"$f":"SMO34*'Makro i swap'!SMM4","v":0},{"$f":"SMP34*'Makro i swap'!SMN4","v":0},{"$f":"SMQ34*'Makro i swap'!SMO4","v":0},{"$f":"SMR34*'Makro i swap'!SMP4","v":0},{"$f":"SMS34*'Makro i swap'!SMQ4","v":0},{"$f":"SMT34*'Makro i swap'!SMR4","v":0},{"$f":"SMU34*'Makro i swap'!SMS4","v":0},{"$f":"SMV34*'Makro i swap'!SMT4","v":0},{"$f":"SMW34*'Makro i swap'!SMU4","v":0},{"$f":"SMX34*'Makro i swap'!SMV4","v":0},{"$f":"SMY34*'Makro i swap'!SMW4","v":0},{"$f":"SMZ34*'Makro i swap'!SMX4","v":0},{"$f":"SNA34*'Makro i swap'!SMY4","v":0},{"$f":"SNB34*'Makro i swap'!SMZ4","v":0},{"$f":"SNC34*'Makro i swap'!SNA4","v":0},{"$f":"SND34*'Makro i swap'!SNB4","v":0},{"$f":"SNE34*'Makro i swap'!SNC4","v":0},{"$f":"SNF34*'Makro i swap'!SND4","v":0},{"$f":"SNG34*'Makro i swap'!SNE4","v":0},{"$f":"SNH34*'Makro i swap'!SNF4","v":0},{"$f":"SNI34*'Makro i swap'!SNG4","v":0},{"$f":"SNJ34*'Makro i swap'!SNH4","v":0},{"$f":"SNK34*'Makro i swap'!SNI4","v":0},{"$f":"SNL34*'Makro i swap'!SNJ4","v":0},{"$f":"SNM34*'Makro i swap'!SNK4","v":0},{"$f":"SNN34*'Makro i swap'!SNL4","v":0},{"$f":"SNO34*'Makro i swap'!SNM4","v":0},{"$f":"SNP34*'Makro i swap'!SNN4","v":0},{"$f":"SNQ34*'Makro i swap'!SNO4","v":0},{"$f":"SNR34*'Makro i swap'!SNP4","v":0},{"$f":"SNS34*'Makro i swap'!SNQ4","v":0},{"$f":"SNT34*'Makro i swap'!SNR4","v":0},{"$f":"SNU34*'Makro i swap'!SNS4","v":0},{"$f":"SNV34*'Makro i swap'!SNT4","v":0},{"$f":"SNW34*'Makro i swap'!SNU4","v":0},{"$f":"SNX34*'Makro i swap'!SNV4","v":0},{"$f":"SNY34*'Makro i swap'!SNW4","v":0},{"$f":"SNZ34*'Makro i swap'!SNX4","v":0},{"$f":"SOA34*'Makro i swap'!SNY4","v":0},{"$f":"SOB34*'Makro i swap'!SNZ4","v":0},{"$f":"SOC34*'Makro i swap'!SOA4","v":0},{"$f":"SOD34*'Makro i swap'!SOB4","v":0},{"$f":"SOE34*'Makro i swap'!SOC4","v":0},{"$f":"SOF34*'Makro i swap'!SOD4","v":0},{"$f":"SOG34*'Makro i swap'!SOE4","v":0},{"$f":"SOH34*'Makro i swap'!SOF4","v":0},{"$f":"SOI34*'Makro i swap'!SOG4","v":0},{"$f":"SOJ34*'Makro i swap'!SOH4","v":0},{"$f":"SOK34*'Makro i swap'!SOI4","v":0},{"$f":"SOL34*'Makro i swap'!SOJ4","v":0},{"$f":"SOM34*'Makro i swap'!SOK4","v":0},{"$f":"SON34*'Makro i swap'!SOL4","v":0},{"$f":"SOO34*'Makro i swap'!SOM4","v":0},{"$f":"SOP34*'Makro i swap'!SON4","v":0},{"$f":"SOQ34*'Makro i swap'!SOO4","v":0},{"$f":"SOR34*'Makro i swap'!SOP4","v":0},{"$f":"SOS34*'Makro i swap'!SOQ4","v":0},{"$f":"SOT34*'Makro i swap'!SOR4","v":0},{"$f":"SOU34*'Makro i swap'!SOS4","v":0},{"$f":"SOV34*'Makro i swap'!SOT4","v":0},{"$f":"SOW34*'Makro i swap'!SOU4","v":0},{"$f":"SOX34*'Makro i swap'!SOV4","v":0},{"$f":"SOY34*'Makro i swap'!SOW4","v":0},{"$f":"SOZ34*'Makro i swap'!SOX4","v":0},{"$f":"SPA34*'Makro i swap'!SOY4","v":0},{"$f":"SPB34*'Makro i swap'!SOZ4","v":0},{"$f":"SPC34*'Makro i swap'!SPA4","v":0},{"$f":"SPD34*'Makro i swap'!SPB4","v":0},{"$f":"SPE34*'Makro i swap'!SPC4","v":0},{"$f":"SPF34*'Makro i swap'!SPD4","v":0},{"$f":"SPG34*'Makro i swap'!SPE4","v":0},{"$f":"SPH34*'Makro i swap'!SPF4","v":0},{"$f":"SPI34*'Makro i swap'!SPG4","v":0},{"$f":"SPJ34*'Makro i swap'!SPH4","v":0},{"$f":"SPK34*'Makro i swap'!SPI4","v":0},{"$f":"SPL34*'Makro i swap'!SPJ4","v":0},{"$f":"SPM34*'Makro i swap'!SPK4","v":0},{"$f":"SPN34*'Makro i swap'!SPL4","v":0},{"$f":"SPO34*'Makro i swap'!SPM4","v":0},{"$f":"SPP34*'Makro i swap'!SPN4","v":0},{"$f":"SPQ34*'Makro i swap'!SPO4","v":0},{"$f":"SPR34*'Makro i swap'!SPP4","v":0},{"$f":"SPS34*'Makro i swap'!SPQ4","v":0},{"$f":"SPT34*'Makro i swap'!SPR4","v":0},{"$f":"SPU34*'Makro i swap'!SPS4","v":0},{"$f":"SPV34*'Makro i swap'!SPT4","v":0},{"$f":"SPW34*'Makro i swap'!SPU4","v":0},{"$f":"SPX34*'Makro i swap'!SPV4","v":0},{"$f":"SPY34*'Makro i swap'!SPW4","v":0},{"$f":"SPZ34*'Makro i swap'!SPX4","v":0},{"$f":"SQA34*'Makro i swap'!SPY4","v":0},{"$f":"SQB34*'Makro i swap'!SPZ4","v":0},{"$f":"SQC34*'Makro i swap'!SQA4","v":0},{"$f":"SQD34*'Makro i swap'!SQB4","v":0},{"$f":"SQE34*'Makro i swap'!SQC4","v":0},{"$f":"SQF34*'Makro i swap'!SQD4","v":0},{"$f":"SQG34*'Makro i swap'!SQE4","v":0},{"$f":"SQH34*'Makro i swap'!SQF4","v":0},{"$f":"SQI34*'Makro i swap'!SQG4","v":0},{"$f":"SQJ34*'Makro i swap'!SQH4","v":0},{"$f":"SQK34*'Makro i swap'!SQI4","v":0},{"$f":"SQL34*'Makro i swap'!SQJ4","v":0},{"$f":"SQM34*'Makro i swap'!SQK4","v":0},{"$f":"SQN34*'Makro i swap'!SQL4","v":0},{"$f":"SQO34*'Makro i swap'!SQM4","v":0},{"$f":"SQP34*'Makro i swap'!SQN4","v":0},{"$f":"SQQ34*'Makro i swap'!SQO4","v":0},{"$f":"SQR34*'Makro i swap'!SQP4","v":0},{"$f":"SQS34*'Makro i swap'!SQQ4","v":0},{"$f":"SQT34*'Makro i swap'!SQR4","v":0},{"$f":"SQU34*'Makro i swap'!SQS4","v":0},{"$f":"SQV34*'Makro i swap'!SQT4","v":0},{"$f":"SQW34*'Makro i swap'!SQU4","v":0},{"$f":"SQX34*'Makro i swap'!SQV4","v":0},{"$f":"SQY34*'Makro i swap'!SQW4","v":0},{"$f":"SQZ34*'Makro i swap'!SQX4","v":0},{"$f":"SRA34*'Makro i swap'!SQY4","v":0},{"$f":"SRB34*'Makro i swap'!SQZ4","v":0},{"$f":"SRC34*'Makro i swap'!SRA4","v":0},{"$f":"SRD34*'Makro i swap'!SRB4","v":0},{"$f":"SRE34*'Makro i swap'!SRC4","v":0},{"$f":"SRF34*'Makro i swap'!SRD4","v":0},{"$f":"SRG34*'Makro i swap'!SRE4","v":0},{"$f":"SRH34*'Makro i swap'!SRF4","v":0},{"$f":"SRI34*'Makro i swap'!SRG4","v":0},{"$f":"SRJ34*'Makro i swap'!SRH4","v":0},{"$f":"SRK34*'Makro i swap'!SRI4","v":0},{"$f":"SRL34*'Makro i swap'!SRJ4","v":0},{"$f":"SRM34*'Makro i swap'!SRK4","v":0},{"$f":"SRN34*'Makro i swap'!SRL4","v":0},{"$f":"SRO34*'Makro i swap'!SRM4","v":0},{"$f":"SRP34*'Makro i swap'!SRN4","v":0},{"$f":"SRQ34*'Makro i swap'!SRO4","v":0},{"$f":"SRR34*'Makro i swap'!SRP4","v":0},{"$f":"SRS34*'Makro i swap'!SRQ4","v":0},{"$f":"SRT34*'Makro i swap'!SRR4","v":0},{"$f":"SRU34*'Makro i swap'!SRS4","v":0},{"$f":"SRV34*'Makro i swap'!SRT4","v":0},{"$f":"SRW34*'Makro i swap'!SRU4","v":0},{"$f":"SRX34*'Makro i swap'!SRV4","v":0},{"$f":"SRY34*'Makro i swap'!SRW4","v":0},{"$f":"SRZ34*'Makro i swap'!SRX4","v":0},{"$f":"SSA34*'Makro i swap'!SRY4","v":0},{"$f":"SSB34*'Makro i swap'!SRZ4","v":0},{"$f":"SSC34*'Makro i swap'!SSA4","v":0},{"$f":"SSD34*'Makro i swap'!SSB4","v":0},{"$f":"SSE34*'Makro i swap'!SSC4","v":0},{"$f":"SSF34*'Makro i swap'!SSD4","v":0},{"$f":"SSG34*'Makro i swap'!SSE4","v":0},{"$f":"SSH34*'Makro i swap'!SSF4","v":0},{"$f":"SSI34*'Makro i swap'!SSG4","v":0},{"$f":"SSJ34*'Makro i swap'!SSH4","v":0},{"$f":"SSK34*'Makro i swap'!SSI4","v":0},{"$f":"SSL34*'Makro i swap'!SSJ4","v":0},{"$f":"SSM34*'Makro i swap'!SSK4","v":0},{"$f":"SSN34*'Makro i swap'!SSL4","v":0},{"$f":"SSO34*'Makro i swap'!SSM4","v":0},{"$f":"SSP34*'Makro i swap'!SSN4","v":0},{"$f":"SSQ34*'Makro i swap'!SSO4","v":0},{"$f":"SSR34*'Makro i swap'!SSP4","v":0},{"$f":"SSS34*'Makro i swap'!SSQ4","v":0},{"$f":"SST34*'Makro i swap'!SSR4","v":0},{"$f":"SSU34*'Makro i swap'!SSS4","v":0},{"$f":"SSV34*'Makro i swap'!SST4","v":0},{"$f":"SSW34*'Makro i swap'!SSU4","v":0},{"$f":"SSX34*'Makro i swap'!SSV4","v":0},{"$f":"SSY34*'Makro i swap'!SSW4","v":0},{"$f":"SSZ34*'Makro i swap'!SSX4","v":0},{"$f":"STA34*'Makro i swap'!SSY4","v":0},{"$f":"STB34*'Makro i swap'!SSZ4","v":0},{"$f":"STC34*'Makro i swap'!STA4","v":0},{"$f":"STD34*'Makro i swap'!STB4","v":0},{"$f":"STE34*'Makro i swap'!STC4","v":0},{"$f":"STF34*'Makro i swap'!STD4","v":0},{"$f":"STG34*'Makro i swap'!STE4","v":0},{"$f":"STH34*'Makro i swap'!STF4","v":0},{"$f":"STI34*'Makro i swap'!STG4","v":0},{"$f":"STJ34*'Makro i swap'!STH4","v":0},{"$f":"STK34*'Makro i swap'!STI4","v":0},{"$f":"STL34*'Makro i swap'!STJ4","v":0},{"$f":"STM34*'Makro i swap'!STK4","v":0},{"$f":"STN34*'Makro i swap'!STL4","v":0},{"$f":"STO34*'Makro i swap'!STM4","v":0},{"$f":"STP34*'Makro i swap'!STN4","v":0},{"$f":"STQ34*'Makro i swap'!STO4","v":0},{"$f":"STR34*'Makro i swap'!STP4","v":0},{"$f":"STS34*'Makro i swap'!STQ4","v":0},{"$f":"STT34*'Makro i swap'!STR4","v":0},{"$f":"STU34*'Makro i swap'!STS4","v":0},{"$f":"STV34*'Makro i swap'!STT4","v":0},{"$f":"STW34*'Makro i swap'!STU4","v":0},{"$f":"STX34*'Makro i swap'!STV4","v":0},{"$f":"STY34*'Makro i swap'!STW4","v":0},{"$f":"STZ34*'Makro i swap'!STX4","v":0},{"$f":"SUA34*'Makro i swap'!STY4","v":0},{"$f":"SUB34*'Makro i swap'!STZ4","v":0},{"$f":"SUC34*'Makro i swap'!SUA4","v":0},{"$f":"SUD34*'Makro i swap'!SUB4","v":0},{"$f":"SUE34*'Makro i swap'!SUC4","v":0},{"$f":"SUF34*'Makro i swap'!SUD4","v":0},{"$f":"SUG34*'Makro i swap'!SUE4","v":0},{"$f":"SUH34*'Makro i swap'!SUF4","v":0},{"$f":"SUI34*'Makro i swap'!SUG4","v":0},{"$f":"SUJ34*'Makro i swap'!SUH4","v":0},{"$f":"SUK34*'Makro i swap'!SUI4","v":0},{"$f":"SUL34*'Makro i swap'!SUJ4","v":0},{"$f":"SUM34*'Makro i swap'!SUK4","v":0},{"$f":"SUN34*'Makro i swap'!SUL4","v":0},{"$f":"SUO34*'Makro i swap'!SUM4","v":0},{"$f":"SUP34*'Makro i swap'!SUN4","v":0},{"$f":"SUQ34*'Makro i swap'!SUO4","v":0},{"$f":"SUR34*'Makro i swap'!SUP4","v":0},{"$f":"SUS34*'Makro i swap'!SUQ4","v":0},{"$f":"SUT34*'Makro i swap'!SUR4","v":0},{"$f":"SUU34*'Makro i swap'!SUS4","v":0},{"$f":"SUV34*'Makro i swap'!SUT4","v":0},{"$f":"SUW34*'Makro i swap'!SUU4","v":0},{"$f":"SUX34*'Makro i swap'!SUV4","v":0},{"$f":"SUY34*'Makro i swap'!SUW4","v":0},{"$f":"SUZ34*'Makro i swap'!SUX4","v":0},{"$f":"SVA34*'Makro i swap'!SUY4","v":0},{"$f":"SVB34*'Makro i swap'!SUZ4","v":0},{"$f":"SVC34*'Makro i swap'!SVA4","v":0},{"$f":"SVD34*'Makro i swap'!SVB4","v":0},{"$f":"SVE34*'Makro i swap'!SVC4","v":0},{"$f":"SVF34*'Makro i swap'!SVD4","v":0},{"$f":"SVG34*'Makro i swap'!SVE4","v":0},{"$f":"SVH34*'Makro i swap'!SVF4","v":0},{"$f":"SVI34*'Makro i swap'!SVG4","v":0},{"$f":"SVJ34*'Makro i swap'!SVH4","v":0},{"$f":"SVK34*'Makro i swap'!SVI4","v":0},{"$f":"SVL34*'Makro i swap'!SVJ4","v":0},{"$f":"SVM34*'Makro i swap'!SVK4","v":0},{"$f":"SVN34*'Makro i swap'!SVL4","v":0},{"$f":"SVO34*'Makro i swap'!SVM4","v":0},{"$f":"SVP34*'Makro i swap'!SVN4","v":0},{"$f":"SVQ34*'Makro i swap'!SVO4","v":0},{"$f":"SVR34*'Makro i swap'!SVP4","v":0},{"$f":"SVS34*'Makro i swap'!SVQ4","v":0},{"$f":"SVT34*'Makro i swap'!SVR4","v":0},{"$f":"SVU34*'Makro i swap'!SVS4","v":0},{"$f":"SVV34*'Makro i swap'!SVT4","v":0},{"$f":"SVW34*'Makro i swap'!SVU4","v":0},{"$f":"SVX34*'Makro i swap'!SVV4","v":0},{"$f":"SVY34*'Makro i swap'!SVW4","v":0},{"$f":"SVZ34*'Makro i swap'!SVX4","v":0},{"$f":"SWA34*'Makro i swap'!SVY4","v":0},{"$f":"SWB34*'Makro i swap'!SVZ4","v":0},{"$f":"SWC34*'Makro i swap'!SWA4","v":0},{"$f":"SWD34*'Makro i swap'!SWB4","v":0},{"$f":"SWE34*'Makro i swap'!SWC4","v":0},{"$f":"SWF34*'Makro i swap'!SWD4","v":0},{"$f":"SWG34*'Makro i swap'!SWE4","v":0},{"$f":"SWH34*'Makro i swap'!SWF4","v":0},{"$f":"SWI34*'Makro i swap'!SWG4","v":0},{"$f":"SWJ34*'Makro i swap'!SWH4","v":0},{"$f":"SWK34*'Makro i swap'!SWI4","v":0},{"$f":"SWL34*'Makro i swap'!SWJ4","v":0},{"$f":"SWM34*'Makro i swap'!SWK4","v":0},{"$f":"SWN34*'Makro i swap'!SWL4","v":0},{"$f":"SWO34*'Makro i swap'!SWM4","v":0},{"$f":"SWP34*'Makro i swap'!SWN4","v":0},{"$f":"SWQ34*'Makro i swap'!SWO4","v":0},{"$f":"SWR34*'Makro i swap'!SWP4","v":0},{"$f":"SWS34*'Makro i swap'!SWQ4","v":0},{"$f":"SWT34*'Makro i swap'!SWR4","v":0},{"$f":"SWU34*'Makro i swap'!SWS4","v":0},{"$f":"SWV34*'Makro i swap'!SWT4","v":0},{"$f":"SWW34*'Makro i swap'!SWU4","v":0},{"$f":"SWX34*'Makro i swap'!SWV4","v":0},{"$f":"SWY34*'Makro i swap'!SWW4","v":0},{"$f":"SWZ34*'Makro i swap'!SWX4","v":0},{"$f":"SXA34*'Makro i swap'!SWY4","v":0},{"$f":"SXB34*'Makro i swap'!SWZ4","v":0},{"$f":"SXC34*'Makro i swap'!SXA4","v":0},{"$f":"SXD34*'Makro i swap'!SXB4","v":0},{"$f":"SXE34*'Makro i swap'!SXC4","v":0},{"$f":"SXF34*'Makro i swap'!SXD4","v":0},{"$f":"SXG34*'Makro i swap'!SXE4","v":0},{"$f":"SXH34*'Makro i swap'!SXF4","v":0},{"$f":"SXI34*'Makro i swap'!SXG4","v":0},{"$f":"SXJ34*'Makro i swap'!SXH4","v":0},{"$f":"SXK34*'Makro i swap'!SXI4","v":0},{"$f":"SXL34*'Makro i swap'!SXJ4","v":0},{"$f":"SXM34*'Makro i swap'!SXK4","v":0},{"$f":"SXN34*'Makro i swap'!SXL4","v":0},{"$f":"SXO34*'Makro i swap'!SXM4","v":0},{"$f":"SXP34*'Makro i swap'!SXN4","v":0},{"$f":"SXQ34*'Makro i swap'!SXO4","v":0},{"$f":"SXR34*'Makro i swap'!SXP4","v":0},{"$f":"SXS34*'Makro i swap'!SXQ4","v":0},{"$f":"SXT34*'Makro i swap'!SXR4","v":0},{"$f":"SXU34*'Makro i swap'!SXS4","v":0},{"$f":"SXV34*'Makro i swap'!SXT4","v":0},{"$f":"SXW34*'Makro i swap'!SXU4","v":0},{"$f":"SXX34*'Makro i swap'!SXV4","v":0},{"$f":"SXY34*'Makro i swap'!SXW4","v":0},{"$f":"SXZ34*'Makro i swap'!SXX4","v":0},{"$f":"SYA34*'Makro i swap'!SXY4","v":0},{"$f":"SYB34*'Makro i swap'!SXZ4","v":0},{"$f":"SYC34*'Makro i swap'!SYA4","v":0},{"$f":"SYD34*'Makro i swap'!SYB4","v":0},{"$f":"SYE34*'Makro i swap'!SYC4","v":0},{"$f":"SYF34*'Makro i swap'!SYD4","v":0},{"$f":"SYG34*'Makro i swap'!SYE4","v":0},{"$f":"SYH34*'Makro i swap'!SYF4","v":0},{"$f":"SYI34*'Makro i swap'!SYG4","v":0},{"$f":"SYJ34*'Makro i swap'!SYH4","v":0},{"$f":"SYK34*'Makro i swap'!SYI4","v":0},{"$f":"SYL34*'Makro i swap'!SYJ4","v":0},{"$f":"SYM34*'Makro i swap'!SYK4","v":0},{"$f":"SYN34*'Makro i swap'!SYL4","v":0},{"$f":"SYO34*'Makro i swap'!SYM4","v":0},{"$f":"SYP34*'Makro i swap'!SYN4","v":0},{"$f":"SYQ34*'Makro i swap'!SYO4","v":0},{"$f":"SYR34*'Makro i swap'!SYP4","v":0},{"$f":"SYS34*'Makro i swap'!SYQ4","v":0},{"$f":"SYT34*'Makro i swap'!SYR4","v":0},{"$f":"SYU34*'Makro i swap'!SYS4","v":0},{"$f":"SYV34*'Makro i swap'!SYT4","v":0},{"$f":"SYW34*'Makro i swap'!SYU4","v":0},{"$f":"SYX34*'Makro i swap'!SYV4","v":0},{"$f":"SYY34*'Makro i swap'!SYW4","v":0},{"$f":"SYZ34*'Makro i swap'!SYX4","v":0},{"$f":"SZA34*'Makro i swap'!SYY4","v":0},{"$f":"SZB34*'Makro i swap'!SYZ4","v":0},{"$f":"SZC34*'Makro i swap'!SZA4","v":0},{"$f":"SZD34*'Makro i swap'!SZB4","v":0},{"$f":"SZE34*'Makro i swap'!SZC4","v":0},{"$f":"SZF34*'Makro i swap'!SZD4","v":0},{"$f":"SZG34*'Makro i swap'!SZE4","v":0},{"$f":"SZH34*'Makro i swap'!SZF4","v":0},{"$f":"SZI34*'Makro i swap'!SZG4","v":0},{"$f":"SZJ34*'Makro i swap'!SZH4","v":0},{"$f":"SZK34*'Makro i swap'!SZI4","v":0},{"$f":"SZL34*'Makro i swap'!SZJ4","v":0},{"$f":"SZM34*'Makro i swap'!SZK4","v":0},{"$f":"SZN34*'Makro i swap'!SZL4","v":0},{"$f":"SZO34*'Makro i swap'!SZM4","v":0},{"$f":"SZP34*'Makro i swap'!SZN4","v":0},{"$f":"SZQ34*'Makro i swap'!SZO4","v":0},{"$f":"SZR34*'Makro i swap'!SZP4","v":0},{"$f":"SZS34*'Makro i swap'!SZQ4","v":0},{"$f":"SZT34*'Makro i swap'!SZR4","v":0},{"$f":"SZU34*'Makro i swap'!SZS4","v":0},{"$f":"SZV34*'Makro i swap'!SZT4","v":0},{"$f":"SZW34*'Makro i swap'!SZU4","v":0},{"$f":"SZX34*'Makro i swap'!SZV4","v":0},{"$f":"SZY34*'Makro i swap'!SZW4","v":0},{"$f":"SZZ34*'Makro i swap'!SZX4","v":0},{"$f":"TAA34*'Makro i swap'!SZY4","v":0},{"$f":"TAB34*'Makro i swap'!SZZ4","v":0},{"$f":"TAC34*'Makro i swap'!TAA4","v":0},{"$f":"TAD34*'Makro i swap'!TAB4","v":0},{"$f":"TAE34*'Makro i swap'!TAC4","v":0},{"$f":"TAF34*'Makro i swap'!TAD4","v":0},{"$f":"TAG34*'Makro i swap'!TAE4","v":0},{"$f":"TAH34*'Makro i swap'!TAF4","v":0},{"$f":"TAI34*'Makro i swap'!TAG4","v":0},{"$f":"TAJ34*'Makro i swap'!TAH4","v":0},{"$f":"TAK34*'Makro i swap'!TAI4","v":0},{"$f":"TAL34*'Makro i swap'!TAJ4","v":0},{"$f":"TAM34*'Makro i swap'!TAK4","v":0},{"$f":"TAN34*'Makro i swap'!TAL4","v":0},{"$f":"TAO34*'Makro i swap'!TAM4","v":0},{"$f":"TAP34*'Makro i swap'!TAN4","v":0},{"$f":"TAQ34*'Makro i swap'!TAO4","v":0},{"$f":"TAR34*'Makro i swap'!TAP4","v":0},{"$f":"TAS34*'Makro i swap'!TAQ4","v":0},{"$f":"TAT34*'Makro i swap'!TAR4","v":0},{"$f":"TAU34*'Makro i swap'!TAS4","v":0},{"$f":"TAV34*'Makro i swap'!TAT4","v":0},{"$f":"TAW34*'Makro i swap'!TAU4","v":0},{"$f":"TAX34*'Makro i swap'!TAV4","v":0},{"$f":"TAY34*'Makro i swap'!TAW4","v":0},{"$f":"TAZ34*'Makro i swap'!TAX4","v":0},{"$f":"TBA34*'Makro i swap'!TAY4","v":0},{"$f":"TBB34*'Makro i swap'!TAZ4","v":0},{"$f":"TBC34*'Makro i swap'!TBA4","v":0},{"$f":"TBD34*'Makro i swap'!TBB4","v":0},{"$f":"TBE34*'Makro i swap'!TBC4","v":0},{"$f":"TBF34*'Makro i swap'!TBD4","v":0},{"$f":"TBG34*'Makro i swap'!TBE4","v":0},{"$f":"TBH34*'Makro i swap'!TBF4","v":0},{"$f":"TBI34*'Makro i swap'!TBG4","v":0},{"$f":"TBJ34*'Makro i swap'!TBH4","v":0},{"$f":"TBK34*'Makro i swap'!TBI4","v":0},{"$f":"TBL34*'Makro i swap'!TBJ4","v":0},{"$f":"TBM34*'Makro i swap'!TBK4","v":0},{"$f":"TBN34*'Makro i swap'!TBL4","v":0},{"$f":"TBO34*'Makro i swap'!TBM4","v":0},{"$f":"TBP34*'Makro i swap'!TBN4","v":0},{"$f":"TBQ34*'Makro i swap'!TBO4","v":0},{"$f":"TBR34*'Makro i swap'!TBP4","v":0},{"$f":"TBS34*'Makro i swap'!TBQ4","v":0},{"$f":"TBT34*'Makro i swap'!TBR4","v":0},{"$f":"TBU34*'Makro i swap'!TBS4","v":0},{"$f":"TBV34*'Makro i swap'!TBT4","v":0},{"$f":"TBW34*'Makro i swap'!TBU4","v":0},{"$f":"TBX34*'Makro i swap'!TBV4","v":0},{"$f":"TBY34*'Makro i swap'!TBW4","v":0},{"$f":"TBZ34*'Makro i swap'!TBX4","v":0},{"$f":"TCA34*'Makro i swap'!TBY4","v":0},{"$f":"TCB34*'Makro i swap'!TBZ4","v":0},{"$f":"TCC34*'Makro i swap'!TCA4","v":0},{"$f":"TCD34*'Makro i swap'!TCB4","v":0},{"$f":"TCE34*'Makro i swap'!TCC4","v":0},{"$f":"TCF34*'Makro i swap'!TCD4","v":0},{"$f":"TCG34*'Makro i swap'!TCE4","v":0},{"$f":"TCH34*'Makro i swap'!TCF4","v":0},{"$f":"TCI34*'Makro i swap'!TCG4","v":0},{"$f":"TCJ34*'Makro i swap'!TCH4","v":0},{"$f":"TCK34*'Makro i swap'!TCI4","v":0},{"$f":"TCL34*'Makro i swap'!TCJ4","v":0},{"$f":"TCM34*'Makro i swap'!TCK4","v":0},{"$f":"TCN34*'Makro i swap'!TCL4","v":0},{"$f":"TCO34*'Makro i swap'!TCM4","v":0},{"$f":"TCP34*'Makro i swap'!TCN4","v":0},{"$f":"TCQ34*'Makro i swap'!TCO4","v":0},{"$f":"TCR34*'Makro i swap'!TCP4","v":0},{"$f":"TCS34*'Makro i swap'!TCQ4","v":0},{"$f":"TCT34*'Makro i swap'!TCR4","v":0},{"$f":"TCU34*'Makro i swap'!TCS4","v":0},{"$f":"TCV34*'Makro i swap'!TCT4","v":0},{"$f":"TCW34*'Makro i swap'!TCU4","v":0},{"$f":"TCX34*'Makro i swap'!TCV4","v":0},{"$f":"TCY34*'Makro i swap'!TCW4","v":0},{"$f":"TCZ34*'Makro i swap'!TCX4","v":0},{"$f":"TDA34*'Makro i swap'!TCY4","v":0},{"$f":"TDB34*'Makro i swap'!TCZ4","v":0},{"$f":"TDC34*'Makro i swap'!TDA4","v":0},{"$f":"TDD34*'Makro i swap'!TDB4","v":0},{"$f":"TDE34*'Makro i swap'!TDC4","v":0},{"$f":"TDF34*'Makro i swap'!TDD4","v":0},{"$f":"TDG34*'Makro i swap'!TDE4","v":0},{"$f":"TDH34*'Makro i swap'!TDF4","v":0},{"$f":"TDI34*'Makro i swap'!TDG4","v":0},{"$f":"TDJ34*'Makro i swap'!TDH4","v":0},{"$f":"TDK34*'Makro i swap'!TDI4","v":0},{"$f":"TDL34*'Makro i swap'!TDJ4","v":0},{"$f":"TDM34*'Makro i swap'!TDK4","v":0},{"$f":"TDN34*'Makro i swap'!TDL4","v":0},{"$f":"TDO34*'Makro i swap'!TDM4","v":0},{"$f":"TDP34*'Makro i swap'!TDN4","v":0},{"$f":"TDQ34*'Makro i swap'!TDO4","v":0},{"$f":"TDR34*'Makro i swap'!TDP4","v":0},{"$f":"TDS34*'Makro i swap'!TDQ4","v":0},{"$f":"TDT34*'Makro i swap'!TDR4","v":0},{"$f":"TDU34*'Makro i swap'!TDS4","v":0},{"$f":"TDV34*'Makro i swap'!TDT4","v":0},{"$f":"TDW34*'Makro i swap'!TDU4","v":0},{"$f":"TDX34*'Makro i swap'!TDV4","v":0},{"$f":"TDY34*'Makro i swap'!TDW4","v":0},{"$f":"TDZ34*'Makro i swap'!TDX4","v":0},{"$f":"TEA34*'Makro i swap'!TDY4","v":0},{"$f":"TEB34*'Makro i swap'!TDZ4","v":0},{"$f":"TEC34*'Makro i swap'!TEA4","v":0},{"$f":"TED34*'Makro i swap'!TEB4","v":0},{"$f":"TEE34*'Makro i swap'!TEC4","v":0},{"$f":"TEF34*'Makro i swap'!TED4","v":0},{"$f":"TEG34*'Makro i swap'!TEE4","v":0},{"$f":"TEH34*'Makro i swap'!TEF4","v":0},{"$f":"TEI34*'Makro i swap'!TEG4","v":0},{"$f":"TEJ34*'Makro i swap'!TEH4","v":0},{"$f":"TEK34*'Makro i swap'!TEI4","v":0},{"$f":"TEL34*'Makro i swap'!TEJ4","v":0},{"$f":"TEM34*'Makro i swap'!TEK4","v":0},{"$f":"TEN34*'Makro i swap'!TEL4","v":0},{"$f":"TEO34*'Makro i swap'!TEM4","v":0},{"$f":"TEP34*'Makro i swap'!TEN4","v":0},{"$f":"TEQ34*'Makro i swap'!TEO4","v":0},{"$f":"TER34*'Makro i swap'!TEP4","v":0},{"$f":"TES34*'Makro i swap'!TEQ4","v":0},{"$f":"TET34*'Makro i swap'!TER4","v":0},{"$f":"TEU34*'Makro i swap'!TES4","v":0},{"$f":"TEV34*'Makro i swap'!TET4","v":0},{"$f":"TEW34*'Makro i swap'!TEU4","v":0},{"$f":"TEX34*'Makro i swap'!TEV4","v":0},{"$f":"TEY34*'Makro i swap'!TEW4","v":0},{"$f":"TEZ34*'Makro i swap'!TEX4","v":0},{"$f":"TFA34*'Makro i swap'!TEY4","v":0},{"$f":"TFB34*'Makro i swap'!TEZ4","v":0},{"$f":"TFC34*'Makro i swap'!TFA4","v":0},{"$f":"TFD34*'Makro i swap'!TFB4","v":0},{"$f":"TFE34*'Makro i swap'!TFC4","v":0},{"$f":"TFF34*'Makro i swap'!TFD4","v":0},{"$f":"TFG34*'Makro i swap'!TFE4","v":0},{"$f":"TFH34*'Makro i swap'!TFF4","v":0},{"$f":"TFI34*'Makro i swap'!TFG4","v":0},{"$f":"TFJ34*'Makro i swap'!TFH4","v":0},{"$f":"TFK34*'Makro i swap'!TFI4","v":0},{"$f":"TFL34*'Makro i swap'!TFJ4","v":0},{"$f":"TFM34*'Makro i swap'!TFK4","v":0},{"$f":"TFN34*'Makro i swap'!TFL4","v":0},{"$f":"TFO34*'Makro i swap'!TFM4","v":0},{"$f":"TFP34*'Makro i swap'!TFN4","v":0},{"$f":"TFQ34*'Makro i swap'!TFO4","v":0},{"$f":"TFR34*'Makro i swap'!TFP4","v":0},{"$f":"TFS34*'Makro i swap'!TFQ4","v":0},{"$f":"TFT34*'Makro i swap'!TFR4","v":0},{"$f":"TFU34*'Makro i swap'!TFS4","v":0},{"$f":"TFV34*'Makro i swap'!TFT4","v":0},{"$f":"TFW34*'Makro i swap'!TFU4","v":0},{"$f":"TFX34*'Makro i swap'!TFV4","v":0},{"$f":"TFY34*'Makro i swap'!TFW4","v":0},{"$f":"TFZ34*'Makro i swap'!TFX4","v":0},{"$f":"TGA34*'Makro i swap'!TFY4","v":0},{"$f":"TGB34*'Makro i swap'!TFZ4","v":0},{"$f":"TGC34*'Makro i swap'!TGA4","v":0},{"$f":"TGD34*'Makro i swap'!TGB4","v":0},{"$f":"TGE34*'Makro i swap'!TGC4","v":0},{"$f":"TGF34*'Makro i swap'!TGD4","v":0},{"$f":"TGG34*'Makro i swap'!TGE4","v":0},{"$f":"TGH34*'Makro i swap'!TGF4","v":0},{"$f":"TGI34*'Makro i swap'!TGG4","v":0},{"$f":"TGJ34*'Makro i swap'!TGH4","v":0},{"$f":"TGK34*'Makro i swap'!TGI4","v":0},{"$f":"TGL34*'Makro i swap'!TGJ4","v":0},{"$f":"TGM34*'Makro i swap'!TGK4","v":0},{"$f":"TGN34*'Makro i swap'!TGL4","v":0},{"$f":"TGO34*'Makro i swap'!TGM4","v":0},{"$f":"TGP34*'Makro i swap'!TGN4","v":0},{"$f":"TGQ34*'Makro i swap'!TGO4","v":0},{"$f":"TGR34*'Makro i swap'!TGP4","v":0},{"$f":"TGS34*'Makro i swap'!TGQ4","v":0},{"$f":"TGT34*'Makro i swap'!TGR4","v":0},{"$f":"TGU34*'Makro i swap'!TGS4","v":0},{"$f":"TGV34*'Makro i swap'!TGT4","v":0},{"$f":"TGW34*'Makro i swap'!TGU4","v":0},{"$f":"TGX34*'Makro i swap'!TGV4","v":0},{"$f":"TGY34*'Makro i swap'!TGW4","v":0},{"$f":"TGZ34*'Makro i swap'!TGX4","v":0},{"$f":"THA34*'Makro i swap'!TGY4","v":0},{"$f":"THB34*'Makro i swap'!TGZ4","v":0},{"$f":"THC34*'Makro i swap'!THA4","v":0},{"$f":"THD34*'Makro i swap'!THB4","v":0},{"$f":"THE34*'Makro i swap'!THC4","v":0},{"$f":"THF34*'Makro i swap'!THD4","v":0},{"$f":"THG34*'Makro i swap'!THE4","v":0},{"$f":"THH34*'Makro i swap'!THF4","v":0},{"$f":"THI34*'Makro i swap'!THG4","v":0},{"$f":"THJ34*'Makro i swap'!THH4","v":0},{"$f":"THK34*'Makro i swap'!THI4","v":0},{"$f":"THL34*'Makro i swap'!THJ4","v":0},{"$f":"THM34*'Makro i swap'!THK4","v":0},{"$f":"THN34*'Makro i swap'!THL4","v":0},{"$f":"THO34*'Makro i swap'!THM4","v":0},{"$f":"THP34*'Makro i swap'!THN4","v":0},{"$f":"THQ34*'Makro i swap'!THO4","v":0},{"$f":"THR34*'Makro i swap'!THP4","v":0},{"$f":"THS34*'Makro i swap'!THQ4","v":0},{"$f":"THT34*'Makro i swap'!THR4","v":0},{"$f":"THU34*'Makro i swap'!THS4","v":0},{"$f":"THV34*'Makro i swap'!THT4","v":0},{"$f":"THW34*'Makro i swap'!THU4","v":0},{"$f":"THX34*'Makro i swap'!THV4","v":0},{"$f":"THY34*'Makro i swap'!THW4","v":0},{"$f":"THZ34*'Makro i swap'!THX4","v":0},{"$f":"TIA34*'Makro i swap'!THY4","v":0},{"$f":"TIB34*'Makro i swap'!THZ4","v":0},{"$f":"TIC34*'Makro i swap'!TIA4","v":0},{"$f":"TID34*'Makro i swap'!TIB4","v":0},{"$f":"TIE34*'Makro i swap'!TIC4","v":0},{"$f":"TIF34*'Makro i swap'!TID4","v":0},{"$f":"TIG34*'Makro i swap'!TIE4","v":0},{"$f":"TIH34*'Makro i swap'!TIF4","v":0},{"$f":"TII34*'Makro i swap'!TIG4","v":0},{"$f":"TIJ34*'Makro i swap'!TIH4","v":0},{"$f":"TIK34*'Makro i swap'!TII4","v":0},{"$f":"TIL34*'Makro i swap'!TIJ4","v":0},{"$f":"TIM34*'Makro i swap'!TIK4","v":0},{"$f":"TIN34*'Makro i swap'!TIL4","v":0},{"$f":"TIO34*'Makro i swap'!TIM4","v":0},{"$f":"TIP34*'Makro i swap'!TIN4","v":0},{"$f":"TIQ34*'Makro i swap'!TIO4","v":0},{"$f":"TIR34*'Makro i swap'!TIP4","v":0},{"$f":"TIS34*'Makro i swap'!TIQ4","v":0},{"$f":"TIT34*'Makro i swap'!TIR4","v":0},{"$f":"TIU34*'Makro i swap'!TIS4","v":0},{"$f":"TIV34*'Makro i swap'!TIT4","v":0},{"$f":"TIW34*'Makro i swap'!TIU4","v":0},{"$f":"TIX34*'Makro i swap'!TIV4","v":0},{"$f":"TIY34*'Makro i swap'!TIW4","v":0},{"$f":"TIZ34*'Makro i swap'!TIX4","v":0},{"$f":"TJA34*'Makro i swap'!TIY4","v":0},{"$f":"TJB34*'Makro i swap'!TIZ4","v":0},{"$f":"TJC34*'Makro i swap'!TJA4","v":0},{"$f":"TJD34*'Makro i swap'!TJB4","v":0},{"$f":"TJE34*'Makro i swap'!TJC4","v":0},{"$f":"TJF34*'Makro i swap'!TJD4","v":0},{"$f":"TJG34*'Makro i swap'!TJE4","v":0},{"$f":"TJH34*'Makro i swap'!TJF4","v":0},{"$f":"TJI34*'Makro i swap'!TJG4","v":0},{"$f":"TJJ34*'Makro i swap'!TJH4","v":0},{"$f":"TJK34*'Makro i swap'!TJI4","v":0},{"$f":"TJL34*'Makro i swap'!TJJ4","v":0},{"$f":"TJM34*'Makro i swap'!TJK4","v":0},{"$f":"TJN34*'Makro i swap'!TJL4","v":0},{"$f":"TJO34*'Makro i swap'!TJM4","v":0},{"$f":"TJP34*'Makro i swap'!TJN4","v":0},{"$f":"TJQ34*'Makro i swap'!TJO4","v":0},{"$f":"TJR34*'Makro i swap'!TJP4","v":0},{"$f":"TJS34*'Makro i swap'!TJQ4","v":0},{"$f":"TJT34*'Makro i swap'!TJR4","v":0},{"$f":"TJU34*'Makro i swap'!TJS4","v":0},{"$f":"TJV34*'Makro i swap'!TJT4","v":0},{"$f":"TJW34*'Makro i swap'!TJU4","v":0},{"$f":"TJX34*'Makro i swap'!TJV4","v":0},{"$f":"TJY34*'Makro i swap'!TJW4","v":0},{"$f":"TJZ34*'Makro i swap'!TJX4","v":0},{"$f":"TKA34*'Makro i swap'!TJY4","v":0},{"$f":"TKB34*'Makro i swap'!TJZ4","v":0},{"$f":"TKC34*'Makro i swap'!TKA4","v":0},{"$f":"TKD34*'Makro i swap'!TKB4","v":0},{"$f":"TKE34*'Makro i swap'!TKC4","v":0},{"$f":"TKF34*'Makro i swap'!TKD4","v":0},{"$f":"TKG34*'Makro i swap'!TKE4","v":0},{"$f":"TKH34*'Makro i swap'!TKF4","v":0},{"$f":"TKI34*'Makro i swap'!TKG4","v":0},{"$f":"TKJ34*'Makro i swap'!TKH4","v":0},{"$f":"TKK34*'Makro i swap'!TKI4","v":0},{"$f":"TKL34*'Makro i swap'!TKJ4","v":0},{"$f":"TKM34*'Makro i swap'!TKK4","v":0},{"$f":"TKN34*'Makro i swap'!TKL4","v":0},{"$f":"TKO34*'Makro i swap'!TKM4","v":0},{"$f":"TKP34*'Makro i swap'!TKN4","v":0},{"$f":"TKQ34*'Makro i swap'!TKO4","v":0},{"$f":"TKR34*'Makro i swap'!TKP4","v":0},{"$f":"TKS34*'Makro i swap'!TKQ4","v":0},{"$f":"TKT34*'Makro i swap'!TKR4","v":0},{"$f":"TKU34*'Makro i swap'!TKS4","v":0},{"$f":"TKV34*'Makro i swap'!TKT4","v":0},{"$f":"TKW34*'Makro i swap'!TKU4","v":0},{"$f":"TKX34*'Makro i swap'!TKV4","v":0},{"$f":"TKY34*'Makro i swap'!TKW4","v":0},{"$f":"TKZ34*'Makro i swap'!TKX4","v":0},{"$f":"TLA34*'Makro i swap'!TKY4","v":0},{"$f":"TLB34*'Makro i swap'!TKZ4","v":0},{"$f":"TLC34*'Makro i swap'!TLA4","v":0},{"$f":"TLD34*'Makro i swap'!TLB4","v":0},{"$f":"TLE34*'Makro i swap'!TLC4","v":0},{"$f":"TLF34*'Makro i swap'!TLD4","v":0},{"$f":"TLG34*'Makro i swap'!TLE4","v":0},{"$f":"TLH34*'Makro i swap'!TLF4","v":0},{"$f":"TLI34*'Makro i swap'!TLG4","v":0},{"$f":"TLJ34*'Makro i swap'!TLH4","v":0},{"$f":"TLK34*'Makro i swap'!TLI4","v":0},{"$f":"TLL34*'Makro i swap'!TLJ4","v":0},{"$f":"TLM34*'Makro i swap'!TLK4","v":0},{"$f":"TLN34*'Makro i swap'!TLL4","v":0},{"$f":"TLO34*'Makro i swap'!TLM4","v":0},{"$f":"TLP34*'Makro i swap'!TLN4","v":0},{"$f":"TLQ34*'Makro i swap'!TLO4","v":0},{"$f":"TLR34*'Makro i swap'!TLP4","v":0},{"$f":"TLS34*'Makro i swap'!TLQ4","v":0},{"$f":"TLT34*'Makro i swap'!TLR4","v":0},{"$f":"TLU34*'Makro i swap'!TLS4","v":0},{"$f":"TLV34*'Makro i swap'!TLT4","v":0},{"$f":"TLW34*'Makro i swap'!TLU4","v":0},{"$f":"TLX34*'Makro i swap'!TLV4","v":0},{"$f":"TLY34*'Makro i swap'!TLW4","v":0},{"$f":"TLZ34*'Makro i swap'!TLX4","v":0},{"$f":"TMA34*'Makro i swap'!TLY4","v":0},{"$f":"TMB34*'Makro i swap'!TLZ4","v":0},{"$f":"TMC34*'Makro i swap'!TMA4","v":0},{"$f":"TMD34*'Makro i swap'!TMB4","v":0},{"$f":"TME34*'Makro i swap'!TMC4","v":0},{"$f":"TMF34*'Makro i swap'!TMD4","v":0},{"$f":"TMG34*'Makro i swap'!TME4","v":0},{"$f":"TMH34*'Makro i swap'!TMF4","v":0},{"$f":"TMI34*'Makro i swap'!TMG4","v":0},{"$f":"TMJ34*'Makro i swap'!TMH4","v":0},{"$f":"TMK34*'Makro i swap'!TMI4","v":0},{"$f":"TML34*'Makro i swap'!TMJ4","v":0},{"$f":"TMM34*'Makro i swap'!TMK4","v":0},{"$f":"TMN34*'Makro i swap'!TML4","v":0},{"$f":"TMO34*'Makro i swap'!TMM4","v":0},{"$f":"TMP34*'Makro i swap'!TMN4","v":0},{"$f":"TMQ34*'Makro i swap'!TMO4","v":0},{"$f":"TMR34*'Makro i swap'!TMP4","v":0},{"$f":"TMS34*'Makro i swap'!TMQ4","v":0},{"$f":"TMT34*'Makro i swap'!TMR4","v":0},{"$f":"TMU34*'Makro i swap'!TMS4","v":0},{"$f":"TMV34*'Makro i swap'!TMT4","v":0},{"$f":"TMW34*'Makro i swap'!TMU4","v":0},{"$f":"TMX34*'Makro i swap'!TMV4","v":0},{"$f":"TMY34*'Makro i swap'!TMW4","v":0},{"$f":"TMZ34*'Makro i swap'!TMX4","v":0},{"$f":"TNA34*'Makro i swap'!TMY4","v":0},{"$f":"TNB34*'Makro i swap'!TMZ4","v":0},{"$f":"TNC34*'Makro i swap'!TNA4","v":0},{"$f":"TND34*'Makro i swap'!TNB4","v":0},{"$f":"TNE34*'Makro i swap'!TNC4","v":0},{"$f":"TNF34*'Makro i swap'!TND4","v":0},{"$f":"TNG34*'Makro i swap'!TNE4","v":0},{"$f":"TNH34*'Makro i swap'!TNF4","v":0},{"$f":"TNI34*'Makro i swap'!TNG4","v":0},{"$f":"TNJ34*'Makro i swap'!TNH4","v":0},{"$f":"TNK34*'Makro i swap'!TNI4","v":0},{"$f":"TNL34*'Makro i swap'!TNJ4","v":0},{"$f":"TNM34*'Makro i swap'!TNK4","v":0},{"$f":"TNN34*'Makro i swap'!TNL4","v":0},{"$f":"TNO34*'Makro i swap'!TNM4","v":0},{"$f":"TNP34*'Makro i swap'!TNN4","v":0},{"$f":"TNQ34*'Makro i swap'!TNO4","v":0},{"$f":"TNR34*'Makro i swap'!TNP4","v":0},{"$f":"TNS34*'Makro i swap'!TNQ4","v":0},{"$f":"TNT34*'Makro i swap'!TNR4","v":0},{"$f":"TNU34*'Makro i swap'!TNS4","v":0},{"$f":"TNV34*'Makro i swap'!TNT4","v":0},{"$f":"TNW34*'Makro i swap'!TNU4","v":0},{"$f":"TNX34*'Makro i swap'!TNV4","v":0},{"$f":"TNY34*'Makro i swap'!TNW4","v":0},{"$f":"TNZ34*'Makro i swap'!TNX4","v":0},{"$f":"TOA34*'Makro i swap'!TNY4","v":0},{"$f":"TOB34*'Makro i swap'!TNZ4","v":0},{"$f":"TOC34*'Makro i swap'!TOA4","v":0},{"$f":"TOD34*'Makro i swap'!TOB4","v":0},{"$f":"TOE34*'Makro i swap'!TOC4","v":0},{"$f":"TOF34*'Makro i swap'!TOD4","v":0},{"$f":"TOG34*'Makro i swap'!TOE4","v":0},{"$f":"TOH34*'Makro i swap'!TOF4","v":0},{"$f":"TOI34*'Makro i swap'!TOG4","v":0},{"$f":"TOJ34*'Makro i swap'!TOH4","v":0},{"$f":"TOK34*'Makro i swap'!TOI4","v":0},{"$f":"TOL34*'Makro i swap'!TOJ4","v":0},{"$f":"TOM34*'Makro i swap'!TOK4","v":0},{"$f":"TON34*'Makro i swap'!TOL4","v":0},{"$f":"TOO34*'Makro i swap'!TOM4","v":0},{"$f":"TOP34*'Makro i swap'!TON4","v":0},{"$f":"TOQ34*'Makro i swap'!TOO4","v":0},{"$f":"TOR34*'Makro i swap'!TOP4","v":0},{"$f":"TOS34*'Makro i swap'!TOQ4","v":0},{"$f":"TOT34*'Makro i swap'!TOR4","v":0},{"$f":"TOU34*'Makro i swap'!TOS4","v":0},{"$f":"TOV34*'Makro i swap'!TOT4","v":0},{"$f":"TOW34*'Makro i swap'!TOU4","v":0},{"$f":"TOX34*'Makro i swap'!TOV4","v":0},{"$f":"TOY34*'Makro i swap'!TOW4","v":0},{"$f":"TOZ34*'Makro i swap'!TOX4","v":0},{"$f":"TPA34*'Makro i swap'!TOY4","v":0},{"$f":"TPB34*'Makro i swap'!TOZ4","v":0},{"$f":"TPC34*'Makro i swap'!TPA4","v":0},{"$f":"TPD34*'Makro i swap'!TPB4","v":0},{"$f":"TPE34*'Makro i swap'!TPC4","v":0},{"$f":"TPF34*'Makro i swap'!TPD4","v":0},{"$f":"TPG34*'Makro i swap'!TPE4","v":0},{"$f":"TPH34*'Makro i swap'!TPF4","v":0},{"$f":"TPI34*'Makro i swap'!TPG4","v":0},{"$f":"TPJ34*'Makro i swap'!TPH4","v":0},{"$f":"TPK34*'Makro i swap'!TPI4","v":0},{"$f":"TPL34*'Makro i swap'!TPJ4","v":0},{"$f":"TPM34*'Makro i swap'!TPK4","v":0},{"$f":"TPN34*'Makro i swap'!TPL4","v":0},{"$f":"TPO34*'Makro i swap'!TPM4","v":0},{"$f":"TPP34*'Makro i swap'!TPN4","v":0},{"$f":"TPQ34*'Makro i swap'!TPO4","v":0},{"$f":"TPR34*'Makro i swap'!TPP4","v":0},{"$f":"TPS34*'Makro i swap'!TPQ4","v":0},{"$f":"TPT34*'Makro i swap'!TPR4","v":0},{"$f":"TPU34*'Makro i swap'!TPS4","v":0},{"$f":"TPV34*'Makro i swap'!TPT4","v":0},{"$f":"TPW34*'Makro i swap'!TPU4","v":0},{"$f":"TPX34*'Makro i swap'!TPV4","v":0},{"$f":"TPY34*'Makro i swap'!TPW4","v":0},{"$f":"TPZ34*'Makro i swap'!TPX4","v":0},{"$f":"TQA34*'Makro i swap'!TPY4","v":0},{"$f":"TQB34*'Makro i swap'!TPZ4","v":0},{"$f":"TQC34*'Makro i swap'!TQA4","v":0},{"$f":"TQD34*'Makro i swap'!TQB4","v":0},{"$f":"TQE34*'Makro i swap'!TQC4","v":0},{"$f":"TQF34*'Makro i swap'!TQD4","v":0},{"$f":"TQG34*'Makro i swap'!TQE4","v":0},{"$f":"TQH34*'Makro i swap'!TQF4","v":0},{"$f":"TQI34*'Makro i swap'!TQG4","v":0},{"$f":"TQJ34*'Makro i swap'!TQH4","v":0},{"$f":"TQK34*'Makro i swap'!TQI4","v":0},{"$f":"TQL34*'Makro i swap'!TQJ4","v":0},{"$f":"TQM34*'Makro i swap'!TQK4","v":0},{"$f":"TQN34*'Makro i swap'!TQL4","v":0},{"$f":"TQO34*'Makro i swap'!TQM4","v":0},{"$f":"TQP34*'Makro i swap'!TQN4","v":0},{"$f":"TQQ34*'Makro i swap'!TQO4","v":0},{"$f":"TQR34*'Makro i swap'!TQP4","v":0},{"$f":"TQS34*'Makro i swap'!TQQ4","v":0},{"$f":"TQT34*'Makro i swap'!TQR4","v":0},{"$f":"TQU34*'Makro i swap'!TQS4","v":0},{"$f":"TQV34*'Makro i swap'!TQT4","v":0},{"$f":"TQW34*'Makro i swap'!TQU4","v":0},{"$f":"TQX34*'Makro i swap'!TQV4","v":0},{"$f":"TQY34*'Makro i swap'!TQW4","v":0},{"$f":"TQZ34*'Makro i swap'!TQX4","v":0},{"$f":"TRA34*'Makro i swap'!TQY4","v":0},{"$f":"TRB34*'Makro i swap'!TQZ4","v":0},{"$f":"TRC34*'Makro i swap'!TRA4","v":0},{"$f":"TRD34*'Makro i swap'!TRB4","v":0},{"$f":"TRE34*'Makro i swap'!TRC4","v":0},{"$f":"TRF34*'Makro i swap'!TRD4","v":0},{"$f":"TRG34*'Makro i swap'!TRE4","v":0},{"$f":"TRH34*'Makro i swap'!TRF4","v":0},{"$f":"TRI34*'Makro i swap'!TRG4","v":0},{"$f":"TRJ34*'Makro i swap'!TRH4","v":0},{"$f":"TRK34*'Makro i swap'!TRI4","v":0},{"$f":"TRL34*'Makro i swap'!TRJ4","v":0},{"$f":"TRM34*'Makro i swap'!TRK4","v":0},{"$f":"TRN34*'Makro i swap'!TRL4","v":0},{"$f":"TRO34*'Makro i swap'!TRM4","v":0},{"$f":"TRP34*'Makro i swap'!TRN4","v":0},{"$f":"TRQ34*'Makro i swap'!TRO4","v":0},{"$f":"TRR34*'Makro i swap'!TRP4","v":0},{"$f":"TRS34*'Makro i swap'!TRQ4","v":0},{"$f":"TRT34*'Makro i swap'!TRR4","v":0},{"$f":"TRU34*'Makro i swap'!TRS4","v":0},{"$f":"TRV34*'Makro i swap'!TRT4","v":0},{"$f":"TRW34*'Makro i swap'!TRU4","v":0},{"$f":"TRX34*'Makro i swap'!TRV4","v":0},{"$f":"TRY34*'Makro i swap'!TRW4","v":0},{"$f":"TRZ34*'Makro i swap'!TRX4","v":0},{"$f":"TSA34*'Makro i swap'!TRY4","v":0},{"$f":"TSB34*'Makro i swap'!TRZ4","v":0},{"$f":"TSC34*'Makro i swap'!TSA4","v":0},{"$f":"TSD34*'Makro i swap'!TSB4","v":0},{"$f":"TSE34*'Makro i swap'!TSC4","v":0},{"$f":"TSF34*'Makro i swap'!TSD4","v":0},{"$f":"TSG34*'Makro i swap'!TSE4","v":0},{"$f":"TSH34*'Makro i swap'!TSF4","v":0},{"$f":"TSI34*'Makro i swap'!TSG4","v":0},{"$f":"TSJ34*'Makro i swap'!TSH4","v":0},{"$f":"TSK34*'Makro i swap'!TSI4","v":0},{"$f":"TSL34*'Makro i swap'!TSJ4","v":0},{"$f":"TSM34*'Makro i swap'!TSK4","v":0},{"$f":"TSN34*'Makro i swap'!TSL4","v":0},{"$f":"TSO34*'Makro i swap'!TSM4","v":0},{"$f":"TSP34*'Makro i swap'!TSN4","v":0},{"$f":"TSQ34*'Makro i swap'!TSO4","v":0},{"$f":"TSR34*'Makro i swap'!TSP4","v":0},{"$f":"TSS34*'Makro i swap'!TSQ4","v":0},{"$f":"TST34*'Makro i swap'!TSR4","v":0},{"$f":"TSU34*'Makro i swap'!TSS4","v":0},{"$f":"TSV34*'Makro i swap'!TST4","v":0},{"$f":"TSW34*'Makro i swap'!TSU4","v":0},{"$f":"TSX34*'Makro i swap'!TSV4","v":0},{"$f":"TSY34*'Makro i swap'!TSW4","v":0},{"$f":"TSZ34*'Makro i swap'!TSX4","v":0},{"$f":"TTA34*'Makro i swap'!TSY4","v":0},{"$f":"TTB34*'Makro i swap'!TSZ4","v":0},{"$f":"TTC34*'Makro i swap'!TTA4","v":0},{"$f":"TTD34*'Makro i swap'!TTB4","v":0},{"$f":"TTE34*'Makro i swap'!TTC4","v":0},{"$f":"TTF34*'Makro i swap'!TTD4","v":0},{"$f":"TTG34*'Makro i swap'!TTE4","v":0},{"$f":"TTH34*'Makro i swap'!TTF4","v":0},{"$f":"TTI34*'Makro i swap'!TTG4","v":0},{"$f":"TTJ34*'Makro i swap'!TTH4","v":0},{"$f":"TTK34*'Makro i swap'!TTI4","v":0},{"$f":"TTL34*'Makro i swap'!TTJ4","v":0},{"$f":"TTM34*'Makro i swap'!TTK4","v":0},{"$f":"TTN34*'Makro i swap'!TTL4","v":0},{"$f":"TTO34*'Makro i swap'!TTM4","v":0},{"$f":"TTP34*'Makro i swap'!TTN4","v":0},{"$f":"TTQ34*'Makro i swap'!TTO4","v":0},{"$f":"TTR34*'Makro i swap'!TTP4","v":0},{"$f":"TTS34*'Makro i swap'!TTQ4","v":0},{"$f":"TTT34*'Makro i swap'!TTR4","v":0},{"$f":"TTU34*'Makro i swap'!TTS4","v":0},{"$f":"TTV34*'Makro i swap'!TTT4","v":0},{"$f":"TTW34*'Makro i swap'!TTU4","v":0},{"$f":"TTX34*'Makro i swap'!TTV4","v":0},{"$f":"TTY34*'Makro i swap'!TTW4","v":0},{"$f":"TTZ34*'Makro i swap'!TTX4","v":0},{"$f":"TUA34*'Makro i swap'!TTY4","v":0},{"$f":"TUB34*'Makro i swap'!TTZ4","v":0},{"$f":"TUC34*'Makro i swap'!TUA4","v":0},{"$f":"TUD34*'Makro i swap'!TUB4","v":0},{"$f":"TUE34*'Makro i swap'!TUC4","v":0},{"$f":"TUF34*'Makro i swap'!TUD4","v":0},{"$f":"TUG34*'Makro i swap'!TUE4","v":0},{"$f":"TUH34*'Makro i swap'!TUF4","v":0},{"$f":"TUI34*'Makro i swap'!TUG4","v":0},{"$f":"TUJ34*'Makro i swap'!TUH4","v":0},{"$f":"TUK34*'Makro i swap'!TUI4","v":0},{"$f":"TUL34*'Makro i swap'!TUJ4","v":0},{"$f":"TUM34*'Makro i swap'!TUK4","v":0},{"$f":"TUN34*'Makro i swap'!TUL4","v":0},{"$f":"TUO34*'Makro i swap'!TUM4","v":0},{"$f":"TUP34*'Makro i swap'!TUN4","v":0},{"$f":"TUQ34*'Makro i swap'!TUO4","v":0},{"$f":"TUR34*'Makro i swap'!TUP4","v":0},{"$f":"TUS34*'Makro i swap'!TUQ4","v":0},{"$f":"TUT34*'Makro i swap'!TUR4","v":0},{"$f":"TUU34*'Makro i swap'!TUS4","v":0},{"$f":"TUV34*'Makro i swap'!TUT4","v":0},{"$f":"TUW34*'Makro i swap'!TUU4","v":0},{"$f":"TUX34*'Makro i swap'!TUV4","v":0},{"$f":"TUY34*'Makro i swap'!TUW4","v":0},{"$f":"TUZ34*'Makro i swap'!TUX4","v":0},{"$f":"TVA34*'Makro i swap'!TUY4","v":0},{"$f":"TVB34*'Makro i swap'!TUZ4","v":0},{"$f":"TVC34*'Makro i swap'!TVA4","v":0},{"$f":"TVD34*'Makro i swap'!TVB4","v":0},{"$f":"TVE34*'Makro i swap'!TVC4","v":0},{"$f":"TVF34*'Makro i swap'!TVD4","v":0},{"$f":"TVG34*'Makro i swap'!TVE4","v":0},{"$f":"TVH34*'Makro i swap'!TVF4","v":0},{"$f":"TVI34*'Makro i swap'!TVG4","v":0},{"$f":"TVJ34*'Makro i swap'!TVH4","v":0},{"$f":"TVK34*'Makro i swap'!TVI4","v":0},{"$f":"TVL34*'Makro i swap'!TVJ4","v":0},{"$f":"TVM34*'Makro i swap'!TVK4","v":0},{"$f":"TVN34*'Makro i swap'!TVL4","v":0},{"$f":"TVO34*'Makro i swap'!TVM4","v":0},{"$f":"TVP34*'Makro i swap'!TVN4","v":0},{"$f":"TVQ34*'Makro i swap'!TVO4","v":0},{"$f":"TVR34*'Makro i swap'!TVP4","v":0},{"$f":"TVS34*'Makro i swap'!TVQ4","v":0},{"$f":"TVT34*'Makro i swap'!TVR4","v":0},{"$f":"TVU34*'Makro i swap'!TVS4","v":0},{"$f":"TVV34*'Makro i swap'!TVT4","v":0},{"$f":"TVW34*'Makro i swap'!TVU4","v":0},{"$f":"TVX34*'Makro i swap'!TVV4","v":0},{"$f":"TVY34*'Makro i swap'!TVW4","v":0},{"$f":"TVZ34*'Makro i swap'!TVX4","v":0},{"$f":"TWA34*'Makro i swap'!TVY4","v":0},{"$f":"TWB34*'Makro i swap'!TVZ4","v":0},{"$f":"TWC34*'Makro i swap'!TWA4","v":0},{"$f":"TWD34*'Makro i swap'!TWB4","v":0},{"$f":"TWE34*'Makro i swap'!TWC4","v":0},{"$f":"TWF34*'Makro i swap'!TWD4","v":0},{"$f":"TWG34*'Makro i swap'!TWE4","v":0},{"$f":"TWH34*'Makro i swap'!TWF4","v":0},{"$f":"TWI34*'Makro i swap'!TWG4","v":0},{"$f":"TWJ34*'Makro i swap'!TWH4","v":0},{"$f":"TWK34*'Makro i swap'!TWI4","v":0},{"$f":"TWL34*'Makro i swap'!TWJ4","v":0},{"$f":"TWM34*'Makro i swap'!TWK4","v":0},{"$f":"TWN34*'Makro i swap'!TWL4","v":0},{"$f":"TWO34*'Makro i swap'!TWM4","v":0},{"$f":"TWP34*'Makro i swap'!TWN4","v":0},{"$f":"TWQ34*'Makro i swap'!TWO4","v":0},{"$f":"TWR34*'Makro i swap'!TWP4","v":0},{"$f":"TWS34*'Makro i swap'!TWQ4","v":0},{"$f":"TWT34*'Makro i swap'!TWR4","v":0},{"$f":"TWU34*'Makro i swap'!TWS4","v":0},{"$f":"TWV34*'Makro i swap'!TWT4","v":0},{"$f":"TWW34*'Makro i swap'!TWU4","v":0},{"$f":"TWX34*'Makro i swap'!TWV4","v":0},{"$f":"TWY34*'Makro i swap'!TWW4","v":0},{"$f":"TWZ34*'Makro i swap'!TWX4","v":0},{"$f":"TXA34*'Makro i swap'!TWY4","v":0},{"$f":"TXB34*'Makro i swap'!TWZ4","v":0},{"$f":"TXC34*'Makro i swap'!TXA4","v":0},{"$f":"TXD34*'Makro i swap'!TXB4","v":0},{"$f":"TXE34*'Makro i swap'!TXC4","v":0},{"$f":"TXF34*'Makro i swap'!TXD4","v":0},{"$f":"TXG34*'Makro i swap'!TXE4","v":0},{"$f":"TXH34*'Makro i swap'!TXF4","v":0},{"$f":"TXI34*'Makro i swap'!TXG4","v":0},{"$f":"TXJ34*'Makro i swap'!TXH4","v":0},{"$f":"TXK34*'Makro i swap'!TXI4","v":0},{"$f":"TXL34*'Makro i swap'!TXJ4","v":0},{"$f":"TXM34*'Makro i swap'!TXK4","v":0},{"$f":"TXN34*'Makro i swap'!TXL4","v":0},{"$f":"TXO34*'Makro i swap'!TXM4","v":0},{"$f":"TXP34*'Makro i swap'!TXN4","v":0},{"$f":"TXQ34*'Makro i swap'!TXO4","v":0},{"$f":"TXR34*'Makro i swap'!TXP4","v":0},{"$f":"TXS34*'Makro i swap'!TXQ4","v":0},{"$f":"TXT34*'Makro i swap'!TXR4","v":0},{"$f":"TXU34*'Makro i swap'!TXS4","v":0},{"$f":"TXV34*'Makro i swap'!TXT4","v":0},{"$f":"TXW34*'Makro i swap'!TXU4","v":0},{"$f":"TXX34*'Makro i swap'!TXV4","v":0},{"$f":"TXY34*'Makro i swap'!TXW4","v":0},{"$f":"TXZ34*'Makro i swap'!TXX4","v":0},{"$f":"TYA34*'Makro i swap'!TXY4","v":0},{"$f":"TYB34*'Makro i swap'!TXZ4","v":0},{"$f":"TYC34*'Makro i swap'!TYA4","v":0},{"$f":"TYD34*'Makro i swap'!TYB4","v":0},{"$f":"TYE34*'Makro i swap'!TYC4","v":0},{"$f":"TYF34*'Makro i swap'!TYD4","v":0},{"$f":"TYG34*'Makro i swap'!TYE4","v":0},{"$f":"TYH34*'Makro i swap'!TYF4","v":0},{"$f":"TYI34*'Makro i swap'!TYG4","v":0},{"$f":"TYJ34*'Makro i swap'!TYH4","v":0},{"$f":"TYK34*'Makro i swap'!TYI4","v":0},{"$f":"TYL34*'Makro i swap'!TYJ4","v":0},{"$f":"TYM34*'Makro i swap'!TYK4","v":0},{"$f":"TYN34*'Makro i swap'!TYL4","v":0},{"$f":"TYO34*'Makro i swap'!TYM4","v":0},{"$f":"TYP34*'Makro i swap'!TYN4","v":0},{"$f":"TYQ34*'Makro i swap'!TYO4","v":0},{"$f":"TYR34*'Makro i swap'!TYP4","v":0},{"$f":"TYS34*'Makro i swap'!TYQ4","v":0},{"$f":"TYT34*'Makro i swap'!TYR4","v":0},{"$f":"TYU34*'Makro i swap'!TYS4","v":0},{"$f":"TYV34*'Makro i swap'!TYT4","v":0},{"$f":"TYW34*'Makro i swap'!TYU4","v":0},{"$f":"TYX34*'Makro i swap'!TYV4","v":0},{"$f":"TYY34*'Makro i swap'!TYW4","v":0},{"$f":"TYZ34*'Makro i swap'!TYX4","v":0},{"$f":"TZA34*'Makro i swap'!TYY4","v":0},{"$f":"TZB34*'Makro i swap'!TYZ4","v":0},{"$f":"TZC34*'Makro i swap'!TZA4","v":0},{"$f":"TZD34*'Makro i swap'!TZB4","v":0},{"$f":"TZE34*'Makro i swap'!TZC4","v":0},{"$f":"TZF34*'Makro i swap'!TZD4","v":0},{"$f":"TZG34*'Makro i swap'!TZE4","v":0},{"$f":"TZH34*'Makro i swap'!TZF4","v":0},{"$f":"TZI34*'Makro i swap'!TZG4","v":0},{"$f":"TZJ34*'Makro i swap'!TZH4","v":0},{"$f":"TZK34*'Makro i swap'!TZI4","v":0},{"$f":"TZL34*'Makro i swap'!TZJ4","v":0},{"$f":"TZM34*'Makro i swap'!TZK4","v":0},{"$f":"TZN34*'Makro i swap'!TZL4","v":0},{"$f":"TZO34*'Makro i swap'!TZM4","v":0},{"$f":"TZP34*'Makro i swap'!TZN4","v":0},{"$f":"TZQ34*'Makro i swap'!TZO4","v":0},{"$f":"TZR34*'Makro i swap'!TZP4","v":0},{"$f":"TZS34*'Makro i swap'!TZQ4","v":0},{"$f":"TZT34*'Makro i swap'!TZR4","v":0},{"$f":"TZU34*'Makro i swap'!TZS4","v":0},{"$f":"TZV34*'Makro i swap'!TZT4","v":0},{"$f":"TZW34*'Makro i swap'!TZU4","v":0},{"$f":"TZX34*'Makro i swap'!TZV4","v":0},{"$f":"TZY34*'Makro i swap'!TZW4","v":0},{"$f":"TZZ34*'Makro i swap'!TZX4","v":0},{"$f":"UAA34*'Makro i swap'!TZY4","v":0},{"$f":"UAB34*'Makro i swap'!TZZ4","v":0},{"$f":"UAC34*'Makro i swap'!UAA4","v":0},{"$f":"UAD34*'Makro i swap'!UAB4","v":0},{"$f":"UAE34*'Makro i swap'!UAC4","v":0},{"$f":"UAF34*'Makro i swap'!UAD4","v":0},{"$f":"UAG34*'Makro i swap'!UAE4","v":0},{"$f":"UAH34*'Makro i swap'!UAF4","v":0},{"$f":"UAI34*'Makro i swap'!UAG4","v":0},{"$f":"UAJ34*'Makro i swap'!UAH4","v":0},{"$f":"UAK34*'Makro i swap'!UAI4","v":0},{"$f":"UAL34*'Makro i swap'!UAJ4","v":0},{"$f":"UAM34*'Makro i swap'!UAK4","v":0},{"$f":"UAN34*'Makro i swap'!UAL4","v":0},{"$f":"UAO34*'Makro i swap'!UAM4","v":0},{"$f":"UAP34*'Makro i swap'!UAN4","v":0},{"$f":"UAQ34*'Makro i swap'!UAO4","v":0},{"$f":"UAR34*'Makro i swap'!UAP4","v":0},{"$f":"UAS34*'Makro i swap'!UAQ4","v":0},{"$f":"UAT34*'Makro i swap'!UAR4","v":0},{"$f":"UAU34*'Makro i swap'!UAS4","v":0},{"$f":"UAV34*'Makro i swap'!UAT4","v":0},{"$f":"UAW34*'Makro i swap'!UAU4","v":0},{"$f":"UAX34*'Makro i swap'!UAV4","v":0},{"$f":"UAY34*'Makro i swap'!UAW4","v":0},{"$f":"UAZ34*'Makro i swap'!UAX4","v":0},{"$f":"UBA34*'Makro i swap'!UAY4","v":0},{"$f":"UBB34*'Makro i swap'!UAZ4","v":0},{"$f":"UBC34*'Makro i swap'!UBA4","v":0},{"$f":"UBD34*'Makro i swap'!UBB4","v":0},{"$f":"UBE34*'Makro i swap'!UBC4","v":0},{"$f":"UBF34*'Makro i swap'!UBD4","v":0},{"$f":"UBG34*'Makro i swap'!UBE4","v":0},{"$f":"UBH34*'Makro i swap'!UBF4","v":0},{"$f":"UBI34*'Makro i swap'!UBG4","v":0},{"$f":"UBJ34*'Makro i swap'!UBH4","v":0},{"$f":"UBK34*'Makro i swap'!UBI4","v":0},{"$f":"UBL34*'Makro i swap'!UBJ4","v":0},{"$f":"UBM34*'Makro i swap'!UBK4","v":0},{"$f":"UBN34*'Makro i swap'!UBL4","v":0},{"$f":"UBO34*'Makro i swap'!UBM4","v":0},{"$f":"UBP34*'Makro i swap'!UBN4","v":0},{"$f":"UBQ34*'Makro i swap'!UBO4","v":0},{"$f":"UBR34*'Makro i swap'!UBP4","v":0},{"$f":"UBS34*'Makro i swap'!UBQ4","v":0},{"$f":"UBT34*'Makro i swap'!UBR4","v":0},{"$f":"UBU34*'Makro i swap'!UBS4","v":0},{"$f":"UBV34*'Makro i swap'!UBT4","v":0},{"$f":"UBW34*'Makro i swap'!UBU4","v":0},{"$f":"UBX34*'Makro i swap'!UBV4","v":0},{"$f":"UBY34*'Makro i swap'!UBW4","v":0},{"$f":"UBZ34*'Makro i swap'!UBX4","v":0},{"$f":"UCA34*'Makro i swap'!UBY4","v":0},{"$f":"UCB34*'Makro i swap'!UBZ4","v":0},{"$f":"UCC34*'Makro i swap'!UCA4","v":0},{"$f":"UCD34*'Makro i swap'!UCB4","v":0},{"$f":"UCE34*'Makro i swap'!UCC4","v":0},{"$f":"UCF34*'Makro i swap'!UCD4","v":0},{"$f":"UCG34*'Makro i swap'!UCE4","v":0},{"$f":"UCH34*'Makro i swap'!UCF4","v":0},{"$f":"UCI34*'Makro i swap'!UCG4","v":0},{"$f":"UCJ34*'Makro i swap'!UCH4","v":0},{"$f":"UCK34*'Makro i swap'!UCI4","v":0},{"$f":"UCL34*'Makro i swap'!UCJ4","v":0},{"$f":"UCM34*'Makro i swap'!UCK4","v":0},{"$f":"UCN34*'Makro i swap'!UCL4","v":0},{"$f":"UCO34*'Makro i swap'!UCM4","v":0},{"$f":"UCP34*'Makro i swap'!UCN4","v":0},{"$f":"UCQ34*'Makro i swap'!UCO4","v":0},{"$f":"UCR34*'Makro i swap'!UCP4","v":0},{"$f":"UCS34*'Makro i swap'!UCQ4","v":0},{"$f":"UCT34*'Makro i swap'!UCR4","v":0},{"$f":"UCU34*'Makro i swap'!UCS4","v":0},{"$f":"UCV34*'Makro i swap'!UCT4","v":0},{"$f":"UCW34*'Makro i swap'!UCU4","v":0},{"$f":"UCX34*'Makro i swap'!UCV4","v":0},{"$f":"UCY34*'Makro i swap'!UCW4","v":0},{"$f":"UCZ34*'Makro i swap'!UCX4","v":0},{"$f":"UDA34*'Makro i swap'!UCY4","v":0},{"$f":"UDB34*'Makro i swap'!UCZ4","v":0},{"$f":"UDC34*'Makro i swap'!UDA4","v":0},{"$f":"UDD34*'Makro i swap'!UDB4","v":0},{"$f":"UDE34*'Makro i swap'!UDC4","v":0},{"$f":"UDF34*'Makro i swap'!UDD4","v":0},{"$f":"UDG34*'Makro i swap'!UDE4","v":0},{"$f":"UDH34*'Makro i swap'!UDF4","v":0},{"$f":"UDI34*'Makro i swap'!UDG4","v":0},{"$f":"UDJ34*'Makro i swap'!UDH4","v":0},{"$f":"UDK34*'Makro i swap'!UDI4","v":0},{"$f":"UDL34*'Makro i swap'!UDJ4","v":0},{"$f":"UDM34*'Makro i swap'!UDK4","v":0},{"$f":"UDN34*'Makro i swap'!UDL4","v":0},{"$f":"UDO34*'Makro i swap'!UDM4","v":0},{"$f":"UDP34*'Makro i swap'!UDN4","v":0},{"$f":"UDQ34*'Makro i swap'!UDO4","v":0},{"$f":"UDR34*'Makro i swap'!UDP4","v":0},{"$f":"UDS34*'Makro i swap'!UDQ4","v":0},{"$f":"UDT34*'Makro i swap'!UDR4","v":0},{"$f":"UDU34*'Makro i swap'!UDS4","v":0},{"$f":"UDV34*'Makro i swap'!UDT4","v":0},{"$f":"UDW34*'Makro i swap'!UDU4","v":0},{"$f":"UDX34*'Makro i swap'!UDV4","v":0},{"$f":"UDY34*'Makro i swap'!UDW4","v":0},{"$f":"UDZ34*'Makro i swap'!UDX4","v":0},{"$f":"UEA34*'Makro i swap'!UDY4","v":0},{"$f":"UEB34*'Makro i swap'!UDZ4","v":0},{"$f":"UEC34*'Makro i swap'!UEA4","v":0},{"$f":"UED34*'Makro i swap'!UEB4","v":0},{"$f":"UEE34*'Makro i swap'!UEC4","v":0},{"$f":"UEF34*'Makro i swap'!UED4","v":0},{"$f":"UEG34*'Makro i swap'!UEE4","v":0},{"$f":"UEH34*'Makro i swap'!UEF4","v":0},{"$f":"UEI34*'Makro i swap'!UEG4","v":0},{"$f":"UEJ34*'Makro i swap'!UEH4","v":0},{"$f":"UEK34*'Makro i swap'!UEI4","v":0},{"$f":"UEL34*'Makro i swap'!UEJ4","v":0},{"$f":"UEM34*'Makro i swap'!UEK4","v":0},{"$f":"UEN34*'Makro i swap'!UEL4","v":0},{"$f":"UEO34*'Makro i swap'!UEM4","v":0},{"$f":"UEP34*'Makro i swap'!UEN4","v":0},{"$f":"UEQ34*'Makro i swap'!UEO4","v":0},{"$f":"UER34*'Makro i swap'!UEP4","v":0},{"$f":"UES34*'Makro i swap'!UEQ4","v":0},{"$f":"UET34*'Makro i swap'!UER4","v":0},{"$f":"UEU34*'Makro i swap'!UES4","v":0},{"$f":"UEV34*'Makro i swap'!UET4","v":0},{"$f":"UEW34*'Makro i swap'!UEU4","v":0},{"$f":"UEX34*'Makro i swap'!UEV4","v":0},{"$f":"UEY34*'Makro i swap'!UEW4","v":0},{"$f":"UEZ34*'Makro i swap'!UEX4","v":0},{"$f":"UFA34*'Makro i swap'!UEY4","v":0},{"$f":"UFB34*'Makro i swap'!UEZ4","v":0},{"$f":"UFC34*'Makro i swap'!UFA4","v":0},{"$f":"UFD34*'Makro i swap'!UFB4","v":0},{"$f":"UFE34*'Makro i swap'!UFC4","v":0},{"$f":"UFF34*'Makro i swap'!UFD4","v":0},{"$f":"UFG34*'Makro i swap'!UFE4","v":0},{"$f":"UFH34*'Makro i swap'!UFF4","v":0},{"$f":"UFI34*'Makro i swap'!UFG4","v":0},{"$f":"UFJ34*'Makro i swap'!UFH4","v":0},{"$f":"UFK34*'Makro i swap'!UFI4","v":0},{"$f":"UFL34*'Makro i swap'!UFJ4","v":0},{"$f":"UFM34*'Makro i swap'!UFK4","v":0},{"$f":"UFN34*'Makro i swap'!UFL4","v":0},{"$f":"UFO34*'Makro i swap'!UFM4","v":0},{"$f":"UFP34*'Makro i swap'!UFN4","v":0},{"$f":"UFQ34*'Makro i swap'!UFO4","v":0},{"$f":"UFR34*'Makro i swap'!UFP4","v":0},{"$f":"UFS34*'Makro i swap'!UFQ4","v":0},{"$f":"UFT34*'Makro i swap'!UFR4","v":0},{"$f":"UFU34*'Makro i swap'!UFS4","v":0},{"$f":"UFV34*'Makro i swap'!UFT4","v":0},{"$f":"UFW34*'Makro i swap'!UFU4","v":0},{"$f":"UFX34*'Makro i swap'!UFV4","v":0},{"$f":"UFY34*'Makro i swap'!UFW4","v":0},{"$f":"UFZ34*'Makro i swap'!UFX4","v":0},{"$f":"UGA34*'Makro i swap'!UFY4","v":0},{"$f":"UGB34*'Makro i swap'!UFZ4","v":0},{"$f":"UGC34*'Makro i swap'!UGA4","v":0},{"$f":"UGD34*'Makro i swap'!UGB4","v":0},{"$f":"UGE34*'Makro i swap'!UGC4","v":0},{"$f":"UGF34*'Makro i swap'!UGD4","v":0},{"$f":"UGG34*'Makro i swap'!UGE4","v":0},{"$f":"UGH34*'Makro i swap'!UGF4","v":0},{"$f":"UGI34*'Makro i swap'!UGG4","v":0},{"$f":"UGJ34*'Makro i swap'!UGH4","v":0},{"$f":"UGK34*'Makro i swap'!UGI4","v":0},{"$f":"UGL34*'Makro i swap'!UGJ4","v":0},{"$f":"UGM34*'Makro i swap'!UGK4","v":0},{"$f":"UGN34*'Makro i swap'!UGL4","v":0},{"$f":"UGO34*'Makro i swap'!UGM4","v":0},{"$f":"UGP34*'Makro i swap'!UGN4","v":0},{"$f":"UGQ34*'Makro i swap'!UGO4","v":0},{"$f":"UGR34*'Makro i swap'!UGP4","v":0},{"$f":"UGS34*'Makro i swap'!UGQ4","v":0},{"$f":"UGT34*'Makro i swap'!UGR4","v":0},{"$f":"UGU34*'Makro i swap'!UGS4","v":0},{"$f":"UGV34*'Makro i swap'!UGT4","v":0},{"$f":"UGW34*'Makro i swap'!UGU4","v":0},{"$f":"UGX34*'Makro i swap'!UGV4","v":0},{"$f":"UGY34*'Makro i swap'!UGW4","v":0},{"$f":"UGZ34*'Makro i swap'!UGX4","v":0},{"$f":"UHA34*'Makro i swap'!UGY4","v":0},{"$f":"UHB34*'Makro i swap'!UGZ4","v":0},{"$f":"UHC34*'Makro i swap'!UHA4","v":0},{"$f":"UHD34*'Makro i swap'!UHB4","v":0},{"$f":"UHE34*'Makro i swap'!UHC4","v":0},{"$f":"UHF34*'Makro i swap'!UHD4","v":0},{"$f":"UHG34*'Makro i swap'!UHE4","v":0},{"$f":"UHH34*'Makro i swap'!UHF4","v":0},{"$f":"UHI34*'Makro i swap'!UHG4","v":0},{"$f":"UHJ34*'Makro i swap'!UHH4","v":0},{"$f":"UHK34*'Makro i swap'!UHI4","v":0},{"$f":"UHL34*'Makro i swap'!UHJ4","v":0},{"$f":"UHM34*'Makro i swap'!UHK4","v":0},{"$f":"UHN34*'Makro i swap'!UHL4","v":0},{"$f":"UHO34*'Makro i swap'!UHM4","v":0},{"$f":"UHP34*'Makro i swap'!UHN4","v":0},{"$f":"UHQ34*'Makro i swap'!UHO4","v":0},{"$f":"UHR34*'Makro i swap'!UHP4","v":0},{"$f":"UHS34*'Makro i swap'!UHQ4","v":0},{"$f":"UHT34*'Makro i swap'!UHR4","v":0},{"$f":"UHU34*'Makro i swap'!UHS4","v":0},{"$f":"UHV34*'Makro i swap'!UHT4","v":0},{"$f":"UHW34*'Makro i swap'!UHU4","v":0},{"$f":"UHX34*'Makro i swap'!UHV4","v":0},{"$f":"UHY34*'Makro i swap'!UHW4","v":0},{"$f":"UHZ34*'Makro i swap'!UHX4","v":0},{"$f":"UIA34*'Makro i swap'!UHY4","v":0},{"$f":"UIB34*'Makro i swap'!UHZ4","v":0},{"$f":"UIC34*'Makro i swap'!UIA4","v":0},{"$f":"UID34*'Makro i swap'!UIB4","v":0},{"$f":"UIE34*'Makro i swap'!UIC4","v":0},{"$f":"UIF34*'Makro i swap'!UID4","v":0},{"$f":"UIG34*'Makro i swap'!UIE4","v":0},{"$f":"UIH34*'Makro i swap'!UIF4","v":0},{"$f":"UII34*'Makro i swap'!UIG4","v":0},{"$f":"UIJ34*'Makro i swap'!UIH4","v":0},{"$f":"UIK34*'Makro i swap'!UII4","v":0},{"$f":"UIL34*'Makro i swap'!UIJ4","v":0},{"$f":"UIM34*'Makro i swap'!UIK4","v":0},{"$f":"UIN34*'Makro i swap'!UIL4","v":0},{"$f":"UIO34*'Makro i swap'!UIM4","v":0},{"$f":"UIP34*'Makro i swap'!UIN4","v":0},{"$f":"UIQ34*'Makro i swap'!UIO4","v":0},{"$f":"UIR34*'Makro i swap'!UIP4","v":0},{"$f":"UIS34*'Makro i swap'!UIQ4","v":0},{"$f":"UIT34*'Makro i swap'!UIR4","v":0},{"$f":"UIU34*'Makro i swap'!UIS4","v":0},{"$f":"UIV34*'Makro i swap'!UIT4","v":0},{"$f":"UIW34*'Makro i swap'!UIU4","v":0},{"$f":"UIX34*'Makro i swap'!UIV4","v":0},{"$f":"UIY34*'Makro i swap'!UIW4","v":0},{"$f":"UIZ34*'Makro i swap'!UIX4","v":0},{"$f":"UJA34*'Makro i swap'!UIY4","v":0},{"$f":"UJB34*'Makro i swap'!UIZ4","v":0},{"$f":"UJC34*'Makro i swap'!UJA4","v":0},{"$f":"UJD34*'Makro i swap'!UJB4","v":0},{"$f":"UJE34*'Makro i swap'!UJC4","v":0},{"$f":"UJF34*'Makro i swap'!UJD4","v":0},{"$f":"UJG34*'Makro i swap'!UJE4","v":0},{"$f":"UJH34*'Makro i swap'!UJF4","v":0},{"$f":"UJI34*'Makro i swap'!UJG4","v":0},{"$f":"UJJ34*'Makro i swap'!UJH4","v":0},{"$f":"UJK34*'Makro i swap'!UJI4","v":0},{"$f":"UJL34*'Makro i swap'!UJJ4","v":0},{"$f":"UJM34*'Makro i swap'!UJK4","v":0},{"$f":"UJN34*'Makro i swap'!UJL4","v":0},{"$f":"UJO34*'Makro i swap'!UJM4","v":0},{"$f":"UJP34*'Makro i swap'!UJN4","v":0},{"$f":"UJQ34*'Makro i swap'!UJO4","v":0},{"$f":"UJR34*'Makro i swap'!UJP4","v":0},{"$f":"UJS34*'Makro i swap'!UJQ4","v":0},{"$f":"UJT34*'Makro i swap'!UJR4","v":0},{"$f":"UJU34*'Makro i swap'!UJS4","v":0},{"$f":"UJV34*'Makro i swap'!UJT4","v":0},{"$f":"UJW34*'Makro i swap'!UJU4","v":0},{"$f":"UJX34*'Makro i swap'!UJV4","v":0},{"$f":"UJY34*'Makro i swap'!UJW4","v":0},{"$f":"UJZ34*'Makro i swap'!UJX4","v":0},{"$f":"UKA34*'Makro i swap'!UJY4","v":0},{"$f":"UKB34*'Makro i swap'!UJZ4","v":0},{"$f":"UKC34*'Makro i swap'!UKA4","v":0},{"$f":"UKD34*'Makro i swap'!UKB4","v":0},{"$f":"UKE34*'Makro i swap'!UKC4","v":0},{"$f":"UKF34*'Makro i swap'!UKD4","v":0},{"$f":"UKG34*'Makro i swap'!UKE4","v":0},{"$f":"UKH34*'Makro i swap'!UKF4","v":0},{"$f":"UKI34*'Makro i swap'!UKG4","v":0},{"$f":"UKJ34*'Makro i swap'!UKH4","v":0},{"$f":"UKK34*'Makro i swap'!UKI4","v":0},{"$f":"UKL34*'Makro i swap'!UKJ4","v":0},{"$f":"UKM34*'Makro i swap'!UKK4","v":0},{"$f":"UKN34*'Makro i swap'!UKL4","v":0},{"$f":"UKO34*'Makro i swap'!UKM4","v":0},{"$f":"UKP34*'Makro i swap'!UKN4","v":0},{"$f":"UKQ34*'Makro i swap'!UKO4","v":0},{"$f":"UKR34*'Makro i swap'!UKP4","v":0},{"$f":"UKS34*'Makro i swap'!UKQ4","v":0},{"$f":"UKT34*'Makro i swap'!UKR4","v":0},{"$f":"UKU34*'Makro i swap'!UKS4","v":0},{"$f":"UKV34*'Makro i swap'!UKT4","v":0},{"$f":"UKW34*'Makro i swap'!UKU4","v":0},{"$f":"UKX34*'Makro i swap'!UKV4","v":0},{"$f":"UKY34*'Makro i swap'!UKW4","v":0},{"$f":"UKZ34*'Makro i swap'!UKX4","v":0},{"$f":"ULA34*'Makro i swap'!UKY4","v":0},{"$f":"ULB34*'Makro i swap'!UKZ4","v":0},{"$f":"ULC34*'Makro i swap'!ULA4","v":0},{"$f":"ULD34*'Makro i swap'!ULB4","v":0},{"$f":"ULE34*'Makro i swap'!ULC4","v":0},{"$f":"ULF34*'Makro i swap'!ULD4","v":0},{"$f":"ULG34*'Makro i swap'!ULE4","v":0},{"$f":"ULH34*'Makro i swap'!ULF4","v":0},{"$f":"ULI34*'Makro i swap'!ULG4","v":0},{"$f":"ULJ34*'Makro i swap'!ULH4","v":0},{"$f":"ULK34*'Makro i swap'!ULI4","v":0},{"$f":"ULL34*'Makro i swap'!ULJ4","v":0},{"$f":"ULM34*'Makro i swap'!ULK4","v":0},{"$f":"ULN34*'Makro i swap'!ULL4","v":0},{"$f":"ULO34*'Makro i swap'!ULM4","v":0},{"$f":"ULP34*'Makro i swap'!ULN4","v":0},{"$f":"ULQ34*'Makro i swap'!ULO4","v":0},{"$f":"ULR34*'Makro i swap'!ULP4","v":0},{"$f":"ULS34*'Makro i swap'!ULQ4","v":0},{"$f":"ULT34*'Makro i swap'!ULR4","v":0},{"$f":"ULU34*'Makro i swap'!ULS4","v":0},{"$f":"ULV34*'Makro i swap'!ULT4","v":0},{"$f":"ULW34*'Makro i swap'!ULU4","v":0},{"$f":"ULX34*'Makro i swap'!ULV4","v":0},{"$f":"ULY34*'Makro i swap'!ULW4","v":0},{"$f":"ULZ34*'Makro i swap'!ULX4","v":0},{"$f":"UMA34*'Makro i swap'!ULY4","v":0},{"$f":"UMB34*'Makro i swap'!ULZ4","v":0},{"$f":"UMC34*'Makro i swap'!UMA4","v":0},{"$f":"UMD34*'Makro i swap'!UMB4","v":0},{"$f":"UME34*'Makro i swap'!UMC4","v":0},{"$f":"UMF34*'Makro i swap'!UMD4","v":0},{"$f":"UMG34*'Makro i swap'!UME4","v":0},{"$f":"UMH34*'Makro i swap'!UMF4","v":0},{"$f":"UMI34*'Makro i swap'!UMG4","v":0},{"$f":"UMJ34*'Makro i swap'!UMH4","v":0},{"$f":"UMK34*'Makro i swap'!UMI4","v":0},{"$f":"UML34*'Makro i swap'!UMJ4","v":0},{"$f":"UMM34*'Makro i swap'!UMK4","v":0},{"$f":"UMN34*'Makro i swap'!UML4","v":0},{"$f":"UMO34*'Makro i swap'!UMM4","v":0},{"$f":"UMP34*'Makro i swap'!UMN4","v":0},{"$f":"UMQ34*'Makro i swap'!UMO4","v":0},{"$f":"UMR34*'Makro i swap'!UMP4","v":0},{"$f":"UMS34*'Makro i swap'!UMQ4","v":0},{"$f":"UMT34*'Makro i swap'!UMR4","v":0},{"$f":"UMU34*'Makro i swap'!UMS4","v":0},{"$f":"UMV34*'Makro i swap'!UMT4","v":0},{"$f":"UMW34*'Makro i swap'!UMU4","v":0},{"$f":"UMX34*'Makro i swap'!UMV4","v":0},{"$f":"UMY34*'Makro i swap'!UMW4","v":0},{"$f":"UMZ34*'Makro i swap'!UMX4","v":0},{"$f":"UNA34*'Makro i swap'!UMY4","v":0},{"$f":"UNB34*'Makro i swap'!UMZ4","v":0},{"$f":"UNC34*'Makro i swap'!UNA4","v":0},{"$f":"UND34*'Makro i swap'!UNB4","v":0},{"$f":"UNE34*'Makro i swap'!UNC4","v":0},{"$f":"UNF34*'Makro i swap'!UND4","v":0},{"$f":"UNG34*'Makro i swap'!UNE4","v":0},{"$f":"UNH34*'Makro i swap'!UNF4","v":0},{"$f":"UNI34*'Makro i swap'!UNG4","v":0},{"$f":"UNJ34*'Makro i swap'!UNH4","v":0},{"$f":"UNK34*'Makro i swap'!UNI4","v":0},{"$f":"UNL34*'Makro i swap'!UNJ4","v":0},{"$f":"UNM34*'Makro i swap'!UNK4","v":0},{"$f":"UNN34*'Makro i swap'!UNL4","v":0},{"$f":"UNO34*'Makro i swap'!UNM4","v":0},{"$f":"UNP34*'Makro i swap'!UNN4","v":0},{"$f":"UNQ34*'Makro i swap'!UNO4","v":0},{"$f":"UNR34*'Makro i swap'!UNP4","v":0},{"$f":"UNS34*'Makro i swap'!UNQ4","v":0},{"$f":"UNT34*'Makro i swap'!UNR4","v":0},{"$f":"UNU34*'Makro i swap'!UNS4","v":0},{"$f":"UNV34*'Makro i swap'!UNT4","v":0},{"$f":"UNW34*'Makro i swap'!UNU4","v":0},{"$f":"UNX34*'Makro i swap'!UNV4","v":0},{"$f":"UNY34*'Makro i swap'!UNW4","v":0},{"$f":"UNZ34*'Makro i swap'!UNX4","v":0},{"$f":"UOA34*'Makro i swap'!UNY4","v":0},{"$f":"UOB34*'Makro i swap'!UNZ4","v":0},{"$f":"UOC34*'Makro i swap'!UOA4","v":0},{"$f":"UOD34*'Makro i swap'!UOB4","v":0},{"$f":"UOE34*'Makro i swap'!UOC4","v":0},{"$f":"UOF34*'Makro i swap'!UOD4","v":0},{"$f":"UOG34*'Makro i swap'!UOE4","v":0},{"$f":"UOH34*'Makro i swap'!UOF4","v":0},{"$f":"UOI34*'Makro i swap'!UOG4","v":0},{"$f":"UOJ34*'Makro i swap'!UOH4","v":0},{"$f":"UOK34*'Makro i swap'!UOI4","v":0},{"$f":"UOL34*'Makro i swap'!UOJ4","v":0},{"$f":"UOM34*'Makro i swap'!UOK4","v":0},{"$f":"UON34*'Makro i swap'!UOL4","v":0},{"$f":"UOO34*'Makro i swap'!UOM4","v":0},{"$f":"UOP34*'Makro i swap'!UON4","v":0},{"$f":"UOQ34*'Makro i swap'!UOO4","v":0},{"$f":"UOR34*'Makro i swap'!UOP4","v":0},{"$f":"UOS34*'Makro i swap'!UOQ4","v":0},{"$f":"UOT34*'Makro i swap'!UOR4","v":0},{"$f":"UOU34*'Makro i swap'!UOS4","v":0},{"$f":"UOV34*'Makro i swap'!UOT4","v":0},{"$f":"UOW34*'Makro i swap'!UOU4","v":0},{"$f":"UOX34*'Makro i swap'!UOV4","v":0},{"$f":"UOY34*'Makro i swap'!UOW4","v":0},{"$f":"UOZ34*'Makro i swap'!UOX4","v":0},{"$f":"UPA34*'Makro i swap'!UOY4","v":0},{"$f":"UPB34*'Makro i swap'!UOZ4","v":0},{"$f":"UPC34*'Makro i swap'!UPA4","v":0},{"$f":"UPD34*'Makro i swap'!UPB4","v":0},{"$f":"UPE34*'Makro i swap'!UPC4","v":0},{"$f":"UPF34*'Makro i swap'!UPD4","v":0},{"$f":"UPG34*'Makro i swap'!UPE4","v":0},{"$f":"UPH34*'Makro i swap'!UPF4","v":0},{"$f":"UPI34*'Makro i swap'!UPG4","v":0},{"$f":"UPJ34*'Makro i swap'!UPH4","v":0},{"$f":"UPK34*'Makro i swap'!UPI4","v":0},{"$f":"UPL34*'Makro i swap'!UPJ4","v":0},{"$f":"UPM34*'Makro i swap'!UPK4","v":0},{"$f":"UPN34*'Makro i swap'!UPL4","v":0},{"$f":"UPO34*'Makro i swap'!UPM4","v":0},{"$f":"UPP34*'Makro i swap'!UPN4","v":0},{"$f":"UPQ34*'Makro i swap'!UPO4","v":0},{"$f":"UPR34*'Makro i swap'!UPP4","v":0},{"$f":"UPS34*'Makro i swap'!UPQ4","v":0},{"$f":"UPT34*'Makro i swap'!UPR4","v":0},{"$f":"UPU34*'Makro i swap'!UPS4","v":0},{"$f":"UPV34*'Makro i swap'!UPT4","v":0},{"$f":"UPW34*'Makro i swap'!UPU4","v":0},{"$f":"UPX34*'Makro i swap'!UPV4","v":0},{"$f":"UPY34*'Makro i swap'!UPW4","v":0},{"$f":"UPZ34*'Makro i swap'!UPX4","v":0},{"$f":"UQA34*'Makro i swap'!UPY4","v":0},{"$f":"UQB34*'Makro i swap'!UPZ4","v":0},{"$f":"UQC34*'Makro i swap'!UQA4","v":0},{"$f":"UQD34*'Makro i swap'!UQB4","v":0},{"$f":"UQE34*'Makro i swap'!UQC4","v":0},{"$f":"UQF34*'Makro i swap'!UQD4","v":0},{"$f":"UQG34*'Makro i swap'!UQE4","v":0},{"$f":"UQH34*'Makro i swap'!UQF4","v":0},{"$f":"UQI34*'Makro i swap'!UQG4","v":0},{"$f":"UQJ34*'Makro i swap'!UQH4","v":0},{"$f":"UQK34*'Makro i swap'!UQI4","v":0},{"$f":"UQL34*'Makro i swap'!UQJ4","v":0},{"$f":"UQM34*'Makro i swap'!UQK4","v":0},{"$f":"UQN34*'Makro i swap'!UQL4","v":0},{"$f":"UQO34*'Makro i swap'!UQM4","v":0},{"$f":"UQP34*'Makro i swap'!UQN4","v":0},{"$f":"UQQ34*'Makro i swap'!UQO4","v":0},{"$f":"UQR34*'Makro i swap'!UQP4","v":0},{"$f":"UQS34*'Makro i swap'!UQQ4","v":0},{"$f":"UQT34*'Makro i swap'!UQR4","v":0},{"$f":"UQU34*'Makro i swap'!UQS4","v":0},{"$f":"UQV34*'Makro i swap'!UQT4","v":0},{"$f":"UQW34*'Makro i swap'!UQU4","v":0},{"$f":"UQX34*'Makro i swap'!UQV4","v":0},{"$f":"UQY34*'Makro i swap'!UQW4","v":0},{"$f":"UQZ34*'Makro i swap'!UQX4","v":0},{"$f":"URA34*'Makro i swap'!UQY4","v":0},{"$f":"URB34*'Makro i swap'!UQZ4","v":0},{"$f":"URC34*'Makro i swap'!URA4","v":0},{"$f":"URD34*'Makro i swap'!URB4","v":0},{"$f":"URE34*'Makro i swap'!URC4","v":0},{"$f":"URF34*'Makro i swap'!URD4","v":0},{"$f":"URG34*'Makro i swap'!URE4","v":0},{"$f":"URH34*'Makro i swap'!URF4","v":0},{"$f":"URI34*'Makro i swap'!URG4","v":0},{"$f":"URJ34*'Makro i swap'!URH4","v":0},{"$f":"URK34*'Makro i swap'!URI4","v":0},{"$f":"URL34*'Makro i swap'!URJ4","v":0},{"$f":"URM34*'Makro i swap'!URK4","v":0},{"$f":"URN34*'Makro i swap'!URL4","v":0},{"$f":"URO34*'Makro i swap'!URM4","v":0},{"$f":"URP34*'Makro i swap'!URN4","v":0},{"$f":"URQ34*'Makro i swap'!URO4","v":0},{"$f":"URR34*'Makro i swap'!URP4","v":0},{"$f":"URS34*'Makro i swap'!URQ4","v":0},{"$f":"URT34*'Makro i swap'!URR4","v":0},{"$f":"URU34*'Makro i swap'!URS4","v":0},{"$f":"URV34*'Makro i swap'!URT4","v":0},{"$f":"URW34*'Makro i swap'!URU4","v":0},{"$f":"URX34*'Makro i swap'!URV4","v":0},{"$f":"URY34*'Makro i swap'!URW4","v":0},{"$f":"URZ34*'Makro i swap'!URX4","v":0},{"$f":"USA34*'Makro i swap'!URY4","v":0},{"$f":"USB34*'Makro i swap'!URZ4","v":0},{"$f":"USC34*'Makro i swap'!USA4","v":0},{"$f":"USD34*'Makro i swap'!USB4","v":0},{"$f":"USE34*'Makro i swap'!USC4","v":0},{"$f":"USF34*'Makro i swap'!USD4","v":0},{"$f":"USG34*'Makro i swap'!USE4","v":0},{"$f":"USH34*'Makro i swap'!USF4","v":0},{"$f":"USI34*'Makro i swap'!USG4","v":0},{"$f":"USJ34*'Makro i swap'!USH4","v":0},{"$f":"USK34*'Makro i swap'!USI4","v":0},{"$f":"USL34*'Makro i swap'!USJ4","v":0},{"$f":"USM34*'Makro i swap'!USK4","v":0},{"$f":"USN34*'Makro i swap'!USL4","v":0},{"$f":"USO34*'Makro i swap'!USM4","v":0},{"$f":"USP34*'Makro i swap'!USN4","v":0},{"$f":"USQ34*'Makro i swap'!USO4","v":0},{"$f":"USR34*'Makro i swap'!USP4","v":0},{"$f":"USS34*'Makro i swap'!USQ4","v":0},{"$f":"UST34*'Makro i swap'!USR4","v":0},{"$f":"USU34*'Makro i swap'!USS4","v":0},{"$f":"USV34*'Makro i swap'!UST4","v":0},{"$f":"USW34*'Makro i swap'!USU4","v":0},{"$f":"USX34*'Makro i swap'!USV4","v":0},{"$f":"USY34*'Makro i swap'!USW4","v":0},{"$f":"USZ34*'Makro i swap'!USX4","v":0},{"$f":"UTA34*'Makro i swap'!USY4","v":0},{"$f":"UTB34*'Makro i swap'!USZ4","v":0},{"$f":"UTC34*'Makro i swap'!UTA4","v":0},{"$f":"UTD34*'Makro i swap'!UTB4","v":0},{"$f":"UTE34*'Makro i swap'!UTC4","v":0},{"$f":"UTF34*'Makro i swap'!UTD4","v":0},{"$f":"UTG34*'Makro i swap'!UTE4","v":0},{"$f":"UTH34*'Makro i swap'!UTF4","v":0},{"$f":"UTI34*'Makro i swap'!UTG4","v":0},{"$f":"UTJ34*'Makro i swap'!UTH4","v":0},{"$f":"UTK34*'Makro i swap'!UTI4","v":0},{"$f":"UTL34*'Makro i swap'!UTJ4","v":0},{"$f":"UTM34*'Makro i swap'!UTK4","v":0},{"$f":"UTN34*'Makro i swap'!UTL4","v":0},{"$f":"UTO34*'Makro i swap'!UTM4","v":0},{"$f":"UTP34*'Makro i swap'!UTN4","v":0},{"$f":"UTQ34*'Makro i swap'!UTO4","v":0},{"$f":"UTR34*'Makro i swap'!UTP4","v":0},{"$f":"UTS34*'Makro i swap'!UTQ4","v":0},{"$f":"UTT34*'Makro i swap'!UTR4","v":0},{"$f":"UTU34*'Makro i swap'!UTS4","v":0},{"$f":"UTV34*'Makro i swap'!UTT4","v":0},{"$f":"UTW34*'Makro i swap'!UTU4","v":0},{"$f":"UTX34*'Makro i swap'!UTV4","v":0},{"$f":"UTY34*'Makro i swap'!UTW4","v":0},{"$f":"UTZ34*'Makro i swap'!UTX4","v":0},{"$f":"UUA34*'Makro i swap'!UTY4","v":0},{"$f":"UUB34*'Makro i swap'!UTZ4","v":0},{"$f":"UUC34*'Makro i swap'!UUA4","v":0},{"$f":"UUD34*'Makro i swap'!UUB4","v":0},{"$f":"UUE34*'Makro i swap'!UUC4","v":0},{"$f":"UUF34*'Makro i swap'!UUD4","v":0},{"$f":"UUG34*'Makro i swap'!UUE4","v":0},{"$f":"UUH34*'Makro i swap'!UUF4","v":0},{"$f":"UUI34*'Makro i swap'!UUG4","v":0},{"$f":"UUJ34*'Makro i swap'!UUH4","v":0},{"$f":"UUK34*'Makro i swap'!UUI4","v":0},{"$f":"UUL34*'Makro i swap'!UUJ4","v":0},{"$f":"UUM34*'Makro i swap'!UUK4","v":0},{"$f":"UUN34*'Makro i swap'!UUL4","v":0},{"$f":"UUO34*'Makro i swap'!UUM4","v":0},{"$f":"UUP34*'Makro i swap'!UUN4","v":0},{"$f":"UUQ34*'Makro i swap'!UUO4","v":0},{"$f":"UUR34*'Makro i swap'!UUP4","v":0},{"$f":"UUS34*'Makro i swap'!UUQ4","v":0},{"$f":"UUT34*'Makro i swap'!UUR4","v":0},{"$f":"UUU34*'Makro i swap'!UUS4","v":0},{"$f":"UUV34*'Makro i swap'!UUT4","v":0},{"$f":"UUW34*'Makro i swap'!UUU4","v":0},{"$f":"UUX34*'Makro i swap'!UUV4","v":0},{"$f":"UUY34*'Makro i swap'!UUW4","v":0},{"$f":"UUZ34*'Makro i swap'!UUX4","v":0},{"$f":"UVA34*'Makro i swap'!UUY4","v":0},{"$f":"UVB34*'Makro i swap'!UUZ4","v":0},{"$f":"UVC34*'Makro i swap'!UVA4","v":0},{"$f":"UVD34*'Makro i swap'!UVB4","v":0},{"$f":"UVE34*'Makro i swap'!UVC4","v":0},{"$f":"UVF34*'Makro i swap'!UVD4","v":0},{"$f":"UVG34*'Makro i swap'!UVE4","v":0},{"$f":"UVH34*'Makro i swap'!UVF4","v":0},{"$f":"UVI34*'Makro i swap'!UVG4","v":0},{"$f":"UVJ34*'Makro i swap'!UVH4","v":0},{"$f":"UVK34*'Makro i swap'!UVI4","v":0},{"$f":"UVL34*'Makro i swap'!UVJ4","v":0},{"$f":"UVM34*'Makro i swap'!UVK4","v":0},{"$f":"UVN34*'Makro i swap'!UVL4","v":0},{"$f":"UVO34*'Makro i swap'!UVM4","v":0},{"$f":"UVP34*'Makro i swap'!UVN4","v":0},{"$f":"UVQ34*'Makro i swap'!UVO4","v":0},{"$f":"UVR34*'Makro i swap'!UVP4","v":0},{"$f":"UVS34*'Makro i swap'!UVQ4","v":0},{"$f":"UVT34*'Makro i swap'!UVR4","v":0},{"$f":"UVU34*'Makro i swap'!UVS4","v":0},{"$f":"UVV34*'Makro i swap'!UVT4","v":0},{"$f":"UVW34*'Makro i swap'!UVU4","v":0},{"$f":"UVX34*'Makro i swap'!UVV4","v":0},{"$f":"UVY34*'Makro i swap'!UVW4","v":0},{"$f":"UVZ34*'Makro i swap'!UVX4","v":0},{"$f":"UWA34*'Makro i swap'!UVY4","v":0},{"$f":"UWB34*'Makro i swap'!UVZ4","v":0},{"$f":"UWC34*'Makro i swap'!UWA4","v":0},{"$f":"UWD34*'Makro i swap'!UWB4","v":0},{"$f":"UWE34*'Makro i swap'!UWC4","v":0},{"$f":"UWF34*'Makro i swap'!UWD4","v":0},{"$f":"UWG34*'Makro i swap'!UWE4","v":0},{"$f":"UWH34*'Makro i swap'!UWF4","v":0},{"$f":"UWI34*'Makro i swap'!UWG4","v":0},{"$f":"UWJ34*'Makro i swap'!UWH4","v":0},{"$f":"UWK34*'Makro i swap'!UWI4","v":0},{"$f":"UWL34*'Makro i swap'!UWJ4","v":0},{"$f":"UWM34*'Makro i swap'!UWK4","v":0},{"$f":"UWN34*'Makro i swap'!UWL4","v":0},{"$f":"UWO34*'Makro i swap'!UWM4","v":0},{"$f":"UWP34*'Makro i swap'!UWN4","v":0},{"$f":"UWQ34*'Makro i swap'!UWO4","v":0},{"$f":"UWR34*'Makro i swap'!UWP4","v":0},{"$f":"UWS34*'Makro i swap'!UWQ4","v":0},{"$f":"UWT34*'Makro i swap'!UWR4","v":0},{"$f":"UWU34*'Makro i swap'!UWS4","v":0},{"$f":"UWV34*'Makro i swap'!UWT4","v":0},{"$f":"UWW34*'Makro i swap'!UWU4","v":0},{"$f":"UWX34*'Makro i swap'!UWV4","v":0},{"$f":"UWY34*'Makro i swap'!UWW4","v":0},{"$f":"UWZ34*'Makro i swap'!UWX4","v":0},{"$f":"UXA34*'Makro i swap'!UWY4","v":0},{"$f":"UXB34*'Makro i swap'!UWZ4","v":0},{"$f":"UXC34*'Makro i swap'!UXA4","v":0},{"$f":"UXD34*'Makro i swap'!UXB4","v":0},{"$f":"UXE34*'Makro i swap'!UXC4","v":0},{"$f":"UXF34*'Makro i swap'!UXD4","v":0},{"$f":"UXG34*'Makro i swap'!UXE4","v":0},{"$f":"UXH34*'Makro i swap'!UXF4","v":0},{"$f":"UXI34*'Makro i swap'!UXG4","v":0},{"$f":"UXJ34*'Makro i swap'!UXH4","v":0},{"$f":"UXK34*'Makro i swap'!UXI4","v":0},{"$f":"UXL34*'Makro i swap'!UXJ4","v":0},{"$f":"UXM34*'Makro i swap'!UXK4","v":0},{"$f":"UXN34*'Makro i swap'!UXL4","v":0},{"$f":"UXO34*'Makro i swap'!UXM4","v":0},{"$f":"UXP34*'Makro i swap'!UXN4","v":0},{"$f":"UXQ34*'Makro i swap'!UXO4","v":0},{"$f":"UXR34*'Makro i swap'!UXP4","v":0},{"$f":"UXS34*'Makro i swap'!UXQ4","v":0},{"$f":"UXT34*'Makro i swap'!UXR4","v":0},{"$f":"UXU34*'Makro i swap'!UXS4","v":0},{"$f":"UXV34*'Makro i swap'!UXT4","v":0},{"$f":"UXW34*'Makro i swap'!UXU4","v":0},{"$f":"UXX34*'Makro i swap'!UXV4","v":0},{"$f":"UXY34*'Makro i swap'!UXW4","v":0},{"$f":"UXZ34*'Makro i swap'!UXX4","v":0},{"$f":"UYA34*'Makro i swap'!UXY4","v":0},{"$f":"UYB34*'Makro i swap'!UXZ4","v":0},{"$f":"UYC34*'Makro i swap'!UYA4","v":0},{"$f":"UYD34*'Makro i swap'!UYB4","v":0},{"$f":"UYE34*'Makro i swap'!UYC4","v":0},{"$f":"UYF34*'Makro i swap'!UYD4","v":0},{"$f":"UYG34*'Makro i swap'!UYE4","v":0},{"$f":"UYH34*'Makro i swap'!UYF4","v":0},{"$f":"UYI34*'Makro i swap'!UYG4","v":0},{"$f":"UYJ34*'Makro i swap'!UYH4","v":0},{"$f":"UYK34*'Makro i swap'!UYI4","v":0},{"$f":"UYL34*'Makro i swap'!UYJ4","v":0},{"$f":"UYM34*'Makro i swap'!UYK4","v":0},{"$f":"UYN34*'Makro i swap'!UYL4","v":0},{"$f":"UYO34*'Makro i swap'!UYM4","v":0},{"$f":"UYP34*'Makro i swap'!UYN4","v":0},{"$f":"UYQ34*'Makro i swap'!UYO4","v":0},{"$f":"UYR34*'Makro i swap'!UYP4","v":0},{"$f":"UYS34*'Makro i swap'!UYQ4","v":0},{"$f":"UYT34*'Makro i swap'!UYR4","v":0},{"$f":"UYU34*'Makro i swap'!UYS4","v":0},{"$f":"UYV34*'Makro i swap'!UYT4","v":0},{"$f":"UYW34*'Makro i swap'!UYU4","v":0},{"$f":"UYX34*'Makro i swap'!UYV4","v":0},{"$f":"UYY34*'Makro i swap'!UYW4","v":0},{"$f":"UYZ34*'Makro i swap'!UYX4","v":0},{"$f":"UZA34*'Makro i swap'!UYY4","v":0},{"$f":"UZB34*'Makro i swap'!UYZ4","v":0},{"$f":"UZC34*'Makro i swap'!UZA4","v":0},{"$f":"UZD34*'Makro i swap'!UZB4","v":0},{"$f":"UZE34*'Makro i swap'!UZC4","v":0},{"$f":"UZF34*'Makro i swap'!UZD4","v":0},{"$f":"UZG34*'Makro i swap'!UZE4","v":0},{"$f":"UZH34*'Makro i swap'!UZF4","v":0},{"$f":"UZI34*'Makro i swap'!UZG4","v":0},{"$f":"UZJ34*'Makro i swap'!UZH4","v":0},{"$f":"UZK34*'Makro i swap'!UZI4","v":0},{"$f":"UZL34*'Makro i swap'!UZJ4","v":0},{"$f":"UZM34*'Makro i swap'!UZK4","v":0},{"$f":"UZN34*'Makro i swap'!UZL4","v":0},{"$f":"UZO34*'Makro i swap'!UZM4","v":0},{"$f":"UZP34*'Makro i swap'!UZN4","v":0},{"$f":"UZQ34*'Makro i swap'!UZO4","v":0},{"$f":"UZR34*'Makro i swap'!UZP4","v":0},{"$f":"UZS34*'Makro i swap'!UZQ4","v":0},{"$f":"UZT34*'Makro i swap'!UZR4","v":0},{"$f":"UZU34*'Makro i swap'!UZS4","v":0},{"$f":"UZV34*'Makro i swap'!UZT4","v":0},{"$f":"UZW34*'Makro i swap'!UZU4","v":0},{"$f":"UZX34*'Makro i swap'!UZV4","v":0},{"$f":"UZY34*'Makro i swap'!UZW4","v":0},{"$f":"UZZ34*'Makro i swap'!UZX4","v":0},{"$f":"VAA34*'Makro i swap'!UZY4","v":0},{"$f":"VAB34*'Makro i swap'!UZZ4","v":0},{"$f":"VAC34*'Makro i swap'!VAA4","v":0},{"$f":"VAD34*'Makro i swap'!VAB4","v":0},{"$f":"VAE34*'Makro i swap'!VAC4","v":0},{"$f":"VAF34*'Makro i swap'!VAD4","v":0},{"$f":"VAG34*'Makro i swap'!VAE4","v":0},{"$f":"VAH34*'Makro i swap'!VAF4","v":0},{"$f":"VAI34*'Makro i swap'!VAG4","v":0},{"$f":"VAJ34*'Makro i swap'!VAH4","v":0},{"$f":"VAK34*'Makro i swap'!VAI4","v":0},{"$f":"VAL34*'Makro i swap'!VAJ4","v":0},{"$f":"VAM34*'Makro i swap'!VAK4","v":0},{"$f":"VAN34*'Makro i swap'!VAL4","v":0},{"$f":"VAO34*'Makro i swap'!VAM4","v":0},{"$f":"VAP34*'Makro i swap'!VAN4","v":0},{"$f":"VAQ34*'Makro i swap'!VAO4","v":0},{"$f":"VAR34*'Makro i swap'!VAP4","v":0},{"$f":"VAS34*'Makro i swap'!VAQ4","v":0},{"$f":"VAT34*'Makro i swap'!VAR4","v":0},{"$f":"VAU34*'Makro i swap'!VAS4","v":0},{"$f":"VAV34*'Makro i swap'!VAT4","v":0},{"$f":"VAW34*'Makro i swap'!VAU4","v":0},{"$f":"VAX34*'Makro i swap'!VAV4","v":0},{"$f":"VAY34*'Makro i swap'!VAW4","v":0},{"$f":"VAZ34*'Makro i swap'!VAX4","v":0},{"$f":"VBA34*'Makro i swap'!VAY4","v":0},{"$f":"VBB34*'Makro i swap'!VAZ4","v":0},{"$f":"VBC34*'Makro i swap'!VBA4","v":0},{"$f":"VBD34*'Makro i swap'!VBB4","v":0},{"$f":"VBE34*'Makro i swap'!VBC4","v":0},{"$f":"VBF34*'Makro i swap'!VBD4","v":0},{"$f":"VBG34*'Makro i swap'!VBE4","v":0},{"$f":"VBH34*'Makro i swap'!VBF4","v":0},{"$f":"VBI34*'Makro i swap'!VBG4","v":0},{"$f":"VBJ34*'Makro i swap'!VBH4","v":0},{"$f":"VBK34*'Makro i swap'!VBI4","v":0},{"$f":"VBL34*'Makro i swap'!VBJ4","v":0},{"$f":"VBM34*'Makro i swap'!VBK4","v":0},{"$f":"VBN34*'Makro i swap'!VBL4","v":0},{"$f":"VBO34*'Makro i swap'!VBM4","v":0},{"$f":"VBP34*'Makro i swap'!VBN4","v":0},{"$f":"VBQ34*'Makro i swap'!VBO4","v":0},{"$f":"VBR34*'Makro i swap'!VBP4","v":0},{"$f":"VBS34*'Makro i swap'!VBQ4","v":0},{"$f":"VBT34*'Makro i swap'!VBR4","v":0},{"$f":"VBU34*'Makro i swap'!VBS4","v":0},{"$f":"VBV34*'Makro i swap'!VBT4","v":0},{"$f":"VBW34*'Makro i swap'!VBU4","v":0},{"$f":"VBX34*'Makro i swap'!VBV4","v":0},{"$f":"VBY34*'Makro i swap'!VBW4","v":0},{"$f":"VBZ34*'Makro i swap'!VBX4","v":0},{"$f":"VCA34*'Makro i swap'!VBY4","v":0},{"$f":"VCB34*'Makro i swap'!VBZ4","v":0},{"$f":"VCC34*'Makro i swap'!VCA4","v":0},{"$f":"VCD34*'Makro i swap'!VCB4","v":0},{"$f":"VCE34*'Makro i swap'!VCC4","v":0},{"$f":"VCF34*'Makro i swap'!VCD4","v":0},{"$f":"VCG34*'Makro i swap'!VCE4","v":0},{"$f":"VCH34*'Makro i swap'!VCF4","v":0},{"$f":"VCI34*'Makro i swap'!VCG4","v":0},{"$f":"VCJ34*'Makro i swap'!VCH4","v":0},{"$f":"VCK34*'Makro i swap'!VCI4","v":0},{"$f":"VCL34*'Makro i swap'!VCJ4","v":0},{"$f":"VCM34*'Makro i swap'!VCK4","v":0},{"$f":"VCN34*'Makro i swap'!VCL4","v":0},{"$f":"VCO34*'Makro i swap'!VCM4","v":0},{"$f":"VCP34*'Makro i swap'!VCN4","v":0},{"$f":"VCQ34*'Makro i swap'!VCO4","v":0},{"$f":"VCR34*'Makro i swap'!VCP4","v":0},{"$f":"VCS34*'Makro i swap'!VCQ4","v":0},{"$f":"VCT34*'Makro i swap'!VCR4","v":0},{"$f":"VCU34*'Makro i swap'!VCS4","v":0},{"$f":"VCV34*'Makro i swap'!VCT4","v":0},{"$f":"VCW34*'Makro i swap'!VCU4","v":0},{"$f":"VCX34*'Makro i swap'!VCV4","v":0},{"$f":"VCY34*'Makro i swap'!VCW4","v":0},{"$f":"VCZ34*'Makro i swap'!VCX4","v":0},{"$f":"VDA34*'Makro i swap'!VCY4","v":0},{"$f":"VDB34*'Makro i swap'!VCZ4","v":0},{"$f":"VDC34*'Makro i swap'!VDA4","v":0},{"$f":"VDD34*'Makro i swap'!VDB4","v":0},{"$f":"VDE34*'Makro i swap'!VDC4","v":0},{"$f":"VDF34*'Makro i swap'!VDD4","v":0},{"$f":"VDG34*'Makro i swap'!VDE4","v":0},{"$f":"VDH34*'Makro i swap'!VDF4","v":0},{"$f":"VDI34*'Makro i swap'!VDG4","v":0},{"$f":"VDJ34*'Makro i swap'!VDH4","v":0},{"$f":"VDK34*'Makro i swap'!VDI4","v":0},{"$f":"VDL34*'Makro i swap'!VDJ4","v":0},{"$f":"VDM34*'Makro i swap'!VDK4","v":0},{"$f":"VDN34*'Makro i swap'!VDL4","v":0},{"$f":"VDO34*'Makro i swap'!VDM4","v":0},{"$f":"VDP34*'Makro i swap'!VDN4","v":0},{"$f":"VDQ34*'Makro i swap'!VDO4","v":0},{"$f":"VDR34*'Makro i swap'!VDP4","v":0},{"$f":"VDS34*'Makro i swap'!VDQ4","v":0},{"$f":"VDT34*'Makro i swap'!VDR4","v":0},{"$f":"VDU34*'Makro i swap'!VDS4","v":0},{"$f":"VDV34*'Makro i swap'!VDT4","v":0},{"$f":"VDW34*'Makro i swap'!VDU4","v":0},{"$f":"VDX34*'Makro i swap'!VDV4","v":0},{"$f":"VDY34*'Makro i swap'!VDW4","v":0},{"$f":"VDZ34*'Makro i swap'!VDX4","v":0},{"$f":"VEA34*'Makro i swap'!VDY4","v":0},{"$f":"VEB34*'Makro i swap'!VDZ4","v":0},{"$f":"VEC34*'Makro i swap'!VEA4","v":0},{"$f":"VED34*'Makro i swap'!VEB4","v":0},{"$f":"VEE34*'Makro i swap'!VEC4","v":0},{"$f":"VEF34*'Makro i swap'!VED4","v":0},{"$f":"VEG34*'Makro i swap'!VEE4","v":0},{"$f":"VEH34*'Makro i swap'!VEF4","v":0},{"$f":"VEI34*'Makro i swap'!VEG4","v":0},{"$f":"VEJ34*'Makro i swap'!VEH4","v":0},{"$f":"VEK34*'Makro i swap'!VEI4","v":0},{"$f":"VEL34*'Makro i swap'!VEJ4","v":0},{"$f":"VEM34*'Makro i swap'!VEK4","v":0},{"$f":"VEN34*'Makro i swap'!VEL4","v":0},{"$f":"VEO34*'Makro i swap'!VEM4","v":0},{"$f":"VEP34*'Makro i swap'!VEN4","v":0},{"$f":"VEQ34*'Makro i swap'!VEO4","v":0},{"$f":"VER34*'Makro i swap'!VEP4","v":0},{"$f":"VES34*'Makro i swap'!VEQ4","v":0},{"$f":"VET34*'Makro i swap'!VER4","v":0},{"$f":"VEU34*'Makro i swap'!VES4","v":0},{"$f":"VEV34*'Makro i swap'!VET4","v":0},{"$f":"VEW34*'Makro i swap'!VEU4","v":0},{"$f":"VEX34*'Makro i swap'!VEV4","v":0},{"$f":"VEY34*'Makro i swap'!VEW4","v":0},{"$f":"VEZ34*'Makro i swap'!VEX4","v":0},{"$f":"VFA34*'Makro i swap'!VEY4","v":0},{"$f":"VFB34*'Makro i swap'!VEZ4","v":0},{"$f":"VFC34*'Makro i swap'!VFA4","v":0},{"$f":"VFD34*'Makro i swap'!VFB4","v":0},{"$f":"VFE34*'Makro i swap'!VFC4","v":0},{"$f":"VFF34*'Makro i swap'!VFD4","v":0},{"$f":"VFG34*'Makro i swap'!VFE4","v":0},{"$f":"VFH34*'Makro i swap'!VFF4","v":0},{"$f":"VFI34*'Makro i swap'!VFG4","v":0},{"$f":"VFJ34*'Makro i swap'!VFH4","v":0},{"$f":"VFK34*'Makro i swap'!VFI4","v":0},{"$f":"VFL34*'Makro i swap'!VFJ4","v":0},{"$f":"VFM34*'Makro i swap'!VFK4","v":0},{"$f":"VFN34*'Makro i swap'!VFL4","v":0},{"$f":"VFO34*'Makro i swap'!VFM4","v":0},{"$f":"VFP34*'Makro i swap'!VFN4","v":0},{"$f":"VFQ34*'Makro i swap'!VFO4","v":0},{"$f":"VFR34*'Makro i swap'!VFP4","v":0},{"$f":"VFS34*'Makro i swap'!VFQ4","v":0},{"$f":"VFT34*'Makro i swap'!VFR4","v":0},{"$f":"VFU34*'Makro i swap'!VFS4","v":0},{"$f":"VFV34*'Makro i swap'!VFT4","v":0},{"$f":"VFW34*'Makro i swap'!VFU4","v":0},{"$f":"VFX34*'Makro i swap'!VFV4","v":0},{"$f":"VFY34*'Makro i swap'!VFW4","v":0},{"$f":"VFZ34*'Makro i swap'!VFX4","v":0},{"$f":"VGA34*'Makro i swap'!VFY4","v":0},{"$f":"VGB34*'Makro i swap'!VFZ4","v":0},{"$f":"VGC34*'Makro i swap'!VGA4","v":0},{"$f":"VGD34*'Makro i swap'!VGB4","v":0},{"$f":"VGE34*'Makro i swap'!VGC4","v":0},{"$f":"VGF34*'Makro i swap'!VGD4","v":0},{"$f":"VGG34*'Makro i swap'!VGE4","v":0},{"$f":"VGH34*'Makro i swap'!VGF4","v":0},{"$f":"VGI34*'Makro i swap'!VGG4","v":0},{"$f":"VGJ34*'Makro i swap'!VGH4","v":0},{"$f":"VGK34*'Makro i swap'!VGI4","v":0},{"$f":"VGL34*'Makro i swap'!VGJ4","v":0},{"$f":"VGM34*'Makro i swap'!VGK4","v":0},{"$f":"VGN34*'Makro i swap'!VGL4","v":0},{"$f":"VGO34*'Makro i swap'!VGM4","v":0},{"$f":"VGP34*'Makro i swap'!VGN4","v":0},{"$f":"VGQ34*'Makro i swap'!VGO4","v":0},{"$f":"VGR34*'Makro i swap'!VGP4","v":0},{"$f":"VGS34*'Makro i swap'!VGQ4","v":0},{"$f":"VGT34*'Makro i swap'!VGR4","v":0},{"$f":"VGU34*'Makro i swap'!VGS4","v":0},{"$f":"VGV34*'Makro i swap'!VGT4","v":0},{"$f":"VGW34*'Makro i swap'!VGU4","v":0},{"$f":"VGX34*'Makro i swap'!VGV4","v":0},{"$f":"VGY34*'Makro i swap'!VGW4","v":0},{"$f":"VGZ34*'Makro i swap'!VGX4","v":0},{"$f":"VHA34*'Makro i swap'!VGY4","v":0},{"$f":"VHB34*'Makro i swap'!VGZ4","v":0},{"$f":"VHC34*'Makro i swap'!VHA4","v":0},{"$f":"VHD34*'Makro i swap'!VHB4","v":0},{"$f":"VHE34*'Makro i swap'!VHC4","v":0},{"$f":"VHF34*'Makro i swap'!VHD4","v":0},{"$f":"VHG34*'Makro i swap'!VHE4","v":0},{"$f":"VHH34*'Makro i swap'!VHF4","v":0},{"$f":"VHI34*'Makro i swap'!VHG4","v":0},{"$f":"VHJ34*'Makro i swap'!VHH4","v":0},{"$f":"VHK34*'Makro i swap'!VHI4","v":0},{"$f":"VHL34*'Makro i swap'!VHJ4","v":0},{"$f":"VHM34*'Makro i swap'!VHK4","v":0},{"$f":"VHN34*'Makro i swap'!VHL4","v":0},{"$f":"VHO34*'Makro i swap'!VHM4","v":0},{"$f":"VHP34*'Makro i swap'!VHN4","v":0},{"$f":"VHQ34*'Makro i swap'!VHO4","v":0},{"$f":"VHR34*'Makro i swap'!VHP4","v":0},{"$f":"VHS34*'Makro i swap'!VHQ4","v":0},{"$f":"VHT34*'Makro i swap'!VHR4","v":0},{"$f":"VHU34*'Makro i swap'!VHS4","v":0},{"$f":"VHV34*'Makro i swap'!VHT4","v":0},{"$f":"VHW34*'Makro i swap'!VHU4","v":0},{"$f":"VHX34*'Makro i swap'!VHV4","v":0},{"$f":"VHY34*'Makro i swap'!VHW4","v":0},{"$f":"VHZ34*'Makro i swap'!VHX4","v":0},{"$f":"VIA34*'Makro i swap'!VHY4","v":0},{"$f":"VIB34*'Makro i swap'!VHZ4","v":0},{"$f":"VIC34*'Makro i swap'!VIA4","v":0},{"$f":"VID34*'Makro i swap'!VIB4","v":0},{"$f":"VIE34*'Makro i swap'!VIC4","v":0},{"$f":"VIF34*'Makro i swap'!VID4","v":0},{"$f":"VIG34*'Makro i swap'!VIE4","v":0},{"$f":"VIH34*'Makro i swap'!VIF4","v":0},{"$f":"VII34*'Makro i swap'!VIG4","v":0},{"$f":"VIJ34*'Makro i swap'!VIH4","v":0},{"$f":"VIK34*'Makro i swap'!VII4","v":0},{"$f":"VIL34*'Makro i swap'!VIJ4","v":0},{"$f":"VIM34*'Makro i swap'!VIK4","v":0},{"$f":"VIN34*'Makro i swap'!VIL4","v":0},{"$f":"VIO34*'Makro i swap'!VIM4","v":0},{"$f":"VIP34*'Makro i swap'!VIN4","v":0},{"$f":"VIQ34*'Makro i swap'!VIO4","v":0},{"$f":"VIR34*'Makro i swap'!VIP4","v":0},{"$f":"VIS34*'Makro i swap'!VIQ4","v":0},{"$f":"VIT34*'Makro i swap'!VIR4","v":0},{"$f":"VIU34*'Makro i swap'!VIS4","v":0},{"$f":"VIV34*'Makro i swap'!VIT4","v":0},{"$f":"VIW34*'Makro i swap'!VIU4","v":0},{"$f":"VIX34*'Makro i swap'!VIV4","v":0},{"$f":"VIY34*'Makro i swap'!VIW4","v":0},{"$f":"VIZ34*'Makro i swap'!VIX4","v":0},{"$f":"VJA34*'Makro i swap'!VIY4","v":0},{"$f":"VJB34*'Makro i swap'!VIZ4","v":0},{"$f":"VJC34*'Makro i swap'!VJA4","v":0},{"$f":"VJD34*'Makro i swap'!VJB4","v":0},{"$f":"VJE34*'Makro i swap'!VJC4","v":0},{"$f":"VJF34*'Makro i swap'!VJD4","v":0},{"$f":"VJG34*'Makro i swap'!VJE4","v":0},{"$f":"VJH34*'Makro i swap'!VJF4","v":0},{"$f":"VJI34*'Makro i swap'!VJG4","v":0},{"$f":"VJJ34*'Makro i swap'!VJH4","v":0},{"$f":"VJK34*'Makro i swap'!VJI4","v":0},{"$f":"VJL34*'Makro i swap'!VJJ4","v":0},{"$f":"VJM34*'Makro i swap'!VJK4","v":0},{"$f":"VJN34*'Makro i swap'!VJL4","v":0},{"$f":"VJO34*'Makro i swap'!VJM4","v":0},{"$f":"VJP34*'Makro i swap'!VJN4","v":0},{"$f":"VJQ34*'Makro i swap'!VJO4","v":0},{"$f":"VJR34*'Makro i swap'!VJP4","v":0},{"$f":"VJS34*'Makro i swap'!VJQ4","v":0},{"$f":"VJT34*'Makro i swap'!VJR4","v":0},{"$f":"VJU34*'Makro i swap'!VJS4","v":0},{"$f":"VJV34*'Makro i swap'!VJT4","v":0},{"$f":"VJW34*'Makro i swap'!VJU4","v":0},{"$f":"VJX34*'Makro i swap'!VJV4","v":0},{"$f":"VJY34*'Makro i swap'!VJW4","v":0},{"$f":"VJZ34*'Makro i swap'!VJX4","v":0},{"$f":"VKA34*'Makro i swap'!VJY4","v":0},{"$f":"VKB34*'Makro i swap'!VJZ4","v":0},{"$f":"VKC34*'Makro i swap'!VKA4","v":0},{"$f":"VKD34*'Makro i swap'!VKB4","v":0},{"$f":"VKE34*'Makro i swap'!VKC4","v":0},{"$f":"VKF34*'Makro i swap'!VKD4","v":0},{"$f":"VKG34*'Makro i swap'!VKE4","v":0},{"$f":"VKH34*'Makro i swap'!VKF4","v":0},{"$f":"VKI34*'Makro i swap'!VKG4","v":0},{"$f":"VKJ34*'Makro i swap'!VKH4","v":0},{"$f":"VKK34*'Makro i swap'!VKI4","v":0},{"$f":"VKL34*'Makro i swap'!VKJ4","v":0},{"$f":"VKM34*'Makro i swap'!VKK4","v":0},{"$f":"VKN34*'Makro i swap'!VKL4","v":0},{"$f":"VKO34*'Makro i swap'!VKM4","v":0},{"$f":"VKP34*'Makro i swap'!VKN4","v":0},{"$f":"VKQ34*'Makro i swap'!VKO4","v":0},{"$f":"VKR34*'Makro i swap'!VKP4","v":0},{"$f":"VKS34*'Makro i swap'!VKQ4","v":0},{"$f":"VKT34*'Makro i swap'!VKR4","v":0},{"$f":"VKU34*'Makro i swap'!VKS4","v":0},{"$f":"VKV34*'Makro i swap'!VKT4","v":0},{"$f":"VKW34*'Makro i swap'!VKU4","v":0},{"$f":"VKX34*'Makro i swap'!VKV4","v":0},{"$f":"VKY34*'Makro i swap'!VKW4","v":0},{"$f":"VKZ34*'Makro i swap'!VKX4","v":0},{"$f":"VLA34*'Makro i swap'!VKY4","v":0},{"$f":"VLB34*'Makro i swap'!VKZ4","v":0},{"$f":"VLC34*'Makro i swap'!VLA4","v":0},{"$f":"VLD34*'Makro i swap'!VLB4","v":0},{"$f":"VLE34*'Makro i swap'!VLC4","v":0},{"$f":"VLF34*'Makro i swap'!VLD4","v":0},{"$f":"VLG34*'Makro i swap'!VLE4","v":0},{"$f":"VLH34*'Makro i swap'!VLF4","v":0},{"$f":"VLI34*'Makro i swap'!VLG4","v":0},{"$f":"VLJ34*'Makro i swap'!VLH4","v":0},{"$f":"VLK34*'Makro i swap'!VLI4","v":0},{"$f":"VLL34*'Makro i swap'!VLJ4","v":0},{"$f":"VLM34*'Makro i swap'!VLK4","v":0},{"$f":"VLN34*'Makro i swap'!VLL4","v":0},{"$f":"VLO34*'Makro i swap'!VLM4","v":0},{"$f":"VLP34*'Makro i swap'!VLN4","v":0},{"$f":"VLQ34*'Makro i swap'!VLO4","v":0},{"$f":"VLR34*'Makro i swap'!VLP4","v":0},{"$f":"VLS34*'Makro i swap'!VLQ4","v":0},{"$f":"VLT34*'Makro i swap'!VLR4","v":0},{"$f":"VLU34*'Makro i swap'!VLS4","v":0},{"$f":"VLV34*'Makro i swap'!VLT4","v":0},{"$f":"VLW34*'Makro i swap'!VLU4","v":0},{"$f":"VLX34*'Makro i swap'!VLV4","v":0},{"$f":"VLY34*'Makro i swap'!VLW4","v":0},{"$f":"VLZ34*'Makro i swap'!VLX4","v":0},{"$f":"VMA34*'Makro i swap'!VLY4","v":0},{"$f":"VMB34*'Makro i swap'!VLZ4","v":0},{"$f":"VMC34*'Makro i swap'!VMA4","v":0},{"$f":"VMD34*'Makro i swap'!VMB4","v":0},{"$f":"VME34*'Makro i swap'!VMC4","v":0},{"$f":"VMF34*'Makro i swap'!VMD4","v":0},{"$f":"VMG34*'Makro i swap'!VME4","v":0},{"$f":"VMH34*'Makro i swap'!VMF4","v":0},{"$f":"VMI34*'Makro i swap'!VMG4","v":0},{"$f":"VMJ34*'Makro i swap'!VMH4","v":0},{"$f":"VMK34*'Makro i swap'!VMI4","v":0},{"$f":"VML34*'Makro i swap'!VMJ4","v":0},{"$f":"VMM34*'Makro i swap'!VMK4","v":0},{"$f":"VMN34*'Makro i swap'!VML4","v":0},{"$f":"VMO34*'Makro i swap'!VMM4","v":0},{"$f":"VMP34*'Makro i swap'!VMN4","v":0},{"$f":"VMQ34*'Makro i swap'!VMO4","v":0},{"$f":"VMR34*'Makro i swap'!VMP4","v":0},{"$f":"VMS34*'Makro i swap'!VMQ4","v":0},{"$f":"VMT34*'Makro i swap'!VMR4","v":0},{"$f":"VMU34*'Makro i swap'!VMS4","v":0},{"$f":"VMV34*'Makro i swap'!VMT4","v":0},{"$f":"VMW34*'Makro i swap'!VMU4","v":0},{"$f":"VMX34*'Makro i swap'!VMV4","v":0},{"$f":"VMY34*'Makro i swap'!VMW4","v":0},{"$f":"VMZ34*'Makro i swap'!VMX4","v":0},{"$f":"VNA34*'Makro i swap'!VMY4","v":0},{"$f":"VNB34*'Makro i swap'!VMZ4","v":0},{"$f":"VNC34*'Makro i swap'!VNA4","v":0},{"$f":"VND34*'Makro i swap'!VNB4","v":0},{"$f":"VNE34*'Makro i swap'!VNC4","v":0},{"$f":"VNF34*'Makro i swap'!VND4","v":0},{"$f":"VNG34*'Makro i swap'!VNE4","v":0},{"$f":"VNH34*'Makro i swap'!VNF4","v":0},{"$f":"VNI34*'Makro i swap'!VNG4","v":0},{"$f":"VNJ34*'Makro i swap'!VNH4","v":0},{"$f":"VNK34*'Makro i swap'!VNI4","v":0},{"$f":"VNL34*'Makro i swap'!VNJ4","v":0},{"$f":"VNM34*'Makro i swap'!VNK4","v":0},{"$f":"VNN34*'Makro i swap'!VNL4","v":0},{"$f":"VNO34*'Makro i swap'!VNM4","v":0},{"$f":"VNP34*'Makro i swap'!VNN4","v":0},{"$f":"VNQ34*'Makro i swap'!VNO4","v":0},{"$f":"VNR34*'Makro i swap'!VNP4","v":0},{"$f":"VNS34*'Makro i swap'!VNQ4","v":0},{"$f":"VNT34*'Makro i swap'!VNR4","v":0},{"$f":"VNU34*'Makro i swap'!VNS4","v":0},{"$f":"VNV34*'Makro i swap'!VNT4","v":0},{"$f":"VNW34*'Makro i swap'!VNU4","v":0},{"$f":"VNX34*'Makro i swap'!VNV4","v":0},{"$f":"VNY34*'Makro i swap'!VNW4","v":0},{"$f":"VNZ34*'Makro i swap'!VNX4","v":0},{"$f":"VOA34*'Makro i swap'!VNY4","v":0},{"$f":"VOB34*'Makro i swap'!VNZ4","v":0},{"$f":"VOC34*'Makro i swap'!VOA4","v":0},{"$f":"VOD34*'Makro i swap'!VOB4","v":0},{"$f":"VOE34*'Makro i swap'!VOC4","v":0},{"$f":"VOF34*'Makro i swap'!VOD4","v":0},{"$f":"VOG34*'Makro i swap'!VOE4","v":0},{"$f":"VOH34*'Makro i swap'!VOF4","v":0},{"$f":"VOI34*'Makro i swap'!VOG4","v":0},{"$f":"VOJ34*'Makro i swap'!VOH4","v":0},{"$f":"VOK34*'Makro i swap'!VOI4","v":0},{"$f":"VOL34*'Makro i swap'!VOJ4","v":0},{"$f":"VOM34*'Makro i swap'!VOK4","v":0},{"$f":"VON34*'Makro i swap'!VOL4","v":0},{"$f":"VOO34*'Makro i swap'!VOM4","v":0},{"$f":"VOP34*'Makro i swap'!VON4","v":0},{"$f":"VOQ34*'Makro i swap'!VOO4","v":0},{"$f":"VOR34*'Makro i swap'!VOP4","v":0},{"$f":"VOS34*'Makro i swap'!VOQ4","v":0},{"$f":"VOT34*'Makro i swap'!VOR4","v":0},{"$f":"VOU34*'Makro i swap'!VOS4","v":0},{"$f":"VOV34*'Makro i swap'!VOT4","v":0},{"$f":"VOW34*'Makro i swap'!VOU4","v":0},{"$f":"VOX34*'Makro i swap'!VOV4","v":0},{"$f":"VOY34*'Makro i swap'!VOW4","v":0},{"$f":"VOZ34*'Makro i swap'!VOX4","v":0},{"$f":"VPA34*'Makro i swap'!VOY4","v":0},{"$f":"VPB34*'Makro i swap'!VOZ4","v":0},{"$f":"VPC34*'Makro i swap'!VPA4","v":0},{"$f":"VPD34*'Makro i swap'!VPB4","v":0},{"$f":"VPE34*'Makro i swap'!VPC4","v":0},{"$f":"VPF34*'Makro i swap'!VPD4","v":0},{"$f":"VPG34*'Makro i swap'!VPE4","v":0},{"$f":"VPH34*'Makro i swap'!VPF4","v":0},{"$f":"VPI34*'Makro i swap'!VPG4","v":0},{"$f":"VPJ34*'Makro i swap'!VPH4","v":0},{"$f":"VPK34*'Makro i swap'!VPI4","v":0},{"$f":"VPL34*'Makro i swap'!VPJ4","v":0},{"$f":"VPM34*'Makro i swap'!VPK4","v":0},{"$f":"VPN34*'Makro i swap'!VPL4","v":0},{"$f":"VPO34*'Makro i swap'!VPM4","v":0},{"$f":"VPP34*'Makro i swap'!VPN4","v":0},{"$f":"VPQ34*'Makro i swap'!VPO4","v":0},{"$f":"VPR34*'Makro i swap'!VPP4","v":0},{"$f":"VPS34*'Makro i swap'!VPQ4","v":0},{"$f":"VPT34*'Makro i swap'!VPR4","v":0},{"$f":"VPU34*'Makro i swap'!VPS4","v":0},{"$f":"VPV34*'Makro i swap'!VPT4","v":0},{"$f":"VPW34*'Makro i swap'!VPU4","v":0},{"$f":"VPX34*'Makro i swap'!VPV4","v":0},{"$f":"VPY34*'Makro i swap'!VPW4","v":0},{"$f":"VPZ34*'Makro i swap'!VPX4","v":0},{"$f":"VQA34*'Makro i swap'!VPY4","v":0},{"$f":"VQB34*'Makro i swap'!VPZ4","v":0},{"$f":"VQC34*'Makro i swap'!VQA4","v":0},{"$f":"VQD34*'Makro i swap'!VQB4","v":0},{"$f":"VQE34*'Makro i swap'!VQC4","v":0},{"$f":"VQF34*'Makro i swap'!VQD4","v":0},{"$f":"VQG34*'Makro i swap'!VQE4","v":0},{"$f":"VQH34*'Makro i swap'!VQF4","v":0},{"$f":"VQI34*'Makro i swap'!VQG4","v":0},{"$f":"VQJ34*'Makro i swap'!VQH4","v":0},{"$f":"VQK34*'Makro i swap'!VQI4","v":0},{"$f":"VQL34*'Makro i swap'!VQJ4","v":0},{"$f":"VQM34*'Makro i swap'!VQK4","v":0},{"$f":"VQN34*'Makro i swap'!VQL4","v":0},{"$f":"VQO34*'Makro i swap'!VQM4","v":0},{"$f":"VQP34*'Makro i swap'!VQN4","v":0},{"$f":"VQQ34*'Makro i swap'!VQO4","v":0},{"$f":"VQR34*'Makro i swap'!VQP4","v":0},{"$f":"VQS34*'Makro i swap'!VQQ4","v":0},{"$f":"VQT34*'Makro i swap'!VQR4","v":0},{"$f":"VQU34*'Makro i swap'!VQS4","v":0},{"$f":"VQV34*'Makro i swap'!VQT4","v":0},{"$f":"VQW34*'Makro i swap'!VQU4","v":0},{"$f":"VQX34*'Makro i swap'!VQV4","v":0},{"$f":"VQY34*'Makro i swap'!VQW4","v":0},{"$f":"VQZ34*'Makro i swap'!VQX4","v":0},{"$f":"VRA34*'Makro i swap'!VQY4","v":0},{"$f":"VRB34*'Makro i swap'!VQZ4","v":0},{"$f":"VRC34*'Makro i swap'!VRA4","v":0},{"$f":"VRD34*'Makro i swap'!VRB4","v":0},{"$f":"VRE34*'Makro i swap'!VRC4","v":0},{"$f":"VRF34*'Makro i swap'!VRD4","v":0},{"$f":"VRG34*'Makro i swap'!VRE4","v":0},{"$f":"VRH34*'Makro i swap'!VRF4","v":0},{"$f":"VRI34*'Makro i swap'!VRG4","v":0},{"$f":"VRJ34*'Makro i swap'!VRH4","v":0},{"$f":"VRK34*'Makro i swap'!VRI4","v":0},{"$f":"VRL34*'Makro i swap'!VRJ4","v":0},{"$f":"VRM34*'Makro i swap'!VRK4","v":0},{"$f":"VRN34*'Makro i swap'!VRL4","v":0},{"$f":"VRO34*'Makro i swap'!VRM4","v":0},{"$f":"VRP34*'Makro i swap'!VRN4","v":0},{"$f":"VRQ34*'Makro i swap'!VRO4","v":0},{"$f":"VRR34*'Makro i swap'!VRP4","v":0},{"$f":"VRS34*'Makro i swap'!VRQ4","v":0},{"$f":"VRT34*'Makro i swap'!VRR4","v":0},{"$f":"VRU34*'Makro i swap'!VRS4","v":0},{"$f":"VRV34*'Makro i swap'!VRT4","v":0},{"$f":"VRW34*'Makro i swap'!VRU4","v":0},{"$f":"VRX34*'Makro i swap'!VRV4","v":0},{"$f":"VRY34*'Makro i swap'!VRW4","v":0},{"$f":"VRZ34*'Makro i swap'!VRX4","v":0},{"$f":"VSA34*'Makro i swap'!VRY4","v":0},{"$f":"VSB34*'Makro i swap'!VRZ4","v":0},{"$f":"VSC34*'Makro i swap'!VSA4","v":0},{"$f":"VSD34*'Makro i swap'!VSB4","v":0},{"$f":"VSE34*'Makro i swap'!VSC4","v":0},{"$f":"VSF34*'Makro i swap'!VSD4","v":0},{"$f":"VSG34*'Makro i swap'!VSE4","v":0},{"$f":"VSH34*'Makro i swap'!VSF4","v":0},{"$f":"VSI34*'Makro i swap'!VSG4","v":0},{"$f":"VSJ34*'Makro i swap'!VSH4","v":0},{"$f":"VSK34*'Makro i swap'!VSI4","v":0},{"$f":"VSL34*'Makro i swap'!VSJ4","v":0},{"$f":"VSM34*'Makro i swap'!VSK4","v":0},{"$f":"VSN34*'Makro i swap'!VSL4","v":0},{"$f":"VSO34*'Makro i swap'!VSM4","v":0},{"$f":"VSP34*'Makro i swap'!VSN4","v":0},{"$f":"VSQ34*'Makro i swap'!VSO4","v":0},{"$f":"VSR34*'Makro i swap'!VSP4","v":0},{"$f":"VSS34*'Makro i swap'!VSQ4","v":0},{"$f":"VST34*'Makro i swap'!VSR4","v":0},{"$f":"VSU34*'Makro i swap'!VSS4","v":0},{"$f":"VSV34*'Makro i swap'!VST4","v":0},{"$f":"VSW34*'Makro i swap'!VSU4","v":0},{"$f":"VSX34*'Makro i swap'!VSV4","v":0},{"$f":"VSY34*'Makro i swap'!VSW4","v":0},{"$f":"VSZ34*'Makro i swap'!VSX4","v":0},{"$f":"VTA34*'Makro i swap'!VSY4","v":0},{"$f":"VTB34*'Makro i swap'!VSZ4","v":0},{"$f":"VTC34*'Makro i swap'!VTA4","v":0},{"$f":"VTD34*'Makro i swap'!VTB4","v":0},{"$f":"VTE34*'Makro i swap'!VTC4","v":0},{"$f":"VTF34*'Makro i swap'!VTD4","v":0},{"$f":"VTG34*'Makro i swap'!VTE4","v":0},{"$f":"VTH34*'Makro i swap'!VTF4","v":0},{"$f":"VTI34*'Makro i swap'!VTG4","v":0},{"$f":"VTJ34*'Makro i swap'!VTH4","v":0},{"$f":"VTK34*'Makro i swap'!VTI4","v":0},{"$f":"VTL34*'Makro i swap'!VTJ4","v":0},{"$f":"VTM34*'Makro i swap'!VTK4","v":0},{"$f":"VTN34*'Makro i swap'!VTL4","v":0},{"$f":"VTO34*'Makro i swap'!VTM4","v":0},{"$f":"VTP34*'Makro i swap'!VTN4","v":0},{"$f":"VTQ34*'Makro i swap'!VTO4","v":0},{"$f":"VTR34*'Makro i swap'!VTP4","v":0},{"$f":"VTS34*'Makro i swap'!VTQ4","v":0},{"$f":"VTT34*'Makro i swap'!VTR4","v":0},{"$f":"VTU34*'Makro i swap'!VTS4","v":0},{"$f":"VTV34*'Makro i swap'!VTT4","v":0},{"$f":"VTW34*'Makro i swap'!VTU4","v":0},{"$f":"VTX34*'Makro i swap'!VTV4","v":0},{"$f":"VTY34*'Makro i swap'!VTW4","v":0},{"$f":"VTZ34*'Makro i swap'!VTX4","v":0},{"$f":"VUA34*'Makro i swap'!VTY4","v":0},{"$f":"VUB34*'Makro i swap'!VTZ4","v":0},{"$f":"VUC34*'Makro i swap'!VUA4","v":0},{"$f":"VUD34*'Makro i swap'!VUB4","v":0},{"$f":"VUE34*'Makro i swap'!VUC4","v":0},{"$f":"VUF34*'Makro i swap'!VUD4","v":0},{"$f":"VUG34*'Makro i swap'!VUE4","v":0},{"$f":"VUH34*'Makro i swap'!VUF4","v":0},{"$f":"VUI34*'Makro i swap'!VUG4","v":0},{"$f":"VUJ34*'Makro i swap'!VUH4","v":0},{"$f":"VUK34*'Makro i swap'!VUI4","v":0},{"$f":"VUL34*'Makro i swap'!VUJ4","v":0},{"$f":"VUM34*'Makro i swap'!VUK4","v":0},{"$f":"VUN34*'Makro i swap'!VUL4","v":0},{"$f":"VUO34*'Makro i swap'!VUM4","v":0},{"$f":"VUP34*'Makro i swap'!VUN4","v":0},{"$f":"VUQ34*'Makro i swap'!VUO4","v":0},{"$f":"VUR34*'Makro i swap'!VUP4","v":0},{"$f":"VUS34*'Makro i swap'!VUQ4","v":0},{"$f":"VUT34*'Makro i swap'!VUR4","v":0},{"$f":"VUU34*'Makro i swap'!VUS4","v":0},{"$f":"VUV34*'Makro i swap'!VUT4","v":0},{"$f":"VUW34*'Makro i swap'!VUU4","v":0},{"$f":"VUX34*'Makro i swap'!VUV4","v":0},{"$f":"VUY34*'Makro i swap'!VUW4","v":0},{"$f":"VUZ34*'Makro i swap'!VUX4","v":0},{"$f":"VVA34*'Makro i swap'!VUY4","v":0},{"$f":"VVB34*'Makro i swap'!VUZ4","v":0},{"$f":"VVC34*'Makro i swap'!VVA4","v":0},{"$f":"VVD34*'Makro i swap'!VVB4","v":0},{"$f":"VVE34*'Makro i swap'!VVC4","v":0},{"$f":"VVF34*'Makro i swap'!VVD4","v":0},{"$f":"VVG34*'Makro i swap'!VVE4","v":0},{"$f":"VVH34*'Makro i swap'!VVF4","v":0},{"$f":"VVI34*'Makro i swap'!VVG4","v":0},{"$f":"VVJ34*'Makro i swap'!VVH4","v":0},{"$f":"VVK34*'Makro i swap'!VVI4","v":0},{"$f":"VVL34*'Makro i swap'!VVJ4","v":0},{"$f":"VVM34*'Makro i swap'!VVK4","v":0},{"$f":"VVN34*'Makro i swap'!VVL4","v":0},{"$f":"VVO34*'Makro i swap'!VVM4","v":0},{"$f":"VVP34*'Makro i swap'!VVN4","v":0},{"$f":"VVQ34*'Makro i swap'!VVO4","v":0},{"$f":"VVR34*'Makro i swap'!VVP4","v":0},{"$f":"VVS34*'Makro i swap'!VVQ4","v":0},{"$f":"VVT34*'Makro i swap'!VVR4","v":0},{"$f":"VVU34*'Makro i swap'!VVS4","v":0},{"$f":"VVV34*'Makro i swap'!VVT4","v":0},{"$f":"VVW34*'Makro i swap'!VVU4","v":0},{"$f":"VVX34*'Makro i swap'!VVV4","v":0},{"$f":"VVY34*'Makro i swap'!VVW4","v":0},{"$f":"VVZ34*'Makro i swap'!VVX4","v":0},{"$f":"VWA34*'Makro i swap'!VVY4","v":0},{"$f":"VWB34*'Makro i swap'!VVZ4","v":0},{"$f":"VWC34*'Makro i swap'!VWA4","v":0},{"$f":"VWD34*'Makro i swap'!VWB4","v":0},{"$f":"VWE34*'Makro i swap'!VWC4","v":0},{"$f":"VWF34*'Makro i swap'!VWD4","v":0},{"$f":"VWG34*'Makro i swap'!VWE4","v":0},{"$f":"VWH34*'Makro i swap'!VWF4","v":0},{"$f":"VWI34*'Makro i swap'!VWG4","v":0},{"$f":"VWJ34*'Makro i swap'!VWH4","v":0},{"$f":"VWK34*'Makro i swap'!VWI4","v":0},{"$f":"VWL34*'Makro i swap'!VWJ4","v":0},{"$f":"VWM34*'Makro i swap'!VWK4","v":0},{"$f":"VWN34*'Makro i swap'!VWL4","v":0},{"$f":"VWO34*'Makro i swap'!VWM4","v":0},{"$f":"VWP34*'Makro i swap'!VWN4","v":0},{"$f":"VWQ34*'Makro i swap'!VWO4","v":0},{"$f":"VWR34*'Makro i swap'!VWP4","v":0},{"$f":"VWS34*'Makro i swap'!VWQ4","v":0},{"$f":"VWT34*'Makro i swap'!VWR4","v":0},{"$f":"VWU34*'Makro i swap'!VWS4","v":0},{"$f":"VWV34*'Makro i swap'!VWT4","v":0},{"$f":"VWW34*'Makro i swap'!VWU4","v":0},{"$f":"VWX34*'Makro i swap'!VWV4","v":0},{"$f":"VWY34*'Makro i swap'!VWW4","v":0},{"$f":"VWZ34*'Makro i swap'!VWX4","v":0},{"$f":"VXA34*'Makro i swap'!VWY4","v":0},{"$f":"VXB34*'Makro i swap'!VWZ4","v":0},{"$f":"VXC34*'Makro i swap'!VXA4","v":0},{"$f":"VXD34*'Makro i swap'!VXB4","v":0},{"$f":"VXE34*'Makro i swap'!VXC4","v":0},{"$f":"VXF34*'Makro i swap'!VXD4","v":0},{"$f":"VXG34*'Makro i swap'!VXE4","v":0},{"$f":"VXH34*'Makro i swap'!VXF4","v":0},{"$f":"VXI34*'Makro i swap'!VXG4","v":0},{"$f":"VXJ34*'Makro i swap'!VXH4","v":0},{"$f":"VXK34*'Makro i swap'!VXI4","v":0},{"$f":"VXL34*'Makro i swap'!VXJ4","v":0},{"$f":"VXM34*'Makro i swap'!VXK4","v":0},{"$f":"VXN34*'Makro i swap'!VXL4","v":0},{"$f":"VXO34*'Makro i swap'!VXM4","v":0},{"$f":"VXP34*'Makro i swap'!VXN4","v":0},{"$f":"VXQ34*'Makro i swap'!VXO4","v":0},{"$f":"VXR34*'Makro i swap'!VXP4","v":0},{"$f":"VXS34*'Makro i swap'!VXQ4","v":0},{"$f":"VXT34*'Makro i swap'!VXR4","v":0},{"$f":"VXU34*'Makro i swap'!VXS4","v":0},{"$f":"VXV34*'Makro i swap'!VXT4","v":0},{"$f":"VXW34*'Makro i swap'!VXU4","v":0},{"$f":"VXX34*'Makro i swap'!VXV4","v":0},{"$f":"VXY34*'Makro i swap'!VXW4","v":0},{"$f":"VXZ34*'Makro i swap'!VXX4","v":0},{"$f":"VYA34*'Makro i swap'!VXY4","v":0},{"$f":"VYB34*'Makro i swap'!VXZ4","v":0},{"$f":"VYC34*'Makro i swap'!VYA4","v":0},{"$f":"VYD34*'Makro i swap'!VYB4","v":0},{"$f":"VYE34*'Makro i swap'!VYC4","v":0},{"$f":"VYF34*'Makro i swap'!VYD4","v":0},{"$f":"VYG34*'Makro i swap'!VYE4","v":0},{"$f":"VYH34*'Makro i swap'!VYF4","v":0},{"$f":"VYI34*'Makro i swap'!VYG4","v":0},{"$f":"VYJ34*'Makro i swap'!VYH4","v":0},{"$f":"VYK34*'Makro i swap'!VYI4","v":0},{"$f":"VYL34*'Makro i swap'!VYJ4","v":0},{"$f":"VYM34*'Makro i swap'!VYK4","v":0},{"$f":"VYN34*'Makro i swap'!VYL4","v":0},{"$f":"VYO34*'Makro i swap'!VYM4","v":0},{"$f":"VYP34*'Makro i swap'!VYN4","v":0},{"$f":"VYQ34*'Makro i swap'!VYO4","v":0},{"$f":"VYR34*'Makro i swap'!VYP4","v":0},{"$f":"VYS34*'Makro i swap'!VYQ4","v":0},{"$f":"VYT34*'Makro i swap'!VYR4","v":0},{"$f":"VYU34*'Makro i swap'!VYS4","v":0},{"$f":"VYV34*'Makro i swap'!VYT4","v":0},{"$f":"VYW34*'Makro i swap'!VYU4","v":0},{"$f":"VYX34*'Makro i swap'!VYV4","v":0},{"$f":"VYY34*'Makro i swap'!VYW4","v":0},{"$f":"VYZ34*'Makro i swap'!VYX4","v":0},{"$f":"VZA34*'Makro i swap'!VYY4","v":0},{"$f":"VZB34*'Makro i swap'!VYZ4","v":0},{"$f":"VZC34*'Makro i swap'!VZA4","v":0},{"$f":"VZD34*'Makro i swap'!VZB4","v":0},{"$f":"VZE34*'Makro i swap'!VZC4","v":0},{"$f":"VZF34*'Makro i swap'!VZD4","v":0},{"$f":"VZG34*'Makro i swap'!VZE4","v":0},{"$f":"VZH34*'Makro i swap'!VZF4","v":0},{"$f":"VZI34*'Makro i swap'!VZG4","v":0},{"$f":"VZJ34*'Makro i swap'!VZH4","v":0},{"$f":"VZK34*'Makro i swap'!VZI4","v":0},{"$f":"VZL34*'Makro i swap'!VZJ4","v":0},{"$f":"VZM34*'Makro i swap'!VZK4","v":0},{"$f":"VZN34*'Makro i swap'!VZL4","v":0},{"$f":"VZO34*'Makro i swap'!VZM4","v":0},{"$f":"VZP34*'Makro i swap'!VZN4","v":0},{"$f":"VZQ34*'Makro i swap'!VZO4","v":0},{"$f":"VZR34*'Makro i swap'!VZP4","v":0},{"$f":"VZS34*'Makro i swap'!VZQ4","v":0},{"$f":"VZT34*'Makro i swap'!VZR4","v":0},{"$f":"VZU34*'Makro i swap'!VZS4","v":0},{"$f":"VZV34*'Makro i swap'!VZT4","v":0},{"$f":"VZW34*'Makro i swap'!VZU4","v":0},{"$f":"VZX34*'Makro i swap'!VZV4","v":0},{"$f":"VZY34*'Makro i swap'!VZW4","v":0},{"$f":"VZZ34*'Makro i swap'!VZX4","v":0},{"$f":"WAA34*'Makro i swap'!VZY4","v":0},{"$f":"WAB34*'Makro i swap'!VZZ4","v":0},{"$f":"WAC34*'Makro i swap'!WAA4","v":0},{"$f":"WAD34*'Makro i swap'!WAB4","v":0},{"$f":"WAE34*'Makro i swap'!WAC4","v":0},{"$f":"WAF34*'Makro i swap'!WAD4","v":0},{"$f":"WAG34*'Makro i swap'!WAE4","v":0},{"$f":"WAH34*'Makro i swap'!WAF4","v":0},{"$f":"WAI34*'Makro i swap'!WAG4","v":0},{"$f":"WAJ34*'Makro i swap'!WAH4","v":0},{"$f":"WAK34*'Makro i swap'!WAI4","v":0},{"$f":"WAL34*'Makro i swap'!WAJ4","v":0},{"$f":"WAM34*'Makro i swap'!WAK4","v":0},{"$f":"WAN34*'Makro i swap'!WAL4","v":0},{"$f":"WAO34*'Makro i swap'!WAM4","v":0},{"$f":"WAP34*'Makro i swap'!WAN4","v":0},{"$f":"WAQ34*'Makro i swap'!WAO4","v":0},{"$f":"WAR34*'Makro i swap'!WAP4","v":0},{"$f":"WAS34*'Makro i swap'!WAQ4","v":0},{"$f":"WAT34*'Makro i swap'!WAR4","v":0},{"$f":"WAU34*'Makro i swap'!WAS4","v":0},{"$f":"WAV34*'Makro i swap'!WAT4","v":0},{"$f":"WAW34*'Makro i swap'!WAU4","v":0},{"$f":"WAX34*'Makro i swap'!WAV4","v":0},{"$f":"WAY34*'Makro i swap'!WAW4","v":0},{"$f":"WAZ34*'Makro i swap'!WAX4","v":0},{"$f":"WBA34*'Makro i swap'!WAY4","v":0},{"$f":"WBB34*'Makro i swap'!WAZ4","v":0},{"$f":"WBC34*'Makro i swap'!WBA4","v":0},{"$f":"WBD34*'Makro i swap'!WBB4","v":0},{"$f":"WBE34*'Makro i swap'!WBC4","v":0},{"$f":"WBF34*'Makro i swap'!WBD4","v":0},{"$f":"WBG34*'Makro i swap'!WBE4","v":0},{"$f":"WBH34*'Makro i swap'!WBF4","v":0},{"$f":"WBI34*'Makro i swap'!WBG4","v":0},{"$f":"WBJ34*'Makro i swap'!WBH4","v":0},{"$f":"WBK34*'Makro i swap'!WBI4","v":0},{"$f":"WBL34*'Makro i swap'!WBJ4","v":0},{"$f":"WBM34*'Makro i swap'!WBK4","v":0},{"$f":"WBN34*'Makro i swap'!WBL4","v":0},{"$f":"WBO34*'Makro i swap'!WBM4","v":0},{"$f":"WBP34*'Makro i swap'!WBN4","v":0},{"$f":"WBQ34*'Makro i swap'!WBO4","v":0},{"$f":"WBR34*'Makro i swap'!WBP4","v":0},{"$f":"WBS34*'Makro i swap'!WBQ4","v":0},{"$f":"WBT34*'Makro i swap'!WBR4","v":0},{"$f":"WBU34*'Makro i swap'!WBS4","v":0},{"$f":"WBV34*'Makro i swap'!WBT4","v":0},{"$f":"WBW34*'Makro i swap'!WBU4","v":0},{"$f":"WBX34*'Makro i swap'!WBV4","v":0},{"$f":"WBY34*'Makro i swap'!WBW4","v":0},{"$f":"WBZ34*'Makro i swap'!WBX4","v":0},{"$f":"WCA34*'Makro i swap'!WBY4","v":0},{"$f":"WCB34*'Makro i swap'!WBZ4","v":0},{"$f":"WCC34*'Makro i swap'!WCA4","v":0},{"$f":"WCD34*'Makro i swap'!WCB4","v":0},{"$f":"WCE34*'Makro i swap'!WCC4","v":0},{"$f":"WCF34*'Makro i swap'!WCD4","v":0},{"$f":"WCG34*'Makro i swap'!WCE4","v":0},{"$f":"WCH34*'Makro i swap'!WCF4","v":0},{"$f":"WCI34*'Makro i swap'!WCG4","v":0},{"$f":"WCJ34*'Makro i swap'!WCH4","v":0},{"$f":"WCK34*'Makro i swap'!WCI4","v":0},{"$f":"WCL34*'Makro i swap'!WCJ4","v":0},{"$f":"WCM34*'Makro i swap'!WCK4","v":0},{"$f":"WCN34*'Makro i swap'!WCL4","v":0},{"$f":"WCO34*'Makro i swap'!WCM4","v":0},{"$f":"WCP34*'Makro i swap'!WCN4","v":0},{"$f":"WCQ34*'Makro i swap'!WCO4","v":0},{"$f":"WCR34*'Makro i swap'!WCP4","v":0},{"$f":"WCS34*'Makro i swap'!WCQ4","v":0},{"$f":"WCT34*'Makro i swap'!WCR4","v":0},{"$f":"WCU34*'Makro i swap'!WCS4","v":0},{"$f":"WCV34*'Makro i swap'!WCT4","v":0},{"$f":"WCW34*'Makro i swap'!WCU4","v":0},{"$f":"WCX34*'Makro i swap'!WCV4","v":0},{"$f":"WCY34*'Makro i swap'!WCW4","v":0},{"$f":"WCZ34*'Makro i swap'!WCX4","v":0},{"$f":"WDA34*'Makro i swap'!WCY4","v":0},{"$f":"WDB34*'Makro i swap'!WCZ4","v":0},{"$f":"WDC34*'Makro i swap'!WDA4","v":0},{"$f":"WDD34*'Makro i swap'!WDB4","v":0},{"$f":"WDE34*'Makro i swap'!WDC4","v":0},{"$f":"WDF34*'Makro i swap'!WDD4","v":0},{"$f":"WDG34*'Makro i swap'!WDE4","v":0},{"$f":"WDH34*'Makro i swap'!WDF4","v":0},{"$f":"WDI34*'Makro i swap'!WDG4","v":0},{"$f":"WDJ34*'Makro i swap'!WDH4","v":0},{"$f":"WDK34*'Makro i swap'!WDI4","v":0},{"$f":"WDL34*'Makro i swap'!WDJ4","v":0},{"$f":"WDM34*'Makro i swap'!WDK4","v":0},{"$f":"WDN34*'Makro i swap'!WDL4","v":0},{"$f":"WDO34*'Makro i swap'!WDM4","v":0},{"$f":"WDP34*'Makro i swap'!WDN4","v":0},{"$f":"WDQ34*'Makro i swap'!WDO4","v":0},{"$f":"WDR34*'Makro i swap'!WDP4","v":0},{"$f":"WDS34*'Makro i swap'!WDQ4","v":0},{"$f":"WDT34*'Makro i swap'!WDR4","v":0},{"$f":"WDU34*'Makro i swap'!WDS4","v":0},{"$f":"WDV34*'Makro i swap'!WDT4","v":0},{"$f":"WDW34*'Makro i swap'!WDU4","v":0},{"$f":"WDX34*'Makro i swap'!WDV4","v":0},{"$f":"WDY34*'Makro i swap'!WDW4","v":0},{"$f":"WDZ34*'Makro i swap'!WDX4","v":0},{"$f":"WEA34*'Makro i swap'!WDY4","v":0},{"$f":"WEB34*'Makro i swap'!WDZ4","v":0},{"$f":"WEC34*'Makro i swap'!WEA4","v":0},{"$f":"WED34*'Makro i swap'!WEB4","v":0},{"$f":"WEE34*'Makro i swap'!WEC4","v":0},{"$f":"WEF34*'Makro i swap'!WED4","v":0},{"$f":"WEG34*'Makro i swap'!WEE4","v":0},{"$f":"WEH34*'Makro i swap'!WEF4","v":0},{"$f":"WEI34*'Makro i swap'!WEG4","v":0},{"$f":"WEJ34*'Makro i swap'!WEH4","v":0},{"$f":"WEK34*'Makro i swap'!WEI4","v":0},{"$f":"WEL34*'Makro i swap'!WEJ4","v":0},{"$f":"WEM34*'Makro i swap'!WEK4","v":0},{"$f":"WEN34*'Makro i swap'!WEL4","v":0},{"$f":"WEO34*'Makro i swap'!WEM4","v":0},{"$f":"WEP34*'Makro i swap'!WEN4","v":0},{"$f":"WEQ34*'Makro i swap'!WEO4","v":0},{"$f":"WER34*'Makro i swap'!WEP4","v":0},{"$f":"WES34*'Makro i swap'!WEQ4","v":0},{"$f":"WET34*'Makro i swap'!WER4","v":0},{"$f":"WEU34*'Makro i swap'!WES4","v":0},{"$f":"WEV34*'Makro i swap'!WET4","v":0},{"$f":"WEW34*'Makro i swap'!WEU4","v":0},{"$f":"WEX34*'Makro i swap'!WEV4","v":0},{"$f":"WEY34*'Makro i swap'!WEW4","v":0},{"$f":"WEZ34*'Makro i swap'!WEX4","v":0},{"$f":"WFA34*'Makro i swap'!WEY4","v":0},{"$f":"WFB34*'Makro i swap'!WEZ4","v":0},{"$f":"WFC34*'Makro i swap'!WFA4","v":0},{"$f":"WFD34*'Makro i swap'!WFB4","v":0},{"$f":"WFE34*'Makro i swap'!WFC4","v":0},{"$f":"WFF34*'Makro i swap'!WFD4","v":0},{"$f":"WFG34*'Makro i swap'!WFE4","v":0},{"$f":"WFH34*'Makro i swap'!WFF4","v":0},{"$f":"WFI34*'Makro i swap'!WFG4","v":0},{"$f":"WFJ34*'Makro i swap'!WFH4","v":0},{"$f":"WFK34*'Makro i swap'!WFI4","v":0},{"$f":"WFL34*'Makro i swap'!WFJ4","v":0},{"$f":"WFM34*'Makro i swap'!WFK4","v":0},{"$f":"WFN34*'Makro i swap'!WFL4","v":0},{"$f":"WFO34*'Makro i swap'!WFM4","v":0},{"$f":"WFP34*'Makro i swap'!WFN4","v":0},{"$f":"WFQ34*'Makro i swap'!WFO4","v":0},{"$f":"WFR34*'Makro i swap'!WFP4","v":0},{"$f":"WFS34*'Makro i swap'!WFQ4","v":0},{"$f":"WFT34*'Makro i swap'!WFR4","v":0},{"$f":"WFU34*'Makro i swap'!WFS4","v":0},{"$f":"WFV34*'Makro i swap'!WFT4","v":0},{"$f":"WFW34*'Makro i swap'!WFU4","v":0},{"$f":"WFX34*'Makro i swap'!WFV4","v":0},{"$f":"WFY34*'Makro i swap'!WFW4","v":0},{"$f":"WFZ34*'Makro i swap'!WFX4","v":0},{"$f":"WGA34*'Makro i swap'!WFY4","v":0},{"$f":"WGB34*'Makro i swap'!WFZ4","v":0},{"$f":"WGC34*'Makro i swap'!WGA4","v":0},{"$f":"WGD34*'Makro i swap'!WGB4","v":0},{"$f":"WGE34*'Makro i swap'!WGC4","v":0},{"$f":"WGF34*'Makro i swap'!WGD4","v":0},{"$f":"WGG34*'Makro i swap'!WGE4","v":0},{"$f":"WGH34*'Makro i swap'!WGF4","v":0},{"$f":"WGI34*'Makro i swap'!WGG4","v":0},{"$f":"WGJ34*'Makro i swap'!WGH4","v":0},{"$f":"WGK34*'Makro i swap'!WGI4","v":0},{"$f":"WGL34*'Makro i swap'!WGJ4","v":0},{"$f":"WGM34*'Makro i swap'!WGK4","v":0},{"$f":"WGN34*'Makro i swap'!WGL4","v":0},{"$f":"WGO34*'Makro i swap'!WGM4","v":0},{"$f":"WGP34*'Makro i swap'!WGN4","v":0},{"$f":"WGQ34*'Makro i swap'!WGO4","v":0},{"$f":"WGR34*'Makro i swap'!WGP4","v":0},{"$f":"WGS34*'Makro i swap'!WGQ4","v":0},{"$f":"WGT34*'Makro i swap'!WGR4","v":0},{"$f":"WGU34*'Makro i swap'!WGS4","v":0},{"$f":"WGV34*'Makro i swap'!WGT4","v":0},{"$f":"WGW34*'Makro i swap'!WGU4","v":0},{"$f":"WGX34*'Makro i swap'!WGV4","v":0},{"$f":"WGY34*'Makro i swap'!WGW4","v":0},{"$f":"WGZ34*'Makro i swap'!WGX4","v":0},{"$f":"WHA34*'Makro i swap'!WGY4","v":0},{"$f":"WHB34*'Makro i swap'!WGZ4","v":0},{"$f":"WHC34*'Makro i swap'!WHA4","v":0},{"$f":"WHD34*'Makro i swap'!WHB4","v":0},{"$f":"WHE34*'Makro i swap'!WHC4","v":0},{"$f":"WHF34*'Makro i swap'!WHD4","v":0},{"$f":"WHG34*'Makro i swap'!WHE4","v":0},{"$f":"WHH34*'Makro i swap'!WHF4","v":0},{"$f":"WHI34*'Makro i swap'!WHG4","v":0},{"$f":"WHJ34*'Makro i swap'!WHH4","v":0},{"$f":"WHK34*'Makro i swap'!WHI4","v":0},{"$f":"WHL34*'Makro i swap'!WHJ4","v":0},{"$f":"WHM34*'Makro i swap'!WHK4","v":0},{"$f":"WHN34*'Makro i swap'!WHL4","v":0},{"$f":"WHO34*'Makro i swap'!WHM4","v":0},{"$f":"WHP34*'Makro i swap'!WHN4","v":0},{"$f":"WHQ34*'Makro i swap'!WHO4","v":0},{"$f":"WHR34*'Makro i swap'!WHP4","v":0},{"$f":"WHS34*'Makro i swap'!WHQ4","v":0},{"$f":"WHT34*'Makro i swap'!WHR4","v":0},{"$f":"WHU34*'Makro i swap'!WHS4","v":0},{"$f":"WHV34*'Makro i swap'!WHT4","v":0},{"$f":"WHW34*'Makro i swap'!WHU4","v":0},{"$f":"WHX34*'Makro i swap'!WHV4","v":0},{"$f":"WHY34*'Makro i swap'!WHW4","v":0},{"$f":"WHZ34*'Makro i swap'!WHX4","v":0},{"$f":"WIA34*'Makro i swap'!WHY4","v":0},{"$f":"WIB34*'Makro i swap'!WHZ4","v":0},{"$f":"WIC34*'Makro i swap'!WIA4","v":0},{"$f":"WID34*'Makro i swap'!WIB4","v":0},{"$f":"WIE34*'Makro i swap'!WIC4","v":0},{"$f":"WIF34*'Makro i swap'!WID4","v":0},{"$f":"WIG34*'Makro i swap'!WIE4","v":0},{"$f":"WIH34*'Makro i swap'!WIF4","v":0},{"$f":"WII34*'Makro i swap'!WIG4","v":0},{"$f":"WIJ34*'Makro i swap'!WIH4","v":0},{"$f":"WIK34*'Makro i swap'!WII4","v":0},{"$f":"WIL34*'Makro i swap'!WIJ4","v":0},{"$f":"WIM34*'Makro i swap'!WIK4","v":0},{"$f":"WIN34*'Makro i swap'!WIL4","v":0},{"$f":"WIO34*'Makro i swap'!WIM4","v":0},{"$f":"WIP34*'Makro i swap'!WIN4","v":0},{"$f":"WIQ34*'Makro i swap'!WIO4","v":0},{"$f":"WIR34*'Makro i swap'!WIP4","v":0},{"$f":"WIS34*'Makro i swap'!WIQ4","v":0},{"$f":"WIT34*'Makro i swap'!WIR4","v":0},{"$f":"WIU34*'Makro i swap'!WIS4","v":0},{"$f":"WIV34*'Makro i swap'!WIT4","v":0},{"$f":"WIW34*'Makro i swap'!WIU4","v":0},{"$f":"WIX34*'Makro i swap'!WIV4","v":0},{"$f":"WIY34*'Makro i swap'!WIW4","v":0},{"$f":"WIZ34*'Makro i swap'!WIX4","v":0},{"$f":"WJA34*'Makro i swap'!WIY4","v":0},{"$f":"WJB34*'Makro i swap'!WIZ4","v":0},{"$f":"WJC34*'Makro i swap'!WJA4","v":0},{"$f":"WJD34*'Makro i swap'!WJB4","v":0},{"$f":"WJE34*'Makro i swap'!WJC4","v":0},{"$f":"WJF34*'Makro i swap'!WJD4","v":0},{"$f":"WJG34*'Makro i swap'!WJE4","v":0},{"$f":"WJH34*'Makro i swap'!WJF4","v":0},{"$f":"WJI34*'Makro i swap'!WJG4","v":0},{"$f":"WJJ34*'Makro i swap'!WJH4","v":0},{"$f":"WJK34*'Makro i swap'!WJI4","v":0},{"$f":"WJL34*'Makro i swap'!WJJ4","v":0},{"$f":"WJM34*'Makro i swap'!WJK4","v":0},{"$f":"WJN34*'Makro i swap'!WJL4","v":0},{"$f":"WJO34*'Makro i swap'!WJM4","v":0},{"$f":"WJP34*'Makro i swap'!WJN4","v":0},{"$f":"WJQ34*'Makro i swap'!WJO4","v":0},{"$f":"WJR34*'Makro i swap'!WJP4","v":0},{"$f":"WJS34*'Makro i swap'!WJQ4","v":0},{"$f":"WJT34*'Makro i swap'!WJR4","v":0},{"$f":"WJU34*'Makro i swap'!WJS4","v":0},{"$f":"WJV34*'Makro i swap'!WJT4","v":0},{"$f":"WJW34*'Makro i swap'!WJU4","v":0},{"$f":"WJX34*'Makro i swap'!WJV4","v":0},{"$f":"WJY34*'Makro i swap'!WJW4","v":0},{"$f":"WJZ34*'Makro i swap'!WJX4","v":0},{"$f":"WKA34*'Makro i swap'!WJY4","v":0},{"$f":"WKB34*'Makro i swap'!WJZ4","v":0},{"$f":"WKC34*'Makro i swap'!WKA4","v":0},{"$f":"WKD34*'Makro i swap'!WKB4","v":0},{"$f":"WKE34*'Makro i swap'!WKC4","v":0},{"$f":"WKF34*'Makro i swap'!WKD4","v":0},{"$f":"WKG34*'Makro i swap'!WKE4","v":0},{"$f":"WKH34*'Makro i swap'!WKF4","v":0},{"$f":"WKI34*'Makro i swap'!WKG4","v":0},{"$f":"WKJ34*'Makro i swap'!WKH4","v":0},{"$f":"WKK34*'Makro i swap'!WKI4","v":0},{"$f":"WKL34*'Makro i swap'!WKJ4","v":0},{"$f":"WKM34*'Makro i swap'!WKK4","v":0},{"$f":"WKN34*'Makro i swap'!WKL4","v":0},{"$f":"WKO34*'Makro i swap'!WKM4","v":0},{"$f":"WKP34*'Makro i swap'!WKN4","v":0},{"$f":"WKQ34*'Makro i swap'!WKO4","v":0},{"$f":"WKR34*'Makro i swap'!WKP4","v":0},{"$f":"WKS34*'Makro i swap'!WKQ4","v":0},{"$f":"WKT34*'Makro i swap'!WKR4","v":0},{"$f":"WKU34*'Makro i swap'!WKS4","v":0},{"$f":"WKV34*'Makro i swap'!WKT4","v":0},{"$f":"WKW34*'Makro i swap'!WKU4","v":0},{"$f":"WKX34*'Makro i swap'!WKV4","v":0},{"$f":"WKY34*'Makro i swap'!WKW4","v":0},{"$f":"WKZ34*'Makro i swap'!WKX4","v":0},{"$f":"WLA34*'Makro i swap'!WKY4","v":0},{"$f":"WLB34*'Makro i swap'!WKZ4","v":0},{"$f":"WLC34*'Makro i swap'!WLA4","v":0},{"$f":"WLD34*'Makro i swap'!WLB4","v":0},{"$f":"WLE34*'Makro i swap'!WLC4","v":0},{"$f":"WLF34*'Makro i swap'!WLD4","v":0},{"$f":"WLG34*'Makro i swap'!WLE4","v":0},{"$f":"WLH34*'Makro i swap'!WLF4","v":0},{"$f":"WLI34*'Makro i swap'!WLG4","v":0},{"$f":"WLJ34*'Makro i swap'!WLH4","v":0},{"$f":"WLK34*'Makro i swap'!WLI4","v":0},{"$f":"WLL34*'Makro i swap'!WLJ4","v":0},{"$f":"WLM34*'Makro i swap'!WLK4","v":0},{"$f":"WLN34*'Makro i swap'!WLL4","v":0},{"$f":"WLO34*'Makro i swap'!WLM4","v":0},{"$f":"WLP34*'Makro i swap'!WLN4","v":0},{"$f":"WLQ34*'Makro i swap'!WLO4","v":0},{"$f":"WLR34*'Makro i swap'!WLP4","v":0},{"$f":"WLS34*'Makro i swap'!WLQ4","v":0},{"$f":"WLT34*'Makro i swap'!WLR4","v":0},{"$f":"WLU34*'Makro i swap'!WLS4","v":0},{"$f":"WLV34*'Makro i swap'!WLT4","v":0},{"$f":"WLW34*'Makro i swap'!WLU4","v":0},{"$f":"WLX34*'Makro i swap'!WLV4","v":0},{"$f":"WLY34*'Makro i swap'!WLW4","v":0},{"$f":"WLZ34*'Makro i swap'!WLX4","v":0},{"$f":"WMA34*'Makro i swap'!WLY4","v":0},{"$f":"WMB34*'Makro i swap'!WLZ4","v":0},{"$f":"WMC34*'Makro i swap'!WMA4","v":0},{"$f":"WMD34*'Makro i swap'!WMB4","v":0},{"$f":"WME34*'Makro i swap'!WMC4","v":0},{"$f":"WMF34*'Makro i swap'!WMD4","v":0},{"$f":"WMG34*'Makro i swap'!WME4","v":0},{"$f":"WMH34*'Makro i swap'!WMF4","v":0},{"$f":"WMI34*'Makro i swap'!WMG4","v":0},{"$f":"WMJ34*'Makro i swap'!WMH4","v":0},{"$f":"WMK34*'Makro i swap'!WMI4","v":0},{"$f":"WML34*'Makro i swap'!WMJ4","v":0},{"$f":"WMM34*'Makro i swap'!WMK4","v":0},{"$f":"WMN34*'Makro i swap'!WML4","v":0},{"$f":"WMO34*'Makro i swap'!WMM4","v":0},{"$f":"WMP34*'Makro i swap'!WMN4","v":0},{"$f":"WMQ34*'Makro i swap'!WMO4","v":0},{"$f":"WMR34*'Makro i swap'!WMP4","v":0},{"$f":"WMS34*'Makro i swap'!WMQ4","v":0},{"$f":"WMT34*'Makro i swap'!WMR4","v":0},{"$f":"WMU34*'Makro i swap'!WMS4","v":0},{"$f":"WMV34*'Makro i swap'!WMT4","v":0},{"$f":"WMW34*'Makro i swap'!WMU4","v":0},{"$f":"WMX34*'Makro i swap'!WMV4","v":0},{"$f":"WMY34*'Makro i swap'!WMW4","v":0},{"$f":"WMZ34*'Makro i swap'!WMX4","v":0},{"$f":"WNA34*'Makro i swap'!WMY4","v":0},{"$f":"WNB34*'Makro i swap'!WMZ4","v":0},{"$f":"WNC34*'Makro i swap'!WNA4","v":0},{"$f":"WND34*'Makro i swap'!WNB4","v":0},{"$f":"WNE34*'Makro i swap'!WNC4","v":0},{"$f":"WNF34*'Makro i swap'!WND4","v":0},{"$f":"WNG34*'Makro i swap'!WNE4","v":0},{"$f":"WNH34*'Makro i swap'!WNF4","v":0},{"$f":"WNI34*'Makro i swap'!WNG4","v":0},{"$f":"WNJ34*'Makro i swap'!WNH4","v":0},{"$f":"WNK34*'Makro i swap'!WNI4","v":0},{"$f":"WNL34*'Makro i swap'!WNJ4","v":0},{"$f":"WNM34*'Makro i swap'!WNK4","v":0},{"$f":"WNN34*'Makro i swap'!WNL4","v":0},{"$f":"WNO34*'Makro i swap'!WNM4","v":0},{"$f":"WNP34*'Makro i swap'!WNN4","v":0},{"$f":"WNQ34*'Makro i swap'!WNO4","v":0},{"$f":"WNR34*'Makro i swap'!WNP4","v":0},{"$f":"WNS34*'Makro i swap'!WNQ4","v":0},{"$f":"WNT34*'Makro i swap'!WNR4","v":0},{"$f":"WNU34*'Makro i swap'!WNS4","v":0},{"$f":"WNV34*'Makro i swap'!WNT4","v":0},{"$f":"WNW34*'Makro i swap'!WNU4","v":0},{"$f":"WNX34*'Makro i swap'!WNV4","v":0},{"$f":"WNY34*'Makro i swap'!WNW4","v":0},{"$f":"WNZ34*'Makro i swap'!WNX4","v":0},{"$f":"WOA34*'Makro i swap'!WNY4","v":0},{"$f":"WOB34*'Makro i swap'!WNZ4","v":0},{"$f":"WOC34*'Makro i swap'!WOA4","v":0},{"$f":"WOD34*'Makro i swap'!WOB4","v":0},{"$f":"WOE34*'Makro i swap'!WOC4","v":0},{"$f":"WOF34*'Makro i swap'!WOD4","v":0},{"$f":"WOG34*'Makro i swap'!WOE4","v":0},{"$f":"WOH34*'Makro i swap'!WOF4","v":0},{"$f":"WOI34*'Makro i swap'!WOG4","v":0},{"$f":"WOJ34*'Makro i swap'!WOH4","v":0},{"$f":"WOK34*'Makro i swap'!WOI4","v":0},{"$f":"WOL34*'Makro i swap'!WOJ4","v":0},{"$f":"WOM34*'Makro i swap'!WOK4","v":0},{"$f":"WON34*'Makro i swap'!WOL4","v":0},{"$f":"WOO34*'Makro i swap'!WOM4","v":0},{"$f":"WOP34*'Makro i swap'!WON4","v":0},{"$f":"WOQ34*'Makro i swap'!WOO4","v":0},{"$f":"WOR34*'Makro i swap'!WOP4","v":0},{"$f":"WOS34*'Makro i swap'!WOQ4","v":0},{"$f":"WOT34*'Makro i swap'!WOR4","v":0},{"$f":"WOU34*'Makro i swap'!WOS4","v":0},{"$f":"WOV34*'Makro i swap'!WOT4","v":0},{"$f":"WOW34*'Makro i swap'!WOU4","v":0},{"$f":"WOX34*'Makro i swap'!WOV4","v":0},{"$f":"WOY34*'Makro i swap'!WOW4","v":0},{"$f":"WOZ34*'Makro i swap'!WOX4","v":0},{"$f":"WPA34*'Makro i swap'!WOY4","v":0},{"$f":"WPB34*'Makro i swap'!WOZ4","v":0},{"$f":"WPC34*'Makro i swap'!WPA4","v":0},{"$f":"WPD34*'Makro i swap'!WPB4","v":0},{"$f":"WPE34*'Makro i swap'!WPC4","v":0},{"$f":"WPF34*'Makro i swap'!WPD4","v":0},{"$f":"WPG34*'Makro i swap'!WPE4","v":0},{"$f":"WPH34*'Makro i swap'!WPF4","v":0},{"$f":"WPI34*'Makro i swap'!WPG4","v":0},{"$f":"WPJ34*'Makro i swap'!WPH4","v":0},{"$f":"WPK34*'Makro i swap'!WPI4","v":0},{"$f":"WPL34*'Makro i swap'!WPJ4","v":0},{"$f":"WPM34*'Makro i swap'!WPK4","v":0},{"$f":"WPN34*'Makro i swap'!WPL4","v":0},{"$f":"WPO34*'Makro i swap'!WPM4","v":0},{"$f":"WPP34*'Makro i swap'!WPN4","v":0},{"$f":"WPQ34*'Makro i swap'!WPO4","v":0},{"$f":"WPR34*'Makro i swap'!WPP4","v":0},{"$f":"WPS34*'Makro i swap'!WPQ4","v":0},{"$f":"WPT34*'Makro i swap'!WPR4","v":0},{"$f":"WPU34*'Makro i swap'!WPS4","v":0},{"$f":"WPV34*'Makro i swap'!WPT4","v":0},{"$f":"WPW34*'Makro i swap'!WPU4","v":0},{"$f":"WPX34*'Makro i swap'!WPV4","v":0},{"$f":"WPY34*'Makro i swap'!WPW4","v":0},{"$f":"WPZ34*'Makro i swap'!WPX4","v":0},{"$f":"WQA34*'Makro i swap'!WPY4","v":0},{"$f":"WQB34*'Makro i swap'!WPZ4","v":0},{"$f":"WQC34*'Makro i swap'!WQA4","v":0},{"$f":"WQD34*'Makro i swap'!WQB4","v":0},{"$f":"WQE34*'Makro i swap'!WQC4","v":0},{"$f":"WQF34*'Makro i swap'!WQD4","v":0},{"$f":"WQG34*'Makro i swap'!WQE4","v":0},{"$f":"WQH34*'Makro i swap'!WQF4","v":0},{"$f":"WQI34*'Makro i swap'!WQG4","v":0},{"$f":"WQJ34*'Makro i swap'!WQH4","v":0},{"$f":"WQK34*'Makro i swap'!WQI4","v":0},{"$f":"WQL34*'Makro i swap'!WQJ4","v":0},{"$f":"WQM34*'Makro i swap'!WQK4","v":0},{"$f":"WQN34*'Makro i swap'!WQL4","v":0},{"$f":"WQO34*'Makro i swap'!WQM4","v":0},{"$f":"WQP34*'Makro i swap'!WQN4","v":0},{"$f":"WQQ34*'Makro i swap'!WQO4","v":0},{"$f":"WQR34*'Makro i swap'!WQP4","v":0},{"$f":"WQS34*'Makro i swap'!WQQ4","v":0},{"$f":"WQT34*'Makro i swap'!WQR4","v":0},{"$f":"WQU34*'Makro i swap'!WQS4","v":0},{"$f":"WQV34*'Makro i swap'!WQT4","v":0},{"$f":"WQW34*'Makro i swap'!WQU4","v":0},{"$f":"WQX34*'Makro i swap'!WQV4","v":0},{"$f":"WQY34*'Makro i swap'!WQW4","v":0},{"$f":"WQZ34*'Makro i swap'!WQX4","v":0},{"$f":"WRA34*'Makro i swap'!WQY4","v":0},{"$f":"WRB34*'Makro i swap'!WQZ4","v":0},{"$f":"WRC34*'Makro i swap'!WRA4","v":0},{"$f":"WRD34*'Makro i swap'!WRB4","v":0},{"$f":"WRE34*'Makro i swap'!WRC4","v":0},{"$f":"WRF34*'Makro i swap'!WRD4","v":0},{"$f":"WRG34*'Makro i swap'!WRE4","v":0},{"$f":"WRH34*'Makro i swap'!WRF4","v":0},{"$f":"WRI34*'Makro i swap'!WRG4","v":0},{"$f":"WRJ34*'Makro i swap'!WRH4","v":0},{"$f":"WRK34*'Makro i swap'!WRI4","v":0},{"$f":"WRL34*'Makro i swap'!WRJ4","v":0},{"$f":"WRM34*'Makro i swap'!WRK4","v":0},{"$f":"WRN34*'Makro i swap'!WRL4","v":0},{"$f":"WRO34*'Makro i swap'!WRM4","v":0},{"$f":"WRP34*'Makro i swap'!WRN4","v":0},{"$f":"WRQ34*'Makro i swap'!WRO4","v":0},{"$f":"WRR34*'Makro i swap'!WRP4","v":0},{"$f":"WRS34*'Makro i swap'!WRQ4","v":0},{"$f":"WRT34*'Makro i swap'!WRR4","v":0},{"$f":"WRU34*'Makro i swap'!WRS4","v":0},{"$f":"WRV34*'Makro i swap'!WRT4","v":0},{"$f":"WRW34*'Makro i swap'!WRU4","v":0},{"$f":"WRX34*'Makro i swap'!WRV4","v":0},{"$f":"WRY34*'Makro i swap'!WRW4","v":0},{"$f":"WRZ34*'Makro i swap'!WRX4","v":0},{"$f":"WSA34*'Makro i swap'!WRY4","v":0},{"$f":"WSB34*'Makro i swap'!WRZ4","v":0},{"$f":"WSC34*'Makro i swap'!WSA4","v":0},{"$f":"WSD34*'Makro i swap'!WSB4","v":0},{"$f":"WSE34*'Makro i swap'!WSC4","v":0},{"$f":"WSF34*'Makro i swap'!WSD4","v":0},{"$f":"WSG34*'Makro i swap'!WSE4","v":0},{"$f":"WSH34*'Makro i swap'!WSF4","v":0},{"$f":"WSI34*'Makro i swap'!WSG4","v":0},{"$f":"WSJ34*'Makro i swap'!WSH4","v":0},{"$f":"WSK34*'Makro i swap'!WSI4","v":0},{"$f":"WSL34*'Makro i swap'!WSJ4","v":0},{"$f":"WSM34*'Makro i swap'!WSK4","v":0},{"$f":"WSN34*'Makro i swap'!WSL4","v":0},{"$f":"WSO34*'Makro i swap'!WSM4","v":0},{"$f":"WSP34*'Makro i swap'!WSN4","v":0},{"$f":"WSQ34*'Makro i swap'!WSO4","v":0},{"$f":"WSR34*'Makro i swap'!WSP4","v":0},{"$f":"WSS34*'Makro i swap'!WSQ4","v":0},{"$f":"WST34*'Makro i swap'!WSR4","v":0},{"$f":"WSU34*'Makro i swap'!WSS4","v":0},{"$f":"WSV34*'Makro i swap'!WST4","v":0},{"$f":"WSW34*'Makro i swap'!WSU4","v":0},{"$f":"WSX34*'Makro i swap'!WSV4","v":0},{"$f":"WSY34*'Makro i swap'!WSW4","v":0},{"$f":"WSZ34*'Makro i swap'!WSX4","v":0},{"$f":"WTA34*'Makro i swap'!WSY4","v":0},{"$f":"WTB34*'Makro i swap'!WSZ4","v":0},{"$f":"WTC34*'Makro i swap'!WTA4","v":0},{"$f":"WTD34*'Makro i swap'!WTB4","v":0},{"$f":"WTE34*'Makro i swap'!WTC4","v":0},{"$f":"WTF34*'Makro i swap'!WTD4","v":0},{"$f":"WTG34*'Makro i swap'!WTE4","v":0},{"$f":"WTH34*'Makro i swap'!WTF4","v":0},{"$f":"WTI34*'Makro i swap'!WTG4","v":0},{"$f":"WTJ34*'Makro i swap'!WTH4","v":0},{"$f":"WTK34*'Makro i swap'!WTI4","v":0},{"$f":"WTL34*'Makro i swap'!WTJ4","v":0},{"$f":"WTM34*'Makro i swap'!WTK4","v":0},{"$f":"WTN34*'Makro i swap'!WTL4","v":0},{"$f":"WTO34*'Makro i swap'!WTM4","v":0},{"$f":"WTP34*'Makro i swap'!WTN4","v":0},{"$f":"WTQ34*'Makro i swap'!WTO4","v":0},{"$f":"WTR34*'Makro i swap'!WTP4","v":0},{"$f":"WTS34*'Makro i swap'!WTQ4","v":0},{"$f":"WTT34*'Makro i swap'!WTR4","v":0},{"$f":"WTU34*'Makro i swap'!WTS4","v":0},{"$f":"WTV34*'Makro i swap'!WTT4","v":0},{"$f":"WTW34*'Makro i swap'!WTU4","v":0},{"$f":"WTX34*'Makro i swap'!WTV4","v":0},{"$f":"WTY34*'Makro i swap'!WTW4","v":0},{"$f":"WTZ34*'Makro i swap'!WTX4","v":0},{"$f":"WUA34*'Makro i swap'!WTY4","v":0},{"$f":"WUB34*'Makro i swap'!WTZ4","v":0},{"$f":"WUC34*'Makro i swap'!WUA4","v":0},{"$f":"WUD34*'Makro i swap'!WUB4","v":0},{"$f":"WUE34*'Makro i swap'!WUC4","v":0},{"$f":"WUF34*'Makro i swap'!WUD4","v":0},{"$f":"WUG34*'Makro i swap'!WUE4","v":0},{"$f":"WUH34*'Makro i swap'!WUF4","v":0},{"$f":"WUI34*'Makro i swap'!WUG4","v":0},{"$f":"WUJ34*'Makro i swap'!WUH4","v":0},{"$f":"WUK34*'Makro i swap'!WUI4","v":0},{"$f":"WUL34*'Makro i swap'!WUJ4","v":0},{"$f":"WUM34*'Makro i swap'!WUK4","v":0},{"$f":"WUN34*'Makro i swap'!WUL4","v":0},{"$f":"WUO34*'Makro i swap'!WUM4","v":0},{"$f":"WUP34*'Makro i swap'!WUN4","v":0},{"$f":"WUQ34*'Makro i swap'!WUO4","v":0},{"$f":"WUR34*'Makro i swap'!WUP4","v":0},{"$f":"WUS34*'Makro i swap'!WUQ4","v":0},{"$f":"WUT34*'Makro i swap'!WUR4","v":0},{"$f":"WUU34*'Makro i swap'!WUS4","v":0},{"$f":"WUV34*'Makro i swap'!WUT4","v":0},{"$f":"WUW34*'Makro i swap'!WUU4","v":0},{"$f":"WUX34*'Makro i swap'!WUV4","v":0},{"$f":"WUY34*'Makro i swap'!WUW4","v":0},{"$f":"WUZ34*'Makro i swap'!WUX4","v":0},{"$f":"WVA34*'Makro i swap'!WUY4","v":0},{"$f":"WVB34*'Makro i swap'!WUZ4","v":0},{"$f":"WVC34*'Makro i swap'!WVA4","v":0},{"$f":"WVD34*'Makro i swap'!WVB4","v":0},{"$f":"WVE34*'Makro i swap'!WVC4","v":0},{"$f":"WVF34*'Makro i swap'!WVD4","v":0},{"$f":"WVG34*'Makro i swap'!WVE4","v":0},{"$f":"WVH34*'Makro i swap'!WVF4","v":0},{"$f":"WVI34*'Makro i swap'!WVG4","v":0},{"$f":"WVJ34*'Makro i swap'!WVH4","v":0},{"$f":"WVK34*'Makro i swap'!WVI4","v":0},{"$f":"WVL34*'Makro i swap'!WVJ4","v":0},{"$f":"WVM34*'Makro i swap'!WVK4","v":0},{"$f":"WVN34*'Makro i swap'!WVL4","v":0},{"$f":"WVO34*'Makro i swap'!WVM4","v":0},{"$f":"WVP34*'Makro i swap'!WVN4","v":0},{"$f":"WVQ34*'Makro i swap'!WVO4","v":0},{"$f":"WVR34*'Makro i swap'!WVP4","v":0},{"$f":"WVS34*'Makro i swap'!WVQ4","v":0},{"$f":"WVT34*'Makro i swap'!WVR4","v":0},{"$f":"WVU34*'Makro i swap'!WVS4","v":0},{"$f":"WVV34*'Makro i swap'!WVT4","v":0},{"$f":"WVW34*'Makro i swap'!WVU4","v":0},{"$f":"WVX34*'Makro i swap'!WVV4","v":0},{"$f":"WVY34*'Makro i swap'!WVW4","v":0},{"$f":"WVZ34*'Makro i swap'!WVX4","v":0},{"$f":"WWA34*'Makro i swap'!WVY4","v":0},{"$f":"WWB34*'Makro i swap'!WVZ4","v":0},{"$f":"WWC34*'Makro i swap'!WWA4","v":0},{"$f":"WWD34*'Makro i swap'!WWB4","v":0},{"$f":"WWE34*'Makro i swap'!WWC4","v":0},{"$f":"WWF34*'Makro i swap'!WWD4","v":0},{"$f":"WWG34*'Makro i swap'!WWE4","v":0},{"$f":"WWH34*'Makro i swap'!WWF4","v":0},{"$f":"WWI34*'Makro i swap'!WWG4","v":0},{"$f":"WWJ34*'Makro i swap'!WWH4","v":0},{"$f":"WWK34*'Makro i swap'!WWI4","v":0},{"$f":"WWL34*'Makro i swap'!WWJ4","v":0},{"$f":"WWM34*'Makro i swap'!WWK4","v":0},{"$f":"WWN34*'Makro i swap'!WWL4","v":0},{"$f":"WWO34*'Makro i swap'!WWM4","v":0},{"$f":"WWP34*'Makro i swap'!WWN4","v":0},{"$f":"WWQ34*'Makro i swap'!WWO4","v":0},{"$f":"WWR34*'Makro i swap'!WWP4","v":0},{"$f":"WWS34*'Makro i swap'!WWQ4","v":0},{"$f":"WWT34*'Makro i swap'!WWR4","v":0},{"$f":"WWU34*'Makro i swap'!WWS4","v":0},{"$f":"WWV34*'Makro i swap'!WWT4","v":0},{"$f":"WWW34*'Makro i swap'!WWU4","v":0},{"$f":"WWX34*'Makro i swap'!WWV4","v":0},{"$f":"WWY34*'Makro i swap'!WWW4","v":0},{"$f":"WWZ34*'Makro i swap'!WWX4","v":0},{"$f":"WXA34*'Makro i swap'!WWY4","v":0},{"$f":"WXB34*'Makro i swap'!WWZ4","v":0},{"$f":"WXC34*'Makro i swap'!WXA4","v":0},{"$f":"WXD34*'Makro i swap'!WXB4","v":0},{"$f":"WXE34*'Makro i swap'!WXC4","v":0},{"$f":"WXF34*'Makro i swap'!WXD4","v":0},{"$f":"WXG34*'Makro i swap'!WXE4","v":0},{"$f":"WXH34*'Makro i swap'!WXF4","v":0},{"$f":"WXI34*'Makro i swap'!WXG4","v":0},{"$f":"WXJ34*'Makro i swap'!WXH4","v":0},{"$f":"WXK34*'Makro i swap'!WXI4","v":0},{"$f":"WXL34*'Makro i swap'!WXJ4","v":0},{"$f":"WXM34*'Makro i swap'!WXK4","v":0},{"$f":"WXN34*'Makro i swap'!WXL4","v":0},{"$f":"WXO34*'Makro i swap'!WXM4","v":0},{"$f":"WXP34*'Makro i swap'!WXN4","v":0},{"$f":"WXQ34*'Makro i swap'!WXO4","v":0},{"$f":"WXR34*'Makro i swap'!WXP4","v":0},{"$f":"WXS34*'Makro i swap'!WXQ4","v":0},{"$f":"WXT34*'Makro i swap'!WXR4","v":0},{"$f":"WXU34*'Makro i swap'!WXS4","v":0},{"$f":"WXV34*'Makro i swap'!WXT4","v":0},{"$f":"WXW34*'Makro i swap'!WXU4","v":0},{"$f":"WXX34*'Makro i swap'!WXV4","v":0},{"$f":"WXY34*'Makro i swap'!WXW4","v":0},{"$f":"WXZ34*'Makro i swap'!WXX4","v":0},{"$f":"WYA34*'Makro i swap'!WXY4","v":0},{"$f":"WYB34*'Makro i swap'!WXZ4","v":0},{"$f":"WYC34*'Makro i swap'!WYA4","v":0},{"$f":"WYD34*'Makro i swap'!WYB4","v":0},{"$f":"WYE34*'Makro i swap'!WYC4","v":0},{"$f":"WYF34*'Makro i swap'!WYD4","v":0},{"$f":"WYG34*'Makro i swap'!WYE4","v":0},{"$f":"WYH34*'Makro i swap'!WYF4","v":0},{"$f":"WYI34*'Makro i swap'!WYG4","v":0},{"$f":"WYJ34*'Makro i swap'!WYH4","v":0},{"$f":"WYK34*'Makro i swap'!WYI4","v":0},{"$f":"WYL34*'Makro i swap'!WYJ4","v":0},{"$f":"WYM34*'Makro i swap'!WYK4","v":0},{"$f":"WYN34*'Makro i swap'!WYL4","v":0},{"$f":"WYO34*'Makro i swap'!WYM4","v":0},{"$f":"WYP34*'Makro i swap'!WYN4","v":0},{"$f":"WYQ34*'Makro i swap'!WYO4","v":0},{"$f":"WYR34*'Makro i swap'!WYP4","v":0},{"$f":"WYS34*'Makro i swap'!WYQ4","v":0},{"$f":"WYT34*'Makro i swap'!WYR4","v":0},{"$f":"WYU34*'Makro i swap'!WYS4","v":0},{"$f":"WYV34*'Makro i swap'!WYT4","v":0},{"$f":"WYW34*'Makro i swap'!WYU4","v":0},{"$f":"WYX34*'Makro i swap'!WYV4","v":0},{"$f":"WYY34*'Makro i swap'!WYW4","v":0},{"$f":"WYZ34*'Makro i swap'!WYX4","v":0},{"$f":"WZA34*'Makro i swap'!WYY4","v":0},{"$f":"WZB34*'Makro i swap'!WYZ4","v":0},{"$f":"WZC34*'Makro i swap'!WZA4","v":0},{"$f":"WZD34*'Makro i swap'!WZB4","v":0},{"$f":"WZE34*'Makro i swap'!WZC4","v":0},{"$f":"WZF34*'Makro i swap'!WZD4","v":0},{"$f":"WZG34*'Makro i swap'!WZE4","v":0},{"$f":"WZH34*'Makro i swap'!WZF4","v":0},{"$f":"WZI34*'Makro i swap'!WZG4","v":0},{"$f":"WZJ34*'Makro i swap'!WZH4","v":0},{"$f":"WZK34*'Makro i swap'!WZI4","v":0},{"$f":"WZL34*'Makro i swap'!WZJ4","v":0},{"$f":"WZM34*'Makro i swap'!WZK4","v":0},{"$f":"WZN34*'Makro i swap'!WZL4","v":0},{"$f":"WZO34*'Makro i swap'!WZM4","v":0},{"$f":"WZP34*'Makro i swap'!WZN4","v":0},{"$f":"WZQ34*'Makro i swap'!WZO4","v":0},{"$f":"WZR34*'Makro i swap'!WZP4","v":0},{"$f":"WZS34*'Makro i swap'!WZQ4","v":0},{"$f":"WZT34*'Makro i swap'!WZR4","v":0},{"$f":"WZU34*'Makro i swap'!WZS4","v":0},{"$f":"WZV34*'Makro i swap'!WZT4","v":0},{"$f":"WZW34*'Makro i swap'!WZU4","v":0},{"$f":"WZX34*'Makro i swap'!WZV4","v":0},{"$f":"WZY34*'Makro i swap'!WZW4","v":0},{"$f":"WZZ34*'Makro i swap'!WZX4","v":0},{"$f":"XAA34*'Makro i swap'!WZY4","v":0},{"$f":"XAB34*'Makro i swap'!WZZ4","v":0},{"$f":"XAC34*'Makro i swap'!XAA4","v":0},{"$f":"XAD34*'Makro i swap'!XAB4","v":0},{"$f":"XAE34*'Makro i swap'!XAC4","v":0},{"$f":"XAF34*'Makro i swap'!XAD4","v":0},{"$f":"XAG34*'Makro i swap'!XAE4","v":0},{"$f":"XAH34*'Makro i swap'!XAF4","v":0},{"$f":"XAI34*'Makro i swap'!XAG4","v":0},{"$f":"XAJ34*'Makro i swap'!XAH4","v":0},{"$f":"XAK34*'Makro i swap'!XAI4","v":0},{"$f":"XAL34*'Makro i swap'!XAJ4","v":0},{"$f":"XAM34*'Makro i swap'!XAK4","v":0},{"$f":"XAN34*'Makro i swap'!XAL4","v":0},{"$f":"XAO34*'Makro i swap'!XAM4","v":0},{"$f":"XAP34*'Makro i swap'!XAN4","v":0},{"$f":"XAQ34*'Makro i swap'!XAO4","v":0},{"$f":"XAR34*'Makro i swap'!XAP4","v":0},{"$f":"XAS34*'Makro i swap'!XAQ4","v":0},{"$f":"XAT34*'Makro i swap'!XAR4","v":0},{"$f":"XAU34*'Makro i swap'!XAS4","v":0},{"$f":"XAV34*'Makro i swap'!XAT4","v":0},{"$f":"XAW34*'Makro i swap'!XAU4","v":0},{"$f":"XAX34*'Makro i swap'!XAV4","v":0},{"$f":"XAY34*'Makro i swap'!XAW4","v":0},{"$f":"XAZ34*'Makro i swap'!XAX4","v":0},{"$f":"XBA34*'Makro i swap'!XAY4","v":0},{"$f":"XBB34*'Makro i swap'!XAZ4","v":0},{"$f":"XBC34*'Makro i swap'!XBA4","v":0},{"$f":"XBD34*'Makro i swap'!XBB4","v":0},{"$f":"XBE34*'Makro i swap'!XBC4","v":0},{"$f":"XBF34*'Makro i swap'!XBD4","v":0},{"$f":"XBG34*'Makro i swap'!XBE4","v":0},{"$f":"XBH34*'Makro i swap'!XBF4","v":0},{"$f":"XBI34*'Makro i swap'!XBG4","v":0},{"$f":"XBJ34*'Makro i swap'!XBH4","v":0},{"$f":"XBK34*'Makro i swap'!XBI4","v":0},{"$f":"XBL34*'Makro i swap'!XBJ4","v":0},{"$f":"XBM34*'Makro i swap'!XBK4","v":0},{"$f":"XBN34*'Makro i swap'!XBL4","v":0},{"$f":"XBO34*'Makro i swap'!XBM4","v":0},{"$f":"XBP34*'Makro i swap'!XBN4","v":0},{"$f":"XBQ34*'Makro i swap'!XBO4","v":0},{"$f":"XBR34*'Makro i swap'!XBP4","v":0},{"$f":"XBS34*'Makro i swap'!XBQ4","v":0},{"$f":"XBT34*'Makro i swap'!XBR4","v":0},{"$f":"XBU34*'Makro i swap'!XBS4","v":0},{"$f":"XBV34*'Makro i swap'!XBT4","v":0},{"$f":"XBW34*'Makro i swap'!XBU4","v":0},{"$f":"XBX34*'Makro i swap'!XBV4","v":0},{"$f":"XBY34*'Makro i swap'!XBW4","v":0},{"$f":"XBZ34*'Makro i swap'!XBX4","v":0},{"$f":"XCA34*'Makro i swap'!XBY4","v":0},{"$f":"XCB34*'Makro i swap'!XBZ4","v":0},{"$f":"XCC34*'Makro i swap'!XCA4","v":0},{"$f":"XCD34*'Makro i swap'!XCB4","v":0},{"$f":"XCE34*'Makro i swap'!XCC4","v":0},{"$f":"XCF34*'Makro i swap'!XCD4","v":0},{"$f":"XCG34*'Makro i swap'!XCE4","v":0},{"$f":"XCH34*'Makro i swap'!XCF4","v":0},{"$f":"XCI34*'Makro i swap'!XCG4","v":0},{"$f":"XCJ34*'Makro i swap'!XCH4","v":0},{"$f":"XCK34*'Makro i swap'!XCI4","v":0},{"$f":"XCL34*'Makro i swap'!XCJ4","v":0},{"$f":"XCM34*'Makro i swap'!XCK4","v":0},{"$f":"XCN34*'Makro i swap'!XCL4","v":0},{"$f":"XCO34*'Makro i swap'!XCM4","v":0},{"$f":"XCP34*'Makro i swap'!XCN4","v":0},{"$f":"XCQ34*'Makro i swap'!XCO4","v":0},{"$f":"XCR34*'Makro i swap'!XCP4","v":0},{"$f":"XCS34*'Makro i swap'!XCQ4","v":0},{"$f":"XCT34*'Makro i swap'!XCR4","v":0},{"$f":"XCU34*'Makro i swap'!XCS4","v":0},{"$f":"XCV34*'Makro i swap'!XCT4","v":0},{"$f":"XCW34*'Makro i swap'!XCU4","v":0},{"$f":"XCX34*'Makro i swap'!XCV4","v":0},{"$f":"XCY34*'Makro i swap'!XCW4","v":0},{"$f":"XCZ34*'Makro i swap'!XCX4","v":0},{"$f":"XDA34*'Makro i swap'!XCY4","v":0},{"$f":"XDB34*'Makro i swap'!XCZ4","v":0},{"$f":"XDC34*'Makro i swap'!XDA4","v":0},{"$f":"XDD34*'Makro i swap'!XDB4","v":0},{"$f":"XDE34*'Makro i swap'!XDC4","v":0},{"$f":"XDF34*'Makro i swap'!XDD4","v":0},{"$f":"XDG34*'Makro i swap'!XDE4","v":0},{"$f":"XDH34*'Makro i swap'!XDF4","v":0},{"$f":"XDI34*'Makro i swap'!XDG4","v":0},{"$f":"XDJ34*'Makro i swap'!XDH4","v":0},{"$f":"XDK34*'Makro i swap'!XDI4","v":0},{"$f":"XDL34*'Makro i swap'!XDJ4","v":0},{"$f":"XDM34*'Makro i swap'!XDK4","v":0},{"$f":"XDN34*'Makro i swap'!XDL4","v":0},{"$f":"XDO34*'Makro i swap'!XDM4","v":0},{"$f":"XDP34*'Makro i swap'!XDN4","v":0},{"$f":"XDQ34*'Makro i swap'!XDO4","v":0},{"$f":"XDR34*'Makro i swap'!XDP4","v":0},{"$f":"XDS34*'Makro i swap'!XDQ4","v":0},{"$f":"XDT34*'Makro i swap'!XDR4","v":0},{"$f":"XDU34*'Makro i swap'!XDS4","v":0},{"$f":"XDV34*'Makro i swap'!XDT4","v":0},{"$f":"XDW34*'Makro i swap'!XDU4","v":0},{"$f":"XDX34*'Makro i swap'!XDV4","v":0},{"$f":"XDY34*'Makro i swap'!XDW4","v":0},{"$f":"XDZ34*'Makro i swap'!XDX4","v":0},{"$f":"XEA34*'Makro i swap'!XDY4","v":0},{"$f":"XEB34*'Makro i swap'!XDZ4","v":0},{"$f":"XEC34*'Makro i swap'!XEA4","v":0},{"$f":"XED34*'Makro i swap'!XEB4","v":0},{"$f":"XEE34*'Makro i swap'!XEC4","v":0},{"$f":"XEF34*'Makro i swap'!XED4","v":0},{"$f":"XEG34*'Makro i swap'!XEE4","v":0},{"$f":"XEH34*'Makro i swap'!XEF4","v":0},{"$f":"XEI34*'Makro i swap'!XEG4","v":0},{"$f":"XEJ34*'Makro i swap'!XEH4","v":0},{"$f":"XEK34*'Makro i swap'!XEI4","v":0},{"$f":"XEL34*'Makro i swap'!XEJ4","v":0},{"$f":"XEM34*'Makro i swap'!XEK4","v":0},{"$f":"XEN34*'Makro i swap'!XEL4","v":0},{"$f":"XEO34*'Makro i swap'!XEM4","v":0},{"$f":"XEP34*'Makro i swap'!XEN4","v":0},{"$f":"XEQ34*'Makro i swap'!XEO4","v":0},{"$f":"XER34*'Makro i swap'!XEP4","v":0},{"$f":"XES34*'Makro i swap'!XEQ4","v":0},{"$f":"XET34*'Makro i swap'!XER4","v":0},{"$f":"XEU34*'Makro i swap'!XES4","v":0},{"$f":"XEV34*'Makro i swap'!XET4","v":0},{"$f":"XEW34*'Makro i swap'!XEU4","v":0},{"$f":"XEX34*'Makro i swap'!XEV4","v":0},{"$f":"XEY34*'Makro i swap'!XEW4","v":0},{"$f":"XEZ34*'Makro i swap'!XEX4","v":0},{"$f":"XFA34*'Makro i swap'!XEY4","v":0},{"$f":"XFB34*'Makro i swap'!XEZ4","v":0},{"$f":"XFC34*'Makro i swap'!XFA4","v":0}]
["Koszty pośrednie",null,"PLN",null,"a",0,0,{"$f":"G35*'Makro i swap'!E4","v":0},{"$f":"H35*'Makro i swap'!F4","v":0},{"$f":"I35*'Makro i swap'!G4","v":0},{"$f":"J35*'Makro i swap'!H4","v":0},{"$f":"K35*'Makro i swap'!I4","v":0},{"$f":"L35*'Makro i swap'!J4","v":0},{"$f":"M35*'Makro i swap'!K4","v":0},{"$f":"N35*'Makro i swap'!L4","v":0},{"$f":"O35*'Makro i swap'!M4","v":0},{"$f":"P35*'Makro i swap'!N4","v":0},{"$f":"Q35*'Makro i swap'!O4","v":0},{"$f":"R35*'Makro i swap'!P4","v":0},{"$f":"S35*'Makro i swap'!Q4","v":0},{"$f":"T35*'Makro i swap'!R4","v":0},{"$f":"U35*'Makro i swap'!S4","v":0},{"$f":"V35*'Makro i swap'!T4","v":0},{"$f":"W35*'Makro i swap'!U4","v":0},{"$f":"X35*'Makro i swap'!V4","v":0},{"$f":"Y35*'Makro i swap'!W4","v":0},{"$f":"Z35*'Makro i swap'!X4","v":0},{"$f":"AA35*'Makro i swap'!Y4","v":0},{"$f":"AB35*'Makro i swap'!Z4","v":0},{"$f":"AC35*'Makro i swap'!AA4","v":0},{"$f":"AD35*'Makro i swap'!AB4","v":0},{"$f":"AE35*'Makro i swap'!AC4","v":0},{"$f":"AF35*'Makro i swap'!AD4","v":0},{"$f":"AG35*'Makro i swap'!AE4","v":0},{"$f":"AH35*'Makro i swap'!AF4","v":0},{"$f":"AI35*'Makro i swap'!AG4","v":0},{"$f":"AJ35*'Makro i swap'!AH4","v":0},{"$f":"AK35*'Makro i swap'!AI4","v":0},{"$f":"AL35*'Makro i swap'!AJ4","v":0},{"$f":"AM35*'Makro i swap'!AK4","v":0},{"$f":"AN35*'Makro i swap'!AL4","v":0},{"$f":"AO35*'Makro i swap'!AM4","v":0},{"$f":"AP35*'Makro i swap'!AN4","v":0},{"$f":"AQ35*'Makro i swap'!AO4","v":0},{"$f":"AR35*'Makro i swap'!AP4","v":0},{"$f":"AS35*'Makro i swap'!AQ4","v":0},{"$f":"AT35*'Makro i swap'!AR4","v":0},{"$f":"AU35*'Makro i swap'!AS4","v":0},{"$f":"AV35*'Makro i swap'!AT4","v":0},{"$f":"AW35*'Makro i swap'!AU4","v":0},{"$f":"AX35*'Makro i swap'!AV4","v":0},{"$f":"AY35*'Makro i swap'!AW4","v":0},{"$f":"AZ35*'Makro i swap'!AX4","v":0},{"$f":"BA35*'Makro i swap'!AY4","v":0},{"$f":"BB35*'Makro i swap'!AZ4","v":0},{"$f":"BC35*'Makro i swap'!BA4","v":0},{"$f":"BD35*'Makro i swap'!BB4","v":0},{"$f":"BE35*'Makro i swap'!BC4","v":0},{"$f":"BF35*'Makro i swap'!BD4","v":0},{"$f":"BG35*'Makro i swap'!BE4","v":0},{"$f":"BH35*'Makro i swap'!BF4","v":0},{"$f":"BI35*'Makro i swap'!BG4","v":0},{"$f":"BJ35*'Makro i swap'!BH4","v":0},{"$f":"BK35*'Makro i swap'!BI4","v":0},{"$f":"BL35*'Makro i swap'!BJ4","v":0},{"$f":"BM35*'Makro i swap'!BK4","v":0},{"$f":"BN35*'Makro i swap'!BL4","v":0},{"$f":"BO35*'Makro i swap'!BM4","v":0},{"$f":"BP35*'Makro i swap'!BN4","v":0},{"$f":"BQ35*'Makro i swap'!BO4","v":0},{"$f":"BR35*'Makro i swap'!BP4","v":0},{"$f":"BS35*'Makro i swap'!BQ4","v":0},{"$f":"BT35*'Makro i swap'!BR4","v":0},{"$f":"BU35*'Makro i swap'!BS4","v":0},{"$f":"BV35*'Makro i swap'!BT4","v":0},{"$f":"BW35*'Makro i swap'!BU4","v":0},{"$f":"BX35*'Makro i swap'!BV4","v":0},{"$f":"BY35*'Makro i swap'!BW4","v":0},{"$f":"BZ35*'Makro i swap'!BX4","v":0},{"$f":"CA35*'Makro i swap'!BY4","v":0},{"$f":"CB35*'Makro i swap'!BZ4","v":0},{"$f":"CC35*'Makro i swap'!CA4","v":0},{"$f":"CD35*'Makro i swap'!CB4","v":0},{"$f":"CE35*'Makro i swap'!CC4","v":0},{"$f":"CF35*'Makro i swap'!CD4","v":0},{"$f":"CG35*'Makro i swap'!CE4","v":0},{"$f":"CH35*'Makro i swap'!CF4","v":0},{"$f":"CI35*'Makro i swap'!CG4","v":0},{"$f":"CJ35*'Makro i swap'!CH4","v":0},{"$f":"CK35*'Makro i swap'!CI4","v":0},{"$f":"CL35*'Makro i swap'!CJ4","v":0},{"$f":"CM35*'Makro i swap'!CK4","v":0},{"$f":"CN35*'Makro i swap'!CL4","v":0},{"$f":"CO35*'Makro i swap'!CM4","v":0},{"$f":"CP35*'Makro i swap'!CN4","v":0},{"$f":"CQ35*'Makro i swap'!CO4","v":0},{"$f":"CR35*'Makro i swap'!CP4","v":0},{"$f":"CS35*'Makro i swap'!CQ4","v":0},{"$f":"CT35*'Makro i swap'!CR4","v":0},{"$f":"CU35*'Makro i swap'!CS4","v":0},{"$f":"CV35*'Makro i swap'!CT4","v":0},{"$f":"CW35*'Makro i swap'!CU4","v":0},{"$f":"CX35*'Makro i swap'!CV4","v":0},{"$f":"CY35*'Makro i swap'!CW4","v":0},{"$f":"CZ35*'Makro i swap'!CX4","v":0},{"$f":"DA35*'Makro i swap'!CY4","v":0},{"$f":"DB35*'Makro i swap'!CZ4","v":0},{"$f":"DC35*'Makro i swap'!DA4","v":0},{"$f":"DD35*'Makro i swap'!DB4","v":0},{"$f":"DE35*'Makro i swap'!DC4","v":0},{"$f":"DF35*'Makro i swap'!DD4","v":0},{"$f":"DG35*'Makro i swap'!DE4","v":0},{"$f":"DH35*'Makro i swap'!DF4","v":0},{"$f":"DI35*'Makro i swap'!DG4","v":0},{"$f":"DJ35*'Makro i swap'!DH4","v":0},{"$f":"DK35*'Makro i swap'!DI4","v":0},{"$f":"DL35*'Makro i swap'!DJ4","v":0},{"$f":"DM35*'Makro i swap'!DK4","v":0},{"$f":"DN35*'Makro i swap'!DL4","v":0},{"$f":"DO35*'Makro i swap'!DM4","v":0},{"$f":"DP35*'Makro i swap'!DN4","v":0},{"$f":"DQ35*'Makro i swap'!DO4","v":0},{"$f":"DR35*'Makro i swap'!DP4","v":0},{"$f":"DS35*'Makro i swap'!DQ4","v":0},{"$f":"DT35*'Makro i swap'!DR4","v":0},{"$f":"DU35*'Makro i swap'!DS4","v":0},{"$f":"DV35*'Makro i swap'!DT4","v":0},{"$f":"DW35*'Makro i swap'!DU4","v":0},{"$f":"DX35*'Makro i swap'!DV4","v":0},{"$f":"DY35*'Makro i swap'!DW4","v":0},{"$f":"DZ35*'Makro i swap'!DX4","v":0},{"$f":"EA35*'Makro i swap'!DY4","v":0},{"$f":"EB35*'Makro i swap'!DZ4","v":0},{"$f":"EC35*'Makro i swap'!EA4","v":0},{"$f":"ED35*'Makro i swap'!EB4","v":0},{"$f":"EE35*'Makro i swap'!EC4","v":0},{"$f":"EF35*'Makro i swap'!ED4","v":0},{"$f":"EG35*'Makro i swap'!EE4","v":0},{"$f":"EH35*'Makro i swap'!EF4","v":0},{"$f":"EI35*'Makro i swap'!EG4","v":0},{"$f":"EJ35*'Makro i swap'!EH4","v":0},{"$f":"EK35*'Makro i swap'!EI4","v":0},{"$f":"EL35*'Makro i swap'!EJ4","v":0},{"$f":"EM35*'Makro i swap'!EK4","v":0},{"$f":"EN35*'Makro i swap'!EL4","v":0},{"$f":"EO35*'Makro i swap'!EM4","v":0},{"$f":"EP35*'Makro i swap'!EN4","v":0},{"$f":"EQ35*'Makro i swap'!EO4","v":0},{"$f":"ER35*'Makro i swap'!EP4","v":0},{"$f":"ES35*'Makro i swap'!EQ4","v":0},{"$f":"ET35*'Makro i swap'!ER4","v":0},{"$f":"EU35*'Makro i swap'!ES4","v":0},{"$f":"EV35*'Makro i swap'!ET4","v":0},{"$f":"EW35*'Makro i swap'!EU4","v":0},{"$f":"EX35*'Makro i swap'!EV4","v":0},{"$f":"EY35*'Makro i swap'!EW4","v":0},{"$f":"EZ35*'Makro i swap'!EX4","v":0},{"$f":"FA35*'Makro i swap'!EY4","v":0},{"$f":"FB35*'Makro i swap'!EZ4","v":0},{"$f":"FC35*'Makro i swap'!FA4","v":0},{"$f":"FD35*'Makro i swap'!FB4","v":0},{"$f":"FE35*'Makro i swap'!FC4","v":0},{"$f":"FF35*'Makro i swap'!FD4","v":0},{"$f":"FG35*'Makro i swap'!FE4","v":0},{"$f":"FH35*'Makro i swap'!FF4","v":0},{"$f":"FI35*'Makro i swap'!FG4","v":0},{"$f":"FJ35*'Makro i swap'!FH4","v":0},{"$f":"FK35*'Makro i swap'!FI4","v":0},{"$f":"FL35*'Makro i swap'!FJ4","v":0},{"$f":"FM35*'Makro i swap'!FK4","v":0},{"$f":"FN35*'Makro i swap'!FL4","v":0},{"$f":"FO35*'Makro i swap'!FM4","v":0},{"$f":"FP35*'Makro i swap'!FN4","v":0},{"$f":"FQ35*'Makro i swap'!FO4","v":0},{"$f":"FR35*'Makro i swap'!FP4","v":0},{"$f":"FS35*'Makro i swap'!FQ4","v":0},{"$f":"FT35*'Makro i swap'!FR4","v":0},{"$f":"FU35*'Makro i swap'!FS4","v":0},{"$f":"FV35*'Makro i swap'!FT4","v":0},{"$f":"FW35*'Makro i swap'!FU4","v":0},{"$f":"FX35*'Makro i swap'!FV4","v":0},{"$f":"FY35*'Makro i swap'!FW4","v":0},{"$f":"FZ35*'Makro i swap'!FX4","v":0},{"$f":"GA35*'Makro i swap'!FY4","v":0},{"$f":"GB35*'Makro i swap'!FZ4","v":0},{"$f":"GC35*'Makro i swap'!GA4","v":0},{"$f":"GD35*'Makro i swap'!GB4","v":0},{"$f":"GE35*'Makro i swap'!GC4","v":0},{"$f":"GF35*'Makro i swap'!GD4","v":0},{"$f":"GG35*'Makro i swap'!GE4","v":0},{"$f":"GH35*'Makro i swap'!GF4","v":0},{"$f":"GI35*'Makro i swap'!GG4","v":0},{"$f":"GJ35*'Makro i swap'!GH4","v":0},{"$f":"GK35*'Makro i swap'!GI4","v":0},{"$f":"GL35*'Makro i swap'!GJ4","v":0},{"$f":"GM35*'Makro i swap'!GK4","v":0},{"$f":"GN35*'Makro i swap'!GL4","v":0},{"$f":"GO35*'Makro i swap'!GM4","v":0},{"$f":"GP35*'Makro i swap'!GN4","v":0},{"$f":"GQ35*'Makro i swap'!GO4","v":0},{"$f":"GR35*'Makro i swap'!GP4","v":0},{"$f":"GS35*'Makro i swap'!GQ4","v":0},{"$f":"GT35*'Makro i swap'!GR4","v":0},{"$f":"GU35*'Makro i swap'!GS4","v":0},{"$f":"GV35*'Makro i swap'!GT4","v":0},{"$f":"GW35*'Makro i swap'!GU4","v":0},{"$f":"GX35*'Makro i swap'!GV4","v":0},{"$f":"GY35*'Makro i swap'!GW4","v":0},{"$f":"GZ35*'Makro i swap'!GX4","v":0},{"$f":"HA35*'Makro i swap'!GY4","v":0},{"$f":"HB35*'Makro i swap'!GZ4","v":0},{"$f":"HC35*'Makro i swap'!HA4","v":0},{"$f":"HD35*'Makro i swap'!HB4","v":0},{"$f":"HE35*'Makro i swap'!HC4","v":0},{"$f":"HF35*'Makro i swap'!HD4","v":0},{"$f":"HG35*'Makro i swap'!HE4","v":0},{"$f":"HH35*'Makro i swap'!HF4","v":0},{"$f":"HI35*'Makro i swap'!HG4","v":0},{"$f":"HJ35*'Makro i swap'!HH4","v":0},{"$f":"HK35*'Makro i swap'!HI4","v":0},{"$f":"HL35*'Makro i swap'!HJ4","v":0},{"$f":"HM35*'Makro i swap'!HK4","v":0},{"$f":"HN35*'Makro i swap'!HL4","v":0},{"$f":"HO35*'Makro i swap'!HM4","v":0},{"$f":"HP35*'Makro i swap'!HN4","v":0},{"$f":"HQ35*'Makro i swap'!HO4","v":0},{"$f":"HR35*'Makro i swap'!HP4","v":0},{"$f":"HS35*'Makro i swap'!HQ4","v":0},{"$f":"HT35*'Makro i swap'!HR4","v":0},{"$f":"HU35*'Makro i swap'!HS4","v":0},{"$f":"HV35*'Makro i swap'!HT4","v":0},{"$f":"HW35*'Makro i swap'!HU4","v":0},{"$f":"HX35*'Makro i swap'!HV4","v":0},{"$f":"HY35*'Makro i swap'!HW4","v":0},{"$f":"HZ35*'Makro i swap'!HX4","v":0},{"$f":"IA35*'Makro i swap'!HY4","v":0},{"$f":"IB35*'Makro i swap'!HZ4","v":0},{"$f":"IC35*'Makro i swap'!IA4","v":0},{"$f":"ID35*'Makro i swap'!IB4","v":0},{"$f":"IE35*'Makro i swap'!IC4","v":0},{"$f":"IF35*'Makro i swap'!ID4","v":0},{"$f":"IG35*'Makro i swap'!IE4","v":0},{"$f":"IH35*'Makro i swap'!IF4","v":0},{"$f":"II35*'Makro i swap'!IG4","v":0},{"$f":"IJ35*'Makro i swap'!IH4","v":0},{"$f":"IK35*'Makro i swap'!II4","v":0},{"$f":"IL35*'Makro i swap'!IJ4","v":0},{"$f":"IM35*'Makro i swap'!IK4","v":0},{"$f":"IN35*'Makro i swap'!IL4","v":0},{"$f":"IO35*'Makro i swap'!IM4","v":0},{"$f":"IP35*'Makro i swap'!IN4","v":0},{"$f":"IQ35*'Makro i swap'!IO4","v":0},{"$f":"IR35*'Makro i swap'!IP4","v":0},{"$f":"IS35*'Makro i swap'!IQ4","v":0},{"$f":"IT35*'Makro i swap'!IR4","v":0},{"$f":"IU35*'Makro i swap'!IS4","v":0},{"$f":"IV35*'Makro i swap'!IT4","v":0},{"$f":"IW35*'Makro i swap'!IU4","v":0},{"$f":"IX35*'Makro i swap'!IV4","v":0},{"$f":"IY35*'Makro i swap'!IW4","v":0},{"$f":"IZ35*'Makro i swap'!IX4","v":0},{"$f":"JA35*'Makro i swap'!IY4","v":0},{"$f":"JB35*'Makro i swap'!IZ4","v":0},{"$f":"JC35*'Makro i swap'!JA4","v":0},{"$f":"JD35*'Makro i swap'!JB4","v":0},{"$f":"JE35*'Makro i swap'!JC4","v":0},{"$f":"JF35*'Makro i swap'!JD4","v":0},{"$f":"JG35*'Makro i swap'!JE4","v":0},{"$f":"JH35*'Makro i swap'!JF4","v":0},{"$f":"JI35*'Makro i swap'!JG4","v":0},{"$f":"JJ35*'Makro i swap'!JH4","v":0},{"$f":"JK35*'Makro i swap'!JI4","v":0},{"$f":"JL35*'Makro i swap'!JJ4","v":0},{"$f":"JM35*'Makro i swap'!JK4","v":0},{"$f":"JN35*'Makro i swap'!JL4","v":0},{"$f":"JO35*'Makro i swap'!JM4","v":0},{"$f":"JP35*'Makro i swap'!JN4","v":0},{"$f":"JQ35*'Makro i swap'!JO4","v":0},{"$f":"JR35*'Makro i swap'!JP4","v":0},{"$f":"JS35*'Makro i swap'!JQ4","v":0},{"$f":"JT35*'Makro i swap'!JR4","v":0},{"$f":"JU35*'Makro i swap'!JS4","v":0},{"$f":"JV35*'Makro i swap'!JT4","v":0},{"$f":"JW35*'Makro i swap'!JU4","v":0},{"$f":"JX35*'Makro i swap'!JV4","v":0},{"$f":"JY35*'Makro i swap'!JW4","v":0},{"$f":"JZ35*'Makro i swap'!JX4","v":0},{"$f":"KA35*'Makro i swap'!JY4","v":0},{"$f":"KB35*'Makro i swap'!JZ4","v":0},{"$f":"KC35*'Makro i swap'!KA4","v":0},{"$f":"KD35*'Makro i swap'!KB4","v":0},{"$f":"KE35*'Makro i swap'!KC4","v":0},{"$f":"KF35*'Makro i swap'!KD4","v":0},{"$f":"KG35*'Makro i swap'!KE4","v":0},{"$f":"KH35*'Makro i swap'!KF4","v":0},{"$f":"KI35*'Makro i swap'!KG4","v":0},{"$f":"KJ35*'Makro i swap'!KH4","v":0},{"$f":"KK35*'Makro i swap'!KI4","v":0},{"$f":"KL35*'Makro i swap'!KJ4","v":0},{"$f":"KM35*'Makro i swap'!KK4","v":0},{"$f":"KN35*'Makro i swap'!KL4","v":0},{"$f":"KO35*'Makro i swap'!KM4","v":0},{"$f":"KP35*'Makro i swap'!KN4","v":0},{"$f":"KQ35*'Makro i swap'!KO4","v":0},{"$f":"KR35*'Makro i swap'!KP4","v":0},{"$f":"KS35*'Makro i swap'!KQ4","v":0},{"$f":"KT35*'Makro i swap'!KR4","v":0},{"$f":"KU35*'Makro i swap'!KS4","v":0},{"$f":"KV35*'Makro i swap'!KT4","v":0},{"$f":"KW35*'Makro i swap'!KU4","v":0},{"$f":"KX35*'Makro i swap'!KV4","v":0},{"$f":"KY35*'Makro i swap'!KW4","v":0},{"$f":"KZ35*'Makro i swap'!KX4","v":0},{"$f":"LA35*'Makro i swap'!KY4","v":0},{"$f":"LB35*'Makro i swap'!KZ4","v":0},{"$f":"LC35*'Makro i swap'!LA4","v":0},{"$f":"LD35*'Makro i swap'!LB4","v":0},{"$f":"LE35*'Makro i swap'!LC4","v":0},{"$f":"LF35*'Makro i swap'!LD4","v":0},{"$f":"LG35*'Makro i swap'!LE4","v":0},{"$f":"LH35*'Makro i swap'!LF4","v":0},{"$f":"LI35*'Makro i swap'!LG4","v":0},{"$f":"LJ35*'Makro i swap'!LH4","v":0},{"$f":"LK35*'Makro i swap'!LI4","v":0},{"$f":"LL35*'Makro i swap'!LJ4","v":0},{"$f":"LM35*'Makro i swap'!LK4","v":0},{"$f":"LN35*'Makro i swap'!LL4","v":0},{"$f":"LO35*'Makro i swap'!LM4","v":0},{"$f":"LP35*'Makro i swap'!LN4","v":0},{"$f":"LQ35*'Makro i swap'!LO4","v":0},{"$f":"LR35*'Makro i swap'!LP4","v":0},{"$f":"LS35*'Makro i swap'!LQ4","v":0},{"$f":"LT35*'Makro i swap'!LR4","v":0},{"$f":"LU35*'Makro i swap'!LS4","v":0},{"$f":"LV35*'Makro i swap'!LT4","v":0},{"$f":"LW35*'Makro i swap'!LU4","v":0},{"$f":"LX35*'Makro i swap'!LV4","v":0},{"$f":"LY35*'Makro i swap'!LW4","v":0},{"$f":"LZ35*'Makro i swap'!LX4","v":0},{"$f":"MA35*'Makro i swap'!LY4","v":0},{"$f":"MB35*'Makro i swap'!LZ4","v":0},{"$f":"MC35*'Makro i swap'!MA4","v":0},{"$f":"MD35*'Makro i swap'!MB4","v":0},{"$f":"ME35*'Makro i swap'!MC4","v":0},{"$f":"MF35*'Makro i swap'!MD4","v":0},{"$f":"MG35*'Makro i swap'!ME4","v":0},{"$f":"MH35*'Makro i swap'!MF4","v":0},{"$f":"MI35*'Makro i swap'!MG4","v":0},{"$f":"MJ35*'Makro i swap'!MH4","v":0},{"$f":"MK35*'Makro i swap'!MI4","v":0},{"$f":"ML35*'Makro i swap'!MJ4","v":0},{"$f":"MM35*'Makro i swap'!MK4","v":0},{"$f":"MN35*'Makro i swap'!ML4","v":0},{"$f":"MO35*'Makro i swap'!MM4","v":0},{"$f":"MP35*'Makro i swap'!MN4","v":0},{"$f":"MQ35*'Makro i swap'!MO4","v":0},{"$f":"MR35*'Makro i swap'!MP4","v":0},{"$f":"MS35*'Makro i swap'!MQ4","v":0},{"$f":"MT35*'Makro i swap'!MR4","v":0},{"$f":"MU35*'Makro i swap'!MS4","v":0},{"$f":"MV35*'Makro i swap'!MT4","v":0},{"$f":"MW35*'Makro i swap'!MU4","v":0},{"$f":"MX35*'Makro i swap'!MV4","v":0},{"$f":"MY35*'Makro i swap'!MW4","v":0},{"$f":"MZ35*'Makro i swap'!MX4","v":0},{"$f":"NA35*'Makro i swap'!MY4","v":0},{"$f":"NB35*'Makro i swap'!MZ4","v":0},{"$f":"NC35*'Makro i swap'!NA4","v":0},{"$f":"ND35*'Makro i swap'!NB4","v":0},{"$f":"NE35*'Makro i swap'!NC4","v":0},{"$f":"NF35*'Makro i swap'!ND4","v":0},{"$f":"NG35*'Makro i swap'!NE4","v":0},{"$f":"NH35*'Makro i swap'!NF4","v":0},{"$f":"NI35*'Makro i swap'!NG4","v":0},{"$f":"NJ35*'Makro i swap'!NH4","v":0},{"$f":"NK35*'Makro i swap'!NI4","v":0},{"$f":"NL35*'Makro i swap'!NJ4","v":0},{"$f":"NM35*'Makro i swap'!NK4","v":0},{"$f":"NN35*'Makro i swap'!NL4","v":0},{"$f":"NO35*'Makro i swap'!NM4","v":0},{"$f":"NP35*'Makro i swap'!NN4","v":0},{"$f":"NQ35*'Makro i swap'!NO4","v":0},{"$f":"NR35*'Makro i swap'!NP4","v":0},{"$f":"NS35*'Makro i swap'!NQ4","v":0},{"$f":"NT35*'Makro i swap'!NR4","v":0},{"$f":"NU35*'Makro i swap'!NS4","v":0},{"$f":"NV35*'Makro i swap'!NT4","v":0},{"$f":"NW35*'Makro i swap'!NU4","v":0},{"$f":"NX35*'Makro i swap'!NV4","v":0},{"$f":"NY35*'Makro i swap'!NW4","v":0},{"$f":"NZ35*'Makro i swap'!NX4","v":0},{"$f":"OA35*'Makro i swap'!NY4","v":0},{"$f":"OB35*'Makro i swap'!NZ4","v":0},{"$f":"OC35*'Makro i swap'!OA4","v":0},{"$f":"OD35*'Makro i swap'!OB4","v":0},{"$f":"OE35*'Makro i swap'!OC4","v":0},{"$f":"OF35*'Makro i swap'!OD4","v":0},{"$f":"OG35*'Makro i swap'!OE4","v":0},{"$f":"OH35*'Makro i swap'!OF4","v":0},{"$f":"OI35*'Makro i swap'!OG4","v":0},{"$f":"OJ35*'Makro i swap'!OH4","v":0},{"$f":"OK35*'Makro i swap'!OI4","v":0},{"$f":"OL35*'Makro i swap'!OJ4","v":0},{"$f":"OM35*'Makro i swap'!OK4","v":0},{"$f":"ON35*'Makro i swap'!OL4","v":0},{"$f":"OO35*'Makro i swap'!OM4","v":0},{"$f":"OP35*'Makro i swap'!ON4","v":0},{"$f":"OQ35*'Makro i swap'!OO4","v":0},{"$f":"OR35*'Makro i swap'!OP4","v":0},{"$f":"OS35*'Makro i swap'!OQ4","v":0},{"$f":"OT35*'Makro i swap'!OR4","v":0},{"$f":"OU35*'Makro i swap'!OS4","v":0},{"$f":"OV35*'Makro i swap'!OT4","v":0},{"$f":"OW35*'Makro i swap'!OU4","v":0},{"$f":"OX35*'Makro i swap'!OV4","v":0},{"$f":"OY35*'Makro i swap'!OW4","v":0},{"$f":"OZ35*'Makro i swap'!OX4","v":0},{"$f":"PA35*'Makro i swap'!OY4","v":0},{"$f":"PB35*'Makro i swap'!OZ4","v":0},{"$f":"PC35*'Makro i swap'!PA4","v":0},{"$f":"PD35*'Makro i swap'!PB4","v":0},{"$f":"PE35*'Makro i swap'!PC4","v":0},{"$f":"PF35*'Makro i swap'!PD4","v":0},{"$f":"PG35*'Makro i swap'!PE4","v":0},{"$f":"PH35*'Makro i swap'!PF4","v":0},{"$f":"PI35*'Makro i swap'!PG4","v":0},{"$f":"PJ35*'Makro i swap'!PH4","v":0},{"$f":"PK35*'Makro i swap'!PI4","v":0},{"$f":"PL35*'Makro i swap'!PJ4","v":0},{"$f":"PM35*'Makro i swap'!PK4","v":0},{"$f":"PN35*'Makro i swap'!PL4","v":0},{"$f":"PO35*'Makro i swap'!PM4","v":0},{"$f":"PP35*'Makro i swap'!PN4","v":0},{"$f":"PQ35*'Makro i swap'!PO4","v":0},{"$f":"PR35*'Makro i swap'!PP4","v":0},{"$f":"PS35*'Makro i swap'!PQ4","v":0},{"$f":"PT35*'Makro i swap'!PR4","v":0},{"$f":"PU35*'Makro i swap'!PS4","v":0},{"$f":"PV35*'Makro i swap'!PT4","v":0},{"$f":"PW35*'Makro i swap'!PU4","v":0},{"$f":"PX35*'Makro i swap'!PV4","v":0},{"$f":"PY35*'Makro i swap'!PW4","v":0},{"$f":"PZ35*'Makro i swap'!PX4","v":0},{"$f":"QA35*'Makro i swap'!PY4","v":0},{"$f":"QB35*'Makro i swap'!PZ4","v":0},{"$f":"QC35*'Makro i swap'!QA4","v":0},{"$f":"QD35*'Makro i swap'!QB4","v":0},{"$f":"QE35*'Makro i swap'!QC4","v":0},{"$f":"QF35*'Makro i swap'!QD4","v":0},{"$f":"QG35*'Makro i swap'!QE4","v":0},{"$f":"QH35*'Makro i swap'!QF4","v":0},{"$f":"QI35*'Makro i swap'!QG4","v":0},{"$f":"QJ35*'Makro i swap'!QH4","v":0},{"$f":"QK35*'Makro i swap'!QI4","v":0},{"$f":"QL35*'Makro i swap'!QJ4","v":0},{"$f":"QM35*'Makro i swap'!QK4","v":0},{"$f":"QN35*'Makro i swap'!QL4","v":0},{"$f":"QO35*'Makro i swap'!QM4","v":0},{"$f":"QP35*'Makro i swap'!QN4","v":0},{"$f":"QQ35*'Makro i swap'!QO4","v":0},{"$f":"QR35*'Makro i swap'!QP4","v":0},{"$f":"QS35*'Makro i swap'!QQ4","v":0},{"$f":"QT35*'Makro i swap'!QR4","v":0},{"$f":"QU35*'Makro i swap'!QS4","v":0},{"$f":"QV35*'Makro i swap'!QT4","v":0},{"$f":"QW35*'Makro i swap'!QU4","v":0},{"$f":"QX35*'Makro i swap'!QV4","v":0},{"$f":"QY35*'Makro i swap'!QW4","v":0},{"$f":"QZ35*'Makro i swap'!QX4","v":0},{"$f":"RA35*'Makro i swap'!QY4","v":0},{"$f":"RB35*'Makro i swap'!QZ4","v":0},{"$f":"RC35*'Makro i swap'!RA4","v":0},{"$f":"RD35*'Makro i swap'!RB4","v":0},{"$f":"RE35*'Makro i swap'!RC4","v":0},{"$f":"RF35*'Makro i swap'!RD4","v":0},{"$f":"RG35*'Makro i swap'!RE4","v":0},{"$f":"RH35*'Makro i swap'!RF4","v":0},{"$f":"RI35*'Makro i swap'!RG4","v":0},{"$f":"RJ35*'Makro i swap'!RH4","v":0},{"$f":"RK35*'Makro i swap'!RI4","v":0},{"$f":"RL35*'Makro i swap'!RJ4","v":0},{"$f":"RM35*'Makro i swap'!RK4","v":0},{"$f":"RN35*'Makro i swap'!RL4","v":0},{"$f":"RO35*'Makro i swap'!RM4","v":0},{"$f":"RP35*'Makro i swap'!RN4","v":0},{"$f":"RQ35*'Makro i swap'!RO4","v":0},{"$f":"RR35*'Makro i swap'!RP4","v":0},{"$f":"RS35*'Makro i swap'!RQ4","v":0},{"$f":"RT35*'Makro i swap'!RR4","v":0},{"$f":"RU35*'Makro i swap'!RS4","v":0},{"$f":"RV35*'Makro i swap'!RT4","v":0},{"$f":"RW35*'Makro i swap'!RU4","v":0},{"$f":"RX35*'Makro i swap'!RV4","v":0},{"$f":"RY35*'Makro i swap'!RW4","v":0},{"$f":"RZ35*'Makro i swap'!RX4","v":0},{"$f":"SA35*'Makro i swap'!RY4","v":0},{"$f":"SB35*'Makro i swap'!RZ4","v":0},{"$f":"SC35*'Makro i swap'!SA4","v":0},{"$f":"SD35*'Makro i swap'!SB4","v":0},{"$f":"SE35*'Makro i swap'!SC4","v":0},{"$f":"SF35*'Makro i swap'!SD4","v":0},{"$f":"SG35*'Makro i swap'!SE4","v":0},{"$f":"SH35*'Makro i swap'!SF4","v":0},{"$f":"SI35*'Makro i swap'!SG4","v":0},{"$f":"SJ35*'Makro i swap'!SH4","v":0},{"$f":"SK35*'Makro i swap'!SI4","v":0},{"$f":"SL35*'Makro i swap'!SJ4","v":0},{"$f":"SM35*'Makro i swap'!SK4","v":0},{"$f":"SN35*'Makro i swap'!SL4","v":0},{"$f":"SO35*'Makro i swap'!SM4","v":0},{"$f":"SP35*'Makro i swap'!SN4","v":0},{"$f":"SQ35*'Makro i swap'!SO4","v":0},{"$f":"SR35*'Makro i swap'!SP4","v":0},{"$f":"SS35*'Makro i swap'!SQ4","v":0},{"$f":"ST35*'Makro i swap'!SR4","v":0},{"$f":"SU35*'Makro i swap'!SS4","v":0},{"$f":"SV35*'Makro i swap'!ST4","v":0},{"$f":"SW35*'Makro i swap'!SU4","v":0},{"$f":"SX35*'Makro i swap'!SV4","v":0},{"$f":"SY35*'Makro i swap'!SW4","v":0},{"$f":"SZ35*'Makro i swap'!SX4","v":0},{"$f":"TA35*'Makro i swap'!SY4","v":0},{"$f":"TB35*'Makro i swap'!SZ4","v":0},{"$f":"TC35*'Makro i swap'!TA4","v":0},{"$f":"TD35*'Makro i swap'!TB4","v":0},{"$f":"TE35*'Makro i swap'!TC4","v":0},{"$f":"TF35*'Makro i swap'!TD4","v":0},{"$f":"TG35*'Makro i swap'!TE4","v":0},{"$f":"TH35*'Makro i swap'!TF4","v":0},{"$f":"TI35*'Makro i swap'!TG4","v":0},{"$f":"TJ35*'Makro i swap'!TH4","v":0},{"$f":"TK35*'Makro i swap'!TI4","v":0},{"$f":"TL35*'Makro i swap'!TJ4","v":0},{"$f":"TM35*'Makro i swap'!TK4","v":0},{"$f":"TN35*'Makro i swap'!TL4","v":0},{"$f":"TO35*'Makro i swap'!TM4","v":0},{"$f":"TP35*'Makro i swap'!TN4","v":0},{"$f":"TQ35*'Makro i swap'!TO4","v":0},{"$f":"TR35*'Makro i swap'!TP4","v":0},{"$f":"TS35*'Makro i swap'!TQ4","v":0},{"$f":"TT35*'Makro i swap'!TR4","v":0},{"$f":"TU35*'Makro i swap'!TS4","v":0},{"$f":"TV35*'Makro i swap'!TT4","v":0},{"$f":"TW35*'Makro i swap'!TU4","v":0},{"$f":"TX35*'Makro i swap'!TV4","v":0},{"$f":"TY35*'Makro i swap'!TW4","v":0},{"$f":"TZ35*'Makro i swap'!TX4","v":0},{"$f":"UA35*'Makro i swap'!TY4","v":0},{"$f":"UB35*'Makro i swap'!TZ4","v":0},{"$f":"UC35*'Makro i swap'!UA4","v":0},{"$f":"UD35*'Makro i swap'!UB4","v":0},{"$f":"UE35*'Makro i swap'!UC4","v":0},{"$f":"UF35*'Makro i swap'!UD4","v":0},{"$f":"UG35*'Makro i swap'!UE4","v":0},{"$f":"UH35*'Makro i swap'!UF4","v":0},{"$f":"UI35*'Makro i swap'!UG4","v":0},{"$f":"UJ35*'Makro i swap'!UH4","v":0},{"$f":"UK35*'Makro i swap'!UI4","v":0},{"$f":"UL35*'Makro i swap'!UJ4","v":0},{"$f":"UM35*'Makro i swap'!UK4","v":0},{"$f":"UN35*'Makro i swap'!UL4","v":0},{"$f":"UO35*'Makro i swap'!UM4","v":0},{"$f":"UP35*'Makro i swap'!UN4","v":0},{"$f":"UQ35*'Makro i swap'!UO4","v":0},{"$f":"UR35*'Makro i swap'!UP4","v":0},{"$f":"US35*'Makro i swap'!UQ4","v":0},{"$f":"UT35*'Makro i swap'!UR4","v":0},{"$f":"UU35*'Makro i swap'!US4","v":0},{"$f":"UV35*'Makro i swap'!UT4","v":0},{"$f":"UW35*'Makro i swap'!UU4","v":0},{"$f":"UX35*'Makro i swap'!UV4","v":0},{"$f":"UY35*'Makro i swap'!UW4","v":0},{"$f":"UZ35*'Makro i swap'!UX4","v":0},{"$f":"VA35*'Makro i swap'!UY4","v":0},{"$f":"VB35*'Makro i swap'!UZ4","v":0},{"$f":"VC35*'Makro i swap'!VA4","v":0},{"$f":"VD35*'Makro i swap'!VB4","v":0},{"$f":"VE35*'Makro i swap'!VC4","v":0},{"$f":"VF35*'Makro i swap'!VD4","v":0},{"$f":"VG35*'Makro i swap'!VE4","v":0},{"$f":"VH35*'Makro i swap'!VF4","v":0},{"$f":"VI35*'Makro i swap'!VG4","v":0},{"$f":"VJ35*'Makro i swap'!VH4","v":0},{"$f":"VK35*'Makro i swap'!VI4","v":0},{"$f":"VL35*'Makro i swap'!VJ4","v":0},{"$f":"VM35*'Makro i swap'!VK4","v":0},{"$f":"VN35*'Makro i swap'!VL4","v":0},{"$f":"VO35*'Makro i swap'!VM4","v":0},{"$f":"VP35*'Makro i swap'!VN4","v":0},{"$f":"VQ35*'Makro i swap'!VO4","v":0},{"$f":"VR35*'Makro i swap'!VP4","v":0},{"$f":"VS35*'Makro i swap'!VQ4","v":0},{"$f":"VT35*'Makro i swap'!VR4","v":0},{"$f":"VU35*'Makro i swap'!VS4","v":0},{"$f":"VV35*'Makro i swap'!VT4","v":0},{"$f":"VW35*'Makro i swap'!VU4","v":0},{"$f":"VX35*'Makro i swap'!VV4","v":0},{"$f":"VY35*'Makro i swap'!VW4","v":0},{"$f":"VZ35*'Makro i swap'!VX4","v":0},{"$f":"WA35*'Makro i swap'!VY4","v":0},{"$f":"WB35*'Makro i swap'!VZ4","v":0},{"$f":"WC35*'Makro i swap'!WA4","v":0},{"$f":"WD35*'Makro i swap'!WB4","v":0},{"$f":"WE35*'Makro i swap'!WC4","v":0},{"$f":"WF35*'Makro i swap'!WD4","v":0},{"$f":"WG35*'Makro i swap'!WE4","v":0},{"$f":"WH35*'Makro i swap'!WF4","v":0},{"$f":"WI35*'Makro i swap'!WG4","v":0},{"$f":"WJ35*'Makro i swap'!WH4","v":0},{"$f":"WK35*'Makro i swap'!WI4","v":0},{"$f":"WL35*'Makro i swap'!WJ4","v":0},{"$f":"WM35*'Makro i swap'!WK4","v":0},{"$f":"WN35*'Makro i swap'!WL4","v":0},{"$f":"WO35*'Makro i swap'!WM4","v":0},{"$f":"WP35*'Makro i swap'!WN4","v":0},{"$f":"WQ35*'Makro i swap'!WO4","v":0},{"$f":"WR35*'Makro i swap'!WP4","v":0},{"$f":"WS35*'Makro i swap'!WQ4","v":0},{"$f":"WT35*'Makro i swap'!WR4","v":0},{"$f":"WU35*'Makro i swap'!WS4","v":0},{"$f":"WV35*'Makro i swap'!WT4","v":0},{"$f":"WW35*'Makro i swap'!WU4","v":0},{"$f":"WX35*'Makro i swap'!WV4","v":0},{"$f":"WY35*'Makro i swap'!WW4","v":0},{"$f":"WZ35*'Makro i swap'!WX4","v":0},{"$f":"XA35*'Makro i swap'!WY4","v":0},{"$f":"XB35*'Makro i swap'!WZ4","v":0},{"$f":"XC35*'Makro i swap'!XA4","v":0},{"$f":"XD35*'Makro i swap'!XB4","v":0},{"$f":"XE35*'Makro i swap'!XC4","v":0},{"$f":"XF35*'Makro i swap'!XD4","v":0},{"$f":"XG35*'Makro i swap'!XE4","v":0},{"$f":"XH35*'Makro i swap'!XF4","v":0},{"$f":"XI35*'Makro i swap'!XG4","v":0},{"$f":"XJ35*'Makro i swap'!XH4","v":0},{"$f":"XK35*'Makro i swap'!XI4","v":0},{"$f":"XL35*'Makro i swap'!XJ4","v":0},{"$f":"XM35*'Makro i swap'!XK4","v":0},{"$f":"XN35*'Makro i swap'!XL4","v":0},{"$f":"XO35*'Makro i swap'!XM4","v":0},{"$f":"XP35*'Makro i swap'!XN4","v":0},{"$f":"XQ35*'Makro i swap'!XO4","v":0},{"$f":"XR35*'Makro i swap'!XP4","v":0},{"$f":"XS35*'Makro i swap'!XQ4","v":0},{"$f":"XT35*'Makro i swap'!XR4","v":0},{"$f":"XU35*'Makro i swap'!XS4","v":0},{"$f":"XV35*'Makro i swap'!XT4","v":0},{"$f":"XW35*'Makro i swap'!XU4","v":0},{"$f":"XX35*'Makro i swap'!XV4","v":0},{"$f":"XY35*'Makro i swap'!XW4","v":0},{"$f":"XZ35*'Makro i swap'!XX4","v":0},{"$f":"YA35*'Makro i swap'!XY4","v":0},{"$f":"YB35*'Makro i swap'!XZ4","v":0},{"$f":"YC35*'Makro i swap'!YA4","v":0},{"$f":"YD35*'Makro i swap'!YB4","v":0},{"$f":"YE35*'Makro i swap'!YC4","v":0},{"$f":"YF35*'Makro i swap'!YD4","v":0},{"$f":"YG35*'Makro i swap'!YE4","v":0},{"$f":"YH35*'Makro i swap'!YF4","v":0},{"$f":"YI35*'Makro i swap'!YG4","v":0},{"$f":"YJ35*'Makro i swap'!YH4","v":0},{"$f":"YK35*'Makro i swap'!YI4","v":0},{"$f":"YL35*'Makro i swap'!YJ4","v":0},{"$f":"YM35*'Makro i swap'!YK4","v":0},{"$f":"YN35*'Makro i swap'!YL4","v":0},{"$f":"YO35*'Makro i swap'!YM4","v":0},{"$f":"YP35*'Makro i swap'!YN4","v":0},{"$f":"YQ35*'Makro i swap'!YO4","v":0},{"$f":"YR35*'Makro i swap'!YP4","v":0},{"$f":"YS35*'Makro i swap'!YQ4","v":0},{"$f":"YT35*'Makro i swap'!YR4","v":0},{"$f":"YU35*'Makro i swap'!YS4","v":0},{"$f":"YV35*'Makro i swap'!YT4","v":0},{"$f":"YW35*'Makro i swap'!YU4","v":0},{"$f":"YX35*'Makro i swap'!YV4","v":0},{"$f":"YY35*'Makro i swap'!YW4","v":0},{"$f":"YZ35*'Makro i swap'!YX4","v":0},{"$f":"ZA35*'Makro i swap'!YY4","v":0},{"$f":"ZB35*'Makro i swap'!YZ4","v":0},{"$f":"ZC35*'Makro i swap'!ZA4","v":0},{"$f":"ZD35*'Makro i swap'!ZB4","v":0},{"$f":"ZE35*'Makro i swap'!ZC4","v":0},{"$f":"ZF35*'Makro i swap'!ZD4","v":0},{"$f":"ZG35*'Makro i swap'!ZE4","v":0},{"$f":"ZH35*'Makro i swap'!ZF4","v":0},{"$f":"ZI35*'Makro i swap'!ZG4","v":0},{"$f":"ZJ35*'Makro i swap'!ZH4","v":0},{"$f":"ZK35*'Makro i swap'!ZI4","v":0},{"$f":"ZL35*'Makro i swap'!ZJ4","v":0},{"$f":"ZM35*'Makro i swap'!ZK4","v":0},{"$f":"ZN35*'Makro i swap'!ZL4","v":0},{"$f":"ZO35*'Makro i swap'!ZM4","v":0},{"$f":"ZP35*'Makro i swap'!ZN4","v":0},{"$f":"ZQ35*'Makro i swap'!ZO4","v":0},{"$f":"ZR35*'Makro i swap'!ZP4","v":0},{"$f":"ZS35*'Makro i swap'!ZQ4","v":0},{"$f":"ZT35*'Makro i swap'!ZR4","v":0},{"$f":"ZU35*'Makro i swap'!ZS4","v":0},{"$f":"ZV35*'Makro i swap'!ZT4","v":0},{"$f":"ZW35*'Makro i swap'!ZU4","v":0},{"$f":"ZX35*'Makro i swap'!ZV4","v":0},{"$f":"ZY35*'Makro i swap'!ZW4","v":0},{"$f":"ZZ35*'Makro i swap'!ZX4","v":0},{"$f":"AAA35*'Makro i swap'!ZY4","v":0},{"$f":"AAB35*'Makro i swap'!ZZ4","v":0},{"$f":"AAC35*'Makro i swap'!AAA4","v":0},{"$f":"AAD35*'Makro i swap'!AAB4","v":0},{"$f":"AAE35*'Makro i swap'!AAC4","v":0},{"$f":"AAF35*'Makro i swap'!AAD4","v":0},{"$f":"AAG35*'Makro i swap'!AAE4","v":0},{"$f":"AAH35*'Makro i swap'!AAF4","v":0},{"$f":"AAI35*'Makro i swap'!AAG4","v":0},{"$f":"AAJ35*'Makro i swap'!AAH4","v":0},{"$f":"AAK35*'Makro i swap'!AAI4","v":0},{"$f":"AAL35*'Makro i swap'!AAJ4","v":0},{"$f":"AAM35*'Makro i swap'!AAK4","v":0},{"$f":"AAN35*'Makro i swap'!AAL4","v":0},{"$f":"AAO35*'Makro i swap'!AAM4","v":0},{"$f":"AAP35*'Makro i swap'!AAN4","v":0},{"$f":"AAQ35*'Makro i swap'!AAO4","v":0},{"$f":"AAR35*'Makro i swap'!AAP4","v":0},{"$f":"AAS35*'Makro i swap'!AAQ4","v":0},{"$f":"AAT35*'Makro i swap'!AAR4","v":0},{"$f":"AAU35*'Makro i swap'!AAS4","v":0},{"$f":"AAV35*'Makro i swap'!AAT4","v":0},{"$f":"AAW35*'Makro i swap'!AAU4","v":0},{"$f":"AAX35*'Makro i swap'!AAV4","v":0},{"$f":"AAY35*'Makro i swap'!AAW4","v":0},{"$f":"AAZ35*'Makro i swap'!AAX4","v":0},{"$f":"ABA35*'Makro i swap'!AAY4","v":0},{"$f":"ABB35*'Makro i swap'!AAZ4","v":0},{"$f":"ABC35*'Makro i swap'!ABA4","v":0},{"$f":"ABD35*'Makro i swap'!ABB4","v":0},{"$f":"ABE35*'Makro i swap'!ABC4","v":0},{"$f":"ABF35*'Makro i swap'!ABD4","v":0},{"$f":"ABG35*'Makro i swap'!ABE4","v":0},{"$f":"ABH35*'Makro i swap'!ABF4","v":0},{"$f":"ABI35*'Makro i swap'!ABG4","v":0},{"$f":"ABJ35*'Makro i swap'!ABH4","v":0},{"$f":"ABK35*'Makro i swap'!ABI4","v":0},{"$f":"ABL35*'Makro i swap'!ABJ4","v":0},{"$f":"ABM35*'Makro i swap'!ABK4","v":0},{"$f":"ABN35*'Makro i swap'!ABL4","v":0},{"$f":"ABO35*'Makro i swap'!ABM4","v":0},{"$f":"ABP35*'Makro i swap'!ABN4","v":0},{"$f":"ABQ35*'Makro i swap'!ABO4","v":0},{"$f":"ABR35*'Makro i swap'!ABP4","v":0},{"$f":"ABS35*'Makro i swap'!ABQ4","v":0},{"$f":"ABT35*'Makro i swap'!ABR4","v":0},{"$f":"ABU35*'Makro i swap'!ABS4","v":0},{"$f":"ABV35*'Makro i swap'!ABT4","v":0},{"$f":"ABW35*'Makro i swap'!ABU4","v":0},{"$f":"ABX35*'Makro i swap'!ABV4","v":0},{"$f":"ABY35*'Makro i swap'!ABW4","v":0},{"$f":"ABZ35*'Makro i swap'!ABX4","v":0},{"$f":"ACA35*'Makro i swap'!ABY4","v":0},{"$f":"ACB35*'Makro i swap'!ABZ4","v":0},{"$f":"ACC35*'Makro i swap'!ACA4","v":0},{"$f":"ACD35*'Makro i swap'!ACB4","v":0},{"$f":"ACE35*'Makro i swap'!ACC4","v":0},{"$f":"ACF35*'Makro i swap'!ACD4","v":0},{"$f":"ACG35*'Makro i swap'!ACE4","v":0},{"$f":"ACH35*'Makro i swap'!ACF4","v":0},{"$f":"ACI35*'Makro i swap'!ACG4","v":0},{"$f":"ACJ35*'Makro i swap'!ACH4","v":0},{"$f":"ACK35*'Makro i swap'!ACI4","v":0},{"$f":"ACL35*'Makro i swap'!ACJ4","v":0},{"$f":"ACM35*'Makro i swap'!ACK4","v":0},{"$f":"ACN35*'Makro i swap'!ACL4","v":0},{"$f":"ACO35*'Makro i swap'!ACM4","v":0},{"$f":"ACP35*'Makro i swap'!ACN4","v":0},{"$f":"ACQ35*'Makro i swap'!ACO4","v":0},{"$f":"ACR35*'Makro i swap'!ACP4","v":0},{"$f":"ACS35*'Makro i swap'!ACQ4","v":0},{"$f":"ACT35*'Makro i swap'!ACR4","v":0},{"$f":"ACU35*'Makro i swap'!ACS4","v":0},{"$f":"ACV35*'Makro i swap'!ACT4","v":0},{"$f":"ACW35*'Makro i swap'!ACU4","v":0},{"$f":"ACX35*'Makro i swap'!ACV4","v":0},{"$f":"ACY35*'Makro i swap'!ACW4","v":0},{"$f":"ACZ35*'Makro i swap'!ACX4","v":0},{"$f":"ADA35*'Makro i swap'!ACY4","v":0},{"$f":"ADB35*'Makro i swap'!ACZ4","v":0},{"$f":"ADC35*'Makro i swap'!ADA4","v":0},{"$f":"ADD35*'Makro i swap'!ADB4","v":0},{"$f":"ADE35*'Makro i swap'!ADC4","v":0},{"$f":"ADF35*'Makro i swap'!ADD4","v":0},{"$f":"ADG35*'Makro i swap'!ADE4","v":0},{"$f":"ADH35*'Makro i swap'!ADF4","v":0},{"$f":"ADI35*'Makro i swap'!ADG4","v":0},{"$f":"ADJ35*'Makro i swap'!ADH4","v":0},{"$f":"ADK35*'Makro i swap'!ADI4","v":0},{"$f":"ADL35*'Makro i swap'!ADJ4","v":0},{"$f":"ADM35*'Makro i swap'!ADK4","v":0},{"$f":"ADN35*'Makro i swap'!ADL4","v":0},{"$f":"ADO35*'Makro i swap'!ADM4","v":0},{"$f":"ADP35*'Makro i swap'!ADN4","v":0},{"$f":"ADQ35*'Makro i swap'!ADO4","v":0},{"$f":"ADR35*'Makro i swap'!ADP4","v":0},{"$f":"ADS35*'Makro i swap'!ADQ4","v":0},{"$f":"ADT35*'Makro i swap'!ADR4","v":0},{"$f":"ADU35*'Makro i swap'!ADS4","v":0},{"$f":"ADV35*'Makro i swap'!ADT4","v":0},{"$f":"ADW35*'Makro i swap'!ADU4","v":0},{"$f":"ADX35*'Makro i swap'!ADV4","v":0},{"$f":"ADY35*'Makro i swap'!ADW4","v":0},{"$f":"ADZ35*'Makro i swap'!ADX4","v":0},{"$f":"AEA35*'Makro i swap'!ADY4","v":0},{"$f":"AEB35*'Makro i swap'!ADZ4","v":0},{"$f":"AEC35*'Makro i swap'!AEA4","v":0},{"$f":"AED35*'Makro i swap'!AEB4","v":0},{"$f":"AEE35*'Makro i swap'!AEC4","v":0},{"$f":"AEF35*'Makro i swap'!AED4","v":0},{"$f":"AEG35*'Makro i swap'!AEE4","v":0},{"$f":"AEH35*'Makro i swap'!AEF4","v":0},{"$f":"AEI35*'Makro i swap'!AEG4","v":0},{"$f":"AEJ35*'Makro i swap'!AEH4","v":0},{"$f":"AEK35*'Makro i swap'!AEI4","v":0},{"$f":"AEL35*'Makro i swap'!AEJ4","v":0},{"$f":"AEM35*'Makro i swap'!AEK4","v":0},{"$f":"AEN35*'Makro i swap'!AEL4","v":0},{"$f":"AEO35*'Makro i swap'!AEM4","v":0},{"$f":"AEP35*'Makro i swap'!AEN4","v":0},{"$f":"AEQ35*'Makro i swap'!AEO4","v":0},{"$f":"AER35*'Makro i swap'!AEP4","v":0},{"$f":"AES35*'Makro i swap'!AEQ4","v":0},{"$f":"AET35*'Makro i swap'!AER4","v":0},{"$f":"AEU35*'Makro i swap'!AES4","v":0},{"$f":"AEV35*'Makro i swap'!AET4","v":0},{"$f":"AEW35*'Makro i swap'!AEU4","v":0},{"$f":"AEX35*'Makro i swap'!AEV4","v":0},{"$f":"AEY35*'Makro i swap'!AEW4","v":0},{"$f":"AEZ35*'Makro i swap'!AEX4","v":0},{"$f":"AFA35*'Makro i swap'!AEY4","v":0},{"$f":"AFB35*'Makro i swap'!AEZ4","v":0},{"$f":"AFC35*'Makro i swap'!AFA4","v":0},{"$f":"AFD35*'Makro i swap'!AFB4","v":0},{"$f":"AFE35*'Makro i swap'!AFC4","v":0},{"$f":"AFF35*'Makro i swap'!AFD4","v":0},{"$f":"AFG35*'Makro i swap'!AFE4","v":0},{"$f":"AFH35*'Makro i swap'!AFF4","v":0},{"$f":"AFI35*'Makro i swap'!AFG4","v":0},{"$f":"AFJ35*'Makro i swap'!AFH4","v":0},{"$f":"AFK35*'Makro i swap'!AFI4","v":0},{"$f":"AFL35*'Makro i swap'!AFJ4","v":0},{"$f":"AFM35*'Makro i swap'!AFK4","v":0},{"$f":"AFN35*'Makro i swap'!AFL4","v":0},{"$f":"AFO35*'Makro i swap'!AFM4","v":0},{"$f":"AFP35*'Makro i swap'!AFN4","v":0},{"$f":"AFQ35*'Makro i swap'!AFO4","v":0},{"$f":"AFR35*'Makro i swap'!AFP4","v":0},{"$f":"AFS35*'Makro i swap'!AFQ4","v":0},{"$f":"AFT35*'Makro i swap'!AFR4","v":0},{"$f":"AFU35*'Makro i swap'!AFS4","v":0},{"$f":"AFV35*'Makro i swap'!AFT4","v":0},{"$f":"AFW35*'Makro i swap'!AFU4","v":0},{"$f":"AFX35*'Makro i swap'!AFV4","v":0},{"$f":"AFY35*'Makro i swap'!AFW4","v":0},{"$f":"AFZ35*'Makro i swap'!AFX4","v":0},{"$f":"AGA35*'Makro i swap'!AFY4","v":0},{"$f":"AGB35*'Makro i swap'!AFZ4","v":0},{"$f":"AGC35*'Makro i swap'!AGA4","v":0},{"$f":"AGD35*'Makro i swap'!AGB4","v":0},{"$f":"AGE35*'Makro i swap'!AGC4","v":0},{"$f":"AGF35*'Makro i swap'!AGD4","v":0},{"$f":"AGG35*'Makro i swap'!AGE4","v":0},{"$f":"AGH35*'Makro i swap'!AGF4","v":0},{"$f":"AGI35*'Makro i swap'!AGG4","v":0},{"$f":"AGJ35*'Makro i swap'!AGH4","v":0},{"$f":"AGK35*'Makro i swap'!AGI4","v":0},{"$f":"AGL35*'Makro i swap'!AGJ4","v":0},{"$f":"AGM35*'Makro i swap'!AGK4","v":0},{"$f":"AGN35*'Makro i swap'!AGL4","v":0},{"$f":"AGO35*'Makro i swap'!AGM4","v":0},{"$f":"AGP35*'Makro i swap'!AGN4","v":0},{"$f":"AGQ35*'Makro i swap'!AGO4","v":0},{"$f":"AGR35*'Makro i swap'!AGP4","v":0},{"$f":"AGS35*'Makro i swap'!AGQ4","v":0},{"$f":"AGT35*'Makro i swap'!AGR4","v":0},{"$f":"AGU35*'Makro i swap'!AGS4","v":0},{"$f":"AGV35*'Makro i swap'!AGT4","v":0},{"$f":"AGW35*'Makro i swap'!AGU4","v":0},{"$f":"AGX35*'Makro i swap'!AGV4","v":0},{"$f":"AGY35*'Makro i swap'!AGW4","v":0},{"$f":"AGZ35*'Makro i swap'!AGX4","v":0},{"$f":"AHA35*'Makro i swap'!AGY4","v":0},{"$f":"AHB35*'Makro i swap'!AGZ4","v":0},{"$f":"AHC35*'Makro i swap'!AHA4","v":0},{"$f":"AHD35*'Makro i swap'!AHB4","v":0},{"$f":"AHE35*'Makro i swap'!AHC4","v":0},{"$f":"AHF35*'Makro i swap'!AHD4","v":0},{"$f":"AHG35*'Makro i swap'!AHE4","v":0},{"$f":"AHH35*'Makro i swap'!AHF4","v":0},{"$f":"AHI35*'Makro i swap'!AHG4","v":0},{"$f":"AHJ35*'Makro i swap'!AHH4","v":0},{"$f":"AHK35*'Makro i swap'!AHI4","v":0},{"$f":"AHL35*'Makro i swap'!AHJ4","v":0},{"$f":"AHM35*'Makro i swap'!AHK4","v":0},{"$f":"AHN35*'Makro i swap'!AHL4","v":0},{"$f":"AHO35*'Makro i swap'!AHM4","v":0},{"$f":"AHP35*'Makro i swap'!AHN4","v":0},{"$f":"AHQ35*'Makro i swap'!AHO4","v":0},{"$f":"AHR35*'Makro i swap'!AHP4","v":0},{"$f":"AHS35*'Makro i swap'!AHQ4","v":0},{"$f":"AHT35*'Makro i swap'!AHR4","v":0},{"$f":"AHU35*'Makro i swap'!AHS4","v":0},{"$f":"AHV35*'Makro i swap'!AHT4","v":0},{"$f":"AHW35*'Makro i swap'!AHU4","v":0},{"$f":"AHX35*'Makro i swap'!AHV4","v":0},{"$f":"AHY35*'Makro i swap'!AHW4","v":0},{"$f":"AHZ35*'Makro i swap'!AHX4","v":0},{"$f":"AIA35*'Makro i swap'!AHY4","v":0},{"$f":"AIB35*'Makro i swap'!AHZ4","v":0},{"$f":"AIC35*'Makro i swap'!AIA4","v":0},{"$f":"AID35*'Makro i swap'!AIB4","v":0},{"$f":"AIE35*'Makro i swap'!AIC4","v":0},{"$f":"AIF35*'Makro i swap'!AID4","v":0},{"$f":"AIG35*'Makro i swap'!AIE4","v":0},{"$f":"AIH35*'Makro i swap'!AIF4","v":0},{"$f":"AII35*'Makro i swap'!AIG4","v":0},{"$f":"AIJ35*'Makro i swap'!AIH4","v":0},{"$f":"AIK35*'Makro i swap'!AII4","v":0},{"$f":"AIL35*'Makro i swap'!AIJ4","v":0},{"$f":"AIM35*'Makro i swap'!AIK4","v":0},{"$f":"AIN35*'Makro i swap'!AIL4","v":0},{"$f":"AIO35*'Makro i swap'!AIM4","v":0},{"$f":"AIP35*'Makro i swap'!AIN4","v":0},{"$f":"AIQ35*'Makro i swap'!AIO4","v":0},{"$f":"AIR35*'Makro i swap'!AIP4","v":0},{"$f":"AIS35*'Makro i swap'!AIQ4","v":0},{"$f":"AIT35*'Makro i swap'!AIR4","v":0},{"$f":"AIU35*'Makro i swap'!AIS4","v":0},{"$f":"AIV35*'Makro i swap'!AIT4","v":0},{"$f":"AIW35*'Makro i swap'!AIU4","v":0},{"$f":"AIX35*'Makro i swap'!AIV4","v":0},{"$f":"AIY35*'Makro i swap'!AIW4","v":0},{"$f":"AIZ35*'Makro i swap'!AIX4","v":0},{"$f":"AJA35*'Makro i swap'!AIY4","v":0},{"$f":"AJB35*'Makro i swap'!AIZ4","v":0},{"$f":"AJC35*'Makro i swap'!AJA4","v":0},{"$f":"AJD35*'Makro i swap'!AJB4","v":0},{"$f":"AJE35*'Makro i swap'!AJC4","v":0},{"$f":"AJF35*'Makro i swap'!AJD4","v":0},{"$f":"AJG35*'Makro i swap'!AJE4","v":0},{"$f":"AJH35*'Makro i swap'!AJF4","v":0},{"$f":"AJI35*'Makro i swap'!AJG4","v":0},{"$f":"AJJ35*'Makro i swap'!AJH4","v":0},{"$f":"AJK35*'Makro i swap'!AJI4","v":0},{"$f":"AJL35*'Makro i swap'!AJJ4","v":0},{"$f":"AJM35*'Makro i swap'!AJK4","v":0},{"$f":"AJN35*'Makro i swap'!AJL4","v":0},{"$f":"AJO35*'Makro i swap'!AJM4","v":0},{"$f":"AJP35*'Makro i swap'!AJN4","v":0},{"$f":"AJQ35*'Makro i swap'!AJO4","v":0},{"$f":"AJR35*'Makro i swap'!AJP4","v":0},{"$f":"AJS35*'Makro i swap'!AJQ4","v":0},{"$f":"AJT35*'Makro i swap'!AJR4","v":0},{"$f":"AJU35*'Makro i swap'!AJS4","v":0},{"$f":"AJV35*'Makro i swap'!AJT4","v":0},{"$f":"AJW35*'Makro i swap'!AJU4","v":0},{"$f":"AJX35*'Makro i swap'!AJV4","v":0},{"$f":"AJY35*'Makro i swap'!AJW4","v":0},{"$f":"AJZ35*'Makro i swap'!AJX4","v":0},{"$f":"AKA35*'Makro i swap'!AJY4","v":0},{"$f":"AKB35*'Makro i swap'!AJZ4","v":0},{"$f":"AKC35*'Makro i swap'!AKA4","v":0},{"$f":"AKD35*'Makro i swap'!AKB4","v":0},{"$f":"AKE35*'Makro i swap'!AKC4","v":0},{"$f":"AKF35*'Makro i swap'!AKD4","v":0},{"$f":"AKG35*'Makro i swap'!AKE4","v":0},{"$f":"AKH35*'Makro i swap'!AKF4","v":0},{"$f":"AKI35*'Makro i swap'!AKG4","v":0},{"$f":"AKJ35*'Makro i swap'!AKH4","v":0},{"$f":"AKK35*'Makro i swap'!AKI4","v":0},{"$f":"AKL35*'Makro i swap'!AKJ4","v":0},{"$f":"AKM35*'Makro i swap'!AKK4","v":0},{"$f":"AKN35*'Makro i swap'!AKL4","v":0},{"$f":"AKO35*'Makro i swap'!AKM4","v":0},{"$f":"AKP35*'Makro i swap'!AKN4","v":0},{"$f":"AKQ35*'Makro i swap'!AKO4","v":0},{"$f":"AKR35*'Makro i swap'!AKP4","v":0},{"$f":"AKS35*'Makro i swap'!AKQ4","v":0},{"$f":"AKT35*'Makro i swap'!AKR4","v":0},{"$f":"AKU35*'Makro i swap'!AKS4","v":0},{"$f":"AKV35*'Makro i swap'!AKT4","v":0},{"$f":"AKW35*'Makro i swap'!AKU4","v":0},{"$f":"AKX35*'Makro i swap'!AKV4","v":0},{"$f":"AKY35*'Makro i swap'!AKW4","v":0},{"$f":"AKZ35*'Makro i swap'!AKX4","v":0},{"$f":"ALA35*'Makro i swap'!AKY4","v":0},{"$f":"ALB35*'Makro i swap'!AKZ4","v":0},{"$f":"ALC35*'Makro i swap'!ALA4","v":0},{"$f":"ALD35*'Makro i swap'!ALB4","v":0},{"$f":"ALE35*'Makro i swap'!ALC4","v":0},{"$f":"ALF35*'Makro i swap'!ALD4","v":0},{"$f":"ALG35*'Makro i swap'!ALE4","v":0},{"$f":"ALH35*'Makro i swap'!ALF4","v":0},{"$f":"ALI35*'Makro i swap'!ALG4","v":0},{"$f":"ALJ35*'Makro i swap'!ALH4","v":0},{"$f":"ALK35*'Makro i swap'!ALI4","v":0},{"$f":"ALL35*'Makro i swap'!ALJ4","v":0},{"$f":"ALM35*'Makro i swap'!ALK4","v":0},{"$f":"ALN35*'Makro i swap'!ALL4","v":0},{"$f":"ALO35*'Makro i swap'!ALM4","v":0},{"$f":"ALP35*'Makro i swap'!ALN4","v":0},{"$f":"ALQ35*'Makro i swap'!ALO4","v":0},{"$f":"ALR35*'Makro i swap'!ALP4","v":0},{"$f":"ALS35*'Makro i swap'!ALQ4","v":0},{"$f":"ALT35*'Makro i swap'!ALR4","v":0},{"$f":"ALU35*'Makro i swap'!ALS4","v":0},{"$f":"ALV35*'Makro i swap'!ALT4","v":0},{"$f":"ALW35*'Makro i swap'!ALU4","v":0},{"$f":"ALX35*'Makro i swap'!ALV4","v":0},{"$f":"ALY35*'Makro i swap'!ALW4","v":0},{"$f":"ALZ35*'Makro i swap'!ALX4","v":0},{"$f":"AMA35*'Makro i swap'!ALY4","v":0},{"$f":"AMB35*'Makro i swap'!ALZ4","v":0},{"$f":"AMC35*'Makro i swap'!AMA4","v":0},{"$f":"AMD35*'Makro i swap'!AMB4","v":0},{"$f":"AME35*'Makro i swap'!AMC4","v":0},{"$f":"AMF35*'Makro i swap'!AMD4","v":0},{"$f":"AMG35*'Makro i swap'!AME4","v":0},{"$f":"AMH35*'Makro i swap'!AMF4","v":0},{"$f":"AMI35*'Makro i swap'!AMG4","v":0},{"$f":"AMJ35*'Makro i swap'!AMH4","v":0},{"$f":"AMK35*'Makro i swap'!AMI4","v":0},{"$f":"AML35*'Makro i swap'!AMJ4","v":0},{"$f":"AMM35*'Makro i swap'!AMK4","v":0},{"$f":"AMN35*'Makro i swap'!AML4","v":0},{"$f":"AMO35*'Makro i swap'!AMM4","v":0},{"$f":"AMP35*'Makro i swap'!AMN4","v":0},{"$f":"AMQ35*'Makro i swap'!AMO4","v":0},{"$f":"AMR35*'Makro i swap'!AMP4","v":0},{"$f":"AMS35*'Makro i swap'!AMQ4","v":0},{"$f":"AMT35*'Makro i swap'!AMR4","v":0},{"$f":"AMU35*'Makro i swap'!AMS4","v":0},{"$f":"AMV35*'Makro i swap'!AMT4","v":0},{"$f":"AMW35*'Makro i swap'!AMU4","v":0},{"$f":"AMX35*'Makro i swap'!AMV4","v":0},{"$f":"AMY35*'Makro i swap'!AMW4","v":0},{"$f":"AMZ35*'Makro i swap'!AMX4","v":0},{"$f":"ANA35*'Makro i swap'!AMY4","v":0},{"$f":"ANB35*'Makro i swap'!AMZ4","v":0},{"$f":"ANC35*'Makro i swap'!ANA4","v":0},{"$f":"AND35*'Makro i swap'!ANB4","v":0},{"$f":"ANE35*'Makro i swap'!ANC4","v":0},{"$f":"ANF35*'Makro i swap'!AND4","v":0},{"$f":"ANG35*'Makro i swap'!ANE4","v":0},{"$f":"ANH35*'Makro i swap'!ANF4","v":0},{"$f":"ANI35*'Makro i swap'!ANG4","v":0},{"$f":"ANJ35*'Makro i swap'!ANH4","v":0},{"$f":"ANK35*'Makro i swap'!ANI4","v":0},{"$f":"ANL35*'Makro i swap'!ANJ4","v":0},{"$f":"ANM35*'Makro i swap'!ANK4","v":0},{"$f":"ANN35*'Makro i swap'!ANL4","v":0},{"$f":"ANO35*'Makro i swap'!ANM4","v":0},{"$f":"ANP35*'Makro i swap'!ANN4","v":0},{"$f":"ANQ35*'Makro i swap'!ANO4","v":0},{"$f":"ANR35*'Makro i swap'!ANP4","v":0},{"$f":"ANS35*'Makro i swap'!ANQ4","v":0},{"$f":"ANT35*'Makro i swap'!ANR4","v":0},{"$f":"ANU35*'Makro i swap'!ANS4","v":0},{"$f":"ANV35*'Makro i swap'!ANT4","v":0},{"$f":"ANW35*'Makro i swap'!ANU4","v":0},{"$f":"ANX35*'Makro i swap'!ANV4","v":0},{"$f":"ANY35*'Makro i swap'!ANW4","v":0},{"$f":"ANZ35*'Makro i swap'!ANX4","v":0},{"$f":"AOA35*'Makro i swap'!ANY4","v":0},{"$f":"AOB35*'Makro i swap'!ANZ4","v":0},{"$f":"AOC35*'Makro i swap'!AOA4","v":0},{"$f":"AOD35*'Makro i swap'!AOB4","v":0},{"$f":"AOE35*'Makro i swap'!AOC4","v":0},{"$f":"AOF35*'Makro i swap'!AOD4","v":0},{"$f":"AOG35*'Makro i swap'!AOE4","v":0},{"$f":"AOH35*'Makro i swap'!AOF4","v":0},{"$f":"AOI35*'Makro i swap'!AOG4","v":0},{"$f":"AOJ35*'Makro i swap'!AOH4","v":0},{"$f":"AOK35*'Makro i swap'!AOI4","v":0},{"$f":"AOL35*'Makro i swap'!AOJ4","v":0},{"$f":"AOM35*'Makro i swap'!AOK4","v":0},{"$f":"AON35*'Makro i swap'!AOL4","v":0},{"$f":"AOO35*'Makro i swap'!AOM4","v":0},{"$f":"AOP35*'Makro i swap'!AON4","v":0},{"$f":"AOQ35*'Makro i swap'!AOO4","v":0},{"$f":"AOR35*'Makro i swap'!AOP4","v":0},{"$f":"AOS35*'Makro i swap'!AOQ4","v":0},{"$f":"AOT35*'Makro i swap'!AOR4","v":0},{"$f":"AOU35*'Makro i swap'!AOS4","v":0},{"$f":"AOV35*'Makro i swap'!AOT4","v":0},{"$f":"AOW35*'Makro i swap'!AOU4","v":0},{"$f":"AOX35*'Makro i swap'!AOV4","v":0},{"$f":"AOY35*'Makro i swap'!AOW4","v":0},{"$f":"AOZ35*'Makro i swap'!AOX4","v":0},{"$f":"APA35*'Makro i swap'!AOY4","v":0},{"$f":"APB35*'Makro i swap'!AOZ4","v":0},{"$f":"APC35*'Makro i swap'!APA4","v":0},{"$f":"APD35*'Makro i swap'!APB4","v":0},{"$f":"APE35*'Makro i swap'!APC4","v":0},{"$f":"APF35*'Makro i swap'!APD4","v":0},{"$f":"APG35*'Makro i swap'!APE4","v":0},{"$f":"APH35*'Makro i swap'!APF4","v":0},{"$f":"API35*'Makro i swap'!APG4","v":0},{"$f":"APJ35*'Makro i swap'!APH4","v":0},{"$f":"APK35*'Makro i swap'!API4","v":0},{"$f":"APL35*'Makro i swap'!APJ4","v":0},{"$f":"APM35*'Makro i swap'!APK4","v":0},{"$f":"APN35*'Makro i swap'!APL4","v":0},{"$f":"APO35*'Makro i swap'!APM4","v":0},{"$f":"APP35*'Makro i swap'!APN4","v":0},{"$f":"APQ35*'Makro i swap'!APO4","v":0},{"$f":"APR35*'Makro i swap'!APP4","v":0},{"$f":"APS35*'Makro i swap'!APQ4","v":0},{"$f":"APT35*'Makro i swap'!APR4","v":0},{"$f":"APU35*'Makro i swap'!APS4","v":0},{"$f":"APV35*'Makro i swap'!APT4","v":0},{"$f":"APW35*'Makro i swap'!APU4","v":0},{"$f":"APX35*'Makro i swap'!APV4","v":0},{"$f":"APY35*'Makro i swap'!APW4","v":0},{"$f":"APZ35*'Makro i swap'!APX4","v":0},{"$f":"AQA35*'Makro i swap'!APY4","v":0},{"$f":"AQB35*'Makro i swap'!APZ4","v":0},{"$f":"AQC35*'Makro i swap'!AQA4","v":0},{"$f":"AQD35*'Makro i swap'!AQB4","v":0},{"$f":"AQE35*'Makro i swap'!AQC4","v":0},{"$f":"AQF35*'Makro i swap'!AQD4","v":0},{"$f":"AQG35*'Makro i swap'!AQE4","v":0},{"$f":"AQH35*'Makro i swap'!AQF4","v":0},{"$f":"AQI35*'Makro i swap'!AQG4","v":0},{"$f":"AQJ35*'Makro i swap'!AQH4","v":0},{"$f":"AQK35*'Makro i swap'!AQI4","v":0},{"$f":"AQL35*'Makro i swap'!AQJ4","v":0},{"$f":"AQM35*'Makro i swap'!AQK4","v":0},{"$f":"AQN35*'Makro i swap'!AQL4","v":0},{"$f":"AQO35*'Makro i swap'!AQM4","v":0},{"$f":"AQP35*'Makro i swap'!AQN4","v":0},{"$f":"AQQ35*'Makro i swap'!AQO4","v":0},{"$f":"AQR35*'Makro i swap'!AQP4","v":0},{"$f":"AQS35*'Makro i swap'!AQQ4","v":0},{"$f":"AQT35*'Makro i swap'!AQR4","v":0},{"$f":"AQU35*'Makro i swap'!AQS4","v":0},{"$f":"AQV35*'Makro i swap'!AQT4","v":0},{"$f":"AQW35*'Makro i swap'!AQU4","v":0},{"$f":"AQX35*'Makro i swap'!AQV4","v":0},{"$f":"AQY35*'Makro i swap'!AQW4","v":0},{"$f":"AQZ35*'Makro i swap'!AQX4","v":0},{"$f":"ARA35*'Makro i swap'!AQY4","v":0},{"$f":"ARB35*'Makro i swap'!AQZ4","v":0},{"$f":"ARC35*'Makro i swap'!ARA4","v":0},{"$f":"ARD35*'Makro i swap'!ARB4","v":0},{"$f":"ARE35*'Makro i swap'!ARC4","v":0},{"$f":"ARF35*'Makro i swap'!ARD4","v":0},{"$f":"ARG35*'Makro i swap'!ARE4","v":0},{"$f":"ARH35*'Makro i swap'!ARF4","v":0},{"$f":"ARI35*'Makro i swap'!ARG4","v":0},{"$f":"ARJ35*'Makro i swap'!ARH4","v":0},{"$f":"ARK35*'Makro i swap'!ARI4","v":0},{"$f":"ARL35*'Makro i swap'!ARJ4","v":0},{"$f":"ARM35*'Makro i swap'!ARK4","v":0},{"$f":"ARN35*'Makro i swap'!ARL4","v":0},{"$f":"ARO35*'Makro i swap'!ARM4","v":0},{"$f":"ARP35*'Makro i swap'!ARN4","v":0},{"$f":"ARQ35*'Makro i swap'!ARO4","v":0},{"$f":"ARR35*'Makro i swap'!ARP4","v":0},{"$f":"ARS35*'Makro i swap'!ARQ4","v":0},{"$f":"ART35*'Makro i swap'!ARR4","v":0},{"$f":"ARU35*'Makro i swap'!ARS4","v":0},{"$f":"ARV35*'Makro i swap'!ART4","v":0},{"$f":"ARW35*'Makro i swap'!ARU4","v":0},{"$f":"ARX35*'Makro i swap'!ARV4","v":0},{"$f":"ARY35*'Makro i swap'!ARW4","v":0},{"$f":"ARZ35*'Makro i swap'!ARX4","v":0},{"$f":"ASA35*'Makro i swap'!ARY4","v":0},{"$f":"ASB35*'Makro i swap'!ARZ4","v":0},{"$f":"ASC35*'Makro i swap'!ASA4","v":0},{"$f":"ASD35*'Makro i swap'!ASB4","v":0},{"$f":"ASE35*'Makro i swap'!ASC4","v":0},{"$f":"ASF35*'Makro i swap'!ASD4","v":0},{"$f":"ASG35*'Makro i swap'!ASE4","v":0},{"$f":"ASH35*'Makro i swap'!ASF4","v":0},{"$f":"ASI35*'Makro i swap'!ASG4","v":0},{"$f":"ASJ35*'Makro i swap'!ASH4","v":0},{"$f":"ASK35*'Makro i swap'!ASI4","v":0},{"$f":"ASL35*'Makro i swap'!ASJ4","v":0},{"$f":"ASM35*'Makro i swap'!ASK4","v":0},{"$f":"ASN35*'Makro i swap'!ASL4","v":0},{"$f":"ASO35*'Makro i swap'!ASM4","v":0},{"$f":"ASP35*'Makro i swap'!ASN4","v":0},{"$f":"ASQ35*'Makro i swap'!ASO4","v":0},{"$f":"ASR35*'Makro i swap'!ASP4","v":0},{"$f":"ASS35*'Makro i swap'!ASQ4","v":0},{"$f":"AST35*'Makro i swap'!ASR4","v":0},{"$f":"ASU35*'Makro i swap'!ASS4","v":0},{"$f":"ASV35*'Makro i swap'!AST4","v":0},{"$f":"ASW35*'Makro i swap'!ASU4","v":0},{"$f":"ASX35*'Makro i swap'!ASV4","v":0},{"$f":"ASY35*'Makro i swap'!ASW4","v":0},{"$f":"ASZ35*'Makro i swap'!ASX4","v":0},{"$f":"ATA35*'Makro i swap'!ASY4","v":0},{"$f":"ATB35*'Makro i swap'!ASZ4","v":0},{"$f":"ATC35*'Makro i swap'!ATA4","v":0},{"$f":"ATD35*'Makro i swap'!ATB4","v":0},{"$f":"ATE35*'Makro i swap'!ATC4","v":0},{"$f":"ATF35*'Makro i swap'!ATD4","v":0},{"$f":"ATG35*'Makro i swap'!ATE4","v":0},{"$f":"ATH35*'Makro i swap'!ATF4","v":0},{"$f":"ATI35*'Makro i swap'!ATG4","v":0},{"$f":"ATJ35*'Makro i swap'!ATH4","v":0},{"$f":"ATK35*'Makro i swap'!ATI4","v":0},{"$f":"ATL35*'Makro i swap'!ATJ4","v":0},{"$f":"ATM35*'Makro i swap'!ATK4","v":0},{"$f":"ATN35*'Makro i swap'!ATL4","v":0},{"$f":"ATO35*'Makro i swap'!ATM4","v":0},{"$f":"ATP35*'Makro i swap'!ATN4","v":0},{"$f":"ATQ35*'Makro i swap'!ATO4","v":0},{"$f":"ATR35*'Makro i swap'!ATP4","v":0},{"$f":"ATS35*'Makro i swap'!ATQ4","v":0},{"$f":"ATT35*'Makro i swap'!ATR4","v":0},{"$f":"ATU35*'Makro i swap'!ATS4","v":0},{"$f":"ATV35*'Makro i swap'!ATT4","v":0},{"$f":"ATW35*'Makro i swap'!ATU4","v":0},{"$f":"ATX35*'Makro i swap'!ATV4","v":0},{"$f":"ATY35*'Makro i swap'!ATW4","v":0},{"$f":"ATZ35*'Makro i swap'!ATX4","v":0},{"$f":"AUA35*'Makro i swap'!ATY4","v":0},{"$f":"AUB35*'Makro i swap'!ATZ4","v":0},{"$f":"AUC35*'Makro i swap'!AUA4","v":0},{"$f":"AUD35*'Makro i swap'!AUB4","v":0},{"$f":"AUE35*'Makro i swap'!AUC4","v":0},{"$f":"AUF35*'Makro i swap'!AUD4","v":0},{"$f":"AUG35*'Makro i swap'!AUE4","v":0},{"$f":"AUH35*'Makro i swap'!AUF4","v":0},{"$f":"AUI35*'Makro i swap'!AUG4","v":0},{"$f":"AUJ35*'Makro i swap'!AUH4","v":0},{"$f":"AUK35*'Makro i swap'!AUI4","v":0},{"$f":"AUL35*'Makro i swap'!AUJ4","v":0},{"$f":"AUM35*'Makro i swap'!AUK4","v":0},{"$f":"AUN35*'Makro i swap'!AUL4","v":0},{"$f":"AUO35*'Makro i swap'!AUM4","v":0},{"$f":"AUP35*'Makro i swap'!AUN4","v":0},{"$f":"AUQ35*'Makro i swap'!AUO4","v":0},{"$f":"AUR35*'Makro i swap'!AUP4","v":0},{"$f":"AUS35*'Makro i swap'!AUQ4","v":0},{"$f":"AUT35*'Makro i swap'!AUR4","v":0},{"$f":"AUU35*'Makro i swap'!AUS4","v":0},{"$f":"AUV35*'Makro i swap'!AUT4","v":0},{"$f":"AUW35*'Makro i swap'!AUU4","v":0},{"$f":"AUX35*'Makro i swap'!AUV4","v":0},{"$f":"AUY35*'Makro i swap'!AUW4","v":0},{"$f":"AUZ35*'Makro i swap'!AUX4","v":0},{"$f":"AVA35*'Makro i swap'!AUY4","v":0},{"$f":"AVB35*'Makro i swap'!AUZ4","v":0},{"$f":"AVC35*'Makro i swap'!AVA4","v":0},{"$f":"AVD35*'Makro i swap'!AVB4","v":0},{"$f":"AVE35*'Makro i swap'!AVC4","v":0},{"$f":"AVF35*'Makro i swap'!AVD4","v":0},{"$f":"AVG35*'Makro i swap'!AVE4","v":0},{"$f":"AVH35*'Makro i swap'!AVF4","v":0},{"$f":"AVI35*'Makro i swap'!AVG4","v":0},{"$f":"AVJ35*'Makro i swap'!AVH4","v":0},{"$f":"AVK35*'Makro i swap'!AVI4","v":0},{"$f":"AVL35*'Makro i swap'!AVJ4","v":0},{"$f":"AVM35*'Makro i swap'!AVK4","v":0},{"$f":"AVN35*'Makro i swap'!AVL4","v":0},{"$f":"AVO35*'Makro i swap'!AVM4","v":0},{"$f":"AVP35*'Makro i swap'!AVN4","v":0},{"$f":"AVQ35*'Makro i swap'!AVO4","v":0},{"$f":"AVR35*'Makro i swap'!AVP4","v":0},{"$f":"AVS35*'Makro i swap'!AVQ4","v":0},{"$f":"AVT35*'Makro i swap'!AVR4","v":0},{"$f":"AVU35*'Makro i swap'!AVS4","v":0},{"$f":"AVV35*'Makro i swap'!AVT4","v":0},{"$f":"AVW35*'Makro i swap'!AVU4","v":0},{"$f":"AVX35*'Makro i swap'!AVV4","v":0},{"$f":"AVY35*'Makro i swap'!AVW4","v":0},{"$f":"AVZ35*'Makro i swap'!AVX4","v":0},{"$f":"AWA35*'Makro i swap'!AVY4","v":0},{"$f":"AWB35*'Makro i swap'!AVZ4","v":0},{"$f":"AWC35*'Makro i swap'!AWA4","v":0},{"$f":"AWD35*'Makro i swap'!AWB4","v":0},{"$f":"AWE35*'Makro i swap'!AWC4","v":0},{"$f":"AWF35*'Makro i swap'!AWD4","v":0},{"$f":"AWG35*'Makro i swap'!AWE4","v":0},{"$f":"AWH35*'Makro i swap'!AWF4","v":0},{"$f":"AWI35*'Makro i swap'!AWG4","v":0},{"$f":"AWJ35*'Makro i swap'!AWH4","v":0},{"$f":"AWK35*'Makro i swap'!AWI4","v":0},{"$f":"AWL35*'Makro i swap'!AWJ4","v":0},{"$f":"AWM35*'Makro i swap'!AWK4","v":0},{"$f":"AWN35*'Makro i swap'!AWL4","v":0},{"$f":"AWO35*'Makro i swap'!AWM4","v":0},{"$f":"AWP35*'Makro i swap'!AWN4","v":0},{"$f":"AWQ35*'Makro i swap'!AWO4","v":0},{"$f":"AWR35*'Makro i swap'!AWP4","v":0},{"$f":"AWS35*'Makro i swap'!AWQ4","v":0},{"$f":"AWT35*'Makro i swap'!AWR4","v":0},{"$f":"AWU35*'Makro i swap'!AWS4","v":0},{"$f":"AWV35*'Makro i swap'!AWT4","v":0},{"$f":"AWW35*'Makro i swap'!AWU4","v":0},{"$f":"AWX35*'Makro i swap'!AWV4","v":0},{"$f":"AWY35*'Makro i swap'!AWW4","v":0},{"$f":"AWZ35*'Makro i swap'!AWX4","v":0},{"$f":"AXA35*'Makro i swap'!AWY4","v":0},{"$f":"AXB35*'Makro i swap'!AWZ4","v":0},{"$f":"AXC35*'Makro i swap'!AXA4","v":0},{"$f":"AXD35*'Makro i swap'!AXB4","v":0},{"$f":"AXE35*'Makro i swap'!AXC4","v":0},{"$f":"AXF35*'Makro i swap'!AXD4","v":0},{"$f":"AXG35*'Makro i swap'!AXE4","v":0},{"$f":"AXH35*'Makro i swap'!AXF4","v":0},{"$f":"AXI35*'Makro i swap'!AXG4","v":0},{"$f":"AXJ35*'Makro i swap'!AXH4","v":0},{"$f":"AXK35*'Makro i swap'!AXI4","v":0},{"$f":"AXL35*'Makro i swap'!AXJ4","v":0},{"$f":"AXM35*'Makro i swap'!AXK4","v":0},{"$f":"AXN35*'Makro i swap'!AXL4","v":0},{"$f":"AXO35*'Makro i swap'!AXM4","v":0},{"$f":"AXP35*'Makro i swap'!AXN4","v":0},{"$f":"AXQ35*'Makro i swap'!AXO4","v":0},{"$f":"AXR35*'Makro i swap'!AXP4","v":0},{"$f":"AXS35*'Makro i swap'!AXQ4","v":0},{"$f":"AXT35*'Makro i swap'!AXR4","v":0},{"$f":"AXU35*'Makro i swap'!AXS4","v":0},{"$f":"AXV35*'Makro i swap'!AXT4","v":0},{"$f":"AXW35*'Makro i swap'!AXU4","v":0},{"$f":"AXX35*'Makro i swap'!AXV4","v":0},{"$f":"AXY35*'Makro i swap'!AXW4","v":0},{"$f":"AXZ35*'Makro i swap'!AXX4","v":0},{"$f":"AYA35*'Makro i swap'!AXY4","v":0},{"$f":"AYB35*'Makro i swap'!AXZ4","v":0},{"$f":"AYC35*'Makro i swap'!AYA4","v":0},{"$f":"AYD35*'Makro i swap'!AYB4","v":0},{"$f":"AYE35*'Makro i swap'!AYC4","v":0},{"$f":"AYF35*'Makro i swap'!AYD4","v":0},{"$f":"AYG35*'Makro i swap'!AYE4","v":0},{"$f":"AYH35*'Makro i swap'!AYF4","v":0},{"$f":"AYI35*'Makro i swap'!AYG4","v":0},{"$f":"AYJ35*'Makro i swap'!AYH4","v":0},{"$f":"AYK35*'Makro i swap'!AYI4","v":0},{"$f":"AYL35*'Makro i swap'!AYJ4","v":0},{"$f":"AYM35*'Makro i swap'!AYK4","v":0},{"$f":"AYN35*'Makro i swap'!AYL4","v":0},{"$f":"AYO35*'Makro i swap'!AYM4","v":0},{"$f":"AYP35*'Makro i swap'!AYN4","v":0},{"$f":"AYQ35*'Makro i swap'!AYO4","v":0},{"$f":"AYR35*'Makro i swap'!AYP4","v":0},{"$f":"AYS35*'Makro i swap'!AYQ4","v":0},{"$f":"AYT35*'Makro i swap'!AYR4","v":0},{"$f":"AYU35*'Makro i swap'!AYS4","v":0},{"$f":"AYV35*'Makro i swap'!AYT4","v":0},{"$f":"AYW35*'Makro i swap'!AYU4","v":0},{"$f":"AYX35*'Makro i swap'!AYV4","v":0},{"$f":"AYY35*'Makro i swap'!AYW4","v":0},{"$f":"AYZ35*'Makro i swap'!AYX4","v":0},{"$f":"AZA35*'Makro i swap'!AYY4","v":0},{"$f":"AZB35*'Makro i swap'!AYZ4","v":0},{"$f":"AZC35*'Makro i swap'!AZA4","v":0},{"$f":"AZD35*'Makro i swap'!AZB4","v":0},{"$f":"AZE35*'Makro i swap'!AZC4","v":0},{"$f":"AZF35*'Makro i swap'!AZD4","v":0},{"$f":"AZG35*'Makro i swap'!AZE4","v":0},{"$f":"AZH35*'Makro i swap'!AZF4","v":0},{"$f":"AZI35*'Makro i swap'!AZG4","v":0},{"$f":"AZJ35*'Makro i swap'!AZH4","v":0},{"$f":"AZK35*'Makro i swap'!AZI4","v":0},{"$f":"AZL35*'Makro i swap'!AZJ4","v":0},{"$f":"AZM35*'Makro i swap'!AZK4","v":0},{"$f":"AZN35*'Makro i swap'!AZL4","v":0},{"$f":"AZO35*'Makro i swap'!AZM4","v":0},{"$f":"AZP35*'Makro i swap'!AZN4","v":0},{"$f":"AZQ35*'Makro i swap'!AZO4","v":0},{"$f":"AZR35*'Makro i swap'!AZP4","v":0},{"$f":"AZS35*'Makro i swap'!AZQ4","v":0},{"$f":"AZT35*'Makro i swap'!AZR4","v":0},{"$f":"AZU35*'Makro i swap'!AZS4","v":0},{"$f":"AZV35*'Makro i swap'!AZT4","v":0},{"$f":"AZW35*'Makro i swap'!AZU4","v":0},{"$f":"AZX35*'Makro i swap'!AZV4","v":0},{"$f":"AZY35*'Makro i swap'!AZW4","v":0},{"$f":"AZZ35*'Makro i swap'!AZX4","v":0},{"$f":"BAA35*'Makro i swap'!AZY4","v":0},{"$f":"BAB35*'Makro i swap'!AZZ4","v":0},{"$f":"BAC35*'Makro i swap'!BAA4","v":0},{"$f":"BAD35*'Makro i swap'!BAB4","v":0},{"$f":"BAE35*'Makro i swap'!BAC4","v":0},{"$f":"BAF35*'Makro i swap'!BAD4","v":0},{"$f":"BAG35*'Makro i swap'!BAE4","v":0},{"$f":"BAH35*'Makro i swap'!BAF4","v":0},{"$f":"BAI35*'Makro i swap'!BAG4","v":0},{"$f":"BAJ35*'Makro i swap'!BAH4","v":0},{"$f":"BAK35*'Makro i swap'!BAI4","v":0},{"$f":"BAL35*'Makro i swap'!BAJ4","v":0},{"$f":"BAM35*'Makro i swap'!BAK4","v":0},{"$f":"BAN35*'Makro i swap'!BAL4","v":0},{"$f":"BAO35*'Makro i swap'!BAM4","v":0},{"$f":"BAP35*'Makro i swap'!BAN4","v":0},{"$f":"BAQ35*'Makro i swap'!BAO4","v":0},{"$f":"BAR35*'Makro i swap'!BAP4","v":0},{"$f":"BAS35*'Makro i swap'!BAQ4","v":0},{"$f":"BAT35*'Makro i swap'!BAR4","v":0},{"$f":"BAU35*'Makro i swap'!BAS4","v":0},{"$f":"BAV35*'Makro i swap'!BAT4","v":0},{"$f":"BAW35*'Makro i swap'!BAU4","v":0},{"$f":"BAX35*'Makro i swap'!BAV4","v":0},{"$f":"BAY35*'Makro i swap'!BAW4","v":0},{"$f":"BAZ35*'Makro i swap'!BAX4","v":0},{"$f":"BBA35*'Makro i swap'!BAY4","v":0},{"$f":"BBB35*'Makro i swap'!BAZ4","v":0},{"$f":"BBC35*'Makro i swap'!BBA4","v":0},{"$f":"BBD35*'Makro i swap'!BBB4","v":0},{"$f":"BBE35*'Makro i swap'!BBC4","v":0},{"$f":"BBF35*'Makro i swap'!BBD4","v":0},{"$f":"BBG35*'Makro i swap'!BBE4","v":0},{"$f":"BBH35*'Makro i swap'!BBF4","v":0},{"$f":"BBI35*'Makro i swap'!BBG4","v":0},{"$f":"BBJ35*'Makro i swap'!BBH4","v":0},{"$f":"BBK35*'Makro i swap'!BBI4","v":0},{"$f":"BBL35*'Makro i swap'!BBJ4","v":0},{"$f":"BBM35*'Makro i swap'!BBK4","v":0},{"$f":"BBN35*'Makro i swap'!BBL4","v":0},{"$f":"BBO35*'Makro i swap'!BBM4","v":0},{"$f":"BBP35*'Makro i swap'!BBN4","v":0},{"$f":"BBQ35*'Makro i swap'!BBO4","v":0},{"$f":"BBR35*'Makro i swap'!BBP4","v":0},{"$f":"BBS35*'Makro i swap'!BBQ4","v":0},{"$f":"BBT35*'Makro i swap'!BBR4","v":0},{"$f":"BBU35*'Makro i swap'!BBS4","v":0},{"$f":"BBV35*'Makro i swap'!BBT4","v":0},{"$f":"BBW35*'Makro i swap'!BBU4","v":0},{"$f":"BBX35*'Makro i swap'!BBV4","v":0},{"$f":"BBY35*'Makro i swap'!BBW4","v":0},{"$f":"BBZ35*'Makro i swap'!BBX4","v":0},{"$f":"BCA35*'Makro i swap'!BBY4","v":0},{"$f":"BCB35*'Makro i swap'!BBZ4","v":0},{"$f":"BCC35*'Makro i swap'!BCA4","v":0},{"$f":"BCD35*'Makro i swap'!BCB4","v":0},{"$f":"BCE35*'Makro i swap'!BCC4","v":0},{"$f":"BCF35*'Makro i swap'!BCD4","v":0},{"$f":"BCG35*'Makro i swap'!BCE4","v":0},{"$f":"BCH35*'Makro i swap'!BCF4","v":0},{"$f":"BCI35*'Makro i swap'!BCG4","v":0},{"$f":"BCJ35*'Makro i swap'!BCH4","v":0},{"$f":"BCK35*'Makro i swap'!BCI4","v":0},{"$f":"BCL35*'Makro i swap'!BCJ4","v":0},{"$f":"BCM35*'Makro i swap'!BCK4","v":0},{"$f":"BCN35*'Makro i swap'!BCL4","v":0},{"$f":"BCO35*'Makro i swap'!BCM4","v":0},{"$f":"BCP35*'Makro i swap'!BCN4","v":0},{"$f":"BCQ35*'Makro i swap'!BCO4","v":0},{"$f":"BCR35*'Makro i swap'!BCP4","v":0},{"$f":"BCS35*'Makro i swap'!BCQ4","v":0},{"$f":"BCT35*'Makro i swap'!BCR4","v":0},{"$f":"BCU35*'Makro i swap'!BCS4","v":0},{"$f":"BCV35*'Makro i swap'!BCT4","v":0},{"$f":"BCW35*'Makro i swap'!BCU4","v":0},{"$f":"BCX35*'Makro i swap'!BCV4","v":0},{"$f":"BCY35*'Makro i swap'!BCW4","v":0},{"$f":"BCZ35*'Makro i swap'!BCX4","v":0},{"$f":"BDA35*'Makro i swap'!BCY4","v":0},{"$f":"BDB35*'Makro i swap'!BCZ4","v":0},{"$f":"BDC35*'Makro i swap'!BDA4","v":0},{"$f":"BDD35*'Makro i swap'!BDB4","v":0},{"$f":"BDE35*'Makro i swap'!BDC4","v":0},{"$f":"BDF35*'Makro i swap'!BDD4","v":0},{"$f":"BDG35*'Makro i swap'!BDE4","v":0},{"$f":"BDH35*'Makro i swap'!BDF4","v":0},{"$f":"BDI35*'Makro i swap'!BDG4","v":0},{"$f":"BDJ35*'Makro i swap'!BDH4","v":0},{"$f":"BDK35*'Makro i swap'!BDI4","v":0},{"$f":"BDL35*'Makro i swap'!BDJ4","v":0},{"$f":"BDM35*'Makro i swap'!BDK4","v":0},{"$f":"BDN35*'Makro i swap'!BDL4","v":0},{"$f":"BDO35*'Makro i swap'!BDM4","v":0},{"$f":"BDP35*'Makro i swap'!BDN4","v":0},{"$f":"BDQ35*'Makro i swap'!BDO4","v":0},{"$f":"BDR35*'Makro i swap'!BDP4","v":0},{"$f":"BDS35*'Makro i swap'!BDQ4","v":0},{"$f":"BDT35*'Makro i swap'!BDR4","v":0},{"$f":"BDU35*'Makro i swap'!BDS4","v":0},{"$f":"BDV35*'Makro i swap'!BDT4","v":0},{"$f":"BDW35*'Makro i swap'!BDU4","v":0},{"$f":"BDX35*'Makro i swap'!BDV4","v":0},{"$f":"BDY35*'Makro i swap'!BDW4","v":0},{"$f":"BDZ35*'Makro i swap'!BDX4","v":0},{"$f":"BEA35*'Makro i swap'!BDY4","v":0},{"$f":"BEB35*'Makro i swap'!BDZ4","v":0},{"$f":"BEC35*'Makro i swap'!BEA4","v":0},{"$f":"BED35*'Makro i swap'!BEB4","v":0},{"$f":"BEE35*'Makro i swap'!BEC4","v":0},{"$f":"BEF35*'Makro i swap'!BED4","v":0},{"$f":"BEG35*'Makro i swap'!BEE4","v":0},{"$f":"BEH35*'Makro i swap'!BEF4","v":0},{"$f":"BEI35*'Makro i swap'!BEG4","v":0},{"$f":"BEJ35*'Makro i swap'!BEH4","v":0},{"$f":"BEK35*'Makro i swap'!BEI4","v":0},{"$f":"BEL35*'Makro i swap'!BEJ4","v":0},{"$f":"BEM35*'Makro i swap'!BEK4","v":0},{"$f":"BEN35*'Makro i swap'!BEL4","v":0},{"$f":"BEO35*'Makro i swap'!BEM4","v":0},{"$f":"BEP35*'Makro i swap'!BEN4","v":0},{"$f":"BEQ35*'Makro i swap'!BEO4","v":0},{"$f":"BER35*'Makro i swap'!BEP4","v":0},{"$f":"BES35*'Makro i swap'!BEQ4","v":0},{"$f":"BET35*'Makro i swap'!BER4","v":0},{"$f":"BEU35*'Makro i swap'!BES4","v":0},{"$f":"BEV35*'Makro i swap'!BET4","v":0},{"$f":"BEW35*'Makro i swap'!BEU4","v":0},{"$f":"BEX35*'Makro i swap'!BEV4","v":0},{"$f":"BEY35*'Makro i swap'!BEW4","v":0},{"$f":"BEZ35*'Makro i swap'!BEX4","v":0},{"$f":"BFA35*'Makro i swap'!BEY4","v":0},{"$f":"BFB35*'Makro i swap'!BEZ4","v":0},{"$f":"BFC35*'Makro i swap'!BFA4","v":0},{"$f":"BFD35*'Makro i swap'!BFB4","v":0},{"$f":"BFE35*'Makro i swap'!BFC4","v":0},{"$f":"BFF35*'Makro i swap'!BFD4","v":0},{"$f":"BFG35*'Makro i swap'!BFE4","v":0},{"$f":"BFH35*'Makro i swap'!BFF4","v":0},{"$f":"BFI35*'Makro i swap'!BFG4","v":0},{"$f":"BFJ35*'Makro i swap'!BFH4","v":0},{"$f":"BFK35*'Makro i swap'!BFI4","v":0},{"$f":"BFL35*'Makro i swap'!BFJ4","v":0},{"$f":"BFM35*'Makro i swap'!BFK4","v":0},{"$f":"BFN35*'Makro i swap'!BFL4","v":0},{"$f":"BFO35*'Makro i swap'!BFM4","v":0},{"$f":"BFP35*'Makro i swap'!BFN4","v":0},{"$f":"BFQ35*'Makro i swap'!BFO4","v":0},{"$f":"BFR35*'Makro i swap'!BFP4","v":0},{"$f":"BFS35*'Makro i swap'!BFQ4","v":0},{"$f":"BFT35*'Makro i swap'!BFR4","v":0},{"$f":"BFU35*'Makro i swap'!BFS4","v":0},{"$f":"BFV35*'Makro i swap'!BFT4","v":0},{"$f":"BFW35*'Makro i swap'!BFU4","v":0},{"$f":"BFX35*'Makro i swap'!BFV4","v":0},{"$f":"BFY35*'Makro i swap'!BFW4","v":0},{"$f":"BFZ35*'Makro i swap'!BFX4","v":0},{"$f":"BGA35*'Makro i swap'!BFY4","v":0},{"$f":"BGB35*'Makro i swap'!BFZ4","v":0},{"$f":"BGC35*'Makro i swap'!BGA4","v":0},{"$f":"BGD35*'Makro i swap'!BGB4","v":0},{"$f":"BGE35*'Makro i swap'!BGC4","v":0},{"$f":"BGF35*'Makro i swap'!BGD4","v":0},{"$f":"BGG35*'Makro i swap'!BGE4","v":0},{"$f":"BGH35*'Makro i swap'!BGF4","v":0},{"$f":"BGI35*'Makro i swap'!BGG4","v":0},{"$f":"BGJ35*'Makro i swap'!BGH4","v":0},{"$f":"BGK35*'Makro i swap'!BGI4","v":0},{"$f":"BGL35*'Makro i swap'!BGJ4","v":0},{"$f":"BGM35*'Makro i swap'!BGK4","v":0},{"$f":"BGN35*'Makro i swap'!BGL4","v":0},{"$f":"BGO35*'Makro i swap'!BGM4","v":0},{"$f":"BGP35*'Makro i swap'!BGN4","v":0},{"$f":"BGQ35*'Makro i swap'!BGO4","v":0},{"$f":"BGR35*'Makro i swap'!BGP4","v":0},{"$f":"BGS35*'Makro i swap'!BGQ4","v":0},{"$f":"BGT35*'Makro i swap'!BGR4","v":0},{"$f":"BGU35*'Makro i swap'!BGS4","v":0},{"$f":"BGV35*'Makro i swap'!BGT4","v":0},{"$f":"BGW35*'Makro i swap'!BGU4","v":0},{"$f":"BGX35*'Makro i swap'!BGV4","v":0},{"$f":"BGY35*'Makro i swap'!BGW4","v":0},{"$f":"BGZ35*'Makro i swap'!BGX4","v":0},{"$f":"BHA35*'Makro i swap'!BGY4","v":0},{"$f":"BHB35*'Makro i swap'!BGZ4","v":0},{"$f":"BHC35*'Makro i swap'!BHA4","v":0},{"$f":"BHD35*'Makro i swap'!BHB4","v":0},{"$f":"BHE35*'Makro i swap'!BHC4","v":0},{"$f":"BHF35*'Makro i swap'!BHD4","v":0},{"$f":"BHG35*'Makro i swap'!BHE4","v":0},{"$f":"BHH35*'Makro i swap'!BHF4","v":0},{"$f":"BHI35*'Makro i swap'!BHG4","v":0},{"$f":"BHJ35*'Makro i swap'!BHH4","v":0},{"$f":"BHK35*'Makro i swap'!BHI4","v":0},{"$f":"BHL35*'Makro i swap'!BHJ4","v":0},{"$f":"BHM35*'Makro i swap'!BHK4","v":0},{"$f":"BHN35*'Makro i swap'!BHL4","v":0},{"$f":"BHO35*'Makro i swap'!BHM4","v":0},{"$f":"BHP35*'Makro i swap'!BHN4","v":0},{"$f":"BHQ35*'Makro i swap'!BHO4","v":0},{"$f":"BHR35*'Makro i swap'!BHP4","v":0},{"$f":"BHS35*'Makro i swap'!BHQ4","v":0},{"$f":"BHT35*'Makro i swap'!BHR4","v":0},{"$f":"BHU35*'Makro i swap'!BHS4","v":0},{"$f":"BHV35*'Makro i swap'!BHT4","v":0},{"$f":"BHW35*'Makro i swap'!BHU4","v":0},{"$f":"BHX35*'Makro i swap'!BHV4","v":0},{"$f":"BHY35*'Makro i swap'!BHW4","v":0},{"$f":"BHZ35*'Makro i swap'!BHX4","v":0},{"$f":"BIA35*'Makro i swap'!BHY4","v":0},{"$f":"BIB35*'Makro i swap'!BHZ4","v":0},{"$f":"BIC35*'Makro i swap'!BIA4","v":0},{"$f":"BID35*'Makro i swap'!BIB4","v":0},{"$f":"BIE35*'Makro i swap'!BIC4","v":0},{"$f":"BIF35*'Makro i swap'!BID4","v":0},{"$f":"BIG35*'Makro i swap'!BIE4","v":0},{"$f":"BIH35*'Makro i swap'!BIF4","v":0},{"$f":"BII35*'Makro i swap'!BIG4","v":0},{"$f":"BIJ35*'Makro i swap'!BIH4","v":0},{"$f":"BIK35*'Makro i swap'!BII4","v":0},{"$f":"BIL35*'Makro i swap'!BIJ4","v":0},{"$f":"BIM35*'Makro i swap'!BIK4","v":0},{"$f":"BIN35*'Makro i swap'!BIL4","v":0},{"$f":"BIO35*'Makro i swap'!BIM4","v":0},{"$f":"BIP35*'Makro i swap'!BIN4","v":0},{"$f":"BIQ35*'Makro i swap'!BIO4","v":0},{"$f":"BIR35*'Makro i swap'!BIP4","v":0},{"$f":"BIS35*'Makro i swap'!BIQ4","v":0},{"$f":"BIT35*'Makro i swap'!BIR4","v":0},{"$f":"BIU35*'Makro i swap'!BIS4","v":0},{"$f":"BIV35*'Makro i swap'!BIT4","v":0},{"$f":"BIW35*'Makro i swap'!BIU4","v":0},{"$f":"BIX35*'Makro i swap'!BIV4","v":0},{"$f":"BIY35*'Makro i swap'!BIW4","v":0},{"$f":"BIZ35*'Makro i swap'!BIX4","v":0},{"$f":"BJA35*'Makro i swap'!BIY4","v":0},{"$f":"BJB35*'Makro i swap'!BIZ4","v":0},{"$f":"BJC35*'Makro i swap'!BJA4","v":0},{"$f":"BJD35*'Makro i swap'!BJB4","v":0},{"$f":"BJE35*'Makro i swap'!BJC4","v":0},{"$f":"BJF35*'Makro i swap'!BJD4","v":0},{"$f":"BJG35*'Makro i swap'!BJE4","v":0},{"$f":"BJH35*'Makro i swap'!BJF4","v":0},{"$f":"BJI35*'Makro i swap'!BJG4","v":0},{"$f":"BJJ35*'Makro i swap'!BJH4","v":0},{"$f":"BJK35*'Makro i swap'!BJI4","v":0},{"$f":"BJL35*'Makro i swap'!BJJ4","v":0},{"$f":"BJM35*'Makro i swap'!BJK4","v":0},{"$f":"BJN35*'Makro i swap'!BJL4","v":0},{"$f":"BJO35*'Makro i swap'!BJM4","v":0},{"$f":"BJP35*'Makro i swap'!BJN4","v":0},{"$f":"BJQ35*'Makro i swap'!BJO4","v":0},{"$f":"BJR35*'Makro i swap'!BJP4","v":0},{"$f":"BJS35*'Makro i swap'!BJQ4","v":0},{"$f":"BJT35*'Makro i swap'!BJR4","v":0},{"$f":"BJU35*'Makro i swap'!BJS4","v":0},{"$f":"BJV35*'Makro i swap'!BJT4","v":0},{"$f":"BJW35*'Makro i swap'!BJU4","v":0},{"$f":"BJX35*'Makro i swap'!BJV4","v":0},{"$f":"BJY35*'Makro i swap'!BJW4","v":0},{"$f":"BJZ35*'Makro i swap'!BJX4","v":0},{"$f":"BKA35*'Makro i swap'!BJY4","v":0},{"$f":"BKB35*'Makro i swap'!BJZ4","v":0},{"$f":"BKC35*'Makro i swap'!BKA4","v":0},{"$f":"BKD35*'Makro i swap'!BKB4","v":0},{"$f":"BKE35*'Makro i swap'!BKC4","v":0},{"$f":"BKF35*'Makro i swap'!BKD4","v":0},{"$f":"BKG35*'Makro i swap'!BKE4","v":0},{"$f":"BKH35*'Makro i swap'!BKF4","v":0},{"$f":"BKI35*'Makro i swap'!BKG4","v":0},{"$f":"BKJ35*'Makro i swap'!BKH4","v":0},{"$f":"BKK35*'Makro i swap'!BKI4","v":0},{"$f":"BKL35*'Makro i swap'!BKJ4","v":0},{"$f":"BKM35*'Makro i swap'!BKK4","v":0},{"$f":"BKN35*'Makro i swap'!BKL4","v":0},{"$f":"BKO35*'Makro i swap'!BKM4","v":0},{"$f":"BKP35*'Makro i swap'!BKN4","v":0},{"$f":"BKQ35*'Makro i swap'!BKO4","v":0},{"$f":"BKR35*'Makro i swap'!BKP4","v":0},{"$f":"BKS35*'Makro i swap'!BKQ4","v":0},{"$f":"BKT35*'Makro i swap'!BKR4","v":0},{"$f":"BKU35*'Makro i swap'!BKS4","v":0},{"$f":"BKV35*'Makro i swap'!BKT4","v":0},{"$f":"BKW35*'Makro i swap'!BKU4","v":0},{"$f":"BKX35*'Makro i swap'!BKV4","v":0},{"$f":"BKY35*'Makro i swap'!BKW4","v":0},{"$f":"BKZ35*'Makro i swap'!BKX4","v":0},{"$f":"BLA35*'Makro i swap'!BKY4","v":0},{"$f":"BLB35*'Makro i swap'!BKZ4","v":0},{"$f":"BLC35*'Makro i swap'!BLA4","v":0},{"$f":"BLD35*'Makro i swap'!BLB4","v":0},{"$f":"BLE35*'Makro i swap'!BLC4","v":0},{"$f":"BLF35*'Makro i swap'!BLD4","v":0},{"$f":"BLG35*'Makro i swap'!BLE4","v":0},{"$f":"BLH35*'Makro i swap'!BLF4","v":0},{"$f":"BLI35*'Makro i swap'!BLG4","v":0},{"$f":"BLJ35*'Makro i swap'!BLH4","v":0},{"$f":"BLK35*'Makro i swap'!BLI4","v":0},{"$f":"BLL35*'Makro i swap'!BLJ4","v":0},{"$f":"BLM35*'Makro i swap'!BLK4","v":0},{"$f":"BLN35*'Makro i swap'!BLL4","v":0},{"$f":"BLO35*'Makro i swap'!BLM4","v":0},{"$f":"BLP35*'Makro i swap'!BLN4","v":0},{"$f":"BLQ35*'Makro i swap'!BLO4","v":0},{"$f":"BLR35*'Makro i swap'!BLP4","v":0},{"$f":"BLS35*'Makro i swap'!BLQ4","v":0},{"$f":"BLT35*'Makro i swap'!BLR4","v":0},{"$f":"BLU35*'Makro i swap'!BLS4","v":0},{"$f":"BLV35*'Makro i swap'!BLT4","v":0},{"$f":"BLW35*'Makro i swap'!BLU4","v":0},{"$f":"BLX35*'Makro i swap'!BLV4","v":0},{"$f":"BLY35*'Makro i swap'!BLW4","v":0},{"$f":"BLZ35*'Makro i swap'!BLX4","v":0},{"$f":"BMA35*'Makro i swap'!BLY4","v":0},{"$f":"BMB35*'Makro i swap'!BLZ4","v":0},{"$f":"BMC35*'Makro i swap'!BMA4","v":0},{"$f":"BMD35*'Makro i swap'!BMB4","v":0},{"$f":"BME35*'Makro i swap'!BMC4","v":0},{"$f":"BMF35*'Makro i swap'!BMD4","v":0},{"$f":"BMG35*'Makro i swap'!BME4","v":0},{"$f":"BMH35*'Makro i swap'!BMF4","v":0},{"$f":"BMI35*'Makro i swap'!BMG4","v":0},{"$f":"BMJ35*'Makro i swap'!BMH4","v":0},{"$f":"BMK35*'Makro i swap'!BMI4","v":0},{"$f":"BML35*'Makro i swap'!BMJ4","v":0},{"$f":"BMM35*'Makro i swap'!BMK4","v":0},{"$f":"BMN35*'Makro i swap'!BML4","v":0},{"$f":"BMO35*'Makro i swap'!BMM4","v":0},{"$f":"BMP35*'Makro i swap'!BMN4","v":0},{"$f":"BMQ35*'Makro i swap'!BMO4","v":0},{"$f":"BMR35*'Makro i swap'!BMP4","v":0},{"$f":"BMS35*'Makro i swap'!BMQ4","v":0},{"$f":"BMT35*'Makro i swap'!BMR4","v":0},{"$f":"BMU35*'Makro i swap'!BMS4","v":0},{"$f":"BMV35*'Makro i swap'!BMT4","v":0},{"$f":"BMW35*'Makro i swap'!BMU4","v":0},{"$f":"BMX35*'Makro i swap'!BMV4","v":0},{"$f":"BMY35*'Makro i swap'!BMW4","v":0},{"$f":"BMZ35*'Makro i swap'!BMX4","v":0},{"$f":"BNA35*'Makro i swap'!BMY4","v":0},{"$f":"BNB35*'Makro i swap'!BMZ4","v":0},{"$f":"BNC35*'Makro i swap'!BNA4","v":0},{"$f":"BND35*'Makro i swap'!BNB4","v":0},{"$f":"BNE35*'Makro i swap'!BNC4","v":0},{"$f":"BNF35*'Makro i swap'!BND4","v":0},{"$f":"BNG35*'Makro i swap'!BNE4","v":0},{"$f":"BNH35*'Makro i swap'!BNF4","v":0},{"$f":"BNI35*'Makro i swap'!BNG4","v":0},{"$f":"BNJ35*'Makro i swap'!BNH4","v":0},{"$f":"BNK35*'Makro i swap'!BNI4","v":0},{"$f":"BNL35*'Makro i swap'!BNJ4","v":0},{"$f":"BNM35*'Makro i swap'!BNK4","v":0},{"$f":"BNN35*'Makro i swap'!BNL4","v":0},{"$f":"BNO35*'Makro i swap'!BNM4","v":0},{"$f":"BNP35*'Makro i swap'!BNN4","v":0},{"$f":"BNQ35*'Makro i swap'!BNO4","v":0},{"$f":"BNR35*'Makro i swap'!BNP4","v":0},{"$f":"BNS35*'Makro i swap'!BNQ4","v":0},{"$f":"BNT35*'Makro i swap'!BNR4","v":0},{"$f":"BNU35*'Makro i swap'!BNS4","v":0},{"$f":"BNV35*'Makro i swap'!BNT4","v":0},{"$f":"BNW35*'Makro i swap'!BNU4","v":0},{"$f":"BNX35*'Makro i swap'!BNV4","v":0},{"$f":"BNY35*'Makro i swap'!BNW4","v":0},{"$f":"BNZ35*'Makro i swap'!BNX4","v":0},{"$f":"BOA35*'Makro i swap'!BNY4","v":0},{"$f":"BOB35*'Makro i swap'!BNZ4","v":0},{"$f":"BOC35*'Makro i swap'!BOA4","v":0},{"$f":"BOD35*'Makro i swap'!BOB4","v":0},{"$f":"BOE35*'Makro i swap'!BOC4","v":0},{"$f":"BOF35*'Makro i swap'!BOD4","v":0},{"$f":"BOG35*'Makro i swap'!BOE4","v":0},{"$f":"BOH35*'Makro i swap'!BOF4","v":0},{"$f":"BOI35*'Makro i swap'!BOG4","v":0},{"$f":"BOJ35*'Makro i swap'!BOH4","v":0},{"$f":"BOK35*'Makro i swap'!BOI4","v":0},{"$f":"BOL35*'Makro i swap'!BOJ4","v":0},{"$f":"BOM35*'Makro i swap'!BOK4","v":0},{"$f":"BON35*'Makro i swap'!BOL4","v":0},{"$f":"BOO35*'Makro i swap'!BOM4","v":0},{"$f":"BOP35*'Makro i swap'!BON4","v":0},{"$f":"BOQ35*'Makro i swap'!BOO4","v":0},{"$f":"BOR35*'Makro i swap'!BOP4","v":0},{"$f":"BOS35*'Makro i swap'!BOQ4","v":0},{"$f":"BOT35*'Makro i swap'!BOR4","v":0},{"$f":"BOU35*'Makro i swap'!BOS4","v":0},{"$f":"BOV35*'Makro i swap'!BOT4","v":0},{"$f":"BOW35*'Makro i swap'!BOU4","v":0},{"$f":"BOX35*'Makro i swap'!BOV4","v":0},{"$f":"BOY35*'Makro i swap'!BOW4","v":0},{"$f":"BOZ35*'Makro i swap'!BOX4","v":0},{"$f":"BPA35*'Makro i swap'!BOY4","v":0},{"$f":"BPB35*'Makro i swap'!BOZ4","v":0},{"$f":"BPC35*'Makro i swap'!BPA4","v":0},{"$f":"BPD35*'Makro i swap'!BPB4","v":0},{"$f":"BPE35*'Makro i swap'!BPC4","v":0},{"$f":"BPF35*'Makro i swap'!BPD4","v":0},{"$f":"BPG35*'Makro i swap'!BPE4","v":0},{"$f":"BPH35*'Makro i swap'!BPF4","v":0},{"$f":"BPI35*'Makro i swap'!BPG4","v":0},{"$f":"BPJ35*'Makro i swap'!BPH4","v":0},{"$f":"BPK35*'Makro i swap'!BPI4","v":0},{"$f":"BPL35*'Makro i swap'!BPJ4","v":0},{"$f":"BPM35*'Makro i swap'!BPK4","v":0},{"$f":"BPN35*'Makro i swap'!BPL4","v":0},{"$f":"BPO35*'Makro i swap'!BPM4","v":0},{"$f":"BPP35*'Makro i swap'!BPN4","v":0},{"$f":"BPQ35*'Makro i swap'!BPO4","v":0},{"$f":"BPR35*'Makro i swap'!BPP4","v":0},{"$f":"BPS35*'Makro i swap'!BPQ4","v":0},{"$f":"BPT35*'Makro i swap'!BPR4","v":0},{"$f":"BPU35*'Makro i swap'!BPS4","v":0},{"$f":"BPV35*'Makro i swap'!BPT4","v":0},{"$f":"BPW35*'Makro i swap'!BPU4","v":0},{"$f":"BPX35*'Makro i swap'!BPV4","v":0},{"$f":"BPY35*'Makro i swap'!BPW4","v":0},{"$f":"BPZ35*'Makro i swap'!BPX4","v":0},{"$f":"BQA35*'Makro i swap'!BPY4","v":0},{"$f":"BQB35*'Makro i swap'!BPZ4","v":0},{"$f":"BQC35*'Makro i swap'!BQA4","v":0},{"$f":"BQD35*'Makro i swap'!BQB4","v":0},{"$f":"BQE35*'Makro i swap'!BQC4","v":0},{"$f":"BQF35*'Makro i swap'!BQD4","v":0},{"$f":"BQG35*'Makro i swap'!BQE4","v":0},{"$f":"BQH35*'Makro i swap'!BQF4","v":0},{"$f":"BQI35*'Makro i swap'!BQG4","v":0},{"$f":"BQJ35*'Makro i swap'!BQH4","v":0},{"$f":"BQK35*'Makro i swap'!BQI4","v":0},{"$f":"BQL35*'Makro i swap'!BQJ4","v":0},{"$f":"BQM35*'Makro i swap'!BQK4","v":0},{"$f":"BQN35*'Makro i swap'!BQL4","v":0},{"$f":"BQO35*'Makro i swap'!BQM4","v":0},{"$f":"BQP35*'Makro i swap'!BQN4","v":0},{"$f":"BQQ35*'Makro i swap'!BQO4","v":0},{"$f":"BQR35*'Makro i swap'!BQP4","v":0},{"$f":"BQS35*'Makro i swap'!BQQ4","v":0},{"$f":"BQT35*'Makro i swap'!BQR4","v":0},{"$f":"BQU35*'Makro i swap'!BQS4","v":0},{"$f":"BQV35*'Makro i swap'!BQT4","v":0},{"$f":"BQW35*'Makro i swap'!BQU4","v":0},{"$f":"BQX35*'Makro i swap'!BQV4","v":0},{"$f":"BQY35*'Makro i swap'!BQW4","v":0},{"$f":"BQZ35*'Makro i swap'!BQX4","v":0},{"$f":"BRA35*'Makro i swap'!BQY4","v":0},{"$f":"BRB35*'Makro i swap'!BQZ4","v":0},{"$f":"BRC35*'Makro i swap'!BRA4","v":0},{"$f":"BRD35*'Makro i swap'!BRB4","v":0},{"$f":"BRE35*'Makro i swap'!BRC4","v":0},{"$f":"BRF35*'Makro i swap'!BRD4","v":0},{"$f":"BRG35*'Makro i swap'!BRE4","v":0},{"$f":"BRH35*'Makro i swap'!BRF4","v":0},{"$f":"BRI35*'Makro i swap'!BRG4","v":0},{"$f":"BRJ35*'Makro i swap'!BRH4","v":0},{"$f":"BRK35*'Makro i swap'!BRI4","v":0},{"$f":"BRL35*'Makro i swap'!BRJ4","v":0},{"$f":"BRM35*'Makro i swap'!BRK4","v":0},{"$f":"BRN35*'Makro i swap'!BRL4","v":0},{"$f":"BRO35*'Makro i swap'!BRM4","v":0},{"$f":"BRP35*'Makro i swap'!BRN4","v":0},{"$f":"BRQ35*'Makro i swap'!BRO4","v":0},{"$f":"BRR35*'Makro i swap'!BRP4","v":0},{"$f":"BRS35*'Makro i swap'!BRQ4","v":0},{"$f":"BRT35*'Makro i swap'!BRR4","v":0},{"$f":"BRU35*'Makro i swap'!BRS4","v":0},{"$f":"BRV35*'Makro i swap'!BRT4","v":0},{"$f":"BRW35*'Makro i swap'!BRU4","v":0},{"$f":"BRX35*'Makro i swap'!BRV4","v":0},{"$f":"BRY35*'Makro i swap'!BRW4","v":0},{"$f":"BRZ35*'Makro i swap'!BRX4","v":0},{"$f":"BSA35*'Makro i swap'!BRY4","v":0},{"$f":"BSB35*'Makro i swap'!BRZ4","v":0},{"$f":"BSC35*'Makro i swap'!BSA4","v":0},{"$f":"BSD35*'Makro i swap'!BSB4","v":0},{"$f":"BSE35*'Makro i swap'!BSC4","v":0},{"$f":"BSF35*'Makro i swap'!BSD4","v":0},{"$f":"BSG35*'Makro i swap'!BSE4","v":0},{"$f":"BSH35*'Makro i swap'!BSF4","v":0},{"$f":"BSI35*'Makro i swap'!BSG4","v":0},{"$f":"BSJ35*'Makro i swap'!BSH4","v":0},{"$f":"BSK35*'Makro i swap'!BSI4","v":0},{"$f":"BSL35*'Makro i swap'!BSJ4","v":0},{"$f":"BSM35*'Makro i swap'!BSK4","v":0},{"$f":"BSN35*'Makro i swap'!BSL4","v":0},{"$f":"BSO35*'Makro i swap'!BSM4","v":0},{"$f":"BSP35*'Makro i swap'!BSN4","v":0},{"$f":"BSQ35*'Makro i swap'!BSO4","v":0},{"$f":"BSR35*'Makro i swap'!BSP4","v":0},{"$f":"BSS35*'Makro i swap'!BSQ4","v":0},{"$f":"BST35*'Makro i swap'!BSR4","v":0},{"$f":"BSU35*'Makro i swap'!BSS4","v":0},{"$f":"BSV35*'Makro i swap'!BST4","v":0},{"$f":"BSW35*'Makro i swap'!BSU4","v":0},{"$f":"BSX35*'Makro i swap'!BSV4","v":0},{"$f":"BSY35*'Makro i swap'!BSW4","v":0},{"$f":"BSZ35*'Makro i swap'!BSX4","v":0},{"$f":"BTA35*'Makro i swap'!BSY4","v":0},{"$f":"BTB35*'Makro i swap'!BSZ4","v":0},{"$f":"BTC35*'Makro i swap'!BTA4","v":0},{"$f":"BTD35*'Makro i swap'!BTB4","v":0},{"$f":"BTE35*'Makro i swap'!BTC4","v":0},{"$f":"BTF35*'Makro i swap'!BTD4","v":0},{"$f":"BTG35*'Makro i swap'!BTE4","v":0},{"$f":"BTH35*'Makro i swap'!BTF4","v":0},{"$f":"BTI35*'Makro i swap'!BTG4","v":0},{"$f":"BTJ35*'Makro i swap'!BTH4","v":0},{"$f":"BTK35*'Makro i swap'!BTI4","v":0},{"$f":"BTL35*'Makro i swap'!BTJ4","v":0},{"$f":"BTM35*'Makro i swap'!BTK4","v":0},{"$f":"BTN35*'Makro i swap'!BTL4","v":0},{"$f":"BTO35*'Makro i swap'!BTM4","v":0},{"$f":"BTP35*'Makro i swap'!BTN4","v":0},{"$f":"BTQ35*'Makro i swap'!BTO4","v":0},{"$f":"BTR35*'Makro i swap'!BTP4","v":0},{"$f":"BTS35*'Makro i swap'!BTQ4","v":0},{"$f":"BTT35*'Makro i swap'!BTR4","v":0},{"$f":"BTU35*'Makro i swap'!BTS4","v":0},{"$f":"BTV35*'Makro i swap'!BTT4","v":0},{"$f":"BTW35*'Makro i swap'!BTU4","v":0},{"$f":"BTX35*'Makro i swap'!BTV4","v":0},{"$f":"BTY35*'Makro i swap'!BTW4","v":0},{"$f":"BTZ35*'Makro i swap'!BTX4","v":0},{"$f":"BUA35*'Makro i swap'!BTY4","v":0},{"$f":"BUB35*'Makro i swap'!BTZ4","v":0},{"$f":"BUC35*'Makro i swap'!BUA4","v":0},{"$f":"BUD35*'Makro i swap'!BUB4","v":0},{"$f":"BUE35*'Makro i swap'!BUC4","v":0},{"$f":"BUF35*'Makro i swap'!BUD4","v":0},{"$f":"BUG35*'Makro i swap'!BUE4","v":0},{"$f":"BUH35*'Makro i swap'!BUF4","v":0},{"$f":"BUI35*'Makro i swap'!BUG4","v":0},{"$f":"BUJ35*'Makro i swap'!BUH4","v":0},{"$f":"BUK35*'Makro i swap'!BUI4","v":0},{"$f":"BUL35*'Makro i swap'!BUJ4","v":0},{"$f":"BUM35*'Makro i swap'!BUK4","v":0},{"$f":"BUN35*'Makro i swap'!BUL4","v":0},{"$f":"BUO35*'Makro i swap'!BUM4","v":0},{"$f":"BUP35*'Makro i swap'!BUN4","v":0},{"$f":"BUQ35*'Makro i swap'!BUO4","v":0},{"$f":"BUR35*'Makro i swap'!BUP4","v":0},{"$f":"BUS35*'Makro i swap'!BUQ4","v":0},{"$f":"BUT35*'Makro i swap'!BUR4","v":0},{"$f":"BUU35*'Makro i swap'!BUS4","v":0},{"$f":"BUV35*'Makro i swap'!BUT4","v":0},{"$f":"BUW35*'Makro i swap'!BUU4","v":0},{"$f":"BUX35*'Makro i swap'!BUV4","v":0},{"$f":"BUY35*'Makro i swap'!BUW4","v":0},{"$f":"BUZ35*'Makro i swap'!BUX4","v":0},{"$f":"BVA35*'Makro i swap'!BUY4","v":0},{"$f":"BVB35*'Makro i swap'!BUZ4","v":0},{"$f":"BVC35*'Makro i swap'!BVA4","v":0},{"$f":"BVD35*'Makro i swap'!BVB4","v":0},{"$f":"BVE35*'Makro i swap'!BVC4","v":0},{"$f":"BVF35*'Makro i swap'!BVD4","v":0},{"$f":"BVG35*'Makro i swap'!BVE4","v":0},{"$f":"BVH35*'Makro i swap'!BVF4","v":0},{"$f":"BVI35*'Makro i swap'!BVG4","v":0},{"$f":"BVJ35*'Makro i swap'!BVH4","v":0},{"$f":"BVK35*'Makro i swap'!BVI4","v":0},{"$f":"BVL35*'Makro i swap'!BVJ4","v":0},{"$f":"BVM35*'Makro i swap'!BVK4","v":0},{"$f":"BVN35*'Makro i swap'!BVL4","v":0},{"$f":"BVO35*'Makro i swap'!BVM4","v":0},{"$f":"BVP35*'Makro i swap'!BVN4","v":0},{"$f":"BVQ35*'Makro i swap'!BVO4","v":0},{"$f":"BVR35*'Makro i swap'!BVP4","v":0},{"$f":"BVS35*'Makro i swap'!BVQ4","v":0},{"$f":"BVT35*'Makro i swap'!BVR4","v":0},{"$f":"BVU35*'Makro i swap'!BVS4","v":0},{"$f":"BVV35*'Makro i swap'!BVT4","v":0},{"$f":"BVW35*'Makro i swap'!BVU4","v":0},{"$f":"BVX35*'Makro i swap'!BVV4","v":0},{"$f":"BVY35*'Makro i swap'!BVW4","v":0},{"$f":"BVZ35*'Makro i swap'!BVX4","v":0},{"$f":"BWA35*'Makro i swap'!BVY4","v":0},{"$f":"BWB35*'Makro i swap'!BVZ4","v":0},{"$f":"BWC35*'Makro i swap'!BWA4","v":0},{"$f":"BWD35*'Makro i swap'!BWB4","v":0},{"$f":"BWE35*'Makro i swap'!BWC4","v":0},{"$f":"BWF35*'Makro i swap'!BWD4","v":0},{"$f":"BWG35*'Makro i swap'!BWE4","v":0},{"$f":"BWH35*'Makro i swap'!BWF4","v":0},{"$f":"BWI35*'Makro i swap'!BWG4","v":0},{"$f":"BWJ35*'Makro i swap'!BWH4","v":0},{"$f":"BWK35*'Makro i swap'!BWI4","v":0},{"$f":"BWL35*'Makro i swap'!BWJ4","v":0},{"$f":"BWM35*'Makro i swap'!BWK4","v":0},{"$f":"BWN35*'Makro i swap'!BWL4","v":0},{"$f":"BWO35*'Makro i swap'!BWM4","v":0},{"$f":"BWP35*'Makro i swap'!BWN4","v":0},{"$f":"BWQ35*'Makro i swap'!BWO4","v":0},{"$f":"BWR35*'Makro i swap'!BWP4","v":0},{"$f":"BWS35*'Makro i swap'!BWQ4","v":0},{"$f":"BWT35*'Makro i swap'!BWR4","v":0},{"$f":"BWU35*'Makro i swap'!BWS4","v":0},{"$f":"BWV35*'Makro i swap'!BWT4","v":0},{"$f":"BWW35*'Makro i swap'!BWU4","v":0},{"$f":"BWX35*'Makro i swap'!BWV4","v":0},{"$f":"BWY35*'Makro i swap'!BWW4","v":0},{"$f":"BWZ35*'Makro i swap'!BWX4","v":0},{"$f":"BXA35*'Makro i swap'!BWY4","v":0},{"$f":"BXB35*'Makro i swap'!BWZ4","v":0},{"$f":"BXC35*'Makro i swap'!BXA4","v":0},{"$f":"BXD35*'Makro i swap'!BXB4","v":0},{"$f":"BXE35*'Makro i swap'!BXC4","v":0},{"$f":"BXF35*'Makro i swap'!BXD4","v":0},{"$f":"BXG35*'Makro i swap'!BXE4","v":0},{"$f":"BXH35*'Makro i swap'!BXF4","v":0},{"$f":"BXI35*'Makro i swap'!BXG4","v":0},{"$f":"BXJ35*'Makro i swap'!BXH4","v":0},{"$f":"BXK35*'Makro i swap'!BXI4","v":0},{"$f":"BXL35*'Makro i swap'!BXJ4","v":0},{"$f":"BXM35*'Makro i swap'!BXK4","v":0},{"$f":"BXN35*'Makro i swap'!BXL4","v":0},{"$f":"BXO35*'Makro i swap'!BXM4","v":0},{"$f":"BXP35*'Makro i swap'!BXN4","v":0},{"$f":"BXQ35*'Makro i swap'!BXO4","v":0},{"$f":"BXR35*'Makro i swap'!BXP4","v":0},{"$f":"BXS35*'Makro i swap'!BXQ4","v":0},{"$f":"BXT35*'Makro i swap'!BXR4","v":0},{"$f":"BXU35*'Makro i swap'!BXS4","v":0},{"$f":"BXV35*'Makro i swap'!BXT4","v":0},{"$f":"BXW35*'Makro i swap'!BXU4","v":0},{"$f":"BXX35*'Makro i swap'!BXV4","v":0},{"$f":"BXY35*'Makro i swap'!BXW4","v":0},{"$f":"BXZ35*'Makro i swap'!BXX4","v":0},{"$f":"BYA35*'Makro i swap'!BXY4","v":0},{"$f":"BYB35*'Makro i swap'!BXZ4","v":0},{"$f":"BYC35*'Makro i swap'!BYA4","v":0},{"$f":"BYD35*'Makro i swap'!BYB4","v":0},{"$f":"BYE35*'Makro i swap'!BYC4","v":0},{"$f":"BYF35*'Makro i swap'!BYD4","v":0},{"$f":"BYG35*'Makro i swap'!BYE4","v":0},{"$f":"BYH35*'Makro i swap'!BYF4","v":0},{"$f":"BYI35*'Makro i swap'!BYG4","v":0},{"$f":"BYJ35*'Makro i swap'!BYH4","v":0},{"$f":"BYK35*'Makro i swap'!BYI4","v":0},{"$f":"BYL35*'Makro i swap'!BYJ4","v":0},{"$f":"BYM35*'Makro i swap'!BYK4","v":0},{"$f":"BYN35*'Makro i swap'!BYL4","v":0},{"$f":"BYO35*'Makro i swap'!BYM4","v":0},{"$f":"BYP35*'Makro i swap'!BYN4","v":0},{"$f":"BYQ35*'Makro i swap'!BYO4","v":0},{"$f":"BYR35*'Makro i swap'!BYP4","v":0},{"$f":"BYS35*'Makro i swap'!BYQ4","v":0},{"$f":"BYT35*'Makro i swap'!BYR4","v":0},{"$f":"BYU35*'Makro i swap'!BYS4","v":0},{"$f":"BYV35*'Makro i swap'!BYT4","v":0},{"$f":"BYW35*'Makro i swap'!BYU4","v":0},{"$f":"BYX35*'Makro i swap'!BYV4","v":0},{"$f":"BYY35*'Makro i swap'!BYW4","v":0},{"$f":"BYZ35*'Makro i swap'!BYX4","v":0},{"$f":"BZA35*'Makro i swap'!BYY4","v":0},{"$f":"BZB35*'Makro i swap'!BYZ4","v":0},{"$f":"BZC35*'Makro i swap'!BZA4","v":0},{"$f":"BZD35*'Makro i swap'!BZB4","v":0},{"$f":"BZE35*'Makro i swap'!BZC4","v":0},{"$f":"BZF35*'Makro i swap'!BZD4","v":0},{"$f":"BZG35*'Makro i swap'!BZE4","v":0},{"$f":"BZH35*'Makro i swap'!BZF4","v":0},{"$f":"BZI35*'Makro i swap'!BZG4","v":0},{"$f":"BZJ35*'Makro i swap'!BZH4","v":0},{"$f":"BZK35*'Makro i swap'!BZI4","v":0},{"$f":"BZL35*'Makro i swap'!BZJ4","v":0},{"$f":"BZM35*'Makro i swap'!BZK4","v":0},{"$f":"BZN35*'Makro i swap'!BZL4","v":0},{"$f":"BZO35*'Makro i swap'!BZM4","v":0},{"$f":"BZP35*'Makro i swap'!BZN4","v":0},{"$f":"BZQ35*'Makro i swap'!BZO4","v":0},{"$f":"BZR35*'Makro i swap'!BZP4","v":0},{"$f":"BZS35*'Makro i swap'!BZQ4","v":0},{"$f":"BZT35*'Makro i swap'!BZR4","v":0},{"$f":"BZU35*'Makro i swap'!BZS4","v":0},{"$f":"BZV35*'Makro i swap'!BZT4","v":0},{"$f":"BZW35*'Makro i swap'!BZU4","v":0},{"$f":"BZX35*'Makro i swap'!BZV4","v":0},{"$f":"BZY35*'Makro i swap'!BZW4","v":0},{"$f":"BZZ35*'Makro i swap'!BZX4","v":0},{"$f":"CAA35*'Makro i swap'!BZY4","v":0},{"$f":"CAB35*'Makro i swap'!BZZ4","v":0},{"$f":"CAC35*'Makro i swap'!CAA4","v":0},{"$f":"CAD35*'Makro i swap'!CAB4","v":0},{"$f":"CAE35*'Makro i swap'!CAC4","v":0},{"$f":"CAF35*'Makro i swap'!CAD4","v":0},{"$f":"CAG35*'Makro i swap'!CAE4","v":0},{"$f":"CAH35*'Makro i swap'!CAF4","v":0},{"$f":"CAI35*'Makro i swap'!CAG4","v":0},{"$f":"CAJ35*'Makro i swap'!CAH4","v":0},{"$f":"CAK35*'Makro i swap'!CAI4","v":0},{"$f":"CAL35*'Makro i swap'!CAJ4","v":0},{"$f":"CAM35*'Makro i swap'!CAK4","v":0},{"$f":"CAN35*'Makro i swap'!CAL4","v":0},{"$f":"CAO35*'Makro i swap'!CAM4","v":0},{"$f":"CAP35*'Makro i swap'!CAN4","v":0},{"$f":"CAQ35*'Makro i swap'!CAO4","v":0},{"$f":"CAR35*'Makro i swap'!CAP4","v":0},{"$f":"CAS35*'Makro i swap'!CAQ4","v":0},{"$f":"CAT35*'Makro i swap'!CAR4","v":0},{"$f":"CAU35*'Makro i swap'!CAS4","v":0},{"$f":"CAV35*'Makro i swap'!CAT4","v":0},{"$f":"CAW35*'Makro i swap'!CAU4","v":0},{"$f":"CAX35*'Makro i swap'!CAV4","v":0},{"$f":"CAY35*'Makro i swap'!CAW4","v":0},{"$f":"CAZ35*'Makro i swap'!CAX4","v":0},{"$f":"CBA35*'Makro i swap'!CAY4","v":0},{"$f":"CBB35*'Makro i swap'!CAZ4","v":0},{"$f":"CBC35*'Makro i swap'!CBA4","v":0},{"$f":"CBD35*'Makro i swap'!CBB4","v":0},{"$f":"CBE35*'Makro i swap'!CBC4","v":0},{"$f":"CBF35*'Makro i swap'!CBD4","v":0},{"$f":"CBG35*'Makro i swap'!CBE4","v":0},{"$f":"CBH35*'Makro i swap'!CBF4","v":0},{"$f":"CBI35*'Makro i swap'!CBG4","v":0},{"$f":"CBJ35*'Makro i swap'!CBH4","v":0},{"$f":"CBK35*'Makro i swap'!CBI4","v":0},{"$f":"CBL35*'Makro i swap'!CBJ4","v":0},{"$f":"CBM35*'Makro i swap'!CBK4","v":0},{"$f":"CBN35*'Makro i swap'!CBL4","v":0},{"$f":"CBO35*'Makro i swap'!CBM4","v":0},{"$f":"CBP35*'Makro i swap'!CBN4","v":0},{"$f":"CBQ35*'Makro i swap'!CBO4","v":0},{"$f":"CBR35*'Makro i swap'!CBP4","v":0},{"$f":"CBS35*'Makro i swap'!CBQ4","v":0},{"$f":"CBT35*'Makro i swap'!CBR4","v":0},{"$f":"CBU35*'Makro i swap'!CBS4","v":0},{"$f":"CBV35*'Makro i swap'!CBT4","v":0},{"$f":"CBW35*'Makro i swap'!CBU4","v":0},{"$f":"CBX35*'Makro i swap'!CBV4","v":0},{"$f":"CBY35*'Makro i swap'!CBW4","v":0},{"$f":"CBZ35*'Makro i swap'!CBX4","v":0},{"$f":"CCA35*'Makro i swap'!CBY4","v":0},{"$f":"CCB35*'Makro i swap'!CBZ4","v":0},{"$f":"CCC35*'Makro i swap'!CCA4","v":0},{"$f":"CCD35*'Makro i swap'!CCB4","v":0},{"$f":"CCE35*'Makro i swap'!CCC4","v":0},{"$f":"CCF35*'Makro i swap'!CCD4","v":0},{"$f":"CCG35*'Makro i swap'!CCE4","v":0},{"$f":"CCH35*'Makro i swap'!CCF4","v":0},{"$f":"CCI35*'Makro i swap'!CCG4","v":0},{"$f":"CCJ35*'Makro i swap'!CCH4","v":0},{"$f":"CCK35*'Makro i swap'!CCI4","v":0},{"$f":"CCL35*'Makro i swap'!CCJ4","v":0},{"$f":"CCM35*'Makro i swap'!CCK4","v":0},{"$f":"CCN35*'Makro i swap'!CCL4","v":0},{"$f":"CCO35*'Makro i swap'!CCM4","v":0},{"$f":"CCP35*'Makro i swap'!CCN4","v":0},{"$f":"CCQ35*'Makro i swap'!CCO4","v":0},{"$f":"CCR35*'Makro i swap'!CCP4","v":0},{"$f":"CCS35*'Makro i swap'!CCQ4","v":0},{"$f":"CCT35*'Makro i swap'!CCR4","v":0},{"$f":"CCU35*'Makro i swap'!CCS4","v":0},{"$f":"CCV35*'Makro i swap'!CCT4","v":0},{"$f":"CCW35*'Makro i swap'!CCU4","v":0},{"$f":"CCX35*'Makro i swap'!CCV4","v":0},{"$f":"CCY35*'Makro i swap'!CCW4","v":0},{"$f":"CCZ35*'Makro i swap'!CCX4","v":0},{"$f":"CDA35*'Makro i swap'!CCY4","v":0},{"$f":"CDB35*'Makro i swap'!CCZ4","v":0},{"$f":"CDC35*'Makro i swap'!CDA4","v":0},{"$f":"CDD35*'Makro i swap'!CDB4","v":0},{"$f":"CDE35*'Makro i swap'!CDC4","v":0},{"$f":"CDF35*'Makro i swap'!CDD4","v":0},{"$f":"CDG35*'Makro i swap'!CDE4","v":0},{"$f":"CDH35*'Makro i swap'!CDF4","v":0},{"$f":"CDI35*'Makro i swap'!CDG4","v":0},{"$f":"CDJ35*'Makro i swap'!CDH4","v":0},{"$f":"CDK35*'Makro i swap'!CDI4","v":0},{"$f":"CDL35*'Makro i swap'!CDJ4","v":0},{"$f":"CDM35*'Makro i swap'!CDK4","v":0},{"$f":"CDN35*'Makro i swap'!CDL4","v":0},{"$f":"CDO35*'Makro i swap'!CDM4","v":0},{"$f":"CDP35*'Makro i swap'!CDN4","v":0},{"$f":"CDQ35*'Makro i swap'!CDO4","v":0},{"$f":"CDR35*'Makro i swap'!CDP4","v":0},{"$f":"CDS35*'Makro i swap'!CDQ4","v":0},{"$f":"CDT35*'Makro i swap'!CDR4","v":0},{"$f":"CDU35*'Makro i swap'!CDS4","v":0},{"$f":"CDV35*'Makro i swap'!CDT4","v":0},{"$f":"CDW35*'Makro i swap'!CDU4","v":0},{"$f":"CDX35*'Makro i swap'!CDV4","v":0},{"$f":"CDY35*'Makro i swap'!CDW4","v":0},{"$f":"CDZ35*'Makro i swap'!CDX4","v":0},{"$f":"CEA35*'Makro i swap'!CDY4","v":0},{"$f":"CEB35*'Makro i swap'!CDZ4","v":0},{"$f":"CEC35*'Makro i swap'!CEA4","v":0},{"$f":"CED35*'Makro i swap'!CEB4","v":0},{"$f":"CEE35*'Makro i swap'!CEC4","v":0},{"$f":"CEF35*'Makro i swap'!CED4","v":0},{"$f":"CEG35*'Makro i swap'!CEE4","v":0},{"$f":"CEH35*'Makro i swap'!CEF4","v":0},{"$f":"CEI35*'Makro i swap'!CEG4","v":0},{"$f":"CEJ35*'Makro i swap'!CEH4","v":0},{"$f":"CEK35*'Makro i swap'!CEI4","v":0},{"$f":"CEL35*'Makro i swap'!CEJ4","v":0},{"$f":"CEM35*'Makro i swap'!CEK4","v":0},{"$f":"CEN35*'Makro i swap'!CEL4","v":0},{"$f":"CEO35*'Makro i swap'!CEM4","v":0},{"$f":"CEP35*'Makro i swap'!CEN4","v":0},{"$f":"CEQ35*'Makro i swap'!CEO4","v":0},{"$f":"CER35*'Makro i swap'!CEP4","v":0},{"$f":"CES35*'Makro i swap'!CEQ4","v":0},{"$f":"CET35*'Makro i swap'!CER4","v":0},{"$f":"CEU35*'Makro i swap'!CES4","v":0},{"$f":"CEV35*'Makro i swap'!CET4","v":0},{"$f":"CEW35*'Makro i swap'!CEU4","v":0},{"$f":"CEX35*'Makro i swap'!CEV4","v":0},{"$f":"CEY35*'Makro i swap'!CEW4","v":0},{"$f":"CEZ35*'Makro i swap'!CEX4","v":0},{"$f":"CFA35*'Makro i swap'!CEY4","v":0},{"$f":"CFB35*'Makro i swap'!CEZ4","v":0},{"$f":"CFC35*'Makro i swap'!CFA4","v":0},{"$f":"CFD35*'Makro i swap'!CFB4","v":0},{"$f":"CFE35*'Makro i swap'!CFC4","v":0},{"$f":"CFF35*'Makro i swap'!CFD4","v":0},{"$f":"CFG35*'Makro i swap'!CFE4","v":0},{"$f":"CFH35*'Makro i swap'!CFF4","v":0},{"$f":"CFI35*'Makro i swap'!CFG4","v":0},{"$f":"CFJ35*'Makro i swap'!CFH4","v":0},{"$f":"CFK35*'Makro i swap'!CFI4","v":0},{"$f":"CFL35*'Makro i swap'!CFJ4","v":0},{"$f":"CFM35*'Makro i swap'!CFK4","v":0},{"$f":"CFN35*'Makro i swap'!CFL4","v":0},{"$f":"CFO35*'Makro i swap'!CFM4","v":0},{"$f":"CFP35*'Makro i swap'!CFN4","v":0},{"$f":"CFQ35*'Makro i swap'!CFO4","v":0},{"$f":"CFR35*'Makro i swap'!CFP4","v":0},{"$f":"CFS35*'Makro i swap'!CFQ4","v":0},{"$f":"CFT35*'Makro i swap'!CFR4","v":0},{"$f":"CFU35*'Makro i swap'!CFS4","v":0},{"$f":"CFV35*'Makro i swap'!CFT4","v":0},{"$f":"CFW35*'Makro i swap'!CFU4","v":0},{"$f":"CFX35*'Makro i swap'!CFV4","v":0},{"$f":"CFY35*'Makro i swap'!CFW4","v":0},{"$f":"CFZ35*'Makro i swap'!CFX4","v":0},{"$f":"CGA35*'Makro i swap'!CFY4","v":0},{"$f":"CGB35*'Makro i swap'!CFZ4","v":0},{"$f":"CGC35*'Makro i swap'!CGA4","v":0},{"$f":"CGD35*'Makro i swap'!CGB4","v":0},{"$f":"CGE35*'Makro i swap'!CGC4","v":0},{"$f":"CGF35*'Makro i swap'!CGD4","v":0},{"$f":"CGG35*'Makro i swap'!CGE4","v":0},{"$f":"CGH35*'Makro i swap'!CGF4","v":0},{"$f":"CGI35*'Makro i swap'!CGG4","v":0},{"$f":"CGJ35*'Makro i swap'!CGH4","v":0},{"$f":"CGK35*'Makro i swap'!CGI4","v":0},{"$f":"CGL35*'Makro i swap'!CGJ4","v":0},{"$f":"CGM35*'Makro i swap'!CGK4","v":0},{"$f":"CGN35*'Makro i swap'!CGL4","v":0},{"$f":"CGO35*'Makro i swap'!CGM4","v":0},{"$f":"CGP35*'Makro i swap'!CGN4","v":0},{"$f":"CGQ35*'Makro i swap'!CGO4","v":0},{"$f":"CGR35*'Makro i swap'!CGP4","v":0},{"$f":"CGS35*'Makro i swap'!CGQ4","v":0},{"$f":"CGT35*'Makro i swap'!CGR4","v":0},{"$f":"CGU35*'Makro i swap'!CGS4","v":0},{"$f":"CGV35*'Makro i swap'!CGT4","v":0},{"$f":"CGW35*'Makro i swap'!CGU4","v":0},{"$f":"CGX35*'Makro i swap'!CGV4","v":0},{"$f":"CGY35*'Makro i swap'!CGW4","v":0},{"$f":"CGZ35*'Makro i swap'!CGX4","v":0},{"$f":"CHA35*'Makro i swap'!CGY4","v":0},{"$f":"CHB35*'Makro i swap'!CGZ4","v":0},{"$f":"CHC35*'Makro i swap'!CHA4","v":0},{"$f":"CHD35*'Makro i swap'!CHB4","v":0},{"$f":"CHE35*'Makro i swap'!CHC4","v":0},{"$f":"CHF35*'Makro i swap'!CHD4","v":0},{"$f":"CHG35*'Makro i swap'!CHE4","v":0},{"$f":"CHH35*'Makro i swap'!CHF4","v":0},{"$f":"CHI35*'Makro i swap'!CHG4","v":0},{"$f":"CHJ35*'Makro i swap'!CHH4","v":0},{"$f":"CHK35*'Makro i swap'!CHI4","v":0},{"$f":"CHL35*'Makro i swap'!CHJ4","v":0},{"$f":"CHM35*'Makro i swap'!CHK4","v":0},{"$f":"CHN35*'Makro i swap'!CHL4","v":0},{"$f":"CHO35*'Makro i swap'!CHM4","v":0},{"$f":"CHP35*'Makro i swap'!CHN4","v":0},{"$f":"CHQ35*'Makro i swap'!CHO4","v":0},{"$f":"CHR35*'Makro i swap'!CHP4","v":0},{"$f":"CHS35*'Makro i swap'!CHQ4","v":0},{"$f":"CHT35*'Makro i swap'!CHR4","v":0},{"$f":"CHU35*'Makro i swap'!CHS4","v":0},{"$f":"CHV35*'Makro i swap'!CHT4","v":0},{"$f":"CHW35*'Makro i swap'!CHU4","v":0},{"$f":"CHX35*'Makro i swap'!CHV4","v":0},{"$f":"CHY35*'Makro i swap'!CHW4","v":0},{"$f":"CHZ35*'Makro i swap'!CHX4","v":0},{"$f":"CIA35*'Makro i swap'!CHY4","v":0},{"$f":"CIB35*'Makro i swap'!CHZ4","v":0},{"$f":"CIC35*'Makro i swap'!CIA4","v":0},{"$f":"CID35*'Makro i swap'!CIB4","v":0},{"$f":"CIE35*'Makro i swap'!CIC4","v":0},{"$f":"CIF35*'Makro i swap'!CID4","v":0},{"$f":"CIG35*'Makro i swap'!CIE4","v":0},{"$f":"CIH35*'Makro i swap'!CIF4","v":0},{"$f":"CII35*'Makro i swap'!CIG4","v":0},{"$f":"CIJ35*'Makro i swap'!CIH4","v":0},{"$f":"CIK35*'Makro i swap'!CII4","v":0},{"$f":"CIL35*'Makro i swap'!CIJ4","v":0},{"$f":"CIM35*'Makro i swap'!CIK4","v":0},{"$f":"CIN35*'Makro i swap'!CIL4","v":0},{"$f":"CIO35*'Makro i swap'!CIM4","v":0},{"$f":"CIP35*'Makro i swap'!CIN4","v":0},{"$f":"CIQ35*'Makro i swap'!CIO4","v":0},{"$f":"CIR35*'Makro i swap'!CIP4","v":0},{"$f":"CIS35*'Makro i swap'!CIQ4","v":0},{"$f":"CIT35*'Makro i swap'!CIR4","v":0},{"$f":"CIU35*'Makro i swap'!CIS4","v":0},{"$f":"CIV35*'Makro i swap'!CIT4","v":0},{"$f":"CIW35*'Makro i swap'!CIU4","v":0},{"$f":"CIX35*'Makro i swap'!CIV4","v":0},{"$f":"CIY35*'Makro i swap'!CIW4","v":0},{"$f":"CIZ35*'Makro i swap'!CIX4","v":0},{"$f":"CJA35*'Makro i swap'!CIY4","v":0},{"$f":"CJB35*'Makro i swap'!CIZ4","v":0},{"$f":"CJC35*'Makro i swap'!CJA4","v":0},{"$f":"CJD35*'Makro i swap'!CJB4","v":0},{"$f":"CJE35*'Makro i swap'!CJC4","v":0},{"$f":"CJF35*'Makro i swap'!CJD4","v":0},{"$f":"CJG35*'Makro i swap'!CJE4","v":0},{"$f":"CJH35*'Makro i swap'!CJF4","v":0},{"$f":"CJI35*'Makro i swap'!CJG4","v":0},{"$f":"CJJ35*'Makro i swap'!CJH4","v":0},{"$f":"CJK35*'Makro i swap'!CJI4","v":0},{"$f":"CJL35*'Makro i swap'!CJJ4","v":0},{"$f":"CJM35*'Makro i swap'!CJK4","v":0},{"$f":"CJN35*'Makro i swap'!CJL4","v":0},{"$f":"CJO35*'Makro i swap'!CJM4","v":0},{"$f":"CJP35*'Makro i swap'!CJN4","v":0},{"$f":"CJQ35*'Makro i swap'!CJO4","v":0},{"$f":"CJR35*'Makro i swap'!CJP4","v":0},{"$f":"CJS35*'Makro i swap'!CJQ4","v":0},{"$f":"CJT35*'Makro i swap'!CJR4","v":0},{"$f":"CJU35*'Makro i swap'!CJS4","v":0},{"$f":"CJV35*'Makro i swap'!CJT4","v":0},{"$f":"CJW35*'Makro i swap'!CJU4","v":0},{"$f":"CJX35*'Makro i swap'!CJV4","v":0},{"$f":"CJY35*'Makro i swap'!CJW4","v":0},{"$f":"CJZ35*'Makro i swap'!CJX4","v":0},{"$f":"CKA35*'Makro i swap'!CJY4","v":0},{"$f":"CKB35*'Makro i swap'!CJZ4","v":0},{"$f":"CKC35*'Makro i swap'!CKA4","v":0},{"$f":"CKD35*'Makro i swap'!CKB4","v":0},{"$f":"CKE35*'Makro i swap'!CKC4","v":0},{"$f":"CKF35*'Makro i swap'!CKD4","v":0},{"$f":"CKG35*'Makro i swap'!CKE4","v":0},{"$f":"CKH35*'Makro i swap'!CKF4","v":0},{"$f":"CKI35*'Makro i swap'!CKG4","v":0},{"$f":"CKJ35*'Makro i swap'!CKH4","v":0},{"$f":"CKK35*'Makro i swap'!CKI4","v":0},{"$f":"CKL35*'Makro i swap'!CKJ4","v":0},{"$f":"CKM35*'Makro i swap'!CKK4","v":0},{"$f":"CKN35*'Makro i swap'!CKL4","v":0},{"$f":"CKO35*'Makro i swap'!CKM4","v":0},{"$f":"CKP35*'Makro i swap'!CKN4","v":0},{"$f":"CKQ35*'Makro i swap'!CKO4","v":0},{"$f":"CKR35*'Makro i swap'!CKP4","v":0},{"$f":"CKS35*'Makro i swap'!CKQ4","v":0},{"$f":"CKT35*'Makro i swap'!CKR4","v":0},{"$f":"CKU35*'Makro i swap'!CKS4","v":0},{"$f":"CKV35*'Makro i swap'!CKT4","v":0},{"$f":"CKW35*'Makro i swap'!CKU4","v":0},{"$f":"CKX35*'Makro i swap'!CKV4","v":0},{"$f":"CKY35*'Makro i swap'!CKW4","v":0},{"$f":"CKZ35*'Makro i swap'!CKX4","v":0},{"$f":"CLA35*'Makro i swap'!CKY4","v":0},{"$f":"CLB35*'Makro i swap'!CKZ4","v":0},{"$f":"CLC35*'Makro i swap'!CLA4","v":0},{"$f":"CLD35*'Makro i swap'!CLB4","v":0},{"$f":"CLE35*'Makro i swap'!CLC4","v":0},{"$f":"CLF35*'Makro i swap'!CLD4","v":0},{"$f":"CLG35*'Makro i swap'!CLE4","v":0},{"$f":"CLH35*'Makro i swap'!CLF4","v":0},{"$f":"CLI35*'Makro i swap'!CLG4","v":0},{"$f":"CLJ35*'Makro i swap'!CLH4","v":0},{"$f":"CLK35*'Makro i swap'!CLI4","v":0},{"$f":"CLL35*'Makro i swap'!CLJ4","v":0},{"$f":"CLM35*'Makro i swap'!CLK4","v":0},{"$f":"CLN35*'Makro i swap'!CLL4","v":0},{"$f":"CLO35*'Makro i swap'!CLM4","v":0},{"$f":"CLP35*'Makro i swap'!CLN4","v":0},{"$f":"CLQ35*'Makro i swap'!CLO4","v":0},{"$f":"CLR35*'Makro i swap'!CLP4","v":0},{"$f":"CLS35*'Makro i swap'!CLQ4","v":0},{"$f":"CLT35*'Makro i swap'!CLR4","v":0},{"$f":"CLU35*'Makro i swap'!CLS4","v":0},{"$f":"CLV35*'Makro i swap'!CLT4","v":0},{"$f":"CLW35*'Makro i swap'!CLU4","v":0},{"$f":"CLX35*'Makro i swap'!CLV4","v":0},{"$f":"CLY35*'Makro i swap'!CLW4","v":0},{"$f":"CLZ35*'Makro i swap'!CLX4","v":0},{"$f":"CMA35*'Makro i swap'!CLY4","v":0},{"$f":"CMB35*'Makro i swap'!CLZ4","v":0},{"$f":"CMC35*'Makro i swap'!CMA4","v":0},{"$f":"CMD35*'Makro i swap'!CMB4","v":0},{"$f":"CME35*'Makro i swap'!CMC4","v":0},{"$f":"CMF35*'Makro i swap'!CMD4","v":0},{"$f":"CMG35*'Makro i swap'!CME4","v":0},{"$f":"CMH35*'Makro i swap'!CMF4","v":0},{"$f":"CMI35*'Makro i swap'!CMG4","v":0},{"$f":"CMJ35*'Makro i swap'!CMH4","v":0},{"$f":"CMK35*'Makro i swap'!CMI4","v":0},{"$f":"CML35*'Makro i swap'!CMJ4","v":0},{"$f":"CMM35*'Makro i swap'!CMK4","v":0},{"$f":"CMN35*'Makro i swap'!CML4","v":0},{"$f":"CMO35*'Makro i swap'!CMM4","v":0},{"$f":"CMP35*'Makro i swap'!CMN4","v":0},{"$f":"CMQ35*'Makro i swap'!CMO4","v":0},{"$f":"CMR35*'Makro i swap'!CMP4","v":0},{"$f":"CMS35*'Makro i swap'!CMQ4","v":0},{"$f":"CMT35*'Makro i swap'!CMR4","v":0},{"$f":"CMU35*'Makro i swap'!CMS4","v":0},{"$f":"CMV35*'Makro i swap'!CMT4","v":0},{"$f":"CMW35*'Makro i swap'!CMU4","v":0},{"$f":"CMX35*'Makro i swap'!CMV4","v":0},{"$f":"CMY35*'Makro i swap'!CMW4","v":0},{"$f":"CMZ35*'Makro i swap'!CMX4","v":0},{"$f":"CNA35*'Makro i swap'!CMY4","v":0},{"$f":"CNB35*'Makro i swap'!CMZ4","v":0},{"$f":"CNC35*'Makro i swap'!CNA4","v":0},{"$f":"CND35*'Makro i swap'!CNB4","v":0},{"$f":"CNE35*'Makro i swap'!CNC4","v":0},{"$f":"CNF35*'Makro i swap'!CND4","v":0},{"$f":"CNG35*'Makro i swap'!CNE4","v":0},{"$f":"CNH35*'Makro i swap'!CNF4","v":0},{"$f":"CNI35*'Makro i swap'!CNG4","v":0},{"$f":"CNJ35*'Makro i swap'!CNH4","v":0},{"$f":"CNK35*'Makro i swap'!CNI4","v":0},{"$f":"CNL35*'Makro i swap'!CNJ4","v":0},{"$f":"CNM35*'Makro i swap'!CNK4","v":0},{"$f":"CNN35*'Makro i swap'!CNL4","v":0},{"$f":"CNO35*'Makro i swap'!CNM4","v":0},{"$f":"CNP35*'Makro i swap'!CNN4","v":0},{"$f":"CNQ35*'Makro i swap'!CNO4","v":0},{"$f":"CNR35*'Makro i swap'!CNP4","v":0},{"$f":"CNS35*'Makro i swap'!CNQ4","v":0},{"$f":"CNT35*'Makro i swap'!CNR4","v":0},{"$f":"CNU35*'Makro i swap'!CNS4","v":0},{"$f":"CNV35*'Makro i swap'!CNT4","v":0},{"$f":"CNW35*'Makro i swap'!CNU4","v":0},{"$f":"CNX35*'Makro i swap'!CNV4","v":0},{"$f":"CNY35*'Makro i swap'!CNW4","v":0},{"$f":"CNZ35*'Makro i swap'!CNX4","v":0},{"$f":"COA35*'Makro i swap'!CNY4","v":0},{"$f":"COB35*'Makro i swap'!CNZ4","v":0},{"$f":"COC35*'Makro i swap'!COA4","v":0},{"$f":"COD35*'Makro i swap'!COB4","v":0},{"$f":"COE35*'Makro i swap'!COC4","v":0},{"$f":"COF35*'Makro i swap'!COD4","v":0},{"$f":"COG35*'Makro i swap'!COE4","v":0},{"$f":"COH35*'Makro i swap'!COF4","v":0},{"$f":"COI35*'Makro i swap'!COG4","v":0},{"$f":"COJ35*'Makro i swap'!COH4","v":0},{"$f":"COK35*'Makro i swap'!COI4","v":0},{"$f":"COL35*'Makro i swap'!COJ4","v":0},{"$f":"COM35*'Makro i swap'!COK4","v":0},{"$f":"CON35*'Makro i swap'!COL4","v":0},{"$f":"COO35*'Makro i swap'!COM4","v":0},{"$f":"COP35*'Makro i swap'!CON4","v":0},{"$f":"COQ35*'Makro i swap'!COO4","v":0},{"$f":"COR35*'Makro i swap'!COP4","v":0},{"$f":"COS35*'Makro i swap'!COQ4","v":0},{"$f":"COT35*'Makro i swap'!COR4","v":0},{"$f":"COU35*'Makro i swap'!COS4","v":0},{"$f":"COV35*'Makro i swap'!COT4","v":0},{"$f":"COW35*'Makro i swap'!COU4","v":0},{"$f":"COX35*'Makro i swap'!COV4","v":0},{"$f":"COY35*'Makro i swap'!COW4","v":0},{"$f":"COZ35*'Makro i swap'!COX4","v":0},{"$f":"CPA35*'Makro i swap'!COY4","v":0},{"$f":"CPB35*'Makro i swap'!COZ4","v":0},{"$f":"CPC35*'Makro i swap'!CPA4","v":0},{"$f":"CPD35*'Makro i swap'!CPB4","v":0},{"$f":"CPE35*'Makro i swap'!CPC4","v":0},{"$f":"CPF35*'Makro i swap'!CPD4","v":0},{"$f":"CPG35*'Makro i swap'!CPE4","v":0},{"$f":"CPH35*'Makro i swap'!CPF4","v":0},{"$f":"CPI35*'Makro i swap'!CPG4","v":0},{"$f":"CPJ35*'Makro i swap'!CPH4","v":0},{"$f":"CPK35*'Makro i swap'!CPI4","v":0},{"$f":"CPL35*'Makro i swap'!CPJ4","v":0},{"$f":"CPM35*'Makro i swap'!CPK4","v":0},{"$f":"CPN35*'Makro i swap'!CPL4","v":0},{"$f":"CPO35*'Makro i swap'!CPM4","v":0},{"$f":"CPP35*'Makro i swap'!CPN4","v":0},{"$f":"CPQ35*'Makro i swap'!CPO4","v":0},{"$f":"CPR35*'Makro i swap'!CPP4","v":0},{"$f":"CPS35*'Makro i swap'!CPQ4","v":0},{"$f":"CPT35*'Makro i swap'!CPR4","v":0},{"$f":"CPU35*'Makro i swap'!CPS4","v":0},{"$f":"CPV35*'Makro i swap'!CPT4","v":0},{"$f":"CPW35*'Makro i swap'!CPU4","v":0},{"$f":"CPX35*'Makro i swap'!CPV4","v":0},{"$f":"CPY35*'Makro i swap'!CPW4","v":0},{"$f":"CPZ35*'Makro i swap'!CPX4","v":0},{"$f":"CQA35*'Makro i swap'!CPY4","v":0},{"$f":"CQB35*'Makro i swap'!CPZ4","v":0},{"$f":"CQC35*'Makro i swap'!CQA4","v":0},{"$f":"CQD35*'Makro i swap'!CQB4","v":0},{"$f":"CQE35*'Makro i swap'!CQC4","v":0},{"$f":"CQF35*'Makro i swap'!CQD4","v":0},{"$f":"CQG35*'Makro i swap'!CQE4","v":0},{"$f":"CQH35*'Makro i swap'!CQF4","v":0},{"$f":"CQI35*'Makro i swap'!CQG4","v":0},{"$f":"CQJ35*'Makro i swap'!CQH4","v":0},{"$f":"CQK35*'Makro i swap'!CQI4","v":0},{"$f":"CQL35*'Makro i swap'!CQJ4","v":0},{"$f":"CQM35*'Makro i swap'!CQK4","v":0},{"$f":"CQN35*'Makro i swap'!CQL4","v":0},{"$f":"CQO35*'Makro i swap'!CQM4","v":0},{"$f":"CQP35*'Makro i swap'!CQN4","v":0},{"$f":"CQQ35*'Makro i swap'!CQO4","v":0},{"$f":"CQR35*'Makro i swap'!CQP4","v":0},{"$f":"CQS35*'Makro i swap'!CQQ4","v":0},{"$f":"CQT35*'Makro i swap'!CQR4","v":0},{"$f":"CQU35*'Makro i swap'!CQS4","v":0},{"$f":"CQV35*'Makro i swap'!CQT4","v":0},{"$f":"CQW35*'Makro i swap'!CQU4","v":0},{"$f":"CQX35*'Makro i swap'!CQV4","v":0},{"$f":"CQY35*'Makro i swap'!CQW4","v":0},{"$f":"CQZ35*'Makro i swap'!CQX4","v":0},{"$f":"CRA35*'Makro i swap'!CQY4","v":0},{"$f":"CRB35*'Makro i swap'!CQZ4","v":0},{"$f":"CRC35*'Makro i swap'!CRA4","v":0},{"$f":"CRD35*'Makro i swap'!CRB4","v":0},{"$f":"CRE35*'Makro i swap'!CRC4","v":0},{"$f":"CRF35*'Makro i swap'!CRD4","v":0},{"$f":"CRG35*'Makro i swap'!CRE4","v":0},{"$f":"CRH35*'Makro i swap'!CRF4","v":0},{"$f":"CRI35*'Makro i swap'!CRG4","v":0},{"$f":"CRJ35*'Makro i swap'!CRH4","v":0},{"$f":"CRK35*'Makro i swap'!CRI4","v":0},{"$f":"CRL35*'Makro i swap'!CRJ4","v":0},{"$f":"CRM35*'Makro i swap'!CRK4","v":0},{"$f":"CRN35*'Makro i swap'!CRL4","v":0},{"$f":"CRO35*'Makro i swap'!CRM4","v":0},{"$f":"CRP35*'Makro i swap'!CRN4","v":0},{"$f":"CRQ35*'Makro i swap'!CRO4","v":0},{"$f":"CRR35*'Makro i swap'!CRP4","v":0},{"$f":"CRS35*'Makro i swap'!CRQ4","v":0},{"$f":"CRT35*'Makro i swap'!CRR4","v":0},{"$f":"CRU35*'Makro i swap'!CRS4","v":0},{"$f":"CRV35*'Makro i swap'!CRT4","v":0},{"$f":"CRW35*'Makro i swap'!CRU4","v":0},{"$f":"CRX35*'Makro i swap'!CRV4","v":0},{"$f":"CRY35*'Makro i swap'!CRW4","v":0},{"$f":"CRZ35*'Makro i swap'!CRX4","v":0},{"$f":"CSA35*'Makro i swap'!CRY4","v":0},{"$f":"CSB35*'Makro i swap'!CRZ4","v":0},{"$f":"CSC35*'Makro i swap'!CSA4","v":0},{"$f":"CSD35*'Makro i swap'!CSB4","v":0},{"$f":"CSE35*'Makro i swap'!CSC4","v":0},{"$f":"CSF35*'Makro i swap'!CSD4","v":0},{"$f":"CSG35*'Makro i swap'!CSE4","v":0},{"$f":"CSH35*'Makro i swap'!CSF4","v":0},{"$f":"CSI35*'Makro i swap'!CSG4","v":0},{"$f":"CSJ35*'Makro i swap'!CSH4","v":0},{"$f":"CSK35*'Makro i swap'!CSI4","v":0},{"$f":"CSL35*'Makro i swap'!CSJ4","v":0},{"$f":"CSM35*'Makro i swap'!CSK4","v":0},{"$f":"CSN35*'Makro i swap'!CSL4","v":0},{"$f":"CSO35*'Makro i swap'!CSM4","v":0},{"$f":"CSP35*'Makro i swap'!CSN4","v":0},{"$f":"CSQ35*'Makro i swap'!CSO4","v":0},{"$f":"CSR35*'Makro i swap'!CSP4","v":0},{"$f":"CSS35*'Makro i swap'!CSQ4","v":0},{"$f":"CST35*'Makro i swap'!CSR4","v":0},{"$f":"CSU35*'Makro i swap'!CSS4","v":0},{"$f":"CSV35*'Makro i swap'!CST4","v":0},{"$f":"CSW35*'Makro i swap'!CSU4","v":0},{"$f":"CSX35*'Makro i swap'!CSV4","v":0},{"$f":"CSY35*'Makro i swap'!CSW4","v":0},{"$f":"CSZ35*'Makro i swap'!CSX4","v":0},{"$f":"CTA35*'Makro i swap'!CSY4","v":0},{"$f":"CTB35*'Makro i swap'!CSZ4","v":0},{"$f":"CTC35*'Makro i swap'!CTA4","v":0},{"$f":"CTD35*'Makro i swap'!CTB4","v":0},{"$f":"CTE35*'Makro i swap'!CTC4","v":0},{"$f":"CTF35*'Makro i swap'!CTD4","v":0},{"$f":"CTG35*'Makro i swap'!CTE4","v":0},{"$f":"CTH35*'Makro i swap'!CTF4","v":0},{"$f":"CTI35*'Makro i swap'!CTG4","v":0},{"$f":"CTJ35*'Makro i swap'!CTH4","v":0},{"$f":"CTK35*'Makro i swap'!CTI4","v":0},{"$f":"CTL35*'Makro i swap'!CTJ4","v":0},{"$f":"CTM35*'Makro i swap'!CTK4","v":0},{"$f":"CTN35*'Makro i swap'!CTL4","v":0},{"$f":"CTO35*'Makro i swap'!CTM4","v":0},{"$f":"CTP35*'Makro i swap'!CTN4","v":0},{"$f":"CTQ35*'Makro i swap'!CTO4","v":0},{"$f":"CTR35*'Makro i swap'!CTP4","v":0},{"$f":"CTS35*'Makro i swap'!CTQ4","v":0},{"$f":"CTT35*'Makro i swap'!CTR4","v":0},{"$f":"CTU35*'Makro i swap'!CTS4","v":0},{"$f":"CTV35*'Makro i swap'!CTT4","v":0},{"$f":"CTW35*'Makro i swap'!CTU4","v":0},{"$f":"CTX35*'Makro i swap'!CTV4","v":0},{"$f":"CTY35*'Makro i swap'!CTW4","v":0},{"$f":"CTZ35*'Makro i swap'!CTX4","v":0},{"$f":"CUA35*'Makro i swap'!CTY4","v":0},{"$f":"CUB35*'Makro i swap'!CTZ4","v":0},{"$f":"CUC35*'Makro i swap'!CUA4","v":0},{"$f":"CUD35*'Makro i swap'!CUB4","v":0},{"$f":"CUE35*'Makro i swap'!CUC4","v":0},{"$f":"CUF35*'Makro i swap'!CUD4","v":0},{"$f":"CUG35*'Makro i swap'!CUE4","v":0},{"$f":"CUH35*'Makro i swap'!CUF4","v":0},{"$f":"CUI35*'Makro i swap'!CUG4","v":0},{"$f":"CUJ35*'Makro i swap'!CUH4","v":0},{"$f":"CUK35*'Makro i swap'!CUI4","v":0},{"$f":"CUL35*'Makro i swap'!CUJ4","v":0},{"$f":"CUM35*'Makro i swap'!CUK4","v":0},{"$f":"CUN35*'Makro i swap'!CUL4","v":0},{"$f":"CUO35*'Makro i swap'!CUM4","v":0},{"$f":"CUP35*'Makro i swap'!CUN4","v":0},{"$f":"CUQ35*'Makro i swap'!CUO4","v":0},{"$f":"CUR35*'Makro i swap'!CUP4","v":0},{"$f":"CUS35*'Makro i swap'!CUQ4","v":0},{"$f":"CUT35*'Makro i swap'!CUR4","v":0},{"$f":"CUU35*'Makro i swap'!CUS4","v":0},{"$f":"CUV35*'Makro i swap'!CUT4","v":0},{"$f":"CUW35*'Makro i swap'!CUU4","v":0},{"$f":"CUX35*'Makro i swap'!CUV4","v":0},{"$f":"CUY35*'Makro i swap'!CUW4","v":0},{"$f":"CUZ35*'Makro i swap'!CUX4","v":0},{"$f":"CVA35*'Makro i swap'!CUY4","v":0},{"$f":"CVB35*'Makro i swap'!CUZ4","v":0},{"$f":"CVC35*'Makro i swap'!CVA4","v":0},{"$f":"CVD35*'Makro i swap'!CVB4","v":0},{"$f":"CVE35*'Makro i swap'!CVC4","v":0},{"$f":"CVF35*'Makro i swap'!CVD4","v":0},{"$f":"CVG35*'Makro i swap'!CVE4","v":0},{"$f":"CVH35*'Makro i swap'!CVF4","v":0},{"$f":"CVI35*'Makro i swap'!CVG4","v":0},{"$f":"CVJ35*'Makro i swap'!CVH4","v":0},{"$f":"CVK35*'Makro i swap'!CVI4","v":0},{"$f":"CVL35*'Makro i swap'!CVJ4","v":0},{"$f":"CVM35*'Makro i swap'!CVK4","v":0},{"$f":"CVN35*'Makro i swap'!CVL4","v":0},{"$f":"CVO35*'Makro i swap'!CVM4","v":0},{"$f":"CVP35*'Makro i swap'!CVN4","v":0},{"$f":"CVQ35*'Makro i swap'!CVO4","v":0},{"$f":"CVR35*'Makro i swap'!CVP4","v":0},{"$f":"CVS35*'Makro i swap'!CVQ4","v":0},{"$f":"CVT35*'Makro i swap'!CVR4","v":0},{"$f":"CVU35*'Makro i swap'!CVS4","v":0},{"$f":"CVV35*'Makro i swap'!CVT4","v":0},{"$f":"CVW35*'Makro i swap'!CVU4","v":0},{"$f":"CVX35*'Makro i swap'!CVV4","v":0},{"$f":"CVY35*'Makro i swap'!CVW4","v":0},{"$f":"CVZ35*'Makro i swap'!CVX4","v":0},{"$f":"CWA35*'Makro i swap'!CVY4","v":0},{"$f":"CWB35*'Makro i swap'!CVZ4","v":0},{"$f":"CWC35*'Makro i swap'!CWA4","v":0},{"$f":"CWD35*'Makro i swap'!CWB4","v":0},{"$f":"CWE35*'Makro i swap'!CWC4","v":0},{"$f":"CWF35*'Makro i swap'!CWD4","v":0},{"$f":"CWG35*'Makro i swap'!CWE4","v":0},{"$f":"CWH35*'Makro i swap'!CWF4","v":0},{"$f":"CWI35*'Makro i swap'!CWG4","v":0},{"$f":"CWJ35*'Makro i swap'!CWH4","v":0},{"$f":"CWK35*'Makro i swap'!CWI4","v":0},{"$f":"CWL35*'Makro i swap'!CWJ4","v":0},{"$f":"CWM35*'Makro i swap'!CWK4","v":0},{"$f":"CWN35*'Makro i swap'!CWL4","v":0},{"$f":"CWO35*'Makro i swap'!CWM4","v":0},{"$f":"CWP35*'Makro i swap'!CWN4","v":0},{"$f":"CWQ35*'Makro i swap'!CWO4","v":0},{"$f":"CWR35*'Makro i swap'!CWP4","v":0},{"$f":"CWS35*'Makro i swap'!CWQ4","v":0},{"$f":"CWT35*'Makro i swap'!CWR4","v":0},{"$f":"CWU35*'Makro i swap'!CWS4","v":0},{"$f":"CWV35*'Makro i swap'!CWT4","v":0},{"$f":"CWW35*'Makro i swap'!CWU4","v":0},{"$f":"CWX35*'Makro i swap'!CWV4","v":0},{"$f":"CWY35*'Makro i swap'!CWW4","v":0},{"$f":"CWZ35*'Makro i swap'!CWX4","v":0},{"$f":"CXA35*'Makro i swap'!CWY4","v":0},{"$f":"CXB35*'Makro i swap'!CWZ4","v":0},{"$f":"CXC35*'Makro i swap'!CXA4","v":0},{"$f":"CXD35*'Makro i swap'!CXB4","v":0},{"$f":"CXE35*'Makro i swap'!CXC4","v":0},{"$f":"CXF35*'Makro i swap'!CXD4","v":0},{"$f":"CXG35*'Makro i swap'!CXE4","v":0},{"$f":"CXH35*'Makro i swap'!CXF4","v":0},{"$f":"CXI35*'Makro i swap'!CXG4","v":0},{"$f":"CXJ35*'Makro i swap'!CXH4","v":0},{"$f":"CXK35*'Makro i swap'!CXI4","v":0},{"$f":"CXL35*'Makro i swap'!CXJ4","v":0},{"$f":"CXM35*'Makro i swap'!CXK4","v":0},{"$f":"CXN35*'Makro i swap'!CXL4","v":0},{"$f":"CXO35*'Makro i swap'!CXM4","v":0},{"$f":"CXP35*'Makro i swap'!CXN4","v":0},{"$f":"CXQ35*'Makro i swap'!CXO4","v":0},{"$f":"CXR35*'Makro i swap'!CXP4","v":0},{"$f":"CXS35*'Makro i swap'!CXQ4","v":0},{"$f":"CXT35*'Makro i swap'!CXR4","v":0},{"$f":"CXU35*'Makro i swap'!CXS4","v":0},{"$f":"CXV35*'Makro i swap'!CXT4","v":0},{"$f":"CXW35*'Makro i swap'!CXU4","v":0},{"$f":"CXX35*'Makro i swap'!CXV4","v":0},{"$f":"CXY35*'Makro i swap'!CXW4","v":0},{"$f":"CXZ35*'Makro i swap'!CXX4","v":0},{"$f":"CYA35*'Makro i swap'!CXY4","v":0},{"$f":"CYB35*'Makro i swap'!CXZ4","v":0},{"$f":"CYC35*'Makro i swap'!CYA4","v":0},{"$f":"CYD35*'Makro i swap'!CYB4","v":0},{"$f":"CYE35*'Makro i swap'!CYC4","v":0},{"$f":"CYF35*'Makro i swap'!CYD4","v":0},{"$f":"CYG35*'Makro i swap'!CYE4","v":0},{"$f":"CYH35*'Makro i swap'!CYF4","v":0},{"$f":"CYI35*'Makro i swap'!CYG4","v":0},{"$f":"CYJ35*'Makro i swap'!CYH4","v":0},{"$f":"CYK35*'Makro i swap'!CYI4","v":0},{"$f":"CYL35*'Makro i swap'!CYJ4","v":0},{"$f":"CYM35*'Makro i swap'!CYK4","v":0},{"$f":"CYN35*'Makro i swap'!CYL4","v":0},{"$f":"CYO35*'Makro i swap'!CYM4","v":0},{"$f":"CYP35*'Makro i swap'!CYN4","v":0},{"$f":"CYQ35*'Makro i swap'!CYO4","v":0},{"$f":"CYR35*'Makro i swap'!CYP4","v":0},{"$f":"CYS35*'Makro i swap'!CYQ4","v":0},{"$f":"CYT35*'Makro i swap'!CYR4","v":0},{"$f":"CYU35*'Makro i swap'!CYS4","v":0},{"$f":"CYV35*'Makro i swap'!CYT4","v":0},{"$f":"CYW35*'Makro i swap'!CYU4","v":0},{"$f":"CYX35*'Makro i swap'!CYV4","v":0},{"$f":"CYY35*'Makro i swap'!CYW4","v":0},{"$f":"CYZ35*'Makro i swap'!CYX4","v":0},{"$f":"CZA35*'Makro i swap'!CYY4","v":0},{"$f":"CZB35*'Makro i swap'!CYZ4","v":0},{"$f":"CZC35*'Makro i swap'!CZA4","v":0},{"$f":"CZD35*'Makro i swap'!CZB4","v":0},{"$f":"CZE35*'Makro i swap'!CZC4","v":0},{"$f":"CZF35*'Makro i swap'!CZD4","v":0},{"$f":"CZG35*'Makro i swap'!CZE4","v":0},{"$f":"CZH35*'Makro i swap'!CZF4","v":0},{"$f":"CZI35*'Makro i swap'!CZG4","v":0},{"$f":"CZJ35*'Makro i swap'!CZH4","v":0},{"$f":"CZK35*'Makro i swap'!CZI4","v":0},{"$f":"CZL35*'Makro i swap'!CZJ4","v":0},{"$f":"CZM35*'Makro i swap'!CZK4","v":0},{"$f":"CZN35*'Makro i swap'!CZL4","v":0},{"$f":"CZO35*'Makro i swap'!CZM4","v":0},{"$f":"CZP35*'Makro i swap'!CZN4","v":0},{"$f":"CZQ35*'Makro i swap'!CZO4","v":0},{"$f":"CZR35*'Makro i swap'!CZP4","v":0},{"$f":"CZS35*'Makro i swap'!CZQ4","v":0},{"$f":"CZT35*'Makro i swap'!CZR4","v":0},{"$f":"CZU35*'Makro i swap'!CZS4","v":0},{"$f":"CZV35*'Makro i swap'!CZT4","v":0},{"$f":"CZW35*'Makro i swap'!CZU4","v":0},{"$f":"CZX35*'Makro i swap'!CZV4","v":0},{"$f":"CZY35*'Makro i swap'!CZW4","v":0},{"$f":"CZZ35*'Makro i swap'!CZX4","v":0},{"$f":"DAA35*'Makro i swap'!CZY4","v":0},{"$f":"DAB35*'Makro i swap'!CZZ4","v":0},{"$f":"DAC35*'Makro i swap'!DAA4","v":0},{"$f":"DAD35*'Makro i swap'!DAB4","v":0},{"$f":"DAE35*'Makro i swap'!DAC4","v":0},{"$f":"DAF35*'Makro i swap'!DAD4","v":0},{"$f":"DAG35*'Makro i swap'!DAE4","v":0},{"$f":"DAH35*'Makro i swap'!DAF4","v":0},{"$f":"DAI35*'Makro i swap'!DAG4","v":0},{"$f":"DAJ35*'Makro i swap'!DAH4","v":0},{"$f":"DAK35*'Makro i swap'!DAI4","v":0},{"$f":"DAL35*'Makro i swap'!DAJ4","v":0},{"$f":"DAM35*'Makro i swap'!DAK4","v":0},{"$f":"DAN35*'Makro i swap'!DAL4","v":0},{"$f":"DAO35*'Makro i swap'!DAM4","v":0},{"$f":"DAP35*'Makro i swap'!DAN4","v":0},{"$f":"DAQ35*'Makro i swap'!DAO4","v":0},{"$f":"DAR35*'Makro i swap'!DAP4","v":0},{"$f":"DAS35*'Makro i swap'!DAQ4","v":0},{"$f":"DAT35*'Makro i swap'!DAR4","v":0},{"$f":"DAU35*'Makro i swap'!DAS4","v":0},{"$f":"DAV35*'Makro i swap'!DAT4","v":0},{"$f":"DAW35*'Makro i swap'!DAU4","v":0},{"$f":"DAX35*'Makro i swap'!DAV4","v":0},{"$f":"DAY35*'Makro i swap'!DAW4","v":0},{"$f":"DAZ35*'Makro i swap'!DAX4","v":0},{"$f":"DBA35*'Makro i swap'!DAY4","v":0},{"$f":"DBB35*'Makro i swap'!DAZ4","v":0},{"$f":"DBC35*'Makro i swap'!DBA4","v":0},{"$f":"DBD35*'Makro i swap'!DBB4","v":0},{"$f":"DBE35*'Makro i swap'!DBC4","v":0},{"$f":"DBF35*'Makro i swap'!DBD4","v":0},{"$f":"DBG35*'Makro i swap'!DBE4","v":0},{"$f":"DBH35*'Makro i swap'!DBF4","v":0},{"$f":"DBI35*'Makro i swap'!DBG4","v":0},{"$f":"DBJ35*'Makro i swap'!DBH4","v":0},{"$f":"DBK35*'Makro i swap'!DBI4","v":0},{"$f":"DBL35*'Makro i swap'!DBJ4","v":0},{"$f":"DBM35*'Makro i swap'!DBK4","v":0},{"$f":"DBN35*'Makro i swap'!DBL4","v":0},{"$f":"DBO35*'Makro i swap'!DBM4","v":0},{"$f":"DBP35*'Makro i swap'!DBN4","v":0},{"$f":"DBQ35*'Makro i swap'!DBO4","v":0},{"$f":"DBR35*'Makro i swap'!DBP4","v":0},{"$f":"DBS35*'Makro i swap'!DBQ4","v":0},{"$f":"DBT35*'Makro i swap'!DBR4","v":0},{"$f":"DBU35*'Makro i swap'!DBS4","v":0},{"$f":"DBV35*'Makro i swap'!DBT4","v":0},{"$f":"DBW35*'Makro i swap'!DBU4","v":0},{"$f":"DBX35*'Makro i swap'!DBV4","v":0},{"$f":"DBY35*'Makro i swap'!DBW4","v":0},{"$f":"DBZ35*'Makro i swap'!DBX4","v":0},{"$f":"DCA35*'Makro i swap'!DBY4","v":0},{"$f":"DCB35*'Makro i swap'!DBZ4","v":0},{"$f":"DCC35*'Makro i swap'!DCA4","v":0},{"$f":"DCD35*'Makro i swap'!DCB4","v":0},{"$f":"DCE35*'Makro i swap'!DCC4","v":0},{"$f":"DCF35*'Makro i swap'!DCD4","v":0},{"$f":"DCG35*'Makro i swap'!DCE4","v":0},{"$f":"DCH35*'Makro i swap'!DCF4","v":0},{"$f":"DCI35*'Makro i swap'!DCG4","v":0},{"$f":"DCJ35*'Makro i swap'!DCH4","v":0},{"$f":"DCK35*'Makro i swap'!DCI4","v":0},{"$f":"DCL35*'Makro i swap'!DCJ4","v":0},{"$f":"DCM35*'Makro i swap'!DCK4","v":0},{"$f":"DCN35*'Makro i swap'!DCL4","v":0},{"$f":"DCO35*'Makro i swap'!DCM4","v":0},{"$f":"DCP35*'Makro i swap'!DCN4","v":0},{"$f":"DCQ35*'Makro i swap'!DCO4","v":0},{"$f":"DCR35*'Makro i swap'!DCP4","v":0},{"$f":"DCS35*'Makro i swap'!DCQ4","v":0},{"$f":"DCT35*'Makro i swap'!DCR4","v":0},{"$f":"DCU35*'Makro i swap'!DCS4","v":0},{"$f":"DCV35*'Makro i swap'!DCT4","v":0},{"$f":"DCW35*'Makro i swap'!DCU4","v":0},{"$f":"DCX35*'Makro i swap'!DCV4","v":0},{"$f":"DCY35*'Makro i swap'!DCW4","v":0},{"$f":"DCZ35*'Makro i swap'!DCX4","v":0},{"$f":"DDA35*'Makro i swap'!DCY4","v":0},{"$f":"DDB35*'Makro i swap'!DCZ4","v":0},{"$f":"DDC35*'Makro i swap'!DDA4","v":0},{"$f":"DDD35*'Makro i swap'!DDB4","v":0},{"$f":"DDE35*'Makro i swap'!DDC4","v":0},{"$f":"DDF35*'Makro i swap'!DDD4","v":0},{"$f":"DDG35*'Makro i swap'!DDE4","v":0},{"$f":"DDH35*'Makro i swap'!DDF4","v":0},{"$f":"DDI35*'Makro i swap'!DDG4","v":0},{"$f":"DDJ35*'Makro i swap'!DDH4","v":0},{"$f":"DDK35*'Makro i swap'!DDI4","v":0},{"$f":"DDL35*'Makro i swap'!DDJ4","v":0},{"$f":"DDM35*'Makro i swap'!DDK4","v":0},{"$f":"DDN35*'Makro i swap'!DDL4","v":0},{"$f":"DDO35*'Makro i swap'!DDM4","v":0},{"$f":"DDP35*'Makro i swap'!DDN4","v":0},{"$f":"DDQ35*'Makro i swap'!DDO4","v":0},{"$f":"DDR35*'Makro i swap'!DDP4","v":0},{"$f":"DDS35*'Makro i swap'!DDQ4","v":0},{"$f":"DDT35*'Makro i swap'!DDR4","v":0},{"$f":"DDU35*'Makro i swap'!DDS4","v":0},{"$f":"DDV35*'Makro i swap'!DDT4","v":0},{"$f":"DDW35*'Makro i swap'!DDU4","v":0},{"$f":"DDX35*'Makro i swap'!DDV4","v":0},{"$f":"DDY35*'Makro i swap'!DDW4","v":0},{"$f":"DDZ35*'Makro i swap'!DDX4","v":0},{"$f":"DEA35*'Makro i swap'!DDY4","v":0},{"$f":"DEB35*'Makro i swap'!DDZ4","v":0},{"$f":"DEC35*'Makro i swap'!DEA4","v":0},{"$f":"DED35*'Makro i swap'!DEB4","v":0},{"$f":"DEE35*'Makro i swap'!DEC4","v":0},{"$f":"DEF35*'Makro i swap'!DED4","v":0},{"$f":"DEG35*'Makro i swap'!DEE4","v":0},{"$f":"DEH35*'Makro i swap'!DEF4","v":0},{"$f":"DEI35*'Makro i swap'!DEG4","v":0},{"$f":"DEJ35*'Makro i swap'!DEH4","v":0},{"$f":"DEK35*'Makro i swap'!DEI4","v":0},{"$f":"DEL35*'Makro i swap'!DEJ4","v":0},{"$f":"DEM35*'Makro i swap'!DEK4","v":0},{"$f":"DEN35*'Makro i swap'!DEL4","v":0},{"$f":"DEO35*'Makro i swap'!DEM4","v":0},{"$f":"DEP35*'Makro i swap'!DEN4","v":0},{"$f":"DEQ35*'Makro i swap'!DEO4","v":0},{"$f":"DER35*'Makro i swap'!DEP4","v":0},{"$f":"DES35*'Makro i swap'!DEQ4","v":0},{"$f":"DET35*'Makro i swap'!DER4","v":0},{"$f":"DEU35*'Makro i swap'!DES4","v":0},{"$f":"DEV35*'Makro i swap'!DET4","v":0},{"$f":"DEW35*'Makro i swap'!DEU4","v":0},{"$f":"DEX35*'Makro i swap'!DEV4","v":0},{"$f":"DEY35*'Makro i swap'!DEW4","v":0},{"$f":"DEZ35*'Makro i swap'!DEX4","v":0},{"$f":"DFA35*'Makro i swap'!DEY4","v":0},{"$f":"DFB35*'Makro i swap'!DEZ4","v":0},{"$f":"DFC35*'Makro i swap'!DFA4","v":0},{"$f":"DFD35*'Makro i swap'!DFB4","v":0},{"$f":"DFE35*'Makro i swap'!DFC4","v":0},{"$f":"DFF35*'Makro i swap'!DFD4","v":0},{"$f":"DFG35*'Makro i swap'!DFE4","v":0},{"$f":"DFH35*'Makro i swap'!DFF4","v":0},{"$f":"DFI35*'Makro i swap'!DFG4","v":0},{"$f":"DFJ35*'Makro i swap'!DFH4","v":0},{"$f":"DFK35*'Makro i swap'!DFI4","v":0},{"$f":"DFL35*'Makro i swap'!DFJ4","v":0},{"$f":"DFM35*'Makro i swap'!DFK4","v":0},{"$f":"DFN35*'Makro i swap'!DFL4","v":0},{"$f":"DFO35*'Makro i swap'!DFM4","v":0},{"$f":"DFP35*'Makro i swap'!DFN4","v":0},{"$f":"DFQ35*'Makro i swap'!DFO4","v":0},{"$f":"DFR35*'Makro i swap'!DFP4","v":0},{"$f":"DFS35*'Makro i swap'!DFQ4","v":0},{"$f":"DFT35*'Makro i swap'!DFR4","v":0},{"$f":"DFU35*'Makro i swap'!DFS4","v":0},{"$f":"DFV35*'Makro i swap'!DFT4","v":0},{"$f":"DFW35*'Makro i swap'!DFU4","v":0},{"$f":"DFX35*'Makro i swap'!DFV4","v":0},{"$f":"DFY35*'Makro i swap'!DFW4","v":0},{"$f":"DFZ35*'Makro i swap'!DFX4","v":0},{"$f":"DGA35*'Makro i swap'!DFY4","v":0},{"$f":"DGB35*'Makro i swap'!DFZ4","v":0},{"$f":"DGC35*'Makro i swap'!DGA4","v":0},{"$f":"DGD35*'Makro i swap'!DGB4","v":0},{"$f":"DGE35*'Makro i swap'!DGC4","v":0},{"$f":"DGF35*'Makro i swap'!DGD4","v":0},{"$f":"DGG35*'Makro i swap'!DGE4","v":0},{"$f":"DGH35*'Makro i swap'!DGF4","v":0},{"$f":"DGI35*'Makro i swap'!DGG4","v":0},{"$f":"DGJ35*'Makro i swap'!DGH4","v":0},{"$f":"DGK35*'Makro i swap'!DGI4","v":0},{"$f":"DGL35*'Makro i swap'!DGJ4","v":0},{"$f":"DGM35*'Makro i swap'!DGK4","v":0},{"$f":"DGN35*'Makro i swap'!DGL4","v":0},{"$f":"DGO35*'Makro i swap'!DGM4","v":0},{"$f":"DGP35*'Makro i swap'!DGN4","v":0},{"$f":"DGQ35*'Makro i swap'!DGO4","v":0},{"$f":"DGR35*'Makro i swap'!DGP4","v":0},{"$f":"DGS35*'Makro i swap'!DGQ4","v":0},{"$f":"DGT35*'Makro i swap'!DGR4","v":0},{"$f":"DGU35*'Makro i swap'!DGS4","v":0},{"$f":"DGV35*'Makro i swap'!DGT4","v":0},{"$f":"DGW35*'Makro i swap'!DGU4","v":0},{"$f":"DGX35*'Makro i swap'!DGV4","v":0},{"$f":"DGY35*'Makro i swap'!DGW4","v":0},{"$f":"DGZ35*'Makro i swap'!DGX4","v":0},{"$f":"DHA35*'Makro i swap'!DGY4","v":0},{"$f":"DHB35*'Makro i swap'!DGZ4","v":0},{"$f":"DHC35*'Makro i swap'!DHA4","v":0},{"$f":"DHD35*'Makro i swap'!DHB4","v":0},{"$f":"DHE35*'Makro i swap'!DHC4","v":0},{"$f":"DHF35*'Makro i swap'!DHD4","v":0},{"$f":"DHG35*'Makro i swap'!DHE4","v":0},{"$f":"DHH35*'Makro i swap'!DHF4","v":0},{"$f":"DHI35*'Makro i swap'!DHG4","v":0},{"$f":"DHJ35*'Makro i swap'!DHH4","v":0},{"$f":"DHK35*'Makro i swap'!DHI4","v":0},{"$f":"DHL35*'Makro i swap'!DHJ4","v":0},{"$f":"DHM35*'Makro i swap'!DHK4","v":0},{"$f":"DHN35*'Makro i swap'!DHL4","v":0},{"$f":"DHO35*'Makro i swap'!DHM4","v":0},{"$f":"DHP35*'Makro i swap'!DHN4","v":0},{"$f":"DHQ35*'Makro i swap'!DHO4","v":0},{"$f":"DHR35*'Makro i swap'!DHP4","v":0},{"$f":"DHS35*'Makro i swap'!DHQ4","v":0},{"$f":"DHT35*'Makro i swap'!DHR4","v":0},{"$f":"DHU35*'Makro i swap'!DHS4","v":0},{"$f":"DHV35*'Makro i swap'!DHT4","v":0},{"$f":"DHW35*'Makro i swap'!DHU4","v":0},{"$f":"DHX35*'Makro i swap'!DHV4","v":0},{"$f":"DHY35*'Makro i swap'!DHW4","v":0},{"$f":"DHZ35*'Makro i swap'!DHX4","v":0},{"$f":"DIA35*'Makro i swap'!DHY4","v":0},{"$f":"DIB35*'Makro i swap'!DHZ4","v":0},{"$f":"DIC35*'Makro i swap'!DIA4","v":0},{"$f":"DID35*'Makro i swap'!DIB4","v":0},{"$f":"DIE35*'Makro i swap'!DIC4","v":0},{"$f":"DIF35*'Makro i swap'!DID4","v":0},{"$f":"DIG35*'Makro i swap'!DIE4","v":0},{"$f":"DIH35*'Makro i swap'!DIF4","v":0},{"$f":"DII35*'Makro i swap'!DIG4","v":0},{"$f":"DIJ35*'Makro i swap'!DIH4","v":0},{"$f":"DIK35*'Makro i swap'!DII4","v":0},{"$f":"DIL35*'Makro i swap'!DIJ4","v":0},{"$f":"DIM35*'Makro i swap'!DIK4","v":0},{"$f":"DIN35*'Makro i swap'!DIL4","v":0},{"$f":"DIO35*'Makro i swap'!DIM4","v":0},{"$f":"DIP35*'Makro i swap'!DIN4","v":0},{"$f":"DIQ35*'Makro i swap'!DIO4","v":0},{"$f":"DIR35*'Makro i swap'!DIP4","v":0},{"$f":"DIS35*'Makro i swap'!DIQ4","v":0},{"$f":"DIT35*'Makro i swap'!DIR4","v":0},{"$f":"DIU35*'Makro i swap'!DIS4","v":0},{"$f":"DIV35*'Makro i swap'!DIT4","v":0},{"$f":"DIW35*'Makro i swap'!DIU4","v":0},{"$f":"DIX35*'Makro i swap'!DIV4","v":0},{"$f":"DIY35*'Makro i swap'!DIW4","v":0},{"$f":"DIZ35*'Makro i swap'!DIX4","v":0},{"$f":"DJA35*'Makro i swap'!DIY4","v":0},{"$f":"DJB35*'Makro i swap'!DIZ4","v":0},{"$f":"DJC35*'Makro i swap'!DJA4","v":0},{"$f":"DJD35*'Makro i swap'!DJB4","v":0},{"$f":"DJE35*'Makro i swap'!DJC4","v":0},{"$f":"DJF35*'Makro i swap'!DJD4","v":0},{"$f":"DJG35*'Makro i swap'!DJE4","v":0},{"$f":"DJH35*'Makro i swap'!DJF4","v":0},{"$f":"DJI35*'Makro i swap'!DJG4","v":0},{"$f":"DJJ35*'Makro i swap'!DJH4","v":0},{"$f":"DJK35*'Makro i swap'!DJI4","v":0},{"$f":"DJL35*'Makro i swap'!DJJ4","v":0},{"$f":"DJM35*'Makro i swap'!DJK4","v":0},{"$f":"DJN35*'Makro i swap'!DJL4","v":0},{"$f":"DJO35*'Makro i swap'!DJM4","v":0},{"$f":"DJP35*'Makro i swap'!DJN4","v":0},{"$f":"DJQ35*'Makro i swap'!DJO4","v":0},{"$f":"DJR35*'Makro i swap'!DJP4","v":0},{"$f":"DJS35*'Makro i swap'!DJQ4","v":0},{"$f":"DJT35*'Makro i swap'!DJR4","v":0},{"$f":"DJU35*'Makro i swap'!DJS4","v":0},{"$f":"DJV35*'Makro i swap'!DJT4","v":0},{"$f":"DJW35*'Makro i swap'!DJU4","v":0},{"$f":"DJX35*'Makro i swap'!DJV4","v":0},{"$f":"DJY35*'Makro i swap'!DJW4","v":0},{"$f":"DJZ35*'Makro i swap'!DJX4","v":0},{"$f":"DKA35*'Makro i swap'!DJY4","v":0},{"$f":"DKB35*'Makro i swap'!DJZ4","v":0},{"$f":"DKC35*'Makro i swap'!DKA4","v":0},{"$f":"DKD35*'Makro i swap'!DKB4","v":0},{"$f":"DKE35*'Makro i swap'!DKC4","v":0},{"$f":"DKF35*'Makro i swap'!DKD4","v":0},{"$f":"DKG35*'Makro i swap'!DKE4","v":0},{"$f":"DKH35*'Makro i swap'!DKF4","v":0},{"$f":"DKI35*'Makro i swap'!DKG4","v":0},{"$f":"DKJ35*'Makro i swap'!DKH4","v":0},{"$f":"DKK35*'Makro i swap'!DKI4","v":0},{"$f":"DKL35*'Makro i swap'!DKJ4","v":0},{"$f":"DKM35*'Makro i swap'!DKK4","v":0},{"$f":"DKN35*'Makro i swap'!DKL4","v":0},{"$f":"DKO35*'Makro i swap'!DKM4","v":0},{"$f":"DKP35*'Makro i swap'!DKN4","v":0},{"$f":"DKQ35*'Makro i swap'!DKO4","v":0},{"$f":"DKR35*'Makro i swap'!DKP4","v":0},{"$f":"DKS35*'Makro i swap'!DKQ4","v":0},{"$f":"DKT35*'Makro i swap'!DKR4","v":0},{"$f":"DKU35*'Makro i swap'!DKS4","v":0},{"$f":"DKV35*'Makro i swap'!DKT4","v":0},{"$f":"DKW35*'Makro i swap'!DKU4","v":0},{"$f":"DKX35*'Makro i swap'!DKV4","v":0},{"$f":"DKY35*'Makro i swap'!DKW4","v":0},{"$f":"DKZ35*'Makro i swap'!DKX4","v":0},{"$f":"DLA35*'Makro i swap'!DKY4","v":0},{"$f":"DLB35*'Makro i swap'!DKZ4","v":0},{"$f":"DLC35*'Makro i swap'!DLA4","v":0},{"$f":"DLD35*'Makro i swap'!DLB4","v":0},{"$f":"DLE35*'Makro i swap'!DLC4","v":0},{"$f":"DLF35*'Makro i swap'!DLD4","v":0},{"$f":"DLG35*'Makro i swap'!DLE4","v":0},{"$f":"DLH35*'Makro i swap'!DLF4","v":0},{"$f":"DLI35*'Makro i swap'!DLG4","v":0},{"$f":"DLJ35*'Makro i swap'!DLH4","v":0},{"$f":"DLK35*'Makro i swap'!DLI4","v":0},{"$f":"DLL35*'Makro i swap'!DLJ4","v":0},{"$f":"DLM35*'Makro i swap'!DLK4","v":0},{"$f":"DLN35*'Makro i swap'!DLL4","v":0},{"$f":"DLO35*'Makro i swap'!DLM4","v":0},{"$f":"DLP35*'Makro i swap'!DLN4","v":0},{"$f":"DLQ35*'Makro i swap'!DLO4","v":0},{"$f":"DLR35*'Makro i swap'!DLP4","v":0},{"$f":"DLS35*'Makro i swap'!DLQ4","v":0},{"$f":"DLT35*'Makro i swap'!DLR4","v":0},{"$f":"DLU35*'Makro i swap'!DLS4","v":0},{"$f":"DLV35*'Makro i swap'!DLT4","v":0},{"$f":"DLW35*'Makro i swap'!DLU4","v":0},{"$f":"DLX35*'Makro i swap'!DLV4","v":0},{"$f":"DLY35*'Makro i swap'!DLW4","v":0},{"$f":"DLZ35*'Makro i swap'!DLX4","v":0},{"$f":"DMA35*'Makro i swap'!DLY4","v":0},{"$f":"DMB35*'Makro i swap'!DLZ4","v":0},{"$f":"DMC35*'Makro i swap'!DMA4","v":0},{"$f":"DMD35*'Makro i swap'!DMB4","v":0},{"$f":"DME35*'Makro i swap'!DMC4","v":0},{"$f":"DMF35*'Makro i swap'!DMD4","v":0},{"$f":"DMG35*'Makro i swap'!DME4","v":0},{"$f":"DMH35*'Makro i swap'!DMF4","v":0},{"$f":"DMI35*'Makro i swap'!DMG4","v":0},{"$f":"DMJ35*'Makro i swap'!DMH4","v":0},{"$f":"DMK35*'Makro i swap'!DMI4","v":0},{"$f":"DML35*'Makro i swap'!DMJ4","v":0},{"$f":"DMM35*'Makro i swap'!DMK4","v":0},{"$f":"DMN35*'Makro i swap'!DML4","v":0},{"$f":"DMO35*'Makro i swap'!DMM4","v":0},{"$f":"DMP35*'Makro i swap'!DMN4","v":0},{"$f":"DMQ35*'Makro i swap'!DMO4","v":0},{"$f":"DMR35*'Makro i swap'!DMP4","v":0},{"$f":"DMS35*'Makro i swap'!DMQ4","v":0},{"$f":"DMT35*'Makro i swap'!DMR4","v":0},{"$f":"DMU35*'Makro i swap'!DMS4","v":0},{"$f":"DMV35*'Makro i swap'!DMT4","v":0},{"$f":"DMW35*'Makro i swap'!DMU4","v":0},{"$f":"DMX35*'Makro i swap'!DMV4","v":0},{"$f":"DMY35*'Makro i swap'!DMW4","v":0},{"$f":"DMZ35*'Makro i swap'!DMX4","v":0},{"$f":"DNA35*'Makro i swap'!DMY4","v":0},{"$f":"DNB35*'Makro i swap'!DMZ4","v":0},{"$f":"DNC35*'Makro i swap'!DNA4","v":0},{"$f":"DND35*'Makro i swap'!DNB4","v":0},{"$f":"DNE35*'Makro i swap'!DNC4","v":0},{"$f":"DNF35*'Makro i swap'!DND4","v":0},{"$f":"DNG35*'Makro i swap'!DNE4","v":0},{"$f":"DNH35*'Makro i swap'!DNF4","v":0},{"$f":"DNI35*'Makro i swap'!DNG4","v":0},{"$f":"DNJ35*'Makro i swap'!DNH4","v":0},{"$f":"DNK35*'Makro i swap'!DNI4","v":0},{"$f":"DNL35*'Makro i swap'!DNJ4","v":0},{"$f":"DNM35*'Makro i swap'!DNK4","v":0},{"$f":"DNN35*'Makro i swap'!DNL4","v":0},{"$f":"DNO35*'Makro i swap'!DNM4","v":0},{"$f":"DNP35*'Makro i swap'!DNN4","v":0},{"$f":"DNQ35*'Makro i swap'!DNO4","v":0},{"$f":"DNR35*'Makro i swap'!DNP4","v":0},{"$f":"DNS35*'Makro i swap'!DNQ4","v":0},{"$f":"DNT35*'Makro i swap'!DNR4","v":0},{"$f":"DNU35*'Makro i swap'!DNS4","v":0},{"$f":"DNV35*'Makro i swap'!DNT4","v":0},{"$f":"DNW35*'Makro i swap'!DNU4","v":0},{"$f":"DNX35*'Makro i swap'!DNV4","v":0},{"$f":"DNY35*'Makro i swap'!DNW4","v":0},{"$f":"DNZ35*'Makro i swap'!DNX4","v":0},{"$f":"DOA35*'Makro i swap'!DNY4","v":0},{"$f":"DOB35*'Makro i swap'!DNZ4","v":0},{"$f":"DOC35*'Makro i swap'!DOA4","v":0},{"$f":"DOD35*'Makro i swap'!DOB4","v":0},{"$f":"DOE35*'Makro i swap'!DOC4","v":0},{"$f":"DOF35*'Makro i swap'!DOD4","v":0},{"$f":"DOG35*'Makro i swap'!DOE4","v":0},{"$f":"DOH35*'Makro i swap'!DOF4","v":0},{"$f":"DOI35*'Makro i swap'!DOG4","v":0},{"$f":"DOJ35*'Makro i swap'!DOH4","v":0},{"$f":"DOK35*'Makro i swap'!DOI4","v":0},{"$f":"DOL35*'Makro i swap'!DOJ4","v":0},{"$f":"DOM35*'Makro i swap'!DOK4","v":0},{"$f":"DON35*'Makro i swap'!DOL4","v":0},{"$f":"DOO35*'Makro i swap'!DOM4","v":0},{"$f":"DOP35*'Makro i swap'!DON4","v":0},{"$f":"DOQ35*'Makro i swap'!DOO4","v":0},{"$f":"DOR35*'Makro i swap'!DOP4","v":0},{"$f":"DOS35*'Makro i swap'!DOQ4","v":0},{"$f":"DOT35*'Makro i swap'!DOR4","v":0},{"$f":"DOU35*'Makro i swap'!DOS4","v":0},{"$f":"DOV35*'Makro i swap'!DOT4","v":0},{"$f":"DOW35*'Makro i swap'!DOU4","v":0},{"$f":"DOX35*'Makro i swap'!DOV4","v":0},{"$f":"DOY35*'Makro i swap'!DOW4","v":0},{"$f":"DOZ35*'Makro i swap'!DOX4","v":0},{"$f":"DPA35*'Makro i swap'!DOY4","v":0},{"$f":"DPB35*'Makro i swap'!DOZ4","v":0},{"$f":"DPC35*'Makro i swap'!DPA4","v":0},{"$f":"DPD35*'Makro i swap'!DPB4","v":0},{"$f":"DPE35*'Makro i swap'!DPC4","v":0},{"$f":"DPF35*'Makro i swap'!DPD4","v":0},{"$f":"DPG35*'Makro i swap'!DPE4","v":0},{"$f":"DPH35*'Makro i swap'!DPF4","v":0},{"$f":"DPI35*'Makro i swap'!DPG4","v":0},{"$f":"DPJ35*'Makro i swap'!DPH4","v":0},{"$f":"DPK35*'Makro i swap'!DPI4","v":0},{"$f":"DPL35*'Makro i swap'!DPJ4","v":0},{"$f":"DPM35*'Makro i swap'!DPK4","v":0},{"$f":"DPN35*'Makro i swap'!DPL4","v":0},{"$f":"DPO35*'Makro i swap'!DPM4","v":0},{"$f":"DPP35*'Makro i swap'!DPN4","v":0},{"$f":"DPQ35*'Makro i swap'!DPO4","v":0},{"$f":"DPR35*'Makro i swap'!DPP4","v":0},{"$f":"DPS35*'Makro i swap'!DPQ4","v":0},{"$f":"DPT35*'Makro i swap'!DPR4","v":0},{"$f":"DPU35*'Makro i swap'!DPS4","v":0},{"$f":"DPV35*'Makro i swap'!DPT4","v":0},{"$f":"DPW35*'Makro i swap'!DPU4","v":0},{"$f":"DPX35*'Makro i swap'!DPV4","v":0},{"$f":"DPY35*'Makro i swap'!DPW4","v":0},{"$f":"DPZ35*'Makro i swap'!DPX4","v":0},{"$f":"DQA35*'Makro i swap'!DPY4","v":0},{"$f":"DQB35*'Makro i swap'!DPZ4","v":0},{"$f":"DQC35*'Makro i swap'!DQA4","v":0},{"$f":"DQD35*'Makro i swap'!DQB4","v":0},{"$f":"DQE35*'Makro i swap'!DQC4","v":0},{"$f":"DQF35*'Makro i swap'!DQD4","v":0},{"$f":"DQG35*'Makro i swap'!DQE4","v":0},{"$f":"DQH35*'Makro i swap'!DQF4","v":0},{"$f":"DQI35*'Makro i swap'!DQG4","v":0},{"$f":"DQJ35*'Makro i swap'!DQH4","v":0},{"$f":"DQK35*'Makro i swap'!DQI4","v":0},{"$f":"DQL35*'Makro i swap'!DQJ4","v":0},{"$f":"DQM35*'Makro i swap'!DQK4","v":0},{"$f":"DQN35*'Makro i swap'!DQL4","v":0},{"$f":"DQO35*'Makro i swap'!DQM4","v":0},{"$f":"DQP35*'Makro i swap'!DQN4","v":0},{"$f":"DQQ35*'Makro i swap'!DQO4","v":0},{"$f":"DQR35*'Makro i swap'!DQP4","v":0},{"$f":"DQS35*'Makro i swap'!DQQ4","v":0},{"$f":"DQT35*'Makro i swap'!DQR4","v":0},{"$f":"DQU35*'Makro i swap'!DQS4","v":0},{"$f":"DQV35*'Makro i swap'!DQT4","v":0},{"$f":"DQW35*'Makro i swap'!DQU4","v":0},{"$f":"DQX35*'Makro i swap'!DQV4","v":0},{"$f":"DQY35*'Makro i swap'!DQW4","v":0},{"$f":"DQZ35*'Makro i swap'!DQX4","v":0},{"$f":"DRA35*'Makro i swap'!DQY4","v":0},{"$f":"DRB35*'Makro i swap'!DQZ4","v":0},{"$f":"DRC35*'Makro i swap'!DRA4","v":0},{"$f":"DRD35*'Makro i swap'!DRB4","v":0},{"$f":"DRE35*'Makro i swap'!DRC4","v":0},{"$f":"DRF35*'Makro i swap'!DRD4","v":0},{"$f":"DRG35*'Makro i swap'!DRE4","v":0},{"$f":"DRH35*'Makro i swap'!DRF4","v":0},{"$f":"DRI35*'Makro i swap'!DRG4","v":0},{"$f":"DRJ35*'Makro i swap'!DRH4","v":0},{"$f":"DRK35*'Makro i swap'!DRI4","v":0},{"$f":"DRL35*'Makro i swap'!DRJ4","v":0},{"$f":"DRM35*'Makro i swap'!DRK4","v":0},{"$f":"DRN35*'Makro i swap'!DRL4","v":0},{"$f":"DRO35*'Makro i swap'!DRM4","v":0},{"$f":"DRP35*'Makro i swap'!DRN4","v":0},{"$f":"DRQ35*'Makro i swap'!DRO4","v":0},{"$f":"DRR35*'Makro i swap'!DRP4","v":0},{"$f":"DRS35*'Makro i swap'!DRQ4","v":0},{"$f":"DRT35*'Makro i swap'!DRR4","v":0},{"$f":"DRU35*'Makro i swap'!DRS4","v":0},{"$f":"DRV35*'Makro i swap'!DRT4","v":0},{"$f":"DRW35*'Makro i swap'!DRU4","v":0},{"$f":"DRX35*'Makro i swap'!DRV4","v":0},{"$f":"DRY35*'Makro i swap'!DRW4","v":0},{"$f":"DRZ35*'Makro i swap'!DRX4","v":0},{"$f":"DSA35*'Makro i swap'!DRY4","v":0},{"$f":"DSB35*'Makro i swap'!DRZ4","v":0},{"$f":"DSC35*'Makro i swap'!DSA4","v":0},{"$f":"DSD35*'Makro i swap'!DSB4","v":0},{"$f":"DSE35*'Makro i swap'!DSC4","v":0},{"$f":"DSF35*'Makro i swap'!DSD4","v":0},{"$f":"DSG35*'Makro i swap'!DSE4","v":0},{"$f":"DSH35*'Makro i swap'!DSF4","v":0},{"$f":"DSI35*'Makro i swap'!DSG4","v":0},{"$f":"DSJ35*'Makro i swap'!DSH4","v":0},{"$f":"DSK35*'Makro i swap'!DSI4","v":0},{"$f":"DSL35*'Makro i swap'!DSJ4","v":0},{"$f":"DSM35*'Makro i swap'!DSK4","v":0},{"$f":"DSN35*'Makro i swap'!DSL4","v":0},{"$f":"DSO35*'Makro i swap'!DSM4","v":0},{"$f":"DSP35*'Makro i swap'!DSN4","v":0},{"$f":"DSQ35*'Makro i swap'!DSO4","v":0},{"$f":"DSR35*'Makro i swap'!DSP4","v":0},{"$f":"DSS35*'Makro i swap'!DSQ4","v":0},{"$f":"DST35*'Makro i swap'!DSR4","v":0},{"$f":"DSU35*'Makro i swap'!DSS4","v":0},{"$f":"DSV35*'Makro i swap'!DST4","v":0},{"$f":"DSW35*'Makro i swap'!DSU4","v":0},{"$f":"DSX35*'Makro i swap'!DSV4","v":0},{"$f":"DSY35*'Makro i swap'!DSW4","v":0},{"$f":"DSZ35*'Makro i swap'!DSX4","v":0},{"$f":"DTA35*'Makro i swap'!DSY4","v":0},{"$f":"DTB35*'Makro i swap'!DSZ4","v":0},{"$f":"DTC35*'Makro i swap'!DTA4","v":0},{"$f":"DTD35*'Makro i swap'!DTB4","v":0},{"$f":"DTE35*'Makro i swap'!DTC4","v":0},{"$f":"DTF35*'Makro i swap'!DTD4","v":0},{"$f":"DTG35*'Makro i swap'!DTE4","v":0},{"$f":"DTH35*'Makro i swap'!DTF4","v":0},{"$f":"DTI35*'Makro i swap'!DTG4","v":0},{"$f":"DTJ35*'Makro i swap'!DTH4","v":0},{"$f":"DTK35*'Makro i swap'!DTI4","v":0},{"$f":"DTL35*'Makro i swap'!DTJ4","v":0},{"$f":"DTM35*'Makro i swap'!DTK4","v":0},{"$f":"DTN35*'Makro i swap'!DTL4","v":0},{"$f":"DTO35*'Makro i swap'!DTM4","v":0},{"$f":"DTP35*'Makro i swap'!DTN4","v":0},{"$f":"DTQ35*'Makro i swap'!DTO4","v":0},{"$f":"DTR35*'Makro i swap'!DTP4","v":0},{"$f":"DTS35*'Makro i swap'!DTQ4","v":0},{"$f":"DTT35*'Makro i swap'!DTR4","v":0},{"$f":"DTU35*'Makro i swap'!DTS4","v":0},{"$f":"DTV35*'Makro i swap'!DTT4","v":0},{"$f":"DTW35*'Makro i swap'!DTU4","v":0},{"$f":"DTX35*'Makro i swap'!DTV4","v":0},{"$f":"DTY35*'Makro i swap'!DTW4","v":0},{"$f":"DTZ35*'Makro i swap'!DTX4","v":0},{"$f":"DUA35*'Makro i swap'!DTY4","v":0},{"$f":"DUB35*'Makro i swap'!DTZ4","v":0},{"$f":"DUC35*'Makro i swap'!DUA4","v":0},{"$f":"DUD35*'Makro i swap'!DUB4","v":0},{"$f":"DUE35*'Makro i swap'!DUC4","v":0},{"$f":"DUF35*'Makro i swap'!DUD4","v":0},{"$f":"DUG35*'Makro i swap'!DUE4","v":0},{"$f":"DUH35*'Makro i swap'!DUF4","v":0},{"$f":"DUI35*'Makro i swap'!DUG4","v":0},{"$f":"DUJ35*'Makro i swap'!DUH4","v":0},{"$f":"DUK35*'Makro i swap'!DUI4","v":0},{"$f":"DUL35*'Makro i swap'!DUJ4","v":0},{"$f":"DUM35*'Makro i swap'!DUK4","v":0},{"$f":"DUN35*'Makro i swap'!DUL4","v":0},{"$f":"DUO35*'Makro i swap'!DUM4","v":0},{"$f":"DUP35*'Makro i swap'!DUN4","v":0},{"$f":"DUQ35*'Makro i swap'!DUO4","v":0},{"$f":"DUR35*'Makro i swap'!DUP4","v":0},{"$f":"DUS35*'Makro i swap'!DUQ4","v":0},{"$f":"DUT35*'Makro i swap'!DUR4","v":0},{"$f":"DUU35*'Makro i swap'!DUS4","v":0},{"$f":"DUV35*'Makro i swap'!DUT4","v":0},{"$f":"DUW35*'Makro i swap'!DUU4","v":0},{"$f":"DUX35*'Makro i swap'!DUV4","v":0},{"$f":"DUY35*'Makro i swap'!DUW4","v":0},{"$f":"DUZ35*'Makro i swap'!DUX4","v":0},{"$f":"DVA35*'Makro i swap'!DUY4","v":0},{"$f":"DVB35*'Makro i swap'!DUZ4","v":0},{"$f":"DVC35*'Makro i swap'!DVA4","v":0},{"$f":"DVD35*'Makro i swap'!DVB4","v":0},{"$f":"DVE35*'Makro i swap'!DVC4","v":0},{"$f":"DVF35*'Makro i swap'!DVD4","v":0},{"$f":"DVG35*'Makro i swap'!DVE4","v":0},{"$f":"DVH35*'Makro i swap'!DVF4","v":0},{"$f":"DVI35*'Makro i swap'!DVG4","v":0},{"$f":"DVJ35*'Makro i swap'!DVH4","v":0},{"$f":"DVK35*'Makro i swap'!DVI4","v":0},{"$f":"DVL35*'Makro i swap'!DVJ4","v":0},{"$f":"DVM35*'Makro i swap'!DVK4","v":0},{"$f":"DVN35*'Makro i swap'!DVL4","v":0},{"$f":"DVO35*'Makro i swap'!DVM4","v":0},{"$f":"DVP35*'Makro i swap'!DVN4","v":0},{"$f":"DVQ35*'Makro i swap'!DVO4","v":0},{"$f":"DVR35*'Makro i swap'!DVP4","v":0},{"$f":"DVS35*'Makro i swap'!DVQ4","v":0},{"$f":"DVT35*'Makro i swap'!DVR4","v":0},{"$f":"DVU35*'Makro i swap'!DVS4","v":0},{"$f":"DVV35*'Makro i swap'!DVT4","v":0},{"$f":"DVW35*'Makro i swap'!DVU4","v":0},{"$f":"DVX35*'Makro i swap'!DVV4","v":0},{"$f":"DVY35*'Makro i swap'!DVW4","v":0},{"$f":"DVZ35*'Makro i swap'!DVX4","v":0},{"$f":"DWA35*'Makro i swap'!DVY4","v":0},{"$f":"DWB35*'Makro i swap'!DVZ4","v":0},{"$f":"DWC35*'Makro i swap'!DWA4","v":0},{"$f":"DWD35*'Makro i swap'!DWB4","v":0},{"$f":"DWE35*'Makro i swap'!DWC4","v":0},{"$f":"DWF35*'Makro i swap'!DWD4","v":0},{"$f":"DWG35*'Makro i swap'!DWE4","v":0},{"$f":"DWH35*'Makro i swap'!DWF4","v":0},{"$f":"DWI35*'Makro i swap'!DWG4","v":0},{"$f":"DWJ35*'Makro i swap'!DWH4","v":0},{"$f":"DWK35*'Makro i swap'!DWI4","v":0},{"$f":"DWL35*'Makro i swap'!DWJ4","v":0},{"$f":"DWM35*'Makro i swap'!DWK4","v":0},{"$f":"DWN35*'Makro i swap'!DWL4","v":0},{"$f":"DWO35*'Makro i swap'!DWM4","v":0},{"$f":"DWP35*'Makro i swap'!DWN4","v":0},{"$f":"DWQ35*'Makro i swap'!DWO4","v":0},{"$f":"DWR35*'Makro i swap'!DWP4","v":0},{"$f":"DWS35*'Makro i swap'!DWQ4","v":0},{"$f":"DWT35*'Makro i swap'!DWR4","v":0},{"$f":"DWU35*'Makro i swap'!DWS4","v":0},{"$f":"DWV35*'Makro i swap'!DWT4","v":0},{"$f":"DWW35*'Makro i swap'!DWU4","v":0},{"$f":"DWX35*'Makro i swap'!DWV4","v":0},{"$f":"DWY35*'Makro i swap'!DWW4","v":0},{"$f":"DWZ35*'Makro i swap'!DWX4","v":0},{"$f":"DXA35*'Makro i swap'!DWY4","v":0},{"$f":"DXB35*'Makro i swap'!DWZ4","v":0},{"$f":"DXC35*'Makro i swap'!DXA4","v":0},{"$f":"DXD35*'Makro i swap'!DXB4","v":0},{"$f":"DXE35*'Makro i swap'!DXC4","v":0},{"$f":"DXF35*'Makro i swap'!DXD4","v":0},{"$f":"DXG35*'Makro i swap'!DXE4","v":0},{"$f":"DXH35*'Makro i swap'!DXF4","v":0},{"$f":"DXI35*'Makro i swap'!DXG4","v":0},{"$f":"DXJ35*'Makro i swap'!DXH4","v":0},{"$f":"DXK35*'Makro i swap'!DXI4","v":0},{"$f":"DXL35*'Makro i swap'!DXJ4","v":0},{"$f":"DXM35*'Makro i swap'!DXK4","v":0},{"$f":"DXN35*'Makro i swap'!DXL4","v":0},{"$f":"DXO35*'Makro i swap'!DXM4","v":0},{"$f":"DXP35*'Makro i swap'!DXN4","v":0},{"$f":"DXQ35*'Makro i swap'!DXO4","v":0},{"$f":"DXR35*'Makro i swap'!DXP4","v":0},{"$f":"DXS35*'Makro i swap'!DXQ4","v":0},{"$f":"DXT35*'Makro i swap'!DXR4","v":0},{"$f":"DXU35*'Makro i swap'!DXS4","v":0},{"$f":"DXV35*'Makro i swap'!DXT4","v":0},{"$f":"DXW35*'Makro i swap'!DXU4","v":0},{"$f":"DXX35*'Makro i swap'!DXV4","v":0},{"$f":"DXY35*'Makro i swap'!DXW4","v":0},{"$f":"DXZ35*'Makro i swap'!DXX4","v":0},{"$f":"DYA35*'Makro i swap'!DXY4","v":0},{"$f":"DYB35*'Makro i swap'!DXZ4","v":0},{"$f":"DYC35*'Makro i swap'!DYA4","v":0},{"$f":"DYD35*'Makro i swap'!DYB4","v":0},{"$f":"DYE35*'Makro i swap'!DYC4","v":0},{"$f":"DYF35*'Makro i swap'!DYD4","v":0},{"$f":"DYG35*'Makro i swap'!DYE4","v":0},{"$f":"DYH35*'Makro i swap'!DYF4","v":0},{"$f":"DYI35*'Makro i swap'!DYG4","v":0},{"$f":"DYJ35*'Makro i swap'!DYH4","v":0},{"$f":"DYK35*'Makro i swap'!DYI4","v":0},{"$f":"DYL35*'Makro i swap'!DYJ4","v":0},{"$f":"DYM35*'Makro i swap'!DYK4","v":0},{"$f":"DYN35*'Makro i swap'!DYL4","v":0},{"$f":"DYO35*'Makro i swap'!DYM4","v":0},{"$f":"DYP35*'Makro i swap'!DYN4","v":0},{"$f":"DYQ35*'Makro i swap'!DYO4","v":0},{"$f":"DYR35*'Makro i swap'!DYP4","v":0},{"$f":"DYS35*'Makro i swap'!DYQ4","v":0},{"$f":"DYT35*'Makro i swap'!DYR4","v":0},{"$f":"DYU35*'Makro i swap'!DYS4","v":0},{"$f":"DYV35*'Makro i swap'!DYT4","v":0},{"$f":"DYW35*'Makro i swap'!DYU4","v":0},{"$f":"DYX35*'Makro i swap'!DYV4","v":0},{"$f":"DYY35*'Makro i swap'!DYW4","v":0},{"$f":"DYZ35*'Makro i swap'!DYX4","v":0},{"$f":"DZA35*'Makro i swap'!DYY4","v":0},{"$f":"DZB35*'Makro i swap'!DYZ4","v":0},{"$f":"DZC35*'Makro i swap'!DZA4","v":0},{"$f":"DZD35*'Makro i swap'!DZB4","v":0},{"$f":"DZE35*'Makro i swap'!DZC4","v":0},{"$f":"DZF35*'Makro i swap'!DZD4","v":0},{"$f":"DZG35*'Makro i swap'!DZE4","v":0},{"$f":"DZH35*'Makro i swap'!DZF4","v":0},{"$f":"DZI35*'Makro i swap'!DZG4","v":0},{"$f":"DZJ35*'Makro i swap'!DZH4","v":0},{"$f":"DZK35*'Makro i swap'!DZI4","v":0},{"$f":"DZL35*'Makro i swap'!DZJ4","v":0},{"$f":"DZM35*'Makro i swap'!DZK4","v":0},{"$f":"DZN35*'Makro i swap'!DZL4","v":0},{"$f":"DZO35*'Makro i swap'!DZM4","v":0},{"$f":"DZP35*'Makro i swap'!DZN4","v":0},{"$f":"DZQ35*'Makro i swap'!DZO4","v":0},{"$f":"DZR35*'Makro i swap'!DZP4","v":0},{"$f":"DZS35*'Makro i swap'!DZQ4","v":0},{"$f":"DZT35*'Makro i swap'!DZR4","v":0},{"$f":"DZU35*'Makro i swap'!DZS4","v":0},{"$f":"DZV35*'Makro i swap'!DZT4","v":0},{"$f":"DZW35*'Makro i swap'!DZU4","v":0},{"$f":"DZX35*'Makro i swap'!DZV4","v":0},{"$f":"DZY35*'Makro i swap'!DZW4","v":0},{"$f":"DZZ35*'Makro i swap'!DZX4","v":0},{"$f":"EAA35*'Makro i swap'!DZY4","v":0},{"$f":"EAB35*'Makro i swap'!DZZ4","v":0},{"$f":"EAC35*'Makro i swap'!EAA4","v":0},{"$f":"EAD35*'Makro i swap'!EAB4","v":0},{"$f":"EAE35*'Makro i swap'!EAC4","v":0},{"$f":"EAF35*'Makro i swap'!EAD4","v":0},{"$f":"EAG35*'Makro i swap'!EAE4","v":0},{"$f":"EAH35*'Makro i swap'!EAF4","v":0},{"$f":"EAI35*'Makro i swap'!EAG4","v":0},{"$f":"EAJ35*'Makro i swap'!EAH4","v":0},{"$f":"EAK35*'Makro i swap'!EAI4","v":0},{"$f":"EAL35*'Makro i swap'!EAJ4","v":0},{"$f":"EAM35*'Makro i swap'!EAK4","v":0},{"$f":"EAN35*'Makro i swap'!EAL4","v":0},{"$f":"EAO35*'Makro i swap'!EAM4","v":0},{"$f":"EAP35*'Makro i swap'!EAN4","v":0},{"$f":"EAQ35*'Makro i swap'!EAO4","v":0},{"$f":"EAR35*'Makro i swap'!EAP4","v":0},{"$f":"EAS35*'Makro i swap'!EAQ4","v":0},{"$f":"EAT35*'Makro i swap'!EAR4","v":0},{"$f":"EAU35*'Makro i swap'!EAS4","v":0},{"$f":"EAV35*'Makro i swap'!EAT4","v":0},{"$f":"EAW35*'Makro i swap'!EAU4","v":0},{"$f":"EAX35*'Makro i swap'!EAV4","v":0},{"$f":"EAY35*'Makro i swap'!EAW4","v":0},{"$f":"EAZ35*'Makro i swap'!EAX4","v":0},{"$f":"EBA35*'Makro i swap'!EAY4","v":0},{"$f":"EBB35*'Makro i swap'!EAZ4","v":0},{"$f":"EBC35*'Makro i swap'!EBA4","v":0},{"$f":"EBD35*'Makro i swap'!EBB4","v":0},{"$f":"EBE35*'Makro i swap'!EBC4","v":0},{"$f":"EBF35*'Makro i swap'!EBD4","v":0},{"$f":"EBG35*'Makro i swap'!EBE4","v":0},{"$f":"EBH35*'Makro i swap'!EBF4","v":0},{"$f":"EBI35*'Makro i swap'!EBG4","v":0},{"$f":"EBJ35*'Makro i swap'!EBH4","v":0},{"$f":"EBK35*'Makro i swap'!EBI4","v":0},{"$f":"EBL35*'Makro i swap'!EBJ4","v":0},{"$f":"EBM35*'Makro i swap'!EBK4","v":0},{"$f":"EBN35*'Makro i swap'!EBL4","v":0},{"$f":"EBO35*'Makro i swap'!EBM4","v":0},{"$f":"EBP35*'Makro i swap'!EBN4","v":0},{"$f":"EBQ35*'Makro i swap'!EBO4","v":0},{"$f":"EBR35*'Makro i swap'!EBP4","v":0},{"$f":"EBS35*'Makro i swap'!EBQ4","v":0},{"$f":"EBT35*'Makro i swap'!EBR4","v":0},{"$f":"EBU35*'Makro i swap'!EBS4","v":0},{"$f":"EBV35*'Makro i swap'!EBT4","v":0},{"$f":"EBW35*'Makro i swap'!EBU4","v":0},{"$f":"EBX35*'Makro i swap'!EBV4","v":0},{"$f":"EBY35*'Makro i swap'!EBW4","v":0},{"$f":"EBZ35*'Makro i swap'!EBX4","v":0},{"$f":"ECA35*'Makro i swap'!EBY4","v":0},{"$f":"ECB35*'Makro i swap'!EBZ4","v":0},{"$f":"ECC35*'Makro i swap'!ECA4","v":0},{"$f":"ECD35*'Makro i swap'!ECB4","v":0},{"$f":"ECE35*'Makro i swap'!ECC4","v":0},{"$f":"ECF35*'Makro i swap'!ECD4","v":0},{"$f":"ECG35*'Makro i swap'!ECE4","v":0},{"$f":"ECH35*'Makro i swap'!ECF4","v":0},{"$f":"ECI35*'Makro i swap'!ECG4","v":0},{"$f":"ECJ35*'Makro i swap'!ECH4","v":0},{"$f":"ECK35*'Makro i swap'!ECI4","v":0},{"$f":"ECL35*'Makro i swap'!ECJ4","v":0},{"$f":"ECM35*'Makro i swap'!ECK4","v":0},{"$f":"ECN35*'Makro i swap'!ECL4","v":0},{"$f":"ECO35*'Makro i swap'!ECM4","v":0},{"$f":"ECP35*'Makro i swap'!ECN4","v":0},{"$f":"ECQ35*'Makro i swap'!ECO4","v":0},{"$f":"ECR35*'Makro i swap'!ECP4","v":0},{"$f":"ECS35*'Makro i swap'!ECQ4","v":0},{"$f":"ECT35*'Makro i swap'!ECR4","v":0},{"$f":"ECU35*'Makro i swap'!ECS4","v":0},{"$f":"ECV35*'Makro i swap'!ECT4","v":0},{"$f":"ECW35*'Makro i swap'!ECU4","v":0},{"$f":"ECX35*'Makro i swap'!ECV4","v":0},{"$f":"ECY35*'Makro i swap'!ECW4","v":0},{"$f":"ECZ35*'Makro i swap'!ECX4","v":0},{"$f":"EDA35*'Makro i swap'!ECY4","v":0},{"$f":"EDB35*'Makro i swap'!ECZ4","v":0},{"$f":"EDC35*'Makro i swap'!EDA4","v":0},{"$f":"EDD35*'Makro i swap'!EDB4","v":0},{"$f":"EDE35*'Makro i swap'!EDC4","v":0},{"$f":"EDF35*'Makro i swap'!EDD4","v":0},{"$f":"EDG35*'Makro i swap'!EDE4","v":0},{"$f":"EDH35*'Makro i swap'!EDF4","v":0},{"$f":"EDI35*'Makro i swap'!EDG4","v":0},{"$f":"EDJ35*'Makro i swap'!EDH4","v":0},{"$f":"EDK35*'Makro i swap'!EDI4","v":0},{"$f":"EDL35*'Makro i swap'!EDJ4","v":0},{"$f":"EDM35*'Makro i swap'!EDK4","v":0},{"$f":"EDN35*'Makro i swap'!EDL4","v":0},{"$f":"EDO35*'Makro i swap'!EDM4","v":0},{"$f":"EDP35*'Makro i swap'!EDN4","v":0},{"$f":"EDQ35*'Makro i swap'!EDO4","v":0},{"$f":"EDR35*'Makro i swap'!EDP4","v":0},{"$f":"EDS35*'Makro i swap'!EDQ4","v":0},{"$f":"EDT35*'Makro i swap'!EDR4","v":0},{"$f":"EDU35*'Makro i swap'!EDS4","v":0},{"$f":"EDV35*'Makro i swap'!EDT4","v":0},{"$f":"EDW35*'Makro i swap'!EDU4","v":0},{"$f":"EDX35*'Makro i swap'!EDV4","v":0},{"$f":"EDY35*'Makro i swap'!EDW4","v":0},{"$f":"EDZ35*'Makro i swap'!EDX4","v":0},{"$f":"EEA35*'Makro i swap'!EDY4","v":0},{"$f":"EEB35*'Makro i swap'!EDZ4","v":0},{"$f":"EEC35*'Makro i swap'!EEA4","v":0},{"$f":"EED35*'Makro i swap'!EEB4","v":0},{"$f":"EEE35*'Makro i swap'!EEC4","v":0},{"$f":"EEF35*'Makro i swap'!EED4","v":0},{"$f":"EEG35*'Makro i swap'!EEE4","v":0},{"$f":"EEH35*'Makro i swap'!EEF4","v":0},{"$f":"EEI35*'Makro i swap'!EEG4","v":0},{"$f":"EEJ35*'Makro i swap'!EEH4","v":0},{"$f":"EEK35*'Makro i swap'!EEI4","v":0},{"$f":"EEL35*'Makro i swap'!EEJ4","v":0},{"$f":"EEM35*'Makro i swap'!EEK4","v":0},{"$f":"EEN35*'Makro i swap'!EEL4","v":0},{"$f":"EEO35*'Makro i swap'!EEM4","v":0},{"$f":"EEP35*'Makro i swap'!EEN4","v":0},{"$f":"EEQ35*'Makro i swap'!EEO4","v":0},{"$f":"EER35*'Makro i swap'!EEP4","v":0},{"$f":"EES35*'Makro i swap'!EEQ4","v":0},{"$f":"EET35*'Makro i swap'!EER4","v":0},{"$f":"EEU35*'Makro i swap'!EES4","v":0},{"$f":"EEV35*'Makro i swap'!EET4","v":0},{"$f":"EEW35*'Makro i swap'!EEU4","v":0},{"$f":"EEX35*'Makro i swap'!EEV4","v":0},{"$f":"EEY35*'Makro i swap'!EEW4","v":0},{"$f":"EEZ35*'Makro i swap'!EEX4","v":0},{"$f":"EFA35*'Makro i swap'!EEY4","v":0},{"$f":"EFB35*'Makro i swap'!EEZ4","v":0},{"$f":"EFC35*'Makro i swap'!EFA4","v":0},{"$f":"EFD35*'Makro i swap'!EFB4","v":0},{"$f":"EFE35*'Makro i swap'!EFC4","v":0},{"$f":"EFF35*'Makro i swap'!EFD4","v":0},{"$f":"EFG35*'Makro i swap'!EFE4","v":0},{"$f":"EFH35*'Makro i swap'!EFF4","v":0},{"$f":"EFI35*'Makro i swap'!EFG4","v":0},{"$f":"EFJ35*'Makro i swap'!EFH4","v":0},{"$f":"EFK35*'Makro i swap'!EFI4","v":0},{"$f":"EFL35*'Makro i swap'!EFJ4","v":0},{"$f":"EFM35*'Makro i swap'!EFK4","v":0},{"$f":"EFN35*'Makro i swap'!EFL4","v":0},{"$f":"EFO35*'Makro i swap'!EFM4","v":0},{"$f":"EFP35*'Makro i swap'!EFN4","v":0},{"$f":"EFQ35*'Makro i swap'!EFO4","v":0},{"$f":"EFR35*'Makro i swap'!EFP4","v":0},{"$f":"EFS35*'Makro i swap'!EFQ4","v":0},{"$f":"EFT35*'Makro i swap'!EFR4","v":0},{"$f":"EFU35*'Makro i swap'!EFS4","v":0},{"$f":"EFV35*'Makro i swap'!EFT4","v":0},{"$f":"EFW35*'Makro i swap'!EFU4","v":0},{"$f":"EFX35*'Makro i swap'!EFV4","v":0},{"$f":"EFY35*'Makro i swap'!EFW4","v":0},{"$f":"EFZ35*'Makro i swap'!EFX4","v":0},{"$f":"EGA35*'Makro i swap'!EFY4","v":0},{"$f":"EGB35*'Makro i swap'!EFZ4","v":0},{"$f":"EGC35*'Makro i swap'!EGA4","v":0},{"$f":"EGD35*'Makro i swap'!EGB4","v":0},{"$f":"EGE35*'Makro i swap'!EGC4","v":0},{"$f":"EGF35*'Makro i swap'!EGD4","v":0},{"$f":"EGG35*'Makro i swap'!EGE4","v":0},{"$f":"EGH35*'Makro i swap'!EGF4","v":0},{"$f":"EGI35*'Makro i swap'!EGG4","v":0},{"$f":"EGJ35*'Makro i swap'!EGH4","v":0},{"$f":"EGK35*'Makro i swap'!EGI4","v":0},{"$f":"EGL35*'Makro i swap'!EGJ4","v":0},{"$f":"EGM35*'Makro i swap'!EGK4","v":0},{"$f":"EGN35*'Makro i swap'!EGL4","v":0},{"$f":"EGO35*'Makro i swap'!EGM4","v":0},{"$f":"EGP35*'Makro i swap'!EGN4","v":0},{"$f":"EGQ35*'Makro i swap'!EGO4","v":0},{"$f":"EGR35*'Makro i swap'!EGP4","v":0},{"$f":"EGS35*'Makro i swap'!EGQ4","v":0},{"$f":"EGT35*'Makro i swap'!EGR4","v":0},{"$f":"EGU35*'Makro i swap'!EGS4","v":0},{"$f":"EGV35*'Makro i swap'!EGT4","v":0},{"$f":"EGW35*'Makro i swap'!EGU4","v":0},{"$f":"EGX35*'Makro i swap'!EGV4","v":0},{"$f":"EGY35*'Makro i swap'!EGW4","v":0},{"$f":"EGZ35*'Makro i swap'!EGX4","v":0},{"$f":"EHA35*'Makro i swap'!EGY4","v":0},{"$f":"EHB35*'Makro i swap'!EGZ4","v":0},{"$f":"EHC35*'Makro i swap'!EHA4","v":0},{"$f":"EHD35*'Makro i swap'!EHB4","v":0},{"$f":"EHE35*'Makro i swap'!EHC4","v":0},{"$f":"EHF35*'Makro i swap'!EHD4","v":0},{"$f":"EHG35*'Makro i swap'!EHE4","v":0},{"$f":"EHH35*'Makro i swap'!EHF4","v":0},{"$f":"EHI35*'Makro i swap'!EHG4","v":0},{"$f":"EHJ35*'Makro i swap'!EHH4","v":0},{"$f":"EHK35*'Makro i swap'!EHI4","v":0},{"$f":"EHL35*'Makro i swap'!EHJ4","v":0},{"$f":"EHM35*'Makro i swap'!EHK4","v":0},{"$f":"EHN35*'Makro i swap'!EHL4","v":0},{"$f":"EHO35*'Makro i swap'!EHM4","v":0},{"$f":"EHP35*'Makro i swap'!EHN4","v":0},{"$f":"EHQ35*'Makro i swap'!EHO4","v":0},{"$f":"EHR35*'Makro i swap'!EHP4","v":0},{"$f":"EHS35*'Makro i swap'!EHQ4","v":0},{"$f":"EHT35*'Makro i swap'!EHR4","v":0},{"$f":"EHU35*'Makro i swap'!EHS4","v":0},{"$f":"EHV35*'Makro i swap'!EHT4","v":0},{"$f":"EHW35*'Makro i swap'!EHU4","v":0},{"$f":"EHX35*'Makro i swap'!EHV4","v":0},{"$f":"EHY35*'Makro i swap'!EHW4","v":0},{"$f":"EHZ35*'Makro i swap'!EHX4","v":0},{"$f":"EIA35*'Makro i swap'!EHY4","v":0},{"$f":"EIB35*'Makro i swap'!EHZ4","v":0},{"$f":"EIC35*'Makro i swap'!EIA4","v":0},{"$f":"EID35*'Makro i swap'!EIB4","v":0},{"$f":"EIE35*'Makro i swap'!EIC4","v":0},{"$f":"EIF35*'Makro i swap'!EID4","v":0},{"$f":"EIG35*'Makro i swap'!EIE4","v":0},{"$f":"EIH35*'Makro i swap'!EIF4","v":0},{"$f":"EII35*'Makro i swap'!EIG4","v":0},{"$f":"EIJ35*'Makro i swap'!EIH4","v":0},{"$f":"EIK35*'Makro i swap'!EII4","v":0},{"$f":"EIL35*'Makro i swap'!EIJ4","v":0},{"$f":"EIM35*'Makro i swap'!EIK4","v":0},{"$f":"EIN35*'Makro i swap'!EIL4","v":0},{"$f":"EIO35*'Makro i swap'!EIM4","v":0},{"$f":"EIP35*'Makro i swap'!EIN4","v":0},{"$f":"EIQ35*'Makro i swap'!EIO4","v":0},{"$f":"EIR35*'Makro i swap'!EIP4","v":0},{"$f":"EIS35*'Makro i swap'!EIQ4","v":0},{"$f":"EIT35*'Makro i swap'!EIR4","v":0},{"$f":"EIU35*'Makro i swap'!EIS4","v":0},{"$f":"EIV35*'Makro i swap'!EIT4","v":0},{"$f":"EIW35*'Makro i swap'!EIU4","v":0},{"$f":"EIX35*'Makro i swap'!EIV4","v":0},{"$f":"EIY35*'Makro i swap'!EIW4","v":0},{"$f":"EIZ35*'Makro i swap'!EIX4","v":0},{"$f":"EJA35*'Makro i swap'!EIY4","v":0},{"$f":"EJB35*'Makro i swap'!EIZ4","v":0},{"$f":"EJC35*'Makro i swap'!EJA4","v":0},{"$f":"EJD35*'Makro i swap'!EJB4","v":0},{"$f":"EJE35*'Makro i swap'!EJC4","v":0},{"$f":"EJF35*'Makro i swap'!EJD4","v":0},{"$f":"EJG35*'Makro i swap'!EJE4","v":0},{"$f":"EJH35*'Makro i swap'!EJF4","v":0},{"$f":"EJI35*'Makro i swap'!EJG4","v":0},{"$f":"EJJ35*'Makro i swap'!EJH4","v":0},{"$f":"EJK35*'Makro i swap'!EJI4","v":0},{"$f":"EJL35*'Makro i swap'!EJJ4","v":0},{"$f":"EJM35*'Makro i swap'!EJK4","v":0},{"$f":"EJN35*'Makro i swap'!EJL4","v":0},{"$f":"EJO35*'Makro i swap'!EJM4","v":0},{"$f":"EJP35*'Makro i swap'!EJN4","v":0},{"$f":"EJQ35*'Makro i swap'!EJO4","v":0},{"$f":"EJR35*'Makro i swap'!EJP4","v":0},{"$f":"EJS35*'Makro i swap'!EJQ4","v":0},{"$f":"EJT35*'Makro i swap'!EJR4","v":0},{"$f":"EJU35*'Makro i swap'!EJS4","v":0},{"$f":"EJV35*'Makro i swap'!EJT4","v":0},{"$f":"EJW35*'Makro i swap'!EJU4","v":0},{"$f":"EJX35*'Makro i swap'!EJV4","v":0},{"$f":"EJY35*'Makro i swap'!EJW4","v":0},{"$f":"EJZ35*'Makro i swap'!EJX4","v":0},{"$f":"EKA35*'Makro i swap'!EJY4","v":0},{"$f":"EKB35*'Makro i swap'!EJZ4","v":0},{"$f":"EKC35*'Makro i swap'!EKA4","v":0},{"$f":"EKD35*'Makro i swap'!EKB4","v":0},{"$f":"EKE35*'Makro i swap'!EKC4","v":0},{"$f":"EKF35*'Makro i swap'!EKD4","v":0},{"$f":"EKG35*'Makro i swap'!EKE4","v":0},{"$f":"EKH35*'Makro i swap'!EKF4","v":0},{"$f":"EKI35*'Makro i swap'!EKG4","v":0},{"$f":"EKJ35*'Makro i swap'!EKH4","v":0},{"$f":"EKK35*'Makro i swap'!EKI4","v":0},{"$f":"EKL35*'Makro i swap'!EKJ4","v":0},{"$f":"EKM35*'Makro i swap'!EKK4","v":0},{"$f":"EKN35*'Makro i swap'!EKL4","v":0},{"$f":"EKO35*'Makro i swap'!EKM4","v":0},{"$f":"EKP35*'Makro i swap'!EKN4","v":0},{"$f":"EKQ35*'Makro i swap'!EKO4","v":0},{"$f":"EKR35*'Makro i swap'!EKP4","v":0},{"$f":"EKS35*'Makro i swap'!EKQ4","v":0},{"$f":"EKT35*'Makro i swap'!EKR4","v":0},{"$f":"EKU35*'Makro i swap'!EKS4","v":0},{"$f":"EKV35*'Makro i swap'!EKT4","v":0},{"$f":"EKW35*'Makro i swap'!EKU4","v":0},{"$f":"EKX35*'Makro i swap'!EKV4","v":0},{"$f":"EKY35*'Makro i swap'!EKW4","v":0},{"$f":"EKZ35*'Makro i swap'!EKX4","v":0},{"$f":"ELA35*'Makro i swap'!EKY4","v":0},{"$f":"ELB35*'Makro i swap'!EKZ4","v":0},{"$f":"ELC35*'Makro i swap'!ELA4","v":0},{"$f":"ELD35*'Makro i swap'!ELB4","v":0},{"$f":"ELE35*'Makro i swap'!ELC4","v":0},{"$f":"ELF35*'Makro i swap'!ELD4","v":0},{"$f":"ELG35*'Makro i swap'!ELE4","v":0},{"$f":"ELH35*'Makro i swap'!ELF4","v":0},{"$f":"ELI35*'Makro i swap'!ELG4","v":0},{"$f":"ELJ35*'Makro i swap'!ELH4","v":0},{"$f":"ELK35*'Makro i swap'!ELI4","v":0},{"$f":"ELL35*'Makro i swap'!ELJ4","v":0},{"$f":"ELM35*'Makro i swap'!ELK4","v":0},{"$f":"ELN35*'Makro i swap'!ELL4","v":0},{"$f":"ELO35*'Makro i swap'!ELM4","v":0},{"$f":"ELP35*'Makro i swap'!ELN4","v":0},{"$f":"ELQ35*'Makro i swap'!ELO4","v":0},{"$f":"ELR35*'Makro i swap'!ELP4","v":0},{"$f":"ELS35*'Makro i swap'!ELQ4","v":0},{"$f":"ELT35*'Makro i swap'!ELR4","v":0},{"$f":"ELU35*'Makro i swap'!ELS4","v":0},{"$f":"ELV35*'Makro i swap'!ELT4","v":0},{"$f":"ELW35*'Makro i swap'!ELU4","v":0},{"$f":"ELX35*'Makro i swap'!ELV4","v":0},{"$f":"ELY35*'Makro i swap'!ELW4","v":0},{"$f":"ELZ35*'Makro i swap'!ELX4","v":0},{"$f":"EMA35*'Makro i swap'!ELY4","v":0},{"$f":"EMB35*'Makro i swap'!ELZ4","v":0},{"$f":"EMC35*'Makro i swap'!EMA4","v":0},{"$f":"EMD35*'Makro i swap'!EMB4","v":0},{"$f":"EME35*'Makro i swap'!EMC4","v":0},{"$f":"EMF35*'Makro i swap'!EMD4","v":0},{"$f":"EMG35*'Makro i swap'!EME4","v":0},{"$f":"EMH35*'Makro i swap'!EMF4","v":0},{"$f":"EMI35*'Makro i swap'!EMG4","v":0},{"$f":"EMJ35*'Makro i swap'!EMH4","v":0},{"$f":"EMK35*'Makro i swap'!EMI4","v":0},{"$f":"EML35*'Makro i swap'!EMJ4","v":0},{"$f":"EMM35*'Makro i swap'!EMK4","v":0},{"$f":"EMN35*'Makro i swap'!EML4","v":0},{"$f":"EMO35*'Makro i swap'!EMM4","v":0},{"$f":"EMP35*'Makro i swap'!EMN4","v":0},{"$f":"EMQ35*'Makro i swap'!EMO4","v":0},{"$f":"EMR35*'Makro i swap'!EMP4","v":0},{"$f":"EMS35*'Makro i swap'!EMQ4","v":0},{"$f":"EMT35*'Makro i swap'!EMR4","v":0},{"$f":"EMU35*'Makro i swap'!EMS4","v":0},{"$f":"EMV35*'Makro i swap'!EMT4","v":0},{"$f":"EMW35*'Makro i swap'!EMU4","v":0},{"$f":"EMX35*'Makro i swap'!EMV4","v":0},{"$f":"EMY35*'Makro i swap'!EMW4","v":0},{"$f":"EMZ35*'Makro i swap'!EMX4","v":0},{"$f":"ENA35*'Makro i swap'!EMY4","v":0},{"$f":"ENB35*'Makro i swap'!EMZ4","v":0},{"$f":"ENC35*'Makro i swap'!ENA4","v":0},{"$f":"END35*'Makro i swap'!ENB4","v":0},{"$f":"ENE35*'Makro i swap'!ENC4","v":0},{"$f":"ENF35*'Makro i swap'!END4","v":0},{"$f":"ENG35*'Makro i swap'!ENE4","v":0},{"$f":"ENH35*'Makro i swap'!ENF4","v":0},{"$f":"ENI35*'Makro i swap'!ENG4","v":0},{"$f":"ENJ35*'Makro i swap'!ENH4","v":0},{"$f":"ENK35*'Makro i swap'!ENI4","v":0},{"$f":"ENL35*'Makro i swap'!ENJ4","v":0},{"$f":"ENM35*'Makro i swap'!ENK4","v":0},{"$f":"ENN35*'Makro i swap'!ENL4","v":0},{"$f":"ENO35*'Makro i swap'!ENM4","v":0},{"$f":"ENP35*'Makro i swap'!ENN4","v":0},{"$f":"ENQ35*'Makro i swap'!ENO4","v":0},{"$f":"ENR35*'Makro i swap'!ENP4","v":0},{"$f":"ENS35*'Makro i swap'!ENQ4","v":0},{"$f":"ENT35*'Makro i swap'!ENR4","v":0},{"$f":"ENU35*'Makro i swap'!ENS4","v":0},{"$f":"ENV35*'Makro i swap'!ENT4","v":0},{"$f":"ENW35*'Makro i swap'!ENU4","v":0},{"$f":"ENX35*'Makro i swap'!ENV4","v":0},{"$f":"ENY35*'Makro i swap'!ENW4","v":0},{"$f":"ENZ35*'Makro i swap'!ENX4","v":0},{"$f":"EOA35*'Makro i swap'!ENY4","v":0},{"$f":"EOB35*'Makro i swap'!ENZ4","v":0},{"$f":"EOC35*'Makro i swap'!EOA4","v":0},{"$f":"EOD35*'Makro i swap'!EOB4","v":0},{"$f":"EOE35*'Makro i swap'!EOC4","v":0},{"$f":"EOF35*'Makro i swap'!EOD4","v":0},{"$f":"EOG35*'Makro i swap'!EOE4","v":0},{"$f":"EOH35*'Makro i swap'!EOF4","v":0},{"$f":"EOI35*'Makro i swap'!EOG4","v":0},{"$f":"EOJ35*'Makro i swap'!EOH4","v":0},{"$f":"EOK35*'Makro i swap'!EOI4","v":0},{"$f":"EOL35*'Makro i swap'!EOJ4","v":0},{"$f":"EOM35*'Makro i swap'!EOK4","v":0},{"$f":"EON35*'Makro i swap'!EOL4","v":0},{"$f":"EOO35*'Makro i swap'!EOM4","v":0},{"$f":"EOP35*'Makro i swap'!EON4","v":0},{"$f":"EOQ35*'Makro i swap'!EOO4","v":0},{"$f":"EOR35*'Makro i swap'!EOP4","v":0},{"$f":"EOS35*'Makro i swap'!EOQ4","v":0},{"$f":"EOT35*'Makro i swap'!EOR4","v":0},{"$f":"EOU35*'Makro i swap'!EOS4","v":0},{"$f":"EOV35*'Makro i swap'!EOT4","v":0},{"$f":"EOW35*'Makro i swap'!EOU4","v":0},{"$f":"EOX35*'Makro i swap'!EOV4","v":0},{"$f":"EOY35*'Makro i swap'!EOW4","v":0},{"$f":"EOZ35*'Makro i swap'!EOX4","v":0},{"$f":"EPA35*'Makro i swap'!EOY4","v":0},{"$f":"EPB35*'Makro i swap'!EOZ4","v":0},{"$f":"EPC35*'Makro i swap'!EPA4","v":0},{"$f":"EPD35*'Makro i swap'!EPB4","v":0},{"$f":"EPE35*'Makro i swap'!EPC4","v":0},{"$f":"EPF35*'Makro i swap'!EPD4","v":0},{"$f":"EPG35*'Makro i swap'!EPE4","v":0},{"$f":"EPH35*'Makro i swap'!EPF4","v":0},{"$f":"EPI35*'Makro i swap'!EPG4","v":0},{"$f":"EPJ35*'Makro i swap'!EPH4","v":0},{"$f":"EPK35*'Makro i swap'!EPI4","v":0},{"$f":"EPL35*'Makro i swap'!EPJ4","v":0},{"$f":"EPM35*'Makro i swap'!EPK4","v":0},{"$f":"EPN35*'Makro i swap'!EPL4","v":0},{"$f":"EPO35*'Makro i swap'!EPM4","v":0},{"$f":"EPP35*'Makro i swap'!EPN4","v":0},{"$f":"EPQ35*'Makro i swap'!EPO4","v":0},{"$f":"EPR35*'Makro i swap'!EPP4","v":0},{"$f":"EPS35*'Makro i swap'!EPQ4","v":0},{"$f":"EPT35*'Makro i swap'!EPR4","v":0},{"$f":"EPU35*'Makro i swap'!EPS4","v":0},{"$f":"EPV35*'Makro i swap'!EPT4","v":0},{"$f":"EPW35*'Makro i swap'!EPU4","v":0},{"$f":"EPX35*'Makro i swap'!EPV4","v":0},{"$f":"EPY35*'Makro i swap'!EPW4","v":0},{"$f":"EPZ35*'Makro i swap'!EPX4","v":0},{"$f":"EQA35*'Makro i swap'!EPY4","v":0},{"$f":"EQB35*'Makro i swap'!EPZ4","v":0},{"$f":"EQC35*'Makro i swap'!EQA4","v":0},{"$f":"EQD35*'Makro i swap'!EQB4","v":0},{"$f":"EQE35*'Makro i swap'!EQC4","v":0},{"$f":"EQF35*'Makro i swap'!EQD4","v":0},{"$f":"EQG35*'Makro i swap'!EQE4","v":0},{"$f":"EQH35*'Makro i swap'!EQF4","v":0},{"$f":"EQI35*'Makro i swap'!EQG4","v":0},{"$f":"EQJ35*'Makro i swap'!EQH4","v":0},{"$f":"EQK35*'Makro i swap'!EQI4","v":0},{"$f":"EQL35*'Makro i swap'!EQJ4","v":0},{"$f":"EQM35*'Makro i swap'!EQK4","v":0},{"$f":"EQN35*'Makro i swap'!EQL4","v":0},{"$f":"EQO35*'Makro i swap'!EQM4","v":0},{"$f":"EQP35*'Makro i swap'!EQN4","v":0},{"$f":"EQQ35*'Makro i swap'!EQO4","v":0},{"$f":"EQR35*'Makro i swap'!EQP4","v":0},{"$f":"EQS35*'Makro i swap'!EQQ4","v":0},{"$f":"EQT35*'Makro i swap'!EQR4","v":0},{"$f":"EQU35*'Makro i swap'!EQS4","v":0},{"$f":"EQV35*'Makro i swap'!EQT4","v":0},{"$f":"EQW35*'Makro i swap'!EQU4","v":0},{"$f":"EQX35*'Makro i swap'!EQV4","v":0},{"$f":"EQY35*'Makro i swap'!EQW4","v":0},{"$f":"EQZ35*'Makro i swap'!EQX4","v":0},{"$f":"ERA35*'Makro i swap'!EQY4","v":0},{"$f":"ERB35*'Makro i swap'!EQZ4","v":0},{"$f":"ERC35*'Makro i swap'!ERA4","v":0},{"$f":"ERD35*'Makro i swap'!ERB4","v":0},{"$f":"ERE35*'Makro i swap'!ERC4","v":0},{"$f":"ERF35*'Makro i swap'!ERD4","v":0},{"$f":"ERG35*'Makro i swap'!ERE4","v":0},{"$f":"ERH35*'Makro i swap'!ERF4","v":0},{"$f":"ERI35*'Makro i swap'!ERG4","v":0},{"$f":"ERJ35*'Makro i swap'!ERH4","v":0},{"$f":"ERK35*'Makro i swap'!ERI4","v":0},{"$f":"ERL35*'Makro i swap'!ERJ4","v":0},{"$f":"ERM35*'Makro i swap'!ERK4","v":0},{"$f":"ERN35*'Makro i swap'!ERL4","v":0},{"$f":"ERO35*'Makro i swap'!ERM4","v":0},{"$f":"ERP35*'Makro i swap'!ERN4","v":0},{"$f":"ERQ35*'Makro i swap'!ERO4","v":0},{"$f":"ERR35*'Makro i swap'!ERP4","v":0},{"$f":"ERS35*'Makro i swap'!ERQ4","v":0},{"$f":"ERT35*'Makro i swap'!ERR4","v":0},{"$f":"ERU35*'Makro i swap'!ERS4","v":0},{"$f":"ERV35*'Makro i swap'!ERT4","v":0},{"$f":"ERW35*'Makro i swap'!ERU4","v":0},{"$f":"ERX35*'Makro i swap'!ERV4","v":0},{"$f":"ERY35*'Makro i swap'!ERW4","v":0},{"$f":"ERZ35*'Makro i swap'!ERX4","v":0},{"$f":"ESA35*'Makro i swap'!ERY4","v":0},{"$f":"ESB35*'Makro i swap'!ERZ4","v":0},{"$f":"ESC35*'Makro i swap'!ESA4","v":0},{"$f":"ESD35*'Makro i swap'!ESB4","v":0},{"$f":"ESE35*'Makro i swap'!ESC4","v":0},{"$f":"ESF35*'Makro i swap'!ESD4","v":0},{"$f":"ESG35*'Makro i swap'!ESE4","v":0},{"$f":"ESH35*'Makro i swap'!ESF4","v":0},{"$f":"ESI35*'Makro i swap'!ESG4","v":0},{"$f":"ESJ35*'Makro i swap'!ESH4","v":0},{"$f":"ESK35*'Makro i swap'!ESI4","v":0},{"$f":"ESL35*'Makro i swap'!ESJ4","v":0},{"$f":"ESM35*'Makro i swap'!ESK4","v":0},{"$f":"ESN35*'Makro i swap'!ESL4","v":0},{"$f":"ESO35*'Makro i swap'!ESM4","v":0},{"$f":"ESP35*'Makro i swap'!ESN4","v":0},{"$f":"ESQ35*'Makro i swap'!ESO4","v":0},{"$f":"ESR35*'Makro i swap'!ESP4","v":0},{"$f":"ESS35*'Makro i swap'!ESQ4","v":0},{"$f":"EST35*'Makro i swap'!ESR4","v":0},{"$f":"ESU35*'Makro i swap'!ESS4","v":0},{"$f":"ESV35*'Makro i swap'!EST4","v":0},{"$f":"ESW35*'Makro i swap'!ESU4","v":0},{"$f":"ESX35*'Makro i swap'!ESV4","v":0},{"$f":"ESY35*'Makro i swap'!ESW4","v":0},{"$f":"ESZ35*'Makro i swap'!ESX4","v":0},{"$f":"ETA35*'Makro i swap'!ESY4","v":0},{"$f":"ETB35*'Makro i swap'!ESZ4","v":0},{"$f":"ETC35*'Makro i swap'!ETA4","v":0},{"$f":"ETD35*'Makro i swap'!ETB4","v":0},{"$f":"ETE35*'Makro i swap'!ETC4","v":0},{"$f":"ETF35*'Makro i swap'!ETD4","v":0},{"$f":"ETG35*'Makro i swap'!ETE4","v":0},{"$f":"ETH35*'Makro i swap'!ETF4","v":0},{"$f":"ETI35*'Makro i swap'!ETG4","v":0},{"$f":"ETJ35*'Makro i swap'!ETH4","v":0},{"$f":"ETK35*'Makro i swap'!ETI4","v":0},{"$f":"ETL35*'Makro i swap'!ETJ4","v":0},{"$f":"ETM35*'Makro i swap'!ETK4","v":0},{"$f":"ETN35*'Makro i swap'!ETL4","v":0},{"$f":"ETO35*'Makro i swap'!ETM4","v":0},{"$f":"ETP35*'Makro i swap'!ETN4","v":0},{"$f":"ETQ35*'Makro i swap'!ETO4","v":0},{"$f":"ETR35*'Makro i swap'!ETP4","v":0},{"$f":"ETS35*'Makro i swap'!ETQ4","v":0},{"$f":"ETT35*'Makro i swap'!ETR4","v":0},{"$f":"ETU35*'Makro i swap'!ETS4","v":0},{"$f":"ETV35*'Makro i swap'!ETT4","v":0},{"$f":"ETW35*'Makro i swap'!ETU4","v":0},{"$f":"ETX35*'Makro i swap'!ETV4","v":0},{"$f":"ETY35*'Makro i swap'!ETW4","v":0},{"$f":"ETZ35*'Makro i swap'!ETX4","v":0},{"$f":"EUA35*'Makro i swap'!ETY4","v":0},{"$f":"EUB35*'Makro i swap'!ETZ4","v":0},{"$f":"EUC35*'Makro i swap'!EUA4","v":0},{"$f":"EUD35*'Makro i swap'!EUB4","v":0},{"$f":"EUE35*'Makro i swap'!EUC4","v":0},{"$f":"EUF35*'Makro i swap'!EUD4","v":0},{"$f":"EUG35*'Makro i swap'!EUE4","v":0},{"$f":"EUH35*'Makro i swap'!EUF4","v":0},{"$f":"EUI35*'Makro i swap'!EUG4","v":0},{"$f":"EUJ35*'Makro i swap'!EUH4","v":0},{"$f":"EUK35*'Makro i swap'!EUI4","v":0},{"$f":"EUL35*'Makro i swap'!EUJ4","v":0},{"$f":"EUM35*'Makro i swap'!EUK4","v":0},{"$f":"EUN35*'Makro i swap'!EUL4","v":0},{"$f":"EUO35*'Makro i swap'!EUM4","v":0},{"$f":"EUP35*'Makro i swap'!EUN4","v":0},{"$f":"EUQ35*'Makro i swap'!EUO4","v":0},{"$f":"EUR35*'Makro i swap'!EUP4","v":0},{"$f":"EUS35*'Makro i swap'!EUQ4","v":0},{"$f":"EUT35*'Makro i swap'!EUR4","v":0},{"$f":"EUU35*'Makro i swap'!EUS4","v":0},{"$f":"EUV35*'Makro i swap'!EUT4","v":0},{"$f":"EUW35*'Makro i swap'!EUU4","v":0},{"$f":"EUX35*'Makro i swap'!EUV4","v":0},{"$f":"EUY35*'Makro i swap'!EUW4","v":0},{"$f":"EUZ35*'Makro i swap'!EUX4","v":0},{"$f":"EVA35*'Makro i swap'!EUY4","v":0},{"$f":"EVB35*'Makro i swap'!EUZ4","v":0},{"$f":"EVC35*'Makro i swap'!EVA4","v":0},{"$f":"EVD35*'Makro i swap'!EVB4","v":0},{"$f":"EVE35*'Makro i swap'!EVC4","v":0},{"$f":"EVF35*'Makro i swap'!EVD4","v":0},{"$f":"EVG35*'Makro i swap'!EVE4","v":0},{"$f":"EVH35*'Makro i swap'!EVF4","v":0},{"$f":"EVI35*'Makro i swap'!EVG4","v":0},{"$f":"EVJ35*'Makro i swap'!EVH4","v":0},{"$f":"EVK35*'Makro i swap'!EVI4","v":0},{"$f":"EVL35*'Makro i swap'!EVJ4","v":0},{"$f":"EVM35*'Makro i swap'!EVK4","v":0},{"$f":"EVN35*'Makro i swap'!EVL4","v":0},{"$f":"EVO35*'Makro i swap'!EVM4","v":0},{"$f":"EVP35*'Makro i swap'!EVN4","v":0},{"$f":"EVQ35*'Makro i swap'!EVO4","v":0},{"$f":"EVR35*'Makro i swap'!EVP4","v":0},{"$f":"EVS35*'Makro i swap'!EVQ4","v":0},{"$f":"EVT35*'Makro i swap'!EVR4","v":0},{"$f":"EVU35*'Makro i swap'!EVS4","v":0},{"$f":"EVV35*'Makro i swap'!EVT4","v":0},{"$f":"EVW35*'Makro i swap'!EVU4","v":0},{"$f":"EVX35*'Makro i swap'!EVV4","v":0},{"$f":"EVY35*'Makro i swap'!EVW4","v":0},{"$f":"EVZ35*'Makro i swap'!EVX4","v":0},{"$f":"EWA35*'Makro i swap'!EVY4","v":0},{"$f":"EWB35*'Makro i swap'!EVZ4","v":0},{"$f":"EWC35*'Makro i swap'!EWA4","v":0},{"$f":"EWD35*'Makro i swap'!EWB4","v":0},{"$f":"EWE35*'Makro i swap'!EWC4","v":0},{"$f":"EWF35*'Makro i swap'!EWD4","v":0},{"$f":"EWG35*'Makro i swap'!EWE4","v":0},{"$f":"EWH35*'Makro i swap'!EWF4","v":0},{"$f":"EWI35*'Makro i swap'!EWG4","v":0},{"$f":"EWJ35*'Makro i swap'!EWH4","v":0},{"$f":"EWK35*'Makro i swap'!EWI4","v":0},{"$f":"EWL35*'Makro i swap'!EWJ4","v":0},{"$f":"EWM35*'Makro i swap'!EWK4","v":0},{"$f":"EWN35*'Makro i swap'!EWL4","v":0},{"$f":"EWO35*'Makro i swap'!EWM4","v":0},{"$f":"EWP35*'Makro i swap'!EWN4","v":0},{"$f":"EWQ35*'Makro i swap'!EWO4","v":0},{"$f":"EWR35*'Makro i swap'!EWP4","v":0},{"$f":"EWS35*'Makro i swap'!EWQ4","v":0},{"$f":"EWT35*'Makro i swap'!EWR4","v":0},{"$f":"EWU35*'Makro i swap'!EWS4","v":0},{"$f":"EWV35*'Makro i swap'!EWT4","v":0},{"$f":"EWW35*'Makro i swap'!EWU4","v":0},{"$f":"EWX35*'Makro i swap'!EWV4","v":0},{"$f":"EWY35*'Makro i swap'!EWW4","v":0},{"$f":"EWZ35*'Makro i swap'!EWX4","v":0},{"$f":"EXA35*'Makro i swap'!EWY4","v":0},{"$f":"EXB35*'Makro i swap'!EWZ4","v":0},{"$f":"EXC35*'Makro i swap'!EXA4","v":0},{"$f":"EXD35*'Makro i swap'!EXB4","v":0},{"$f":"EXE35*'Makro i swap'!EXC4","v":0},{"$f":"EXF35*'Makro i swap'!EXD4","v":0},{"$f":"EXG35*'Makro i swap'!EXE4","v":0},{"$f":"EXH35*'Makro i swap'!EXF4","v":0},{"$f":"EXI35*'Makro i swap'!EXG4","v":0},{"$f":"EXJ35*'Makro i swap'!EXH4","v":0},{"$f":"EXK35*'Makro i swap'!EXI4","v":0},{"$f":"EXL35*'Makro i swap'!EXJ4","v":0},{"$f":"EXM35*'Makro i swap'!EXK4","v":0},{"$f":"EXN35*'Makro i swap'!EXL4","v":0},{"$f":"EXO35*'Makro i swap'!EXM4","v":0},{"$f":"EXP35*'Makro i swap'!EXN4","v":0},{"$f":"EXQ35*'Makro i swap'!EXO4","v":0},{"$f":"EXR35*'Makro i swap'!EXP4","v":0},{"$f":"EXS35*'Makro i swap'!EXQ4","v":0},{"$f":"EXT35*'Makro i swap'!EXR4","v":0},{"$f":"EXU35*'Makro i swap'!EXS4","v":0},{"$f":"EXV35*'Makro i swap'!EXT4","v":0},{"$f":"EXW35*'Makro i swap'!EXU4","v":0},{"$f":"EXX35*'Makro i swap'!EXV4","v":0},{"$f":"EXY35*'Makro i swap'!EXW4","v":0},{"$f":"EXZ35*'Makro i swap'!EXX4","v":0},{"$f":"EYA35*'Makro i swap'!EXY4","v":0},{"$f":"EYB35*'Makro i swap'!EXZ4","v":0},{"$f":"EYC35*'Makro i swap'!EYA4","v":0},{"$f":"EYD35*'Makro i swap'!EYB4","v":0},{"$f":"EYE35*'Makro i swap'!EYC4","v":0},{"$f":"EYF35*'Makro i swap'!EYD4","v":0},{"$f":"EYG35*'Makro i swap'!EYE4","v":0},{"$f":"EYH35*'Makro i swap'!EYF4","v":0},{"$f":"EYI35*'Makro i swap'!EYG4","v":0},{"$f":"EYJ35*'Makro i swap'!EYH4","v":0},{"$f":"EYK35*'Makro i swap'!EYI4","v":0},{"$f":"EYL35*'Makro i swap'!EYJ4","v":0},{"$f":"EYM35*'Makro i swap'!EYK4","v":0},{"$f":"EYN35*'Makro i swap'!EYL4","v":0},{"$f":"EYO35*'Makro i swap'!EYM4","v":0},{"$f":"EYP35*'Makro i swap'!EYN4","v":0},{"$f":"EYQ35*'Makro i swap'!EYO4","v":0},{"$f":"EYR35*'Makro i swap'!EYP4","v":0},{"$f":"EYS35*'Makro i swap'!EYQ4","v":0},{"$f":"EYT35*'Makro i swap'!EYR4","v":0},{"$f":"EYU35*'Makro i swap'!EYS4","v":0},{"$f":"EYV35*'Makro i swap'!EYT4","v":0},{"$f":"EYW35*'Makro i swap'!EYU4","v":0},{"$f":"EYX35*'Makro i swap'!EYV4","v":0},{"$f":"EYY35*'Makro i swap'!EYW4","v":0},{"$f":"EYZ35*'Makro i swap'!EYX4","v":0},{"$f":"EZA35*'Makro i swap'!EYY4","v":0},{"$f":"EZB35*'Makro i swap'!EYZ4","v":0},{"$f":"EZC35*'Makro i swap'!EZA4","v":0},{"$f":"EZD35*'Makro i swap'!EZB4","v":0},{"$f":"EZE35*'Makro i swap'!EZC4","v":0},{"$f":"EZF35*'Makro i swap'!EZD4","v":0},{"$f":"EZG35*'Makro i swap'!EZE4","v":0},{"$f":"EZH35*'Makro i swap'!EZF4","v":0},{"$f":"EZI35*'Makro i swap'!EZG4","v":0},{"$f":"EZJ35*'Makro i swap'!EZH4","v":0},{"$f":"EZK35*'Makro i swap'!EZI4","v":0},{"$f":"EZL35*'Makro i swap'!EZJ4","v":0},{"$f":"EZM35*'Makro i swap'!EZK4","v":0},{"$f":"EZN35*'Makro i swap'!EZL4","v":0},{"$f":"EZO35*'Makro i swap'!EZM4","v":0},{"$f":"EZP35*'Makro i swap'!EZN4","v":0},{"$f":"EZQ35*'Makro i swap'!EZO4","v":0},{"$f":"EZR35*'Makro i swap'!EZP4","v":0},{"$f":"EZS35*'Makro i swap'!EZQ4","v":0},{"$f":"EZT35*'Makro i swap'!EZR4","v":0},{"$f":"EZU35*'Makro i swap'!EZS4","v":0},{"$f":"EZV35*'Makro i swap'!EZT4","v":0},{"$f":"EZW35*'Makro i swap'!EZU4","v":0},{"$f":"EZX35*'Makro i swap'!EZV4","v":0},{"$f":"EZY35*'Makro i swap'!EZW4","v":0},{"$f":"EZZ35*'Makro i swap'!EZX4","v":0},{"$f":"FAA35*'Makro i swap'!EZY4","v":0},{"$f":"FAB35*'Makro i swap'!EZZ4","v":0},{"$f":"FAC35*'Makro i swap'!FAA4","v":0},{"$f":"FAD35*'Makro i swap'!FAB4","v":0},{"$f":"FAE35*'Makro i swap'!FAC4","v":0},{"$f":"FAF35*'Makro i swap'!FAD4","v":0},{"$f":"FAG35*'Makro i swap'!FAE4","v":0},{"$f":"FAH35*'Makro i swap'!FAF4","v":0},{"$f":"FAI35*'Makro i swap'!FAG4","v":0},{"$f":"FAJ35*'Makro i swap'!FAH4","v":0},{"$f":"FAK35*'Makro i swap'!FAI4","v":0},{"$f":"FAL35*'Makro i swap'!FAJ4","v":0},{"$f":"FAM35*'Makro i swap'!FAK4","v":0},{"$f":"FAN35*'Makro i swap'!FAL4","v":0},{"$f":"FAO35*'Makro i swap'!FAM4","v":0},{"$f":"FAP35*'Makro i swap'!FAN4","v":0},{"$f":"FAQ35*'Makro i swap'!FAO4","v":0},{"$f":"FAR35*'Makro i swap'!FAP4","v":0},{"$f":"FAS35*'Makro i swap'!FAQ4","v":0},{"$f":"FAT35*'Makro i swap'!FAR4","v":0},{"$f":"FAU35*'Makro i swap'!FAS4","v":0},{"$f":"FAV35*'Makro i swap'!FAT4","v":0},{"$f":"FAW35*'Makro i swap'!FAU4","v":0},{"$f":"FAX35*'Makro i swap'!FAV4","v":0},{"$f":"FAY35*'Makro i swap'!FAW4","v":0},{"$f":"FAZ35*'Makro i swap'!FAX4","v":0},{"$f":"FBA35*'Makro i swap'!FAY4","v":0},{"$f":"FBB35*'Makro i swap'!FAZ4","v":0},{"$f":"FBC35*'Makro i swap'!FBA4","v":0},{"$f":"FBD35*'Makro i swap'!FBB4","v":0},{"$f":"FBE35*'Makro i swap'!FBC4","v":0},{"$f":"FBF35*'Makro i swap'!FBD4","v":0},{"$f":"FBG35*'Makro i swap'!FBE4","v":0},{"$f":"FBH35*'Makro i swap'!FBF4","v":0},{"$f":"FBI35*'Makro i swap'!FBG4","v":0},{"$f":"FBJ35*'Makro i swap'!FBH4","v":0},{"$f":"FBK35*'Makro i swap'!FBI4","v":0},{"$f":"FBL35*'Makro i swap'!FBJ4","v":0},{"$f":"FBM35*'Makro i swap'!FBK4","v":0},{"$f":"FBN35*'Makro i swap'!FBL4","v":0},{"$f":"FBO35*'Makro i swap'!FBM4","v":0},{"$f":"FBP35*'Makro i swap'!FBN4","v":0},{"$f":"FBQ35*'Makro i swap'!FBO4","v":0},{"$f":"FBR35*'Makro i swap'!FBP4","v":0},{"$f":"FBS35*'Makro i swap'!FBQ4","v":0},{"$f":"FBT35*'Makro i swap'!FBR4","v":0},{"$f":"FBU35*'Makro i swap'!FBS4","v":0},{"$f":"FBV35*'Makro i swap'!FBT4","v":0},{"$f":"FBW35*'Makro i swap'!FBU4","v":0},{"$f":"FBX35*'Makro i swap'!FBV4","v":0},{"$f":"FBY35*'Makro i swap'!FBW4","v":0},{"$f":"FBZ35*'Makro i swap'!FBX4","v":0},{"$f":"FCA35*'Makro i swap'!FBY4","v":0},{"$f":"FCB35*'Makro i swap'!FBZ4","v":0},{"$f":"FCC35*'Makro i swap'!FCA4","v":0},{"$f":"FCD35*'Makro i swap'!FCB4","v":0},{"$f":"FCE35*'Makro i swap'!FCC4","v":0},{"$f":"FCF35*'Makro i swap'!FCD4","v":0},{"$f":"FCG35*'Makro i swap'!FCE4","v":0},{"$f":"FCH35*'Makro i swap'!FCF4","v":0},{"$f":"FCI35*'Makro i swap'!FCG4","v":0},{"$f":"FCJ35*'Makro i swap'!FCH4","v":0},{"$f":"FCK35*'Makro i swap'!FCI4","v":0},{"$f":"FCL35*'Makro i swap'!FCJ4","v":0},{"$f":"FCM35*'Makro i swap'!FCK4","v":0},{"$f":"FCN35*'Makro i swap'!FCL4","v":0},{"$f":"FCO35*'Makro i swap'!FCM4","v":0},{"$f":"FCP35*'Makro i swap'!FCN4","v":0},{"$f":"FCQ35*'Makro i swap'!FCO4","v":0},{"$f":"FCR35*'Makro i swap'!FCP4","v":0},{"$f":"FCS35*'Makro i swap'!FCQ4","v":0},{"$f":"FCT35*'Makro i swap'!FCR4","v":0},{"$f":"FCU35*'Makro i swap'!FCS4","v":0},{"$f":"FCV35*'Makro i swap'!FCT4","v":0},{"$f":"FCW35*'Makro i swap'!FCU4","v":0},{"$f":"FCX35*'Makro i swap'!FCV4","v":0},{"$f":"FCY35*'Makro i swap'!FCW4","v":0},{"$f":"FCZ35*'Makro i swap'!FCX4","v":0},{"$f":"FDA35*'Makro i swap'!FCY4","v":0},{"$f":"FDB35*'Makro i swap'!FCZ4","v":0},{"$f":"FDC35*'Makro i swap'!FDA4","v":0},{"$f":"FDD35*'Makro i swap'!FDB4","v":0},{"$f":"FDE35*'Makro i swap'!FDC4","v":0},{"$f":"FDF35*'Makro i swap'!FDD4","v":0},{"$f":"FDG35*'Makro i swap'!FDE4","v":0},{"$f":"FDH35*'Makro i swap'!FDF4","v":0},{"$f":"FDI35*'Makro i swap'!FDG4","v":0},{"$f":"FDJ35*'Makro i swap'!FDH4","v":0},{"$f":"FDK35*'Makro i swap'!FDI4","v":0},{"$f":"FDL35*'Makro i swap'!FDJ4","v":0},{"$f":"FDM35*'Makro i swap'!FDK4","v":0},{"$f":"FDN35*'Makro i swap'!FDL4","v":0},{"$f":"FDO35*'Makro i swap'!FDM4","v":0},{"$f":"FDP35*'Makro i swap'!FDN4","v":0},{"$f":"FDQ35*'Makro i swap'!FDO4","v":0},{"$f":"FDR35*'Makro i swap'!FDP4","v":0},{"$f":"FDS35*'Makro i swap'!FDQ4","v":0},{"$f":"FDT35*'Makro i swap'!FDR4","v":0},{"$f":"FDU35*'Makro i swap'!FDS4","v":0},{"$f":"FDV35*'Makro i swap'!FDT4","v":0},{"$f":"FDW35*'Makro i swap'!FDU4","v":0},{"$f":"FDX35*'Makro i swap'!FDV4","v":0},{"$f":"FDY35*'Makro i swap'!FDW4","v":0},{"$f":"FDZ35*'Makro i swap'!FDX4","v":0},{"$f":"FEA35*'Makro i swap'!FDY4","v":0},{"$f":"FEB35*'Makro i swap'!FDZ4","v":0},{"$f":"FEC35*'Makro i swap'!FEA4","v":0},{"$f":"FED35*'Makro i swap'!FEB4","v":0},{"$f":"FEE35*'Makro i swap'!FEC4","v":0},{"$f":"FEF35*'Makro i swap'!FED4","v":0},{"$f":"FEG35*'Makro i swap'!FEE4","v":0},{"$f":"FEH35*'Makro i swap'!FEF4","v":0},{"$f":"FEI35*'Makro i swap'!FEG4","v":0},{"$f":"FEJ35*'Makro i swap'!FEH4","v":0},{"$f":"FEK35*'Makro i swap'!FEI4","v":0},{"$f":"FEL35*'Makro i swap'!FEJ4","v":0},{"$f":"FEM35*'Makro i swap'!FEK4","v":0},{"$f":"FEN35*'Makro i swap'!FEL4","v":0},{"$f":"FEO35*'Makro i swap'!FEM4","v":0},{"$f":"FEP35*'Makro i swap'!FEN4","v":0},{"$f":"FEQ35*'Makro i swap'!FEO4","v":0},{"$f":"FER35*'Makro i swap'!FEP4","v":0},{"$f":"FES35*'Makro i swap'!FEQ4","v":0},{"$f":"FET35*'Makro i swap'!FER4","v":0},{"$f":"FEU35*'Makro i swap'!FES4","v":0},{"$f":"FEV35*'Makro i swap'!FET4","v":0},{"$f":"FEW35*'Makro i swap'!FEU4","v":0},{"$f":"FEX35*'Makro i swap'!FEV4","v":0},{"$f":"FEY35*'Makro i swap'!FEW4","v":0},{"$f":"FEZ35*'Makro i swap'!FEX4","v":0},{"$f":"FFA35*'Makro i swap'!FEY4","v":0},{"$f":"FFB35*'Makro i swap'!FEZ4","v":0},{"$f":"FFC35*'Makro i swap'!FFA4","v":0},{"$f":"FFD35*'Makro i swap'!FFB4","v":0},{"$f":"FFE35*'Makro i swap'!FFC4","v":0},{"$f":"FFF35*'Makro i swap'!FFD4","v":0},{"$f":"FFG35*'Makro i swap'!FFE4","v":0},{"$f":"FFH35*'Makro i swap'!FFF4","v":0},{"$f":"FFI35*'Makro i swap'!FFG4","v":0},{"$f":"FFJ35*'Makro i swap'!FFH4","v":0},{"$f":"FFK35*'Makro i swap'!FFI4","v":0},{"$f":"FFL35*'Makro i swap'!FFJ4","v":0},{"$f":"FFM35*'Makro i swap'!FFK4","v":0},{"$f":"FFN35*'Makro i swap'!FFL4","v":0},{"$f":"FFO35*'Makro i swap'!FFM4","v":0},{"$f":"FFP35*'Makro i swap'!FFN4","v":0},{"$f":"FFQ35*'Makro i swap'!FFO4","v":0},{"$f":"FFR35*'Makro i swap'!FFP4","v":0},{"$f":"FFS35*'Makro i swap'!FFQ4","v":0},{"$f":"FFT35*'Makro i swap'!FFR4","v":0},{"$f":"FFU35*'Makro i swap'!FFS4","v":0},{"$f":"FFV35*'Makro i swap'!FFT4","v":0},{"$f":"FFW35*'Makro i swap'!FFU4","v":0},{"$f":"FFX35*'Makro i swap'!FFV4","v":0},{"$f":"FFY35*'Makro i swap'!FFW4","v":0},{"$f":"FFZ35*'Makro i swap'!FFX4","v":0},{"$f":"FGA35*'Makro i swap'!FFY4","v":0},{"$f":"FGB35*'Makro i swap'!FFZ4","v":0},{"$f":"FGC35*'Makro i swap'!FGA4","v":0},{"$f":"FGD35*'Makro i swap'!FGB4","v":0},{"$f":"FGE35*'Makro i swap'!FGC4","v":0},{"$f":"FGF35*'Makro i swap'!FGD4","v":0},{"$f":"FGG35*'Makro i swap'!FGE4","v":0},{"$f":"FGH35*'Makro i swap'!FGF4","v":0},{"$f":"FGI35*'Makro i swap'!FGG4","v":0},{"$f":"FGJ35*'Makro i swap'!FGH4","v":0},{"$f":"FGK35*'Makro i swap'!FGI4","v":0},{"$f":"FGL35*'Makro i swap'!FGJ4","v":0},{"$f":"FGM35*'Makro i swap'!FGK4","v":0},{"$f":"FGN35*'Makro i swap'!FGL4","v":0},{"$f":"FGO35*'Makro i swap'!FGM4","v":0},{"$f":"FGP35*'Makro i swap'!FGN4","v":0},{"$f":"FGQ35*'Makro i swap'!FGO4","v":0},{"$f":"FGR35*'Makro i swap'!FGP4","v":0},{"$f":"FGS35*'Makro i swap'!FGQ4","v":0},{"$f":"FGT35*'Makro i swap'!FGR4","v":0},{"$f":"FGU35*'Makro i swap'!FGS4","v":0},{"$f":"FGV35*'Makro i swap'!FGT4","v":0},{"$f":"FGW35*'Makro i swap'!FGU4","v":0},{"$f":"FGX35*'Makro i swap'!FGV4","v":0},{"$f":"FGY35*'Makro i swap'!FGW4","v":0},{"$f":"FGZ35*'Makro i swap'!FGX4","v":0},{"$f":"FHA35*'Makro i swap'!FGY4","v":0},{"$f":"FHB35*'Makro i swap'!FGZ4","v":0},{"$f":"FHC35*'Makro i swap'!FHA4","v":0},{"$f":"FHD35*'Makro i swap'!FHB4","v":0},{"$f":"FHE35*'Makro i swap'!FHC4","v":0},{"$f":"FHF35*'Makro i swap'!FHD4","v":0},{"$f":"FHG35*'Makro i swap'!FHE4","v":0},{"$f":"FHH35*'Makro i swap'!FHF4","v":0},{"$f":"FHI35*'Makro i swap'!FHG4","v":0},{"$f":"FHJ35*'Makro i swap'!FHH4","v":0},{"$f":"FHK35*'Makro i swap'!FHI4","v":0},{"$f":"FHL35*'Makro i swap'!FHJ4","v":0},{"$f":"FHM35*'Makro i swap'!FHK4","v":0},{"$f":"FHN35*'Makro i swap'!FHL4","v":0},{"$f":"FHO35*'Makro i swap'!FHM4","v":0},{"$f":"FHP35*'Makro i swap'!FHN4","v":0},{"$f":"FHQ35*'Makro i swap'!FHO4","v":0},{"$f":"FHR35*'Makro i swap'!FHP4","v":0},{"$f":"FHS35*'Makro i swap'!FHQ4","v":0},{"$f":"FHT35*'Makro i swap'!FHR4","v":0},{"$f":"FHU35*'Makro i swap'!FHS4","v":0},{"$f":"FHV35*'Makro i swap'!FHT4","v":0},{"$f":"FHW35*'Makro i swap'!FHU4","v":0},{"$f":"FHX35*'Makro i swap'!FHV4","v":0},{"$f":"FHY35*'Makro i swap'!FHW4","v":0},{"$f":"FHZ35*'Makro i swap'!FHX4","v":0},{"$f":"FIA35*'Makro i swap'!FHY4","v":0},{"$f":"FIB35*'Makro i swap'!FHZ4","v":0},{"$f":"FIC35*'Makro i swap'!FIA4","v":0},{"$f":"FID35*'Makro i swap'!FIB4","v":0},{"$f":"FIE35*'Makro i swap'!FIC4","v":0},{"$f":"FIF35*'Makro i swap'!FID4","v":0},{"$f":"FIG35*'Makro i swap'!FIE4","v":0},{"$f":"FIH35*'Makro i swap'!FIF4","v":0},{"$f":"FII35*'Makro i swap'!FIG4","v":0},{"$f":"FIJ35*'Makro i swap'!FIH4","v":0},{"$f":"FIK35*'Makro i swap'!FII4","v":0},{"$f":"FIL35*'Makro i swap'!FIJ4","v":0},{"$f":"FIM35*'Makro i swap'!FIK4","v":0},{"$f":"FIN35*'Makro i swap'!FIL4","v":0},{"$f":"FIO35*'Makro i swap'!FIM4","v":0},{"$f":"FIP35*'Makro i swap'!FIN4","v":0},{"$f":"FIQ35*'Makro i swap'!FIO4","v":0},{"$f":"FIR35*'Makro i swap'!FIP4","v":0},{"$f":"FIS35*'Makro i swap'!FIQ4","v":0},{"$f":"FIT35*'Makro i swap'!FIR4","v":0},{"$f":"FIU35*'Makro i swap'!FIS4","v":0},{"$f":"FIV35*'Makro i swap'!FIT4","v":0},{"$f":"FIW35*'Makro i swap'!FIU4","v":0},{"$f":"FIX35*'Makro i swap'!FIV4","v":0},{"$f":"FIY35*'Makro i swap'!FIW4","v":0},{"$f":"FIZ35*'Makro i swap'!FIX4","v":0},{"$f":"FJA35*'Makro i swap'!FIY4","v":0},{"$f":"FJB35*'Makro i swap'!FIZ4","v":0},{"$f":"FJC35*'Makro i swap'!FJA4","v":0},{"$f":"FJD35*'Makro i swap'!FJB4","v":0},{"$f":"FJE35*'Makro i swap'!FJC4","v":0},{"$f":"FJF35*'Makro i swap'!FJD4","v":0},{"$f":"FJG35*'Makro i swap'!FJE4","v":0},{"$f":"FJH35*'Makro i swap'!FJF4","v":0},{"$f":"FJI35*'Makro i swap'!FJG4","v":0},{"$f":"FJJ35*'Makro i swap'!FJH4","v":0},{"$f":"FJK35*'Makro i swap'!FJI4","v":0},{"$f":"FJL35*'Makro i swap'!FJJ4","v":0},{"$f":"FJM35*'Makro i swap'!FJK4","v":0},{"$f":"FJN35*'Makro i swap'!FJL4","v":0},{"$f":"FJO35*'Makro i swap'!FJM4","v":0},{"$f":"FJP35*'Makro i swap'!FJN4","v":0},{"$f":"FJQ35*'Makro i swap'!FJO4","v":0},{"$f":"FJR35*'Makro i swap'!FJP4","v":0},{"$f":"FJS35*'Makro i swap'!FJQ4","v":0},{"$f":"FJT35*'Makro i swap'!FJR4","v":0},{"$f":"FJU35*'Makro i swap'!FJS4","v":0},{"$f":"FJV35*'Makro i swap'!FJT4","v":0},{"$f":"FJW35*'Makro i swap'!FJU4","v":0},{"$f":"FJX35*'Makro i swap'!FJV4","v":0},{"$f":"FJY35*'Makro i swap'!FJW4","v":0},{"$f":"FJZ35*'Makro i swap'!FJX4","v":0},{"$f":"FKA35*'Makro i swap'!FJY4","v":0},{"$f":"FKB35*'Makro i swap'!FJZ4","v":0},{"$f":"FKC35*'Makro i swap'!FKA4","v":0},{"$f":"FKD35*'Makro i swap'!FKB4","v":0},{"$f":"FKE35*'Makro i swap'!FKC4","v":0},{"$f":"FKF35*'Makro i swap'!FKD4","v":0},{"$f":"FKG35*'Makro i swap'!FKE4","v":0},{"$f":"FKH35*'Makro i swap'!FKF4","v":0},{"$f":"FKI35*'Makro i swap'!FKG4","v":0},{"$f":"FKJ35*'Makro i swap'!FKH4","v":0},{"$f":"FKK35*'Makro i swap'!FKI4","v":0},{"$f":"FKL35*'Makro i swap'!FKJ4","v":0},{"$f":"FKM35*'Makro i swap'!FKK4","v":0},{"$f":"FKN35*'Makro i swap'!FKL4","v":0},{"$f":"FKO35*'Makro i swap'!FKM4","v":0},{"$f":"FKP35*'Makro i swap'!FKN4","v":0},{"$f":"FKQ35*'Makro i swap'!FKO4","v":0},{"$f":"FKR35*'Makro i swap'!FKP4","v":0},{"$f":"FKS35*'Makro i swap'!FKQ4","v":0},{"$f":"FKT35*'Makro i swap'!FKR4","v":0},{"$f":"FKU35*'Makro i swap'!FKS4","v":0},{"$f":"FKV35*'Makro i swap'!FKT4","v":0},{"$f":"FKW35*'Makro i swap'!FKU4","v":0},{"$f":"FKX35*'Makro i swap'!FKV4","v":0},{"$f":"FKY35*'Makro i swap'!FKW4","v":0},{"$f":"FKZ35*'Makro i swap'!FKX4","v":0},{"$f":"FLA35*'Makro i swap'!FKY4","v":0},{"$f":"FLB35*'Makro i swap'!FKZ4","v":0},{"$f":"FLC35*'Makro i swap'!FLA4","v":0},{"$f":"FLD35*'Makro i swap'!FLB4","v":0},{"$f":"FLE35*'Makro i swap'!FLC4","v":0},{"$f":"FLF35*'Makro i swap'!FLD4","v":0},{"$f":"FLG35*'Makro i swap'!FLE4","v":0},{"$f":"FLH35*'Makro i swap'!FLF4","v":0},{"$f":"FLI35*'Makro i swap'!FLG4","v":0},{"$f":"FLJ35*'Makro i swap'!FLH4","v":0},{"$f":"FLK35*'Makro i swap'!FLI4","v":0},{"$f":"FLL35*'Makro i swap'!FLJ4","v":0},{"$f":"FLM35*'Makro i swap'!FLK4","v":0},{"$f":"FLN35*'Makro i swap'!FLL4","v":0},{"$f":"FLO35*'Makro i swap'!FLM4","v":0},{"$f":"FLP35*'Makro i swap'!FLN4","v":0},{"$f":"FLQ35*'Makro i swap'!FLO4","v":0},{"$f":"FLR35*'Makro i swap'!FLP4","v":0},{"$f":"FLS35*'Makro i swap'!FLQ4","v":0},{"$f":"FLT35*'Makro i swap'!FLR4","v":0},{"$f":"FLU35*'Makro i swap'!FLS4","v":0},{"$f":"FLV35*'Makro i swap'!FLT4","v":0},{"$f":"FLW35*'Makro i swap'!FLU4","v":0},{"$f":"FLX35*'Makro i swap'!FLV4","v":0},{"$f":"FLY35*'Makro i swap'!FLW4","v":0},{"$f":"FLZ35*'Makro i swap'!FLX4","v":0},{"$f":"FMA35*'Makro i swap'!FLY4","v":0},{"$f":"FMB35*'Makro i swap'!FLZ4","v":0},{"$f":"FMC35*'Makro i swap'!FMA4","v":0},{"$f":"FMD35*'Makro i swap'!FMB4","v":0},{"$f":"FME35*'Makro i swap'!FMC4","v":0},{"$f":"FMF35*'Makro i swap'!FMD4","v":0},{"$f":"FMG35*'Makro i swap'!FME4","v":0},{"$f":"FMH35*'Makro i swap'!FMF4","v":0},{"$f":"FMI35*'Makro i swap'!FMG4","v":0},{"$f":"FMJ35*'Makro i swap'!FMH4","v":0},{"$f":"FMK35*'Makro i swap'!FMI4","v":0},{"$f":"FML35*'Makro i swap'!FMJ4","v":0},{"$f":"FMM35*'Makro i swap'!FMK4","v":0},{"$f":"FMN35*'Makro i swap'!FML4","v":0},{"$f":"FMO35*'Makro i swap'!FMM4","v":0},{"$f":"FMP35*'Makro i swap'!FMN4","v":0},{"$f":"FMQ35*'Makro i swap'!FMO4","v":0},{"$f":"FMR35*'Makro i swap'!FMP4","v":0},{"$f":"FMS35*'Makro i swap'!FMQ4","v":0},{"$f":"FMT35*'Makro i swap'!FMR4","v":0},{"$f":"FMU35*'Makro i swap'!FMS4","v":0},{"$f":"FMV35*'Makro i swap'!FMT4","v":0},{"$f":"FMW35*'Makro i swap'!FMU4","v":0},{"$f":"FMX35*'Makro i swap'!FMV4","v":0},{"$f":"FMY35*'Makro i swap'!FMW4","v":0},{"$f":"FMZ35*'Makro i swap'!FMX4","v":0},{"$f":"FNA35*'Makro i swap'!FMY4","v":0},{"$f":"FNB35*'Makro i swap'!FMZ4","v":0},{"$f":"FNC35*'Makro i swap'!FNA4","v":0},{"$f":"FND35*'Makro i swap'!FNB4","v":0},{"$f":"FNE35*'Makro i swap'!FNC4","v":0},{"$f":"FNF35*'Makro i swap'!FND4","v":0},{"$f":"FNG35*'Makro i swap'!FNE4","v":0},{"$f":"FNH35*'Makro i swap'!FNF4","v":0},{"$f":"FNI35*'Makro i swap'!FNG4","v":0},{"$f":"FNJ35*'Makro i swap'!FNH4","v":0},{"$f":"FNK35*'Makro i swap'!FNI4","v":0},{"$f":"FNL35*'Makro i swap'!FNJ4","v":0},{"$f":"FNM35*'Makro i swap'!FNK4","v":0},{"$f":"FNN35*'Makro i swap'!FNL4","v":0},{"$f":"FNO35*'Makro i swap'!FNM4","v":0},{"$f":"FNP35*'Makro i swap'!FNN4","v":0},{"$f":"FNQ35*'Makro i swap'!FNO4","v":0},{"$f":"FNR35*'Makro i swap'!FNP4","v":0},{"$f":"FNS35*'Makro i swap'!FNQ4","v":0},{"$f":"FNT35*'Makro i swap'!FNR4","v":0},{"$f":"FNU35*'Makro i swap'!FNS4","v":0},{"$f":"FNV35*'Makro i swap'!FNT4","v":0},{"$f":"FNW35*'Makro i swap'!FNU4","v":0},{"$f":"FNX35*'Makro i swap'!FNV4","v":0},{"$f":"FNY35*'Makro i swap'!FNW4","v":0},{"$f":"FNZ35*'Makro i swap'!FNX4","v":0},{"$f":"FOA35*'Makro i swap'!FNY4","v":0},{"$f":"FOB35*'Makro i swap'!FNZ4","v":0},{"$f":"FOC35*'Makro i swap'!FOA4","v":0},{"$f":"FOD35*'Makro i swap'!FOB4","v":0},{"$f":"FOE35*'Makro i swap'!FOC4","v":0},{"$f":"FOF35*'Makro i swap'!FOD4","v":0},{"$f":"FOG35*'Makro i swap'!FOE4","v":0},{"$f":"FOH35*'Makro i swap'!FOF4","v":0},{"$f":"FOI35*'Makro i swap'!FOG4","v":0},{"$f":"FOJ35*'Makro i swap'!FOH4","v":0},{"$f":"FOK35*'Makro i swap'!FOI4","v":0},{"$f":"FOL35*'Makro i swap'!FOJ4","v":0},{"$f":"FOM35*'Makro i swap'!FOK4","v":0},{"$f":"FON35*'Makro i swap'!FOL4","v":0},{"$f":"FOO35*'Makro i swap'!FOM4","v":0},{"$f":"FOP35*'Makro i swap'!FON4","v":0},{"$f":"FOQ35*'Makro i swap'!FOO4","v":0},{"$f":"FOR35*'Makro i swap'!FOP4","v":0},{"$f":"FOS35*'Makro i swap'!FOQ4","v":0},{"$f":"FOT35*'Makro i swap'!FOR4","v":0},{"$f":"FOU35*'Makro i swap'!FOS4","v":0},{"$f":"FOV35*'Makro i swap'!FOT4","v":0},{"$f":"FOW35*'Makro i swap'!FOU4","v":0},{"$f":"FOX35*'Makro i swap'!FOV4","v":0},{"$f":"FOY35*'Makro i swap'!FOW4","v":0},{"$f":"FOZ35*'Makro i swap'!FOX4","v":0},{"$f":"FPA35*'Makro i swap'!FOY4","v":0},{"$f":"FPB35*'Makro i swap'!FOZ4","v":0},{"$f":"FPC35*'Makro i swap'!FPA4","v":0},{"$f":"FPD35*'Makro i swap'!FPB4","v":0},{"$f":"FPE35*'Makro i swap'!FPC4","v":0},{"$f":"FPF35*'Makro i swap'!FPD4","v":0},{"$f":"FPG35*'Makro i swap'!FPE4","v":0},{"$f":"FPH35*'Makro i swap'!FPF4","v":0},{"$f":"FPI35*'Makro i swap'!FPG4","v":0},{"$f":"FPJ35*'Makro i swap'!FPH4","v":0},{"$f":"FPK35*'Makro i swap'!FPI4","v":0},{"$f":"FPL35*'Makro i swap'!FPJ4","v":0},{"$f":"FPM35*'Makro i swap'!FPK4","v":0},{"$f":"FPN35*'Makro i swap'!FPL4","v":0},{"$f":"FPO35*'Makro i swap'!FPM4","v":0},{"$f":"FPP35*'Makro i swap'!FPN4","v":0},{"$f":"FPQ35*'Makro i swap'!FPO4","v":0},{"$f":"FPR35*'Makro i swap'!FPP4","v":0},{"$f":"FPS35*'Makro i swap'!FPQ4","v":0},{"$f":"FPT35*'Makro i swap'!FPR4","v":0},{"$f":"FPU35*'Makro i swap'!FPS4","v":0},{"$f":"FPV35*'Makro i swap'!FPT4","v":0},{"$f":"FPW35*'Makro i swap'!FPU4","v":0},{"$f":"FPX35*'Makro i swap'!FPV4","v":0},{"$f":"FPY35*'Makro i swap'!FPW4","v":0},{"$f":"FPZ35*'Makro i swap'!FPX4","v":0},{"$f":"FQA35*'Makro i swap'!FPY4","v":0},{"$f":"FQB35*'Makro i swap'!FPZ4","v":0},{"$f":"FQC35*'Makro i swap'!FQA4","v":0},{"$f":"FQD35*'Makro i swap'!FQB4","v":0},{"$f":"FQE35*'Makro i swap'!FQC4","v":0},{"$f":"FQF35*'Makro i swap'!FQD4","v":0},{"$f":"FQG35*'Makro i swap'!FQE4","v":0},{"$f":"FQH35*'Makro i swap'!FQF4","v":0},{"$f":"FQI35*'Makro i swap'!FQG4","v":0},{"$f":"FQJ35*'Makro i swap'!FQH4","v":0},{"$f":"FQK35*'Makro i swap'!FQI4","v":0},{"$f":"FQL35*'Makro i swap'!FQJ4","v":0},{"$f":"FQM35*'Makro i swap'!FQK4","v":0},{"$f":"FQN35*'Makro i swap'!FQL4","v":0},{"$f":"FQO35*'Makro i swap'!FQM4","v":0},{"$f":"FQP35*'Makro i swap'!FQN4","v":0},{"$f":"FQQ35*'Makro i swap'!FQO4","v":0},{"$f":"FQR35*'Makro i swap'!FQP4","v":0},{"$f":"FQS35*'Makro i swap'!FQQ4","v":0},{"$f":"FQT35*'Makro i swap'!FQR4","v":0},{"$f":"FQU35*'Makro i swap'!FQS4","v":0},{"$f":"FQV35*'Makro i swap'!FQT4","v":0},{"$f":"FQW35*'Makro i swap'!FQU4","v":0},{"$f":"FQX35*'Makro i swap'!FQV4","v":0},{"$f":"FQY35*'Makro i swap'!FQW4","v":0},{"$f":"FQZ35*'Makro i swap'!FQX4","v":0},{"$f":"FRA35*'Makro i swap'!FQY4","v":0},{"$f":"FRB35*'Makro i swap'!FQZ4","v":0},{"$f":"FRC35*'Makro i swap'!FRA4","v":0},{"$f":"FRD35*'Makro i swap'!FRB4","v":0},{"$f":"FRE35*'Makro i swap'!FRC4","v":0},{"$f":"FRF35*'Makro i swap'!FRD4","v":0},{"$f":"FRG35*'Makro i swap'!FRE4","v":0},{"$f":"FRH35*'Makro i swap'!FRF4","v":0},{"$f":"FRI35*'Makro i swap'!FRG4","v":0},{"$f":"FRJ35*'Makro i swap'!FRH4","v":0},{"$f":"FRK35*'Makro i swap'!FRI4","v":0},{"$f":"FRL35*'Makro i swap'!FRJ4","v":0},{"$f":"FRM35*'Makro i swap'!FRK4","v":0},{"$f":"FRN35*'Makro i swap'!FRL4","v":0},{"$f":"FRO35*'Makro i swap'!FRM4","v":0},{"$f":"FRP35*'Makro i swap'!FRN4","v":0},{"$f":"FRQ35*'Makro i swap'!FRO4","v":0},{"$f":"FRR35*'Makro i swap'!FRP4","v":0},{"$f":"FRS35*'Makro i swap'!FRQ4","v":0},{"$f":"FRT35*'Makro i swap'!FRR4","v":0},{"$f":"FRU35*'Makro i swap'!FRS4","v":0},{"$f":"FRV35*'Makro i swap'!FRT4","v":0},{"$f":"FRW35*'Makro i swap'!FRU4","v":0},{"$f":"FRX35*'Makro i swap'!FRV4","v":0},{"$f":"FRY35*'Makro i swap'!FRW4","v":0},{"$f":"FRZ35*'Makro i swap'!FRX4","v":0},{"$f":"FSA35*'Makro i swap'!FRY4","v":0},{"$f":"FSB35*'Makro i swap'!FRZ4","v":0},{"$f":"FSC35*'Makro i swap'!FSA4","v":0},{"$f":"FSD35*'Makro i swap'!FSB4","v":0},{"$f":"FSE35*'Makro i swap'!FSC4","v":0},{"$f":"FSF35*'Makro i swap'!FSD4","v":0},{"$f":"FSG35*'Makro i swap'!FSE4","v":0},{"$f":"FSH35*'Makro i swap'!FSF4","v":0},{"$f":"FSI35*'Makro i swap'!FSG4","v":0},{"$f":"FSJ35*'Makro i swap'!FSH4","v":0},{"$f":"FSK35*'Makro i swap'!FSI4","v":0},{"$f":"FSL35*'Makro i swap'!FSJ4","v":0},{"$f":"FSM35*'Makro i swap'!FSK4","v":0},{"$f":"FSN35*'Makro i swap'!FSL4","v":0},{"$f":"FSO35*'Makro i swap'!FSM4","v":0},{"$f":"FSP35*'Makro i swap'!FSN4","v":0},{"$f":"FSQ35*'Makro i swap'!FSO4","v":0},{"$f":"FSR35*'Makro i swap'!FSP4","v":0},{"$f":"FSS35*'Makro i swap'!FSQ4","v":0},{"$f":"FST35*'Makro i swap'!FSR4","v":0},{"$f":"FSU35*'Makro i swap'!FSS4","v":0},{"$f":"FSV35*'Makro i swap'!FST4","v":0},{"$f":"FSW35*'Makro i swap'!FSU4","v":0},{"$f":"FSX35*'Makro i swap'!FSV4","v":0},{"$f":"FSY35*'Makro i swap'!FSW4","v":0},{"$f":"FSZ35*'Makro i swap'!FSX4","v":0},{"$f":"FTA35*'Makro i swap'!FSY4","v":0},{"$f":"FTB35*'Makro i swap'!FSZ4","v":0},{"$f":"FTC35*'Makro i swap'!FTA4","v":0},{"$f":"FTD35*'Makro i swap'!FTB4","v":0},{"$f":"FTE35*'Makro i swap'!FTC4","v":0},{"$f":"FTF35*'Makro i swap'!FTD4","v":0},{"$f":"FTG35*'Makro i swap'!FTE4","v":0},{"$f":"FTH35*'Makro i swap'!FTF4","v":0},{"$f":"FTI35*'Makro i swap'!FTG4","v":0},{"$f":"FTJ35*'Makro i swap'!FTH4","v":0},{"$f":"FTK35*'Makro i swap'!FTI4","v":0},{"$f":"FTL35*'Makro i swap'!FTJ4","v":0},{"$f":"FTM35*'Makro i swap'!FTK4","v":0},{"$f":"FTN35*'Makro i swap'!FTL4","v":0},{"$f":"FTO35*'Makro i swap'!FTM4","v":0},{"$f":"FTP35*'Makro i swap'!FTN4","v":0},{"$f":"FTQ35*'Makro i swap'!FTO4","v":0},{"$f":"FTR35*'Makro i swap'!FTP4","v":0},{"$f":"FTS35*'Makro i swap'!FTQ4","v":0},{"$f":"FTT35*'Makro i swap'!FTR4","v":0},{"$f":"FTU35*'Makro i swap'!FTS4","v":0},{"$f":"FTV35*'Makro i swap'!FTT4","v":0},{"$f":"FTW35*'Makro i swap'!FTU4","v":0},{"$f":"FTX35*'Makro i swap'!FTV4","v":0},{"$f":"FTY35*'Makro i swap'!FTW4","v":0},{"$f":"FTZ35*'Makro i swap'!FTX4","v":0},{"$f":"FUA35*'Makro i swap'!FTY4","v":0},{"$f":"FUB35*'Makro i swap'!FTZ4","v":0},{"$f":"FUC35*'Makro i swap'!FUA4","v":0},{"$f":"FUD35*'Makro i swap'!FUB4","v":0},{"$f":"FUE35*'Makro i swap'!FUC4","v":0},{"$f":"FUF35*'Makro i swap'!FUD4","v":0},{"$f":"FUG35*'Makro i swap'!FUE4","v":0},{"$f":"FUH35*'Makro i swap'!FUF4","v":0},{"$f":"FUI35*'Makro i swap'!FUG4","v":0},{"$f":"FUJ35*'Makro i swap'!FUH4","v":0},{"$f":"FUK35*'Makro i swap'!FUI4","v":0},{"$f":"FUL35*'Makro i swap'!FUJ4","v":0},{"$f":"FUM35*'Makro i swap'!FUK4","v":0},{"$f":"FUN35*'Makro i swap'!FUL4","v":0},{"$f":"FUO35*'Makro i swap'!FUM4","v":0},{"$f":"FUP35*'Makro i swap'!FUN4","v":0},{"$f":"FUQ35*'Makro i swap'!FUO4","v":0},{"$f":"FUR35*'Makro i swap'!FUP4","v":0},{"$f":"FUS35*'Makro i swap'!FUQ4","v":0},{"$f":"FUT35*'Makro i swap'!FUR4","v":0},{"$f":"FUU35*'Makro i swap'!FUS4","v":0},{"$f":"FUV35*'Makro i swap'!FUT4","v":0},{"$f":"FUW35*'Makro i swap'!FUU4","v":0},{"$f":"FUX35*'Makro i swap'!FUV4","v":0},{"$f":"FUY35*'Makro i swap'!FUW4","v":0},{"$f":"FUZ35*'Makro i swap'!FUX4","v":0},{"$f":"FVA35*'Makro i swap'!FUY4","v":0},{"$f":"FVB35*'Makro i swap'!FUZ4","v":0},{"$f":"FVC35*'Makro i swap'!FVA4","v":0},{"$f":"FVD35*'Makro i swap'!FVB4","v":0},{"$f":"FVE35*'Makro i swap'!FVC4","v":0},{"$f":"FVF35*'Makro i swap'!FVD4","v":0},{"$f":"FVG35*'Makro i swap'!FVE4","v":0},{"$f":"FVH35*'Makro i swap'!FVF4","v":0},{"$f":"FVI35*'Makro i swap'!FVG4","v":0},{"$f":"FVJ35*'Makro i swap'!FVH4","v":0},{"$f":"FVK35*'Makro i swap'!FVI4","v":0},{"$f":"FVL35*'Makro i swap'!FVJ4","v":0},{"$f":"FVM35*'Makro i swap'!FVK4","v":0},{"$f":"FVN35*'Makro i swap'!FVL4","v":0},{"$f":"FVO35*'Makro i swap'!FVM4","v":0},{"$f":"FVP35*'Makro i swap'!FVN4","v":0},{"$f":"FVQ35*'Makro i swap'!FVO4","v":0},{"$f":"FVR35*'Makro i swap'!FVP4","v":0},{"$f":"FVS35*'Makro i swap'!FVQ4","v":0},{"$f":"FVT35*'Makro i swap'!FVR4","v":0},{"$f":"FVU35*'Makro i swap'!FVS4","v":0},{"$f":"FVV35*'Makro i swap'!FVT4","v":0},{"$f":"FVW35*'Makro i swap'!FVU4","v":0},{"$f":"FVX35*'Makro i swap'!FVV4","v":0},{"$f":"FVY35*'Makro i swap'!FVW4","v":0},{"$f":"FVZ35*'Makro i swap'!FVX4","v":0},{"$f":"FWA35*'Makro i swap'!FVY4","v":0},{"$f":"FWB35*'Makro i swap'!FVZ4","v":0},{"$f":"FWC35*'Makro i swap'!FWA4","v":0},{"$f":"FWD35*'Makro i swap'!FWB4","v":0},{"$f":"FWE35*'Makro i swap'!FWC4","v":0},{"$f":"FWF35*'Makro i swap'!FWD4","v":0},{"$f":"FWG35*'Makro i swap'!FWE4","v":0},{"$f":"FWH35*'Makro i swap'!FWF4","v":0},{"$f":"FWI35*'Makro i swap'!FWG4","v":0},{"$f":"FWJ35*'Makro i swap'!FWH4","v":0},{"$f":"FWK35*'Makro i swap'!FWI4","v":0},{"$f":"FWL35*'Makro i swap'!FWJ4","v":0},{"$f":"FWM35*'Makro i swap'!FWK4","v":0},{"$f":"FWN35*'Makro i swap'!FWL4","v":0},{"$f":"FWO35*'Makro i swap'!FWM4","v":0},{"$f":"FWP35*'Makro i swap'!FWN4","v":0},{"$f":"FWQ35*'Makro i swap'!FWO4","v":0},{"$f":"FWR35*'Makro i swap'!FWP4","v":0},{"$f":"FWS35*'Makro i swap'!FWQ4","v":0},{"$f":"FWT35*'Makro i swap'!FWR4","v":0},{"$f":"FWU35*'Makro i swap'!FWS4","v":0},{"$f":"FWV35*'Makro i swap'!FWT4","v":0},{"$f":"FWW35*'Makro i swap'!FWU4","v":0},{"$f":"FWX35*'Makro i swap'!FWV4","v":0},{"$f":"FWY35*'Makro i swap'!FWW4","v":0},{"$f":"FWZ35*'Makro i swap'!FWX4","v":0},{"$f":"FXA35*'Makro i swap'!FWY4","v":0},{"$f":"FXB35*'Makro i swap'!FWZ4","v":0},{"$f":"FXC35*'Makro i swap'!FXA4","v":0},{"$f":"FXD35*'Makro i swap'!FXB4","v":0},{"$f":"FXE35*'Makro i swap'!FXC4","v":0},{"$f":"FXF35*'Makro i swap'!FXD4","v":0},{"$f":"FXG35*'Makro i swap'!FXE4","v":0},{"$f":"FXH35*'Makro i swap'!FXF4","v":0},{"$f":"FXI35*'Makro i swap'!FXG4","v":0},{"$f":"FXJ35*'Makro i swap'!FXH4","v":0},{"$f":"FXK35*'Makro i swap'!FXI4","v":0},{"$f":"FXL35*'Makro i swap'!FXJ4","v":0},{"$f":"FXM35*'Makro i swap'!FXK4","v":0},{"$f":"FXN35*'Makro i swap'!FXL4","v":0},{"$f":"FXO35*'Makro i swap'!FXM4","v":0},{"$f":"FXP35*'Makro i swap'!FXN4","v":0},{"$f":"FXQ35*'Makro i swap'!FXO4","v":0},{"$f":"FXR35*'Makro i swap'!FXP4","v":0},{"$f":"FXS35*'Makro i swap'!FXQ4","v":0},{"$f":"FXT35*'Makro i swap'!FXR4","v":0},{"$f":"FXU35*'Makro i swap'!FXS4","v":0},{"$f":"FXV35*'Makro i swap'!FXT4","v":0},{"$f":"FXW35*'Makro i swap'!FXU4","v":0},{"$f":"FXX35*'Makro i swap'!FXV4","v":0},{"$f":"FXY35*'Makro i swap'!FXW4","v":0},{"$f":"FXZ35*'Makro i swap'!FXX4","v":0},{"$f":"FYA35*'Makro i swap'!FXY4","v":0},{"$f":"FYB35*'Makro i swap'!FXZ4","v":0},{"$f":"FYC35*'Makro i swap'!FYA4","v":0},{"$f":"FYD35*'Makro i swap'!FYB4","v":0},{"$f":"FYE35*'Makro i swap'!FYC4","v":0},{"$f":"FYF35*'Makro i swap'!FYD4","v":0},{"$f":"FYG35*'Makro i swap'!FYE4","v":0},{"$f":"FYH35*'Makro i swap'!FYF4","v":0},{"$f":"FYI35*'Makro i swap'!FYG4","v":0},{"$f":"FYJ35*'Makro i swap'!FYH4","v":0},{"$f":"FYK35*'Makro i swap'!FYI4","v":0},{"$f":"FYL35*'Makro i swap'!FYJ4","v":0},{"$f":"FYM35*'Makro i swap'!FYK4","v":0},{"$f":"FYN35*'Makro i swap'!FYL4","v":0},{"$f":"FYO35*'Makro i swap'!FYM4","v":0},{"$f":"FYP35*'Makro i swap'!FYN4","v":0},{"$f":"FYQ35*'Makro i swap'!FYO4","v":0},{"$f":"FYR35*'Makro i swap'!FYP4","v":0},{"$f":"FYS35*'Makro i swap'!FYQ4","v":0},{"$f":"FYT35*'Makro i swap'!FYR4","v":0},{"$f":"FYU35*'Makro i swap'!FYS4","v":0},{"$f":"FYV35*'Makro i swap'!FYT4","v":0},{"$f":"FYW35*'Makro i swap'!FYU4","v":0},{"$f":"FYX35*'Makro i swap'!FYV4","v":0},{"$f":"FYY35*'Makro i swap'!FYW4","v":0},{"$f":"FYZ35*'Makro i swap'!FYX4","v":0},{"$f":"FZA35*'Makro i swap'!FYY4","v":0},{"$f":"FZB35*'Makro i swap'!FYZ4","v":0},{"$f":"FZC35*'Makro i swap'!FZA4","v":0},{"$f":"FZD35*'Makro i swap'!FZB4","v":0},{"$f":"FZE35*'Makro i swap'!FZC4","v":0},{"$f":"FZF35*'Makro i swap'!FZD4","v":0},{"$f":"FZG35*'Makro i swap'!FZE4","v":0},{"$f":"FZH35*'Makro i swap'!FZF4","v":0},{"$f":"FZI35*'Makro i swap'!FZG4","v":0},{"$f":"FZJ35*'Makro i swap'!FZH4","v":0},{"$f":"FZK35*'Makro i swap'!FZI4","v":0},{"$f":"FZL35*'Makro i swap'!FZJ4","v":0},{"$f":"FZM35*'Makro i swap'!FZK4","v":0},{"$f":"FZN35*'Makro i swap'!FZL4","v":0},{"$f":"FZO35*'Makro i swap'!FZM4","v":0},{"$f":"FZP35*'Makro i swap'!FZN4","v":0},{"$f":"FZQ35*'Makro i swap'!FZO4","v":0},{"$f":"FZR35*'Makro i swap'!FZP4","v":0},{"$f":"FZS35*'Makro i swap'!FZQ4","v":0},{"$f":"FZT35*'Makro i swap'!FZR4","v":0},{"$f":"FZU35*'Makro i swap'!FZS4","v":0},{"$f":"FZV35*'Makro i swap'!FZT4","v":0},{"$f":"FZW35*'Makro i swap'!FZU4","v":0},{"$f":"FZX35*'Makro i swap'!FZV4","v":0},{"$f":"FZY35*'Makro i swap'!FZW4","v":0},{"$f":"FZZ35*'Makro i swap'!FZX4","v":0},{"$f":"GAA35*'Makro i swap'!FZY4","v":0},{"$f":"GAB35*'Makro i swap'!FZZ4","v":0},{"$f":"GAC35*'Makro i swap'!GAA4","v":0},{"$f":"GAD35*'Makro i swap'!GAB4","v":0},{"$f":"GAE35*'Makro i swap'!GAC4","v":0},{"$f":"GAF35*'Makro i swap'!GAD4","v":0},{"$f":"GAG35*'Makro i swap'!GAE4","v":0},{"$f":"GAH35*'Makro i swap'!GAF4","v":0},{"$f":"GAI35*'Makro i swap'!GAG4","v":0},{"$f":"GAJ35*'Makro i swap'!GAH4","v":0},{"$f":"GAK35*'Makro i swap'!GAI4","v":0},{"$f":"GAL35*'Makro i swap'!GAJ4","v":0},{"$f":"GAM35*'Makro i swap'!GAK4","v":0},{"$f":"GAN35*'Makro i swap'!GAL4","v":0},{"$f":"GAO35*'Makro i swap'!GAM4","v":0},{"$f":"GAP35*'Makro i swap'!GAN4","v":0},{"$f":"GAQ35*'Makro i swap'!GAO4","v":0},{"$f":"GAR35*'Makro i swap'!GAP4","v":0},{"$f":"GAS35*'Makro i swap'!GAQ4","v":0},{"$f":"GAT35*'Makro i swap'!GAR4","v":0},{"$f":"GAU35*'Makro i swap'!GAS4","v":0},{"$f":"GAV35*'Makro i swap'!GAT4","v":0},{"$f":"GAW35*'Makro i swap'!GAU4","v":0},{"$f":"GAX35*'Makro i swap'!GAV4","v":0},{"$f":"GAY35*'Makro i swap'!GAW4","v":0},{"$f":"GAZ35*'Makro i swap'!GAX4","v":0},{"$f":"GBA35*'Makro i swap'!GAY4","v":0},{"$f":"GBB35*'Makro i swap'!GAZ4","v":0},{"$f":"GBC35*'Makro i swap'!GBA4","v":0},{"$f":"GBD35*'Makro i swap'!GBB4","v":0},{"$f":"GBE35*'Makro i swap'!GBC4","v":0},{"$f":"GBF35*'Makro i swap'!GBD4","v":0},{"$f":"GBG35*'Makro i swap'!GBE4","v":0},{"$f":"GBH35*'Makro i swap'!GBF4","v":0},{"$f":"GBI35*'Makro i swap'!GBG4","v":0},{"$f":"GBJ35*'Makro i swap'!GBH4","v":0},{"$f":"GBK35*'Makro i swap'!GBI4","v":0},{"$f":"GBL35*'Makro i swap'!GBJ4","v":0},{"$f":"GBM35*'Makro i swap'!GBK4","v":0},{"$f":"GBN35*'Makro i swap'!GBL4","v":0},{"$f":"GBO35*'Makro i swap'!GBM4","v":0},{"$f":"GBP35*'Makro i swap'!GBN4","v":0},{"$f":"GBQ35*'Makro i swap'!GBO4","v":0},{"$f":"GBR35*'Makro i swap'!GBP4","v":0},{"$f":"GBS35*'Makro i swap'!GBQ4","v":0},{"$f":"GBT35*'Makro i swap'!GBR4","v":0},{"$f":"GBU35*'Makro i swap'!GBS4","v":0},{"$f":"GBV35*'Makro i swap'!GBT4","v":0},{"$f":"GBW35*'Makro i swap'!GBU4","v":0},{"$f":"GBX35*'Makro i swap'!GBV4","v":0},{"$f":"GBY35*'Makro i swap'!GBW4","v":0},{"$f":"GBZ35*'Makro i swap'!GBX4","v":0},{"$f":"GCA35*'Makro i swap'!GBY4","v":0},{"$f":"GCB35*'Makro i swap'!GBZ4","v":0},{"$f":"GCC35*'Makro i swap'!GCA4","v":0},{"$f":"GCD35*'Makro i swap'!GCB4","v":0},{"$f":"GCE35*'Makro i swap'!GCC4","v":0},{"$f":"GCF35*'Makro i swap'!GCD4","v":0},{"$f":"GCG35*'Makro i swap'!GCE4","v":0},{"$f":"GCH35*'Makro i swap'!GCF4","v":0},{"$f":"GCI35*'Makro i swap'!GCG4","v":0},{"$f":"GCJ35*'Makro i swap'!GCH4","v":0},{"$f":"GCK35*'Makro i swap'!GCI4","v":0},{"$f":"GCL35*'Makro i swap'!GCJ4","v":0},{"$f":"GCM35*'Makro i swap'!GCK4","v":0},{"$f":"GCN35*'Makro i swap'!GCL4","v":0},{"$f":"GCO35*'Makro i swap'!GCM4","v":0},{"$f":"GCP35*'Makro i swap'!GCN4","v":0},{"$f":"GCQ35*'Makro i swap'!GCO4","v":0},{"$f":"GCR35*'Makro i swap'!GCP4","v":0},{"$f":"GCS35*'Makro i swap'!GCQ4","v":0},{"$f":"GCT35*'Makro i swap'!GCR4","v":0},{"$f":"GCU35*'Makro i swap'!GCS4","v":0},{"$f":"GCV35*'Makro i swap'!GCT4","v":0},{"$f":"GCW35*'Makro i swap'!GCU4","v":0},{"$f":"GCX35*'Makro i swap'!GCV4","v":0},{"$f":"GCY35*'Makro i swap'!GCW4","v":0},{"$f":"GCZ35*'Makro i swap'!GCX4","v":0},{"$f":"GDA35*'Makro i swap'!GCY4","v":0},{"$f":"GDB35*'Makro i swap'!GCZ4","v":0},{"$f":"GDC35*'Makro i swap'!GDA4","v":0},{"$f":"GDD35*'Makro i swap'!GDB4","v":0},{"$f":"GDE35*'Makro i swap'!GDC4","v":0},{"$f":"GDF35*'Makro i swap'!GDD4","v":0},{"$f":"GDG35*'Makro i swap'!GDE4","v":0},{"$f":"GDH35*'Makro i swap'!GDF4","v":0},{"$f":"GDI35*'Makro i swap'!GDG4","v":0},{"$f":"GDJ35*'Makro i swap'!GDH4","v":0},{"$f":"GDK35*'Makro i swap'!GDI4","v":0},{"$f":"GDL35*'Makro i swap'!GDJ4","v":0},{"$f":"GDM35*'Makro i swap'!GDK4","v":0},{"$f":"GDN35*'Makro i swap'!GDL4","v":0},{"$f":"GDO35*'Makro i swap'!GDM4","v":0},{"$f":"GDP35*'Makro i swap'!GDN4","v":0},{"$f":"GDQ35*'Makro i swap'!GDO4","v":0},{"$f":"GDR35*'Makro i swap'!GDP4","v":0},{"$f":"GDS35*'Makro i swap'!GDQ4","v":0},{"$f":"GDT35*'Makro i swap'!GDR4","v":0},{"$f":"GDU35*'Makro i swap'!GDS4","v":0},{"$f":"GDV35*'Makro i swap'!GDT4","v":0},{"$f":"GDW35*'Makro i swap'!GDU4","v":0},{"$f":"GDX35*'Makro i swap'!GDV4","v":0},{"$f":"GDY35*'Makro i swap'!GDW4","v":0},{"$f":"GDZ35*'Makro i swap'!GDX4","v":0},{"$f":"GEA35*'Makro i swap'!GDY4","v":0},{"$f":"GEB35*'Makro i swap'!GDZ4","v":0},{"$f":"GEC35*'Makro i swap'!GEA4","v":0},{"$f":"GED35*'Makro i swap'!GEB4","v":0},{"$f":"GEE35*'Makro i swap'!GEC4","v":0},{"$f":"GEF35*'Makro i swap'!GED4","v":0},{"$f":"GEG35*'Makro i swap'!GEE4","v":0},{"$f":"GEH35*'Makro i swap'!GEF4","v":0},{"$f":"GEI35*'Makro i swap'!GEG4","v":0},{"$f":"GEJ35*'Makro i swap'!GEH4","v":0},{"$f":"GEK35*'Makro i swap'!GEI4","v":0},{"$f":"GEL35*'Makro i swap'!GEJ4","v":0},{"$f":"GEM35*'Makro i swap'!GEK4","v":0},{"$f":"GEN35*'Makro i swap'!GEL4","v":0},{"$f":"GEO35*'Makro i swap'!GEM4","v":0},{"$f":"GEP35*'Makro i swap'!GEN4","v":0},{"$f":"GEQ35*'Makro i swap'!GEO4","v":0},{"$f":"GER35*'Makro i swap'!GEP4","v":0},{"$f":"GES35*'Makro i swap'!GEQ4","v":0},{"$f":"GET35*'Makro i swap'!GER4","v":0},{"$f":"GEU35*'Makro i swap'!GES4","v":0},{"$f":"GEV35*'Makro i swap'!GET4","v":0},{"$f":"GEW35*'Makro i swap'!GEU4","v":0},{"$f":"GEX35*'Makro i swap'!GEV4","v":0},{"$f":"GEY35*'Makro i swap'!GEW4","v":0},{"$f":"GEZ35*'Makro i swap'!GEX4","v":0},{"$f":"GFA35*'Makro i swap'!GEY4","v":0},{"$f":"GFB35*'Makro i swap'!GEZ4","v":0},{"$f":"GFC35*'Makro i swap'!GFA4","v":0},{"$f":"GFD35*'Makro i swap'!GFB4","v":0},{"$f":"GFE35*'Makro i swap'!GFC4","v":0},{"$f":"GFF35*'Makro i swap'!GFD4","v":0},{"$f":"GFG35*'Makro i swap'!GFE4","v":0},{"$f":"GFH35*'Makro i swap'!GFF4","v":0},{"$f":"GFI35*'Makro i swap'!GFG4","v":0},{"$f":"GFJ35*'Makro i swap'!GFH4","v":0},{"$f":"GFK35*'Makro i swap'!GFI4","v":0},{"$f":"GFL35*'Makro i swap'!GFJ4","v":0},{"$f":"GFM35*'Makro i swap'!GFK4","v":0},{"$f":"GFN35*'Makro i swap'!GFL4","v":0},{"$f":"GFO35*'Makro i swap'!GFM4","v":0},{"$f":"GFP35*'Makro i swap'!GFN4","v":0},{"$f":"GFQ35*'Makro i swap'!GFO4","v":0},{"$f":"GFR35*'Makro i swap'!GFP4","v":0},{"$f":"GFS35*'Makro i swap'!GFQ4","v":0},{"$f":"GFT35*'Makro i swap'!GFR4","v":0},{"$f":"GFU35*'Makro i swap'!GFS4","v":0},{"$f":"GFV35*'Makro i swap'!GFT4","v":0},{"$f":"GFW35*'Makro i swap'!GFU4","v":0},{"$f":"GFX35*'Makro i swap'!GFV4","v":0},{"$f":"GFY35*'Makro i swap'!GFW4","v":0},{"$f":"GFZ35*'Makro i swap'!GFX4","v":0},{"$f":"GGA35*'Makro i swap'!GFY4","v":0},{"$f":"GGB35*'Makro i swap'!GFZ4","v":0},{"$f":"GGC35*'Makro i swap'!GGA4","v":0},{"$f":"GGD35*'Makro i swap'!GGB4","v":0},{"$f":"GGE35*'Makro i swap'!GGC4","v":0},{"$f":"GGF35*'Makro i swap'!GGD4","v":0},{"$f":"GGG35*'Makro i swap'!GGE4","v":0},{"$f":"GGH35*'Makro i swap'!GGF4","v":0},{"$f":"GGI35*'Makro i swap'!GGG4","v":0},{"$f":"GGJ35*'Makro i swap'!GGH4","v":0},{"$f":"GGK35*'Makro i swap'!GGI4","v":0},{"$f":"GGL35*'Makro i swap'!GGJ4","v":0},{"$f":"GGM35*'Makro i swap'!GGK4","v":0},{"$f":"GGN35*'Makro i swap'!GGL4","v":0},{"$f":"GGO35*'Makro i swap'!GGM4","v":0},{"$f":"GGP35*'Makro i swap'!GGN4","v":0},{"$f":"GGQ35*'Makro i swap'!GGO4","v":0},{"$f":"GGR35*'Makro i swap'!GGP4","v":0},{"$f":"GGS35*'Makro i swap'!GGQ4","v":0},{"$f":"GGT35*'Makro i swap'!GGR4","v":0},{"$f":"GGU35*'Makro i swap'!GGS4","v":0},{"$f":"GGV35*'Makro i swap'!GGT4","v":0},{"$f":"GGW35*'Makro i swap'!GGU4","v":0},{"$f":"GGX35*'Makro i swap'!GGV4","v":0},{"$f":"GGY35*'Makro i swap'!GGW4","v":0},{"$f":"GGZ35*'Makro i swap'!GGX4","v":0},{"$f":"GHA35*'Makro i swap'!GGY4","v":0},{"$f":"GHB35*'Makro i swap'!GGZ4","v":0},{"$f":"GHC35*'Makro i swap'!GHA4","v":0},{"$f":"GHD35*'Makro i swap'!GHB4","v":0},{"$f":"GHE35*'Makro i swap'!GHC4","v":0},{"$f":"GHF35*'Makro i swap'!GHD4","v":0},{"$f":"GHG35*'Makro i swap'!GHE4","v":0},{"$f":"GHH35*'Makro i swap'!GHF4","v":0},{"$f":"GHI35*'Makro i swap'!GHG4","v":0},{"$f":"GHJ35*'Makro i swap'!GHH4","v":0},{"$f":"GHK35*'Makro i swap'!GHI4","v":0},{"$f":"GHL35*'Makro i swap'!GHJ4","v":0},{"$f":"GHM35*'Makro i swap'!GHK4","v":0},{"$f":"GHN35*'Makro i swap'!GHL4","v":0},{"$f":"GHO35*'Makro i swap'!GHM4","v":0},{"$f":"GHP35*'Makro i swap'!GHN4","v":0},{"$f":"GHQ35*'Makro i swap'!GHO4","v":0},{"$f":"GHR35*'Makro i swap'!GHP4","v":0},{"$f":"GHS35*'Makro i swap'!GHQ4","v":0},{"$f":"GHT35*'Makro i swap'!GHR4","v":0},{"$f":"GHU35*'Makro i swap'!GHS4","v":0},{"$f":"GHV35*'Makro i swap'!GHT4","v":0},{"$f":"GHW35*'Makro i swap'!GHU4","v":0},{"$f":"GHX35*'Makro i swap'!GHV4","v":0},{"$f":"GHY35*'Makro i swap'!GHW4","v":0},{"$f":"GHZ35*'Makro i swap'!GHX4","v":0},{"$f":"GIA35*'Makro i swap'!GHY4","v":0},{"$f":"GIB35*'Makro i swap'!GHZ4","v":0},{"$f":"GIC35*'Makro i swap'!GIA4","v":0},{"$f":"GID35*'Makro i swap'!GIB4","v":0},{"$f":"GIE35*'Makro i swap'!GIC4","v":0},{"$f":"GIF35*'Makro i swap'!GID4","v":0},{"$f":"GIG35*'Makro i swap'!GIE4","v":0},{"$f":"GIH35*'Makro i swap'!GIF4","v":0},{"$f":"GII35*'Makro i swap'!GIG4","v":0},{"$f":"GIJ35*'Makro i swap'!GIH4","v":0},{"$f":"GIK35*'Makro i swap'!GII4","v":0},{"$f":"GIL35*'Makro i swap'!GIJ4","v":0},{"$f":"GIM35*'Makro i swap'!GIK4","v":0},{"$f":"GIN35*'Makro i swap'!GIL4","v":0},{"$f":"GIO35*'Makro i swap'!GIM4","v":0},{"$f":"GIP35*'Makro i swap'!GIN4","v":0},{"$f":"GIQ35*'Makro i swap'!GIO4","v":0},{"$f":"GIR35*'Makro i swap'!GIP4","v":0},{"$f":"GIS35*'Makro i swap'!GIQ4","v":0},{"$f":"GIT35*'Makro i swap'!GIR4","v":0},{"$f":"GIU35*'Makro i swap'!GIS4","v":0},{"$f":"GIV35*'Makro i swap'!GIT4","v":0},{"$f":"GIW35*'Makro i swap'!GIU4","v":0},{"$f":"GIX35*'Makro i swap'!GIV4","v":0},{"$f":"GIY35*'Makro i swap'!GIW4","v":0},{"$f":"GIZ35*'Makro i swap'!GIX4","v":0},{"$f":"GJA35*'Makro i swap'!GIY4","v":0},{"$f":"GJB35*'Makro i swap'!GIZ4","v":0},{"$f":"GJC35*'Makro i swap'!GJA4","v":0},{"$f":"GJD35*'Makro i swap'!GJB4","v":0},{"$f":"GJE35*'Makro i swap'!GJC4","v":0},{"$f":"GJF35*'Makro i swap'!GJD4","v":0},{"$f":"GJG35*'Makro i swap'!GJE4","v":0},{"$f":"GJH35*'Makro i swap'!GJF4","v":0},{"$f":"GJI35*'Makro i swap'!GJG4","v":0},{"$f":"GJJ35*'Makro i swap'!GJH4","v":0},{"$f":"GJK35*'Makro i swap'!GJI4","v":0},{"$f":"GJL35*'Makro i swap'!GJJ4","v":0},{"$f":"GJM35*'Makro i swap'!GJK4","v":0},{"$f":"GJN35*'Makro i swap'!GJL4","v":0},{"$f":"GJO35*'Makro i swap'!GJM4","v":0},{"$f":"GJP35*'Makro i swap'!GJN4","v":0},{"$f":"GJQ35*'Makro i swap'!GJO4","v":0},{"$f":"GJR35*'Makro i swap'!GJP4","v":0},{"$f":"GJS35*'Makro i swap'!GJQ4","v":0},{"$f":"GJT35*'Makro i swap'!GJR4","v":0},{"$f":"GJU35*'Makro i swap'!GJS4","v":0},{"$f":"GJV35*'Makro i swap'!GJT4","v":0},{"$f":"GJW35*'Makro i swap'!GJU4","v":0},{"$f":"GJX35*'Makro i swap'!GJV4","v":0},{"$f":"GJY35*'Makro i swap'!GJW4","v":0},{"$f":"GJZ35*'Makro i swap'!GJX4","v":0},{"$f":"GKA35*'Makro i swap'!GJY4","v":0},{"$f":"GKB35*'Makro i swap'!GJZ4","v":0},{"$f":"GKC35*'Makro i swap'!GKA4","v":0},{"$f":"GKD35*'Makro i swap'!GKB4","v":0},{"$f":"GKE35*'Makro i swap'!GKC4","v":0},{"$f":"GKF35*'Makro i swap'!GKD4","v":0},{"$f":"GKG35*'Makro i swap'!GKE4","v":0},{"$f":"GKH35*'Makro i swap'!GKF4","v":0},{"$f":"GKI35*'Makro i swap'!GKG4","v":0},{"$f":"GKJ35*'Makro i swap'!GKH4","v":0},{"$f":"GKK35*'Makro i swap'!GKI4","v":0},{"$f":"GKL35*'Makro i swap'!GKJ4","v":0},{"$f":"GKM35*'Makro i swap'!GKK4","v":0},{"$f":"GKN35*'Makro i swap'!GKL4","v":0},{"$f":"GKO35*'Makro i swap'!GKM4","v":0},{"$f":"GKP35*'Makro i swap'!GKN4","v":0},{"$f":"GKQ35*'Makro i swap'!GKO4","v":0},{"$f":"GKR35*'Makro i swap'!GKP4","v":0},{"$f":"GKS35*'Makro i swap'!GKQ4","v":0},{"$f":"GKT35*'Makro i swap'!GKR4","v":0},{"$f":"GKU35*'Makro i swap'!GKS4","v":0},{"$f":"GKV35*'Makro i swap'!GKT4","v":0},{"$f":"GKW35*'Makro i swap'!GKU4","v":0},{"$f":"GKX35*'Makro i swap'!GKV4","v":0},{"$f":"GKY35*'Makro i swap'!GKW4","v":0},{"$f":"GKZ35*'Makro i swap'!GKX4","v":0},{"$f":"GLA35*'Makro i swap'!GKY4","v":0},{"$f":"GLB35*'Makro i swap'!GKZ4","v":0},{"$f":"GLC35*'Makro i swap'!GLA4","v":0},{"$f":"GLD35*'Makro i swap'!GLB4","v":0},{"$f":"GLE35*'Makro i swap'!GLC4","v":0},{"$f":"GLF35*'Makro i swap'!GLD4","v":0},{"$f":"GLG35*'Makro i swap'!GLE4","v":0},{"$f":"GLH35*'Makro i swap'!GLF4","v":0},{"$f":"GLI35*'Makro i swap'!GLG4","v":0},{"$f":"GLJ35*'Makro i swap'!GLH4","v":0},{"$f":"GLK35*'Makro i swap'!GLI4","v":0},{"$f":"GLL35*'Makro i swap'!GLJ4","v":0},{"$f":"GLM35*'Makro i swap'!GLK4","v":0},{"$f":"GLN35*'Makro i swap'!GLL4","v":0},{"$f":"GLO35*'Makro i swap'!GLM4","v":0},{"$f":"GLP35*'Makro i swap'!GLN4","v":0},{"$f":"GLQ35*'Makro i swap'!GLO4","v":0},{"$f":"GLR35*'Makro i swap'!GLP4","v":0},{"$f":"GLS35*'Makro i swap'!GLQ4","v":0},{"$f":"GLT35*'Makro i swap'!GLR4","v":0},{"$f":"GLU35*'Makro i swap'!GLS4","v":0},{"$f":"GLV35*'Makro i swap'!GLT4","v":0},{"$f":"GLW35*'Makro i swap'!GLU4","v":0},{"$f":"GLX35*'Makro i swap'!GLV4","v":0},{"$f":"GLY35*'Makro i swap'!GLW4","v":0},{"$f":"GLZ35*'Makro i swap'!GLX4","v":0},{"$f":"GMA35*'Makro i swap'!GLY4","v":0},{"$f":"GMB35*'Makro i swap'!GLZ4","v":0},{"$f":"GMC35*'Makro i swap'!GMA4","v":0},{"$f":"GMD35*'Makro i swap'!GMB4","v":0},{"$f":"GME35*'Makro i swap'!GMC4","v":0},{"$f":"GMF35*'Makro i swap'!GMD4","v":0},{"$f":"GMG35*'Makro i swap'!GME4","v":0},{"$f":"GMH35*'Makro i swap'!GMF4","v":0},{"$f":"GMI35*'Makro i swap'!GMG4","v":0},{"$f":"GMJ35*'Makro i swap'!GMH4","v":0},{"$f":"GMK35*'Makro i swap'!GMI4","v":0},{"$f":"GML35*'Makro i swap'!GMJ4","v":0},{"$f":"GMM35*'Makro i swap'!GMK4","v":0},{"$f":"GMN35*'Makro i swap'!GML4","v":0},{"$f":"GMO35*'Makro i swap'!GMM4","v":0},{"$f":"GMP35*'Makro i swap'!GMN4","v":0},{"$f":"GMQ35*'Makro i swap'!GMO4","v":0},{"$f":"GMR35*'Makro i swap'!GMP4","v":0},{"$f":"GMS35*'Makro i swap'!GMQ4","v":0},{"$f":"GMT35*'Makro i swap'!GMR4","v":0},{"$f":"GMU35*'Makro i swap'!GMS4","v":0},{"$f":"GMV35*'Makro i swap'!GMT4","v":0},{"$f":"GMW35*'Makro i swap'!GMU4","v":0},{"$f":"GMX35*'Makro i swap'!GMV4","v":0},{"$f":"GMY35*'Makro i swap'!GMW4","v":0},{"$f":"GMZ35*'Makro i swap'!GMX4","v":0},{"$f":"GNA35*'Makro i swap'!GMY4","v":0},{"$f":"GNB35*'Makro i swap'!GMZ4","v":0},{"$f":"GNC35*'Makro i swap'!GNA4","v":0},{"$f":"GND35*'Makro i swap'!GNB4","v":0},{"$f":"GNE35*'Makro i swap'!GNC4","v":0},{"$f":"GNF35*'Makro i swap'!GND4","v":0},{"$f":"GNG35*'Makro i swap'!GNE4","v":0},{"$f":"GNH35*'Makro i swap'!GNF4","v":0},{"$f":"GNI35*'Makro i swap'!GNG4","v":0},{"$f":"GNJ35*'Makro i swap'!GNH4","v":0},{"$f":"GNK35*'Makro i swap'!GNI4","v":0},{"$f":"GNL35*'Makro i swap'!GNJ4","v":0},{"$f":"GNM35*'Makro i swap'!GNK4","v":0},{"$f":"GNN35*'Makro i swap'!GNL4","v":0},{"$f":"GNO35*'Makro i swap'!GNM4","v":0},{"$f":"GNP35*'Makro i swap'!GNN4","v":0},{"$f":"GNQ35*'Makro i swap'!GNO4","v":0},{"$f":"GNR35*'Makro i swap'!GNP4","v":0},{"$f":"GNS35*'Makro i swap'!GNQ4","v":0},{"$f":"GNT35*'Makro i swap'!GNR4","v":0},{"$f":"GNU35*'Makro i swap'!GNS4","v":0},{"$f":"GNV35*'Makro i swap'!GNT4","v":0},{"$f":"GNW35*'Makro i swap'!GNU4","v":0},{"$f":"GNX35*'Makro i swap'!GNV4","v":0},{"$f":"GNY35*'Makro i swap'!GNW4","v":0},{"$f":"GNZ35*'Makro i swap'!GNX4","v":0},{"$f":"GOA35*'Makro i swap'!GNY4","v":0},{"$f":"GOB35*'Makro i swap'!GNZ4","v":0},{"$f":"GOC35*'Makro i swap'!GOA4","v":0},{"$f":"GOD35*'Makro i swap'!GOB4","v":0},{"$f":"GOE35*'Makro i swap'!GOC4","v":0},{"$f":"GOF35*'Makro i swap'!GOD4","v":0},{"$f":"GOG35*'Makro i swap'!GOE4","v":0},{"$f":"GOH35*'Makro i swap'!GOF4","v":0},{"$f":"GOI35*'Makro i swap'!GOG4","v":0},{"$f":"GOJ35*'Makro i swap'!GOH4","v":0},{"$f":"GOK35*'Makro i swap'!GOI4","v":0},{"$f":"GOL35*'Makro i swap'!GOJ4","v":0},{"$f":"GOM35*'Makro i swap'!GOK4","v":0},{"$f":"GON35*'Makro i swap'!GOL4","v":0},{"$f":"GOO35*'Makro i swap'!GOM4","v":0},{"$f":"GOP35*'Makro i swap'!GON4","v":0},{"$f":"GOQ35*'Makro i swap'!GOO4","v":0},{"$f":"GOR35*'Makro i swap'!GOP4","v":0},{"$f":"GOS35*'Makro i swap'!GOQ4","v":0},{"$f":"GOT35*'Makro i swap'!GOR4","v":0},{"$f":"GOU35*'Makro i swap'!GOS4","v":0},{"$f":"GOV35*'Makro i swap'!GOT4","v":0},{"$f":"GOW35*'Makro i swap'!GOU4","v":0},{"$f":"GOX35*'Makro i swap'!GOV4","v":0},{"$f":"GOY35*'Makro i swap'!GOW4","v":0},{"$f":"GOZ35*'Makro i swap'!GOX4","v":0},{"$f":"GPA35*'Makro i swap'!GOY4","v":0},{"$f":"GPB35*'Makro i swap'!GOZ4","v":0},{"$f":"GPC35*'Makro i swap'!GPA4","v":0},{"$f":"GPD35*'Makro i swap'!GPB4","v":0},{"$f":"GPE35*'Makro i swap'!GPC4","v":0},{"$f":"GPF35*'Makro i swap'!GPD4","v":0},{"$f":"GPG35*'Makro i swap'!GPE4","v":0},{"$f":"GPH35*'Makro i swap'!GPF4","v":0},{"$f":"GPI35*'Makro i swap'!GPG4","v":0},{"$f":"GPJ35*'Makro i swap'!GPH4","v":0},{"$f":"GPK35*'Makro i swap'!GPI4","v":0},{"$f":"GPL35*'Makro i swap'!GPJ4","v":0},{"$f":"GPM35*'Makro i swap'!GPK4","v":0},{"$f":"GPN35*'Makro i swap'!GPL4","v":0},{"$f":"GPO35*'Makro i swap'!GPM4","v":0},{"$f":"GPP35*'Makro i swap'!GPN4","v":0},{"$f":"GPQ35*'Makro i swap'!GPO4","v":0},{"$f":"GPR35*'Makro i swap'!GPP4","v":0},{"$f":"GPS35*'Makro i swap'!GPQ4","v":0},{"$f":"GPT35*'Makro i swap'!GPR4","v":0},{"$f":"GPU35*'Makro i swap'!GPS4","v":0},{"$f":"GPV35*'Makro i swap'!GPT4","v":0},{"$f":"GPW35*'Makro i swap'!GPU4","v":0},{"$f":"GPX35*'Makro i swap'!GPV4","v":0},{"$f":"GPY35*'Makro i swap'!GPW4","v":0},{"$f":"GPZ35*'Makro i swap'!GPX4","v":0},{"$f":"GQA35*'Makro i swap'!GPY4","v":0},{"$f":"GQB35*'Makro i swap'!GPZ4","v":0},{"$f":"GQC35*'Makro i swap'!GQA4","v":0},{"$f":"GQD35*'Makro i swap'!GQB4","v":0},{"$f":"GQE35*'Makro i swap'!GQC4","v":0},{"$f":"GQF35*'Makro i swap'!GQD4","v":0},{"$f":"GQG35*'Makro i swap'!GQE4","v":0},{"$f":"GQH35*'Makro i swap'!GQF4","v":0},{"$f":"GQI35*'Makro i swap'!GQG4","v":0},{"$f":"GQJ35*'Makro i swap'!GQH4","v":0},{"$f":"GQK35*'Makro i swap'!GQI4","v":0},{"$f":"GQL35*'Makro i swap'!GQJ4","v":0},{"$f":"GQM35*'Makro i swap'!GQK4","v":0},{"$f":"GQN35*'Makro i swap'!GQL4","v":0},{"$f":"GQO35*'Makro i swap'!GQM4","v":0},{"$f":"GQP35*'Makro i swap'!GQN4","v":0},{"$f":"GQQ35*'Makro i swap'!GQO4","v":0},{"$f":"GQR35*'Makro i swap'!GQP4","v":0},{"$f":"GQS35*'Makro i swap'!GQQ4","v":0},{"$f":"GQT35*'Makro i swap'!GQR4","v":0},{"$f":"GQU35*'Makro i swap'!GQS4","v":0},{"$f":"GQV35*'Makro i swap'!GQT4","v":0},{"$f":"GQW35*'Makro i swap'!GQU4","v":0},{"$f":"GQX35*'Makro i swap'!GQV4","v":0},{"$f":"GQY35*'Makro i swap'!GQW4","v":0},{"$f":"GQZ35*'Makro i swap'!GQX4","v":0},{"$f":"GRA35*'Makro i swap'!GQY4","v":0},{"$f":"GRB35*'Makro i swap'!GQZ4","v":0},{"$f":"GRC35*'Makro i swap'!GRA4","v":0},{"$f":"GRD35*'Makro i swap'!GRB4","v":0},{"$f":"GRE35*'Makro i swap'!GRC4","v":0},{"$f":"GRF35*'Makro i swap'!GRD4","v":0},{"$f":"GRG35*'Makro i swap'!GRE4","v":0},{"$f":"GRH35*'Makro i swap'!GRF4","v":0},{"$f":"GRI35*'Makro i swap'!GRG4","v":0},{"$f":"GRJ35*'Makro i swap'!GRH4","v":0},{"$f":"GRK35*'Makro i swap'!GRI4","v":0},{"$f":"GRL35*'Makro i swap'!GRJ4","v":0},{"$f":"GRM35*'Makro i swap'!GRK4","v":0},{"$f":"GRN35*'Makro i swap'!GRL4","v":0},{"$f":"GRO35*'Makro i swap'!GRM4","v":0},{"$f":"GRP35*'Makro i swap'!GRN4","v":0},{"$f":"GRQ35*'Makro i swap'!GRO4","v":0},{"$f":"GRR35*'Makro i swap'!GRP4","v":0},{"$f":"GRS35*'Makro i swap'!GRQ4","v":0},{"$f":"GRT35*'Makro i swap'!GRR4","v":0},{"$f":"GRU35*'Makro i swap'!GRS4","v":0},{"$f":"GRV35*'Makro i swap'!GRT4","v":0},{"$f":"GRW35*'Makro i swap'!GRU4","v":0},{"$f":"GRX35*'Makro i swap'!GRV4","v":0},{"$f":"GRY35*'Makro i swap'!GRW4","v":0},{"$f":"GRZ35*'Makro i swap'!GRX4","v":0},{"$f":"GSA35*'Makro i swap'!GRY4","v":0},{"$f":"GSB35*'Makro i swap'!GRZ4","v":0},{"$f":"GSC35*'Makro i swap'!GSA4","v":0},{"$f":"GSD35*'Makro i swap'!GSB4","v":0},{"$f":"GSE35*'Makro i swap'!GSC4","v":0},{"$f":"GSF35*'Makro i swap'!GSD4","v":0},{"$f":"GSG35*'Makro i swap'!GSE4","v":0},{"$f":"GSH35*'Makro i swap'!GSF4","v":0},{"$f":"GSI35*'Makro i swap'!GSG4","v":0},{"$f":"GSJ35*'Makro i swap'!GSH4","v":0},{"$f":"GSK35*'Makro i swap'!GSI4","v":0},{"$f":"GSL35*'Makro i swap'!GSJ4","v":0},{"$f":"GSM35*'Makro i swap'!GSK4","v":0},{"$f":"GSN35*'Makro i swap'!GSL4","v":0},{"$f":"GSO35*'Makro i swap'!GSM4","v":0},{"$f":"GSP35*'Makro i swap'!GSN4","v":0},{"$f":"GSQ35*'Makro i swap'!GSO4","v":0},{"$f":"GSR35*'Makro i swap'!GSP4","v":0},{"$f":"GSS35*'Makro i swap'!GSQ4","v":0},{"$f":"GST35*'Makro i swap'!GSR4","v":0},{"$f":"GSU35*'Makro i swap'!GSS4","v":0},{"$f":"GSV35*'Makro i swap'!GST4","v":0},{"$f":"GSW35*'Makro i swap'!GSU4","v":0},{"$f":"GSX35*'Makro i swap'!GSV4","v":0},{"$f":"GSY35*'Makro i swap'!GSW4","v":0},{"$f":"GSZ35*'Makro i swap'!GSX4","v":0},{"$f":"GTA35*'Makro i swap'!GSY4","v":0},{"$f":"GTB35*'Makro i swap'!GSZ4","v":0},{"$f":"GTC35*'Makro i swap'!GTA4","v":0},{"$f":"GTD35*'Makro i swap'!GTB4","v":0},{"$f":"GTE35*'Makro i swap'!GTC4","v":0},{"$f":"GTF35*'Makro i swap'!GTD4","v":0},{"$f":"GTG35*'Makro i swap'!GTE4","v":0},{"$f":"GTH35*'Makro i swap'!GTF4","v":0},{"$f":"GTI35*'Makro i swap'!GTG4","v":0},{"$f":"GTJ35*'Makro i swap'!GTH4","v":0},{"$f":"GTK35*'Makro i swap'!GTI4","v":0},{"$f":"GTL35*'Makro i swap'!GTJ4","v":0},{"$f":"GTM35*'Makro i swap'!GTK4","v":0},{"$f":"GTN35*'Makro i swap'!GTL4","v":0},{"$f":"GTO35*'Makro i swap'!GTM4","v":0},{"$f":"GTP35*'Makro i swap'!GTN4","v":0},{"$f":"GTQ35*'Makro i swap'!GTO4","v":0},{"$f":"GTR35*'Makro i swap'!GTP4","v":0},{"$f":"GTS35*'Makro i swap'!GTQ4","v":0},{"$f":"GTT35*'Makro i swap'!GTR4","v":0},{"$f":"GTU35*'Makro i swap'!GTS4","v":0},{"$f":"GTV35*'Makro i swap'!GTT4","v":0},{"$f":"GTW35*'Makro i swap'!GTU4","v":0},{"$f":"GTX35*'Makro i swap'!GTV4","v":0},{"$f":"GTY35*'Makro i swap'!GTW4","v":0},{"$f":"GTZ35*'Makro i swap'!GTX4","v":0},{"$f":"GUA35*'Makro i swap'!GTY4","v":0},{"$f":"GUB35*'Makro i swap'!GTZ4","v":0},{"$f":"GUC35*'Makro i swap'!GUA4","v":0},{"$f":"GUD35*'Makro i swap'!GUB4","v":0},{"$f":"GUE35*'Makro i swap'!GUC4","v":0},{"$f":"GUF35*'Makro i swap'!GUD4","v":0},{"$f":"GUG35*'Makro i swap'!GUE4","v":0},{"$f":"GUH35*'Makro i swap'!GUF4","v":0},{"$f":"GUI35*'Makro i swap'!GUG4","v":0},{"$f":"GUJ35*'Makro i swap'!GUH4","v":0},{"$f":"GUK35*'Makro i swap'!GUI4","v":0},{"$f":"GUL35*'Makro i swap'!GUJ4","v":0},{"$f":"GUM35*'Makro i swap'!GUK4","v":0},{"$f":"GUN35*'Makro i swap'!GUL4","v":0},{"$f":"GUO35*'Makro i swap'!GUM4","v":0},{"$f":"GUP35*'Makro i swap'!GUN4","v":0},{"$f":"GUQ35*'Makro i swap'!GUO4","v":0},{"$f":"GUR35*'Makro i swap'!GUP4","v":0},{"$f":"GUS35*'Makro i swap'!GUQ4","v":0},{"$f":"GUT35*'Makro i swap'!GUR4","v":0},{"$f":"GUU35*'Makro i swap'!GUS4","v":0},{"$f":"GUV35*'Makro i swap'!GUT4","v":0},{"$f":"GUW35*'Makro i swap'!GUU4","v":0},{"$f":"GUX35*'Makro i swap'!GUV4","v":0},{"$f":"GUY35*'Makro i swap'!GUW4","v":0},{"$f":"GUZ35*'Makro i swap'!GUX4","v":0},{"$f":"GVA35*'Makro i swap'!GUY4","v":0},{"$f":"GVB35*'Makro i swap'!GUZ4","v":0},{"$f":"GVC35*'Makro i swap'!GVA4","v":0},{"$f":"GVD35*'Makro i swap'!GVB4","v":0},{"$f":"GVE35*'Makro i swap'!GVC4","v":0},{"$f":"GVF35*'Makro i swap'!GVD4","v":0},{"$f":"GVG35*'Makro i swap'!GVE4","v":0},{"$f":"GVH35*'Makro i swap'!GVF4","v":0},{"$f":"GVI35*'Makro i swap'!GVG4","v":0},{"$f":"GVJ35*'Makro i swap'!GVH4","v":0},{"$f":"GVK35*'Makro i swap'!GVI4","v":0},{"$f":"GVL35*'Makro i swap'!GVJ4","v":0},{"$f":"GVM35*'Makro i swap'!GVK4","v":0},{"$f":"GVN35*'Makro i swap'!GVL4","v":0},{"$f":"GVO35*'Makro i swap'!GVM4","v":0},{"$f":"GVP35*'Makro i swap'!GVN4","v":0},{"$f":"GVQ35*'Makro i swap'!GVO4","v":0},{"$f":"GVR35*'Makro i swap'!GVP4","v":0},{"$f":"GVS35*'Makro i swap'!GVQ4","v":0},{"$f":"GVT35*'Makro i swap'!GVR4","v":0},{"$f":"GVU35*'Makro i swap'!GVS4","v":0},{"$f":"GVV35*'Makro i swap'!GVT4","v":0},{"$f":"GVW35*'Makro i swap'!GVU4","v":0},{"$f":"GVX35*'Makro i swap'!GVV4","v":0},{"$f":"GVY35*'Makro i swap'!GVW4","v":0},{"$f":"GVZ35*'Makro i swap'!GVX4","v":0},{"$f":"GWA35*'Makro i swap'!GVY4","v":0},{"$f":"GWB35*'Makro i swap'!GVZ4","v":0},{"$f":"GWC35*'Makro i swap'!GWA4","v":0},{"$f":"GWD35*'Makro i swap'!GWB4","v":0},{"$f":"GWE35*'Makro i swap'!GWC4","v":0},{"$f":"GWF35*'Makro i swap'!GWD4","v":0},{"$f":"GWG35*'Makro i swap'!GWE4","v":0},{"$f":"GWH35*'Makro i swap'!GWF4","v":0},{"$f":"GWI35*'Makro i swap'!GWG4","v":0},{"$f":"GWJ35*'Makro i swap'!GWH4","v":0},{"$f":"GWK35*'Makro i swap'!GWI4","v":0},{"$f":"GWL35*'Makro i swap'!GWJ4","v":0},{"$f":"GWM35*'Makro i swap'!GWK4","v":0},{"$f":"GWN35*'Makro i swap'!GWL4","v":0},{"$f":"GWO35*'Makro i swap'!GWM4","v":0},{"$f":"GWP35*'Makro i swap'!GWN4","v":0},{"$f":"GWQ35*'Makro i swap'!GWO4","v":0},{"$f":"GWR35*'Makro i swap'!GWP4","v":0},{"$f":"GWS35*'Makro i swap'!GWQ4","v":0},{"$f":"GWT35*'Makro i swap'!GWR4","v":0},{"$f":"GWU35*'Makro i swap'!GWS4","v":0},{"$f":"GWV35*'Makro i swap'!GWT4","v":0},{"$f":"GWW35*'Makro i swap'!GWU4","v":0},{"$f":"GWX35*'Makro i swap'!GWV4","v":0},{"$f":"GWY35*'Makro i swap'!GWW4","v":0},{"$f":"GWZ35*'Makro i swap'!GWX4","v":0},{"$f":"GXA35*'Makro i swap'!GWY4","v":0},{"$f":"GXB35*'Makro i swap'!GWZ4","v":0},{"$f":"GXC35*'Makro i swap'!GXA4","v":0},{"$f":"GXD35*'Makro i swap'!GXB4","v":0},{"$f":"GXE35*'Makro i swap'!GXC4","v":0},{"$f":"GXF35*'Makro i swap'!GXD4","v":0},{"$f":"GXG35*'Makro i swap'!GXE4","v":0},{"$f":"GXH35*'Makro i swap'!GXF4","v":0},{"$f":"GXI35*'Makro i swap'!GXG4","v":0},{"$f":"GXJ35*'Makro i swap'!GXH4","v":0},{"$f":"GXK35*'Makro i swap'!GXI4","v":0},{"$f":"GXL35*'Makro i swap'!GXJ4","v":0},{"$f":"GXM35*'Makro i swap'!GXK4","v":0},{"$f":"GXN35*'Makro i swap'!GXL4","v":0},{"$f":"GXO35*'Makro i swap'!GXM4","v":0},{"$f":"GXP35*'Makro i swap'!GXN4","v":0},{"$f":"GXQ35*'Makro i swap'!GXO4","v":0},{"$f":"GXR35*'Makro i swap'!GXP4","v":0},{"$f":"GXS35*'Makro i swap'!GXQ4","v":0},{"$f":"GXT35*'Makro i swap'!GXR4","v":0},{"$f":"GXU35*'Makro i swap'!GXS4","v":0},{"$f":"GXV35*'Makro i swap'!GXT4","v":0},{"$f":"GXW35*'Makro i swap'!GXU4","v":0},{"$f":"GXX35*'Makro i swap'!GXV4","v":0},{"$f":"GXY35*'Makro i swap'!GXW4","v":0},{"$f":"GXZ35*'Makro i swap'!GXX4","v":0},{"$f":"GYA35*'Makro i swap'!GXY4","v":0},{"$f":"GYB35*'Makro i swap'!GXZ4","v":0},{"$f":"GYC35*'Makro i swap'!GYA4","v":0},{"$f":"GYD35*'Makro i swap'!GYB4","v":0},{"$f":"GYE35*'Makro i swap'!GYC4","v":0},{"$f":"GYF35*'Makro i swap'!GYD4","v":0},{"$f":"GYG35*'Makro i swap'!GYE4","v":0},{"$f":"GYH35*'Makro i swap'!GYF4","v":0},{"$f":"GYI35*'Makro i swap'!GYG4","v":0},{"$f":"GYJ35*'Makro i swap'!GYH4","v":0},{"$f":"GYK35*'Makro i swap'!GYI4","v":0},{"$f":"GYL35*'Makro i swap'!GYJ4","v":0},{"$f":"GYM35*'Makro i swap'!GYK4","v":0},{"$f":"GYN35*'Makro i swap'!GYL4","v":0},{"$f":"GYO35*'Makro i swap'!GYM4","v":0},{"$f":"GYP35*'Makro i swap'!GYN4","v":0},{"$f":"GYQ35*'Makro i swap'!GYO4","v":0},{"$f":"GYR35*'Makro i swap'!GYP4","v":0},{"$f":"GYS35*'Makro i swap'!GYQ4","v":0},{"$f":"GYT35*'Makro i swap'!GYR4","v":0},{"$f":"GYU35*'Makro i swap'!GYS4","v":0},{"$f":"GYV35*'Makro i swap'!GYT4","v":0},{"$f":"GYW35*'Makro i swap'!GYU4","v":0},{"$f":"GYX35*'Makro i swap'!GYV4","v":0},{"$f":"GYY35*'Makro i swap'!GYW4","v":0},{"$f":"GYZ35*'Makro i swap'!GYX4","v":0},{"$f":"GZA35*'Makro i swap'!GYY4","v":0},{"$f":"GZB35*'Makro i swap'!GYZ4","v":0},{"$f":"GZC35*'Makro i swap'!GZA4","v":0},{"$f":"GZD35*'Makro i swap'!GZB4","v":0},{"$f":"GZE35*'Makro i swap'!GZC4","v":0},{"$f":"GZF35*'Makro i swap'!GZD4","v":0},{"$f":"GZG35*'Makro i swap'!GZE4","v":0},{"$f":"GZH35*'Makro i swap'!GZF4","v":0},{"$f":"GZI35*'Makro i swap'!GZG4","v":0},{"$f":"GZJ35*'Makro i swap'!GZH4","v":0},{"$f":"GZK35*'Makro i swap'!GZI4","v":0},{"$f":"GZL35*'Makro i swap'!GZJ4","v":0},{"$f":"GZM35*'Makro i swap'!GZK4","v":0},{"$f":"GZN35*'Makro i swap'!GZL4","v":0},{"$f":"GZO35*'Makro i swap'!GZM4","v":0},{"$f":"GZP35*'Makro i swap'!GZN4","v":0},{"$f":"GZQ35*'Makro i swap'!GZO4","v":0},{"$f":"GZR35*'Makro i swap'!GZP4","v":0},{"$f":"GZS35*'Makro i swap'!GZQ4","v":0},{"$f":"GZT35*'Makro i swap'!GZR4","v":0},{"$f":"GZU35*'Makro i swap'!GZS4","v":0},{"$f":"GZV35*'Makro i swap'!GZT4","v":0},{"$f":"GZW35*'Makro i swap'!GZU4","v":0},{"$f":"GZX35*'Makro i swap'!GZV4","v":0},{"$f":"GZY35*'Makro i swap'!GZW4","v":0},{"$f":"GZZ35*'Makro i swap'!GZX4","v":0},{"$f":"HAA35*'Makro i swap'!GZY4","v":0},{"$f":"HAB35*'Makro i swap'!GZZ4","v":0},{"$f":"HAC35*'Makro i swap'!HAA4","v":0},{"$f":"HAD35*'Makro i swap'!HAB4","v":0},{"$f":"HAE35*'Makro i swap'!HAC4","v":0},{"$f":"HAF35*'Makro i swap'!HAD4","v":0},{"$f":"HAG35*'Makro i swap'!HAE4","v":0},{"$f":"HAH35*'Makro i swap'!HAF4","v":0},{"$f":"HAI35*'Makro i swap'!HAG4","v":0},{"$f":"HAJ35*'Makro i swap'!HAH4","v":0},{"$f":"HAK35*'Makro i swap'!HAI4","v":0},{"$f":"HAL35*'Makro i swap'!HAJ4","v":0},{"$f":"HAM35*'Makro i swap'!HAK4","v":0},{"$f":"HAN35*'Makro i swap'!HAL4","v":0},{"$f":"HAO35*'Makro i swap'!HAM4","v":0},{"$f":"HAP35*'Makro i swap'!HAN4","v":0},{"$f":"HAQ35*'Makro i swap'!HAO4","v":0},{"$f":"HAR35*'Makro i swap'!HAP4","v":0},{"$f":"HAS35*'Makro i swap'!HAQ4","v":0},{"$f":"HAT35*'Makro i swap'!HAR4","v":0},{"$f":"HAU35*'Makro i swap'!HAS4","v":0},{"$f":"HAV35*'Makro i swap'!HAT4","v":0},{"$f":"HAW35*'Makro i swap'!HAU4","v":0},{"$f":"HAX35*'Makro i swap'!HAV4","v":0},{"$f":"HAY35*'Makro i swap'!HAW4","v":0},{"$f":"HAZ35*'Makro i swap'!HAX4","v":0},{"$f":"HBA35*'Makro i swap'!HAY4","v":0},{"$f":"HBB35*'Makro i swap'!HAZ4","v":0},{"$f":"HBC35*'Makro i swap'!HBA4","v":0},{"$f":"HBD35*'Makro i swap'!HBB4","v":0},{"$f":"HBE35*'Makro i swap'!HBC4","v":0},{"$f":"HBF35*'Makro i swap'!HBD4","v":0},{"$f":"HBG35*'Makro i swap'!HBE4","v":0},{"$f":"HBH35*'Makro i swap'!HBF4","v":0},{"$f":"HBI35*'Makro i swap'!HBG4","v":0},{"$f":"HBJ35*'Makro i swap'!HBH4","v":0},{"$f":"HBK35*'Makro i swap'!HBI4","v":0},{"$f":"HBL35*'Makro i swap'!HBJ4","v":0},{"$f":"HBM35*'Makro i swap'!HBK4","v":0},{"$f":"HBN35*'Makro i swap'!HBL4","v":0},{"$f":"HBO35*'Makro i swap'!HBM4","v":0},{"$f":"HBP35*'Makro i swap'!HBN4","v":0},{"$f":"HBQ35*'Makro i swap'!HBO4","v":0},{"$f":"HBR35*'Makro i swap'!HBP4","v":0},{"$f":"HBS35*'Makro i swap'!HBQ4","v":0},{"$f":"HBT35*'Makro i swap'!HBR4","v":0},{"$f":"HBU35*'Makro i swap'!HBS4","v":0},{"$f":"HBV35*'Makro i swap'!HBT4","v":0},{"$f":"HBW35*'Makro i swap'!HBU4","v":0},{"$f":"HBX35*'Makro i swap'!HBV4","v":0},{"$f":"HBY35*'Makro i swap'!HBW4","v":0},{"$f":"HBZ35*'Makro i swap'!HBX4","v":0},{"$f":"HCA35*'Makro i swap'!HBY4","v":0},{"$f":"HCB35*'Makro i swap'!HBZ4","v":0},{"$f":"HCC35*'Makro i swap'!HCA4","v":0},{"$f":"HCD35*'Makro i swap'!HCB4","v":0},{"$f":"HCE35*'Makro i swap'!HCC4","v":0},{"$f":"HCF35*'Makro i swap'!HCD4","v":0},{"$f":"HCG35*'Makro i swap'!HCE4","v":0},{"$f":"HCH35*'Makro i swap'!HCF4","v":0},{"$f":"HCI35*'Makro i swap'!HCG4","v":0},{"$f":"HCJ35*'Makro i swap'!HCH4","v":0},{"$f":"HCK35*'Makro i swap'!HCI4","v":0},{"$f":"HCL35*'Makro i swap'!HCJ4","v":0},{"$f":"HCM35*'Makro i swap'!HCK4","v":0},{"$f":"HCN35*'Makro i swap'!HCL4","v":0},{"$f":"HCO35*'Makro i swap'!HCM4","v":0},{"$f":"HCP35*'Makro i swap'!HCN4","v":0},{"$f":"HCQ35*'Makro i swap'!HCO4","v":0},{"$f":"HCR35*'Makro i swap'!HCP4","v":0},{"$f":"HCS35*'Makro i swap'!HCQ4","v":0},{"$f":"HCT35*'Makro i swap'!HCR4","v":0},{"$f":"HCU35*'Makro i swap'!HCS4","v":0},{"$f":"HCV35*'Makro i swap'!HCT4","v":0},{"$f":"HCW35*'Makro i swap'!HCU4","v":0},{"$f":"HCX35*'Makro i swap'!HCV4","v":0},{"$f":"HCY35*'Makro i swap'!HCW4","v":0},{"$f":"HCZ35*'Makro i swap'!HCX4","v":0},{"$f":"HDA35*'Makro i swap'!HCY4","v":0},{"$f":"HDB35*'Makro i swap'!HCZ4","v":0},{"$f":"HDC35*'Makro i swap'!HDA4","v":0},{"$f":"HDD35*'Makro i swap'!HDB4","v":0},{"$f":"HDE35*'Makro i swap'!HDC4","v":0},{"$f":"HDF35*'Makro i swap'!HDD4","v":0},{"$f":"HDG35*'Makro i swap'!HDE4","v":0},{"$f":"HDH35*'Makro i swap'!HDF4","v":0},{"$f":"HDI35*'Makro i swap'!HDG4","v":0},{"$f":"HDJ35*'Makro i swap'!HDH4","v":0},{"$f":"HDK35*'Makro i swap'!HDI4","v":0},{"$f":"HDL35*'Makro i swap'!HDJ4","v":0},{"$f":"HDM35*'Makro i swap'!HDK4","v":0},{"$f":"HDN35*'Makro i swap'!HDL4","v":0},{"$f":"HDO35*'Makro i swap'!HDM4","v":0},{"$f":"HDP35*'Makro i swap'!HDN4","v":0},{"$f":"HDQ35*'Makro i swap'!HDO4","v":0},{"$f":"HDR35*'Makro i swap'!HDP4","v":0},{"$f":"HDS35*'Makro i swap'!HDQ4","v":0},{"$f":"HDT35*'Makro i swap'!HDR4","v":0},{"$f":"HDU35*'Makro i swap'!HDS4","v":0},{"$f":"HDV35*'Makro i swap'!HDT4","v":0},{"$f":"HDW35*'Makro i swap'!HDU4","v":0},{"$f":"HDX35*'Makro i swap'!HDV4","v":0},{"$f":"HDY35*'Makro i swap'!HDW4","v":0},{"$f":"HDZ35*'Makro i swap'!HDX4","v":0},{"$f":"HEA35*'Makro i swap'!HDY4","v":0},{"$f":"HEB35*'Makro i swap'!HDZ4","v":0},{"$f":"HEC35*'Makro i swap'!HEA4","v":0},{"$f":"HED35*'Makro i swap'!HEB4","v":0},{"$f":"HEE35*'Makro i swap'!HEC4","v":0},{"$f":"HEF35*'Makro i swap'!HED4","v":0},{"$f":"HEG35*'Makro i swap'!HEE4","v":0},{"$f":"HEH35*'Makro i swap'!HEF4","v":0},{"$f":"HEI35*'Makro i swap'!HEG4","v":0},{"$f":"HEJ35*'Makro i swap'!HEH4","v":0},{"$f":"HEK35*'Makro i swap'!HEI4","v":0},{"$f":"HEL35*'Makro i swap'!HEJ4","v":0},{"$f":"HEM35*'Makro i swap'!HEK4","v":0},{"$f":"HEN35*'Makro i swap'!HEL4","v":0},{"$f":"HEO35*'Makro i swap'!HEM4","v":0},{"$f":"HEP35*'Makro i swap'!HEN4","v":0},{"$f":"HEQ35*'Makro i swap'!HEO4","v":0},{"$f":"HER35*'Makro i swap'!HEP4","v":0},{"$f":"HES35*'Makro i swap'!HEQ4","v":0},{"$f":"HET35*'Makro i swap'!HER4","v":0},{"$f":"HEU35*'Makro i swap'!HES4","v":0},{"$f":"HEV35*'Makro i swap'!HET4","v":0},{"$f":"HEW35*'Makro i swap'!HEU4","v":0},{"$f":"HEX35*'Makro i swap'!HEV4","v":0},{"$f":"HEY35*'Makro i swap'!HEW4","v":0},{"$f":"HEZ35*'Makro i swap'!HEX4","v":0},{"$f":"HFA35*'Makro i swap'!HEY4","v":0},{"$f":"HFB35*'Makro i swap'!HEZ4","v":0},{"$f":"HFC35*'Makro i swap'!HFA4","v":0},{"$f":"HFD35*'Makro i swap'!HFB4","v":0},{"$f":"HFE35*'Makro i swap'!HFC4","v":0},{"$f":"HFF35*'Makro i swap'!HFD4","v":0},{"$f":"HFG35*'Makro i swap'!HFE4","v":0},{"$f":"HFH35*'Makro i swap'!HFF4","v":0},{"$f":"HFI35*'Makro i swap'!HFG4","v":0},{"$f":"HFJ35*'Makro i swap'!HFH4","v":0},{"$f":"HFK35*'Makro i swap'!HFI4","v":0},{"$f":"HFL35*'Makro i swap'!HFJ4","v":0},{"$f":"HFM35*'Makro i swap'!HFK4","v":0},{"$f":"HFN35*'Makro i swap'!HFL4","v":0},{"$f":"HFO35*'Makro i swap'!HFM4","v":0},{"$f":"HFP35*'Makro i swap'!HFN4","v":0},{"$f":"HFQ35*'Makro i swap'!HFO4","v":0},{"$f":"HFR35*'Makro i swap'!HFP4","v":0},{"$f":"HFS35*'Makro i swap'!HFQ4","v":0},{"$f":"HFT35*'Makro i swap'!HFR4","v":0},{"$f":"HFU35*'Makro i swap'!HFS4","v":0},{"$f":"HFV35*'Makro i swap'!HFT4","v":0},{"$f":"HFW35*'Makro i swap'!HFU4","v":0},{"$f":"HFX35*'Makro i swap'!HFV4","v":0},{"$f":"HFY35*'Makro i swap'!HFW4","v":0},{"$f":"HFZ35*'Makro i swap'!HFX4","v":0},{"$f":"HGA35*'Makro i swap'!HFY4","v":0},{"$f":"HGB35*'Makro i swap'!HFZ4","v":0},{"$f":"HGC35*'Makro i swap'!HGA4","v":0},{"$f":"HGD35*'Makro i swap'!HGB4","v":0},{"$f":"HGE35*'Makro i swap'!HGC4","v":0},{"$f":"HGF35*'Makro i swap'!HGD4","v":0},{"$f":"HGG35*'Makro i swap'!HGE4","v":0},{"$f":"HGH35*'Makro i swap'!HGF4","v":0},{"$f":"HGI35*'Makro i swap'!HGG4","v":0},{"$f":"HGJ35*'Makro i swap'!HGH4","v":0},{"$f":"HGK35*'Makro i swap'!HGI4","v":0},{"$f":"HGL35*'Makro i swap'!HGJ4","v":0},{"$f":"HGM35*'Makro i swap'!HGK4","v":0},{"$f":"HGN35*'Makro i swap'!HGL4","v":0},{"$f":"HGO35*'Makro i swap'!HGM4","v":0},{"$f":"HGP35*'Makro i swap'!HGN4","v":0},{"$f":"HGQ35*'Makro i swap'!HGO4","v":0},{"$f":"HGR35*'Makro i swap'!HGP4","v":0},{"$f":"HGS35*'Makro i swap'!HGQ4","v":0},{"$f":"HGT35*'Makro i swap'!HGR4","v":0},{"$f":"HGU35*'Makro i swap'!HGS4","v":0},{"$f":"HGV35*'Makro i swap'!HGT4","v":0},{"$f":"HGW35*'Makro i swap'!HGU4","v":0},{"$f":"HGX35*'Makro i swap'!HGV4","v":0},{"$f":"HGY35*'Makro i swap'!HGW4","v":0},{"$f":"HGZ35*'Makro i swap'!HGX4","v":0},{"$f":"HHA35*'Makro i swap'!HGY4","v":0},{"$f":"HHB35*'Makro i swap'!HGZ4","v":0},{"$f":"HHC35*'Makro i swap'!HHA4","v":0},{"$f":"HHD35*'Makro i swap'!HHB4","v":0},{"$f":"HHE35*'Makro i swap'!HHC4","v":0},{"$f":"HHF35*'Makro i swap'!HHD4","v":0},{"$f":"HHG35*'Makro i swap'!HHE4","v":0},{"$f":"HHH35*'Makro i swap'!HHF4","v":0},{"$f":"HHI35*'Makro i swap'!HHG4","v":0},{"$f":"HHJ35*'Makro i swap'!HHH4","v":0},{"$f":"HHK35*'Makro i swap'!HHI4","v":0},{"$f":"HHL35*'Makro i swap'!HHJ4","v":0},{"$f":"HHM35*'Makro i swap'!HHK4","v":0},{"$f":"HHN35*'Makro i swap'!HHL4","v":0},{"$f":"HHO35*'Makro i swap'!HHM4","v":0},{"$f":"HHP35*'Makro i swap'!HHN4","v":0},{"$f":"HHQ35*'Makro i swap'!HHO4","v":0},{"$f":"HHR35*'Makro i swap'!HHP4","v":0},{"$f":"HHS35*'Makro i swap'!HHQ4","v":0},{"$f":"HHT35*'Makro i swap'!HHR4","v":0},{"$f":"HHU35*'Makro i swap'!HHS4","v":0},{"$f":"HHV35*'Makro i swap'!HHT4","v":0},{"$f":"HHW35*'Makro i swap'!HHU4","v":0},{"$f":"HHX35*'Makro i swap'!HHV4","v":0},{"$f":"HHY35*'Makro i swap'!HHW4","v":0},{"$f":"HHZ35*'Makro i swap'!HHX4","v":0},{"$f":"HIA35*'Makro i swap'!HHY4","v":0},{"$f":"HIB35*'Makro i swap'!HHZ4","v":0},{"$f":"HIC35*'Makro i swap'!HIA4","v":0},{"$f":"HID35*'Makro i swap'!HIB4","v":0},{"$f":"HIE35*'Makro i swap'!HIC4","v":0},{"$f":"HIF35*'Makro i swap'!HID4","v":0},{"$f":"HIG35*'Makro i swap'!HIE4","v":0},{"$f":"HIH35*'Makro i swap'!HIF4","v":0},{"$f":"HII35*'Makro i swap'!HIG4","v":0},{"$f":"HIJ35*'Makro i swap'!HIH4","v":0},{"$f":"HIK35*'Makro i swap'!HII4","v":0},{"$f":"HIL35*'Makro i swap'!HIJ4","v":0},{"$f":"HIM35*'Makro i swap'!HIK4","v":0},{"$f":"HIN35*'Makro i swap'!HIL4","v":0},{"$f":"HIO35*'Makro i swap'!HIM4","v":0},{"$f":"HIP35*'Makro i swap'!HIN4","v":0},{"$f":"HIQ35*'Makro i swap'!HIO4","v":0},{"$f":"HIR35*'Makro i swap'!HIP4","v":0},{"$f":"HIS35*'Makro i swap'!HIQ4","v":0},{"$f":"HIT35*'Makro i swap'!HIR4","v":0},{"$f":"HIU35*'Makro i swap'!HIS4","v":0},{"$f":"HIV35*'Makro i swap'!HIT4","v":0},{"$f":"HIW35*'Makro i swap'!HIU4","v":0},{"$f":"HIX35*'Makro i swap'!HIV4","v":0},{"$f":"HIY35*'Makro i swap'!HIW4","v":0},{"$f":"HIZ35*'Makro i swap'!HIX4","v":0},{"$f":"HJA35*'Makro i swap'!HIY4","v":0},{"$f":"HJB35*'Makro i swap'!HIZ4","v":0},{"$f":"HJC35*'Makro i swap'!HJA4","v":0},{"$f":"HJD35*'Makro i swap'!HJB4","v":0},{"$f":"HJE35*'Makro i swap'!HJC4","v":0},{"$f":"HJF35*'Makro i swap'!HJD4","v":0},{"$f":"HJG35*'Makro i swap'!HJE4","v":0},{"$f":"HJH35*'Makro i swap'!HJF4","v":0},{"$f":"HJI35*'Makro i swap'!HJG4","v":0},{"$f":"HJJ35*'Makro i swap'!HJH4","v":0},{"$f":"HJK35*'Makro i swap'!HJI4","v":0},{"$f":"HJL35*'Makro i swap'!HJJ4","v":0},{"$f":"HJM35*'Makro i swap'!HJK4","v":0},{"$f":"HJN35*'Makro i swap'!HJL4","v":0},{"$f":"HJO35*'Makro i swap'!HJM4","v":0},{"$f":"HJP35*'Makro i swap'!HJN4","v":0},{"$f":"HJQ35*'Makro i swap'!HJO4","v":0},{"$f":"HJR35*'Makro i swap'!HJP4","v":0},{"$f":"HJS35*'Makro i swap'!HJQ4","v":0},{"$f":"HJT35*'Makro i swap'!HJR4","v":0},{"$f":"HJU35*'Makro i swap'!HJS4","v":0},{"$f":"HJV35*'Makro i swap'!HJT4","v":0},{"$f":"HJW35*'Makro i swap'!HJU4","v":0},{"$f":"HJX35*'Makro i swap'!HJV4","v":0},{"$f":"HJY35*'Makro i swap'!HJW4","v":0},{"$f":"HJZ35*'Makro i swap'!HJX4","v":0},{"$f":"HKA35*'Makro i swap'!HJY4","v":0},{"$f":"HKB35*'Makro i swap'!HJZ4","v":0},{"$f":"HKC35*'Makro i swap'!HKA4","v":0},{"$f":"HKD35*'Makro i swap'!HKB4","v":0},{"$f":"HKE35*'Makro i swap'!HKC4","v":0},{"$f":"HKF35*'Makro i swap'!HKD4","v":0},{"$f":"HKG35*'Makro i swap'!HKE4","v":0},{"$f":"HKH35*'Makro i swap'!HKF4","v":0},{"$f":"HKI35*'Makro i swap'!HKG4","v":0},{"$f":"HKJ35*'Makro i swap'!HKH4","v":0},{"$f":"HKK35*'Makro i swap'!HKI4","v":0},{"$f":"HKL35*'Makro i swap'!HKJ4","v":0},{"$f":"HKM35*'Makro i swap'!HKK4","v":0},{"$f":"HKN35*'Makro i swap'!HKL4","v":0},{"$f":"HKO35*'Makro i swap'!HKM4","v":0},{"$f":"HKP35*'Makro i swap'!HKN4","v":0},{"$f":"HKQ35*'Makro i swap'!HKO4","v":0},{"$f":"HKR35*'Makro i swap'!HKP4","v":0},{"$f":"HKS35*'Makro i swap'!HKQ4","v":0},{"$f":"HKT35*'Makro i swap'!HKR4","v":0},{"$f":"HKU35*'Makro i swap'!HKS4","v":0},{"$f":"HKV35*'Makro i swap'!HKT4","v":0},{"$f":"HKW35*'Makro i swap'!HKU4","v":0},{"$f":"HKX35*'Makro i swap'!HKV4","v":0},{"$f":"HKY35*'Makro i swap'!HKW4","v":0},{"$f":"HKZ35*'Makro i swap'!HKX4","v":0},{"$f":"HLA35*'Makro i swap'!HKY4","v":0},{"$f":"HLB35*'Makro i swap'!HKZ4","v":0},{"$f":"HLC35*'Makro i swap'!HLA4","v":0},{"$f":"HLD35*'Makro i swap'!HLB4","v":0},{"$f":"HLE35*'Makro i swap'!HLC4","v":0},{"$f":"HLF35*'Makro i swap'!HLD4","v":0},{"$f":"HLG35*'Makro i swap'!HLE4","v":0},{"$f":"HLH35*'Makro i swap'!HLF4","v":0},{"$f":"HLI35*'Makro i swap'!HLG4","v":0},{"$f":"HLJ35*'Makro i swap'!HLH4","v":0},{"$f":"HLK35*'Makro i swap'!HLI4","v":0},{"$f":"HLL35*'Makro i swap'!HLJ4","v":0},{"$f":"HLM35*'Makro i swap'!HLK4","v":0},{"$f":"HLN35*'Makro i swap'!HLL4","v":0},{"$f":"HLO35*'Makro i swap'!HLM4","v":0},{"$f":"HLP35*'Makro i swap'!HLN4","v":0},{"$f":"HLQ35*'Makro i swap'!HLO4","v":0},{"$f":"HLR35*'Makro i swap'!HLP4","v":0},{"$f":"HLS35*'Makro i swap'!HLQ4","v":0},{"$f":"HLT35*'Makro i swap'!HLR4","v":0},{"$f":"HLU35*'Makro i swap'!HLS4","v":0},{"$f":"HLV35*'Makro i swap'!HLT4","v":0},{"$f":"HLW35*'Makro i swap'!HLU4","v":0},{"$f":"HLX35*'Makro i swap'!HLV4","v":0},{"$f":"HLY35*'Makro i swap'!HLW4","v":0},{"$f":"HLZ35*'Makro i swap'!HLX4","v":0},{"$f":"HMA35*'Makro i swap'!HLY4","v":0},{"$f":"HMB35*'Makro i swap'!HLZ4","v":0},{"$f":"HMC35*'Makro i swap'!HMA4","v":0},{"$f":"HMD35*'Makro i swap'!HMB4","v":0},{"$f":"HME35*'Makro i swap'!HMC4","v":0},{"$f":"HMF35*'Makro i swap'!HMD4","v":0},{"$f":"HMG35*'Makro i swap'!HME4","v":0},{"$f":"HMH35*'Makro i swap'!HMF4","v":0},{"$f":"HMI35*'Makro i swap'!HMG4","v":0},{"$f":"HMJ35*'Makro i swap'!HMH4","v":0},{"$f":"HMK35*'Makro i swap'!HMI4","v":0},{"$f":"HML35*'Makro i swap'!HMJ4","v":0},{"$f":"HMM35*'Makro i swap'!HMK4","v":0},{"$f":"HMN35*'Makro i swap'!HML4","v":0},{"$f":"HMO35*'Makro i swap'!HMM4","v":0},{"$f":"HMP35*'Makro i swap'!HMN4","v":0},{"$f":"HMQ35*'Makro i swap'!HMO4","v":0},{"$f":"HMR35*'Makro i swap'!HMP4","v":0},{"$f":"HMS35*'Makro i swap'!HMQ4","v":0},{"$f":"HMT35*'Makro i swap'!HMR4","v":0},{"$f":"HMU35*'Makro i swap'!HMS4","v":0},{"$f":"HMV35*'Makro i swap'!HMT4","v":0},{"$f":"HMW35*'Makro i swap'!HMU4","v":0},{"$f":"HMX35*'Makro i swap'!HMV4","v":0},{"$f":"HMY35*'Makro i swap'!HMW4","v":0},{"$f":"HMZ35*'Makro i swap'!HMX4","v":0},{"$f":"HNA35*'Makro i swap'!HMY4","v":0},{"$f":"HNB35*'Makro i swap'!HMZ4","v":0},{"$f":"HNC35*'Makro i swap'!HNA4","v":0},{"$f":"HND35*'Makro i swap'!HNB4","v":0},{"$f":"HNE35*'Makro i swap'!HNC4","v":0},{"$f":"HNF35*'Makro i swap'!HND4","v":0},{"$f":"HNG35*'Makro i swap'!HNE4","v":0},{"$f":"HNH35*'Makro i swap'!HNF4","v":0},{"$f":"HNI35*'Makro i swap'!HNG4","v":0},{"$f":"HNJ35*'Makro i swap'!HNH4","v":0},{"$f":"HNK35*'Makro i swap'!HNI4","v":0},{"$f":"HNL35*'Makro i swap'!HNJ4","v":0},{"$f":"HNM35*'Makro i swap'!HNK4","v":0},{"$f":"HNN35*'Makro i swap'!HNL4","v":0},{"$f":"HNO35*'Makro i swap'!HNM4","v":0},{"$f":"HNP35*'Makro i swap'!HNN4","v":0},{"$f":"HNQ35*'Makro i swap'!HNO4","v":0},{"$f":"HNR35*'Makro i swap'!HNP4","v":0},{"$f":"HNS35*'Makro i swap'!HNQ4","v":0},{"$f":"HNT35*'Makro i swap'!HNR4","v":0},{"$f":"HNU35*'Makro i swap'!HNS4","v":0},{"$f":"HNV35*'Makro i swap'!HNT4","v":0},{"$f":"HNW35*'Makro i swap'!HNU4","v":0},{"$f":"HNX35*'Makro i swap'!HNV4","v":0},{"$f":"HNY35*'Makro i swap'!HNW4","v":0},{"$f":"HNZ35*'Makro i swap'!HNX4","v":0},{"$f":"HOA35*'Makro i swap'!HNY4","v":0},{"$f":"HOB35*'Makro i swap'!HNZ4","v":0},{"$f":"HOC35*'Makro i swap'!HOA4","v":0},{"$f":"HOD35*'Makro i swap'!HOB4","v":0},{"$f":"HOE35*'Makro i swap'!HOC4","v":0},{"$f":"HOF35*'Makro i swap'!HOD4","v":0},{"$f":"HOG35*'Makro i swap'!HOE4","v":0},{"$f":"HOH35*'Makro i swap'!HOF4","v":0},{"$f":"HOI35*'Makro i swap'!HOG4","v":0},{"$f":"HOJ35*'Makro i swap'!HOH4","v":0},{"$f":"HOK35*'Makro i swap'!HOI4","v":0},{"$f":"HOL35*'Makro i swap'!HOJ4","v":0},{"$f":"HOM35*'Makro i swap'!HOK4","v":0},{"$f":"HON35*'Makro i swap'!HOL4","v":0},{"$f":"HOO35*'Makro i swap'!HOM4","v":0},{"$f":"HOP35*'Makro i swap'!HON4","v":0},{"$f":"HOQ35*'Makro i swap'!HOO4","v":0},{"$f":"HOR35*'Makro i swap'!HOP4","v":0},{"$f":"HOS35*'Makro i swap'!HOQ4","v":0},{"$f":"HOT35*'Makro i swap'!HOR4","v":0},{"$f":"HOU35*'Makro i swap'!HOS4","v":0},{"$f":"HOV35*'Makro i swap'!HOT4","v":0},{"$f":"HOW35*'Makro i swap'!HOU4","v":0},{"$f":"HOX35*'Makro i swap'!HOV4","v":0},{"$f":"HOY35*'Makro i swap'!HOW4","v":0},{"$f":"HOZ35*'Makro i swap'!HOX4","v":0},{"$f":"HPA35*'Makro i swap'!HOY4","v":0},{"$f":"HPB35*'Makro i swap'!HOZ4","v":0},{"$f":"HPC35*'Makro i swap'!HPA4","v":0},{"$f":"HPD35*'Makro i swap'!HPB4","v":0},{"$f":"HPE35*'Makro i swap'!HPC4","v":0},{"$f":"HPF35*'Makro i swap'!HPD4","v":0},{"$f":"HPG35*'Makro i swap'!HPE4","v":0},{"$f":"HPH35*'Makro i swap'!HPF4","v":0},{"$f":"HPI35*'Makro i swap'!HPG4","v":0},{"$f":"HPJ35*'Makro i swap'!HPH4","v":0},{"$f":"HPK35*'Makro i swap'!HPI4","v":0},{"$f":"HPL35*'Makro i swap'!HPJ4","v":0},{"$f":"HPM35*'Makro i swap'!HPK4","v":0},{"$f":"HPN35*'Makro i swap'!HPL4","v":0},{"$f":"HPO35*'Makro i swap'!HPM4","v":0},{"$f":"HPP35*'Makro i swap'!HPN4","v":0},{"$f":"HPQ35*'Makro i swap'!HPO4","v":0},{"$f":"HPR35*'Makro i swap'!HPP4","v":0},{"$f":"HPS35*'Makro i swap'!HPQ4","v":0},{"$f":"HPT35*'Makro i swap'!HPR4","v":0},{"$f":"HPU35*'Makro i swap'!HPS4","v":0},{"$f":"HPV35*'Makro i swap'!HPT4","v":0},{"$f":"HPW35*'Makro i swap'!HPU4","v":0},{"$f":"HPX35*'Makro i swap'!HPV4","v":0},{"$f":"HPY35*'Makro i swap'!HPW4","v":0},{"$f":"HPZ35*'Makro i swap'!HPX4","v":0},{"$f":"HQA35*'Makro i swap'!HPY4","v":0},{"$f":"HQB35*'Makro i swap'!HPZ4","v":0},{"$f":"HQC35*'Makro i swap'!HQA4","v":0},{"$f":"HQD35*'Makro i swap'!HQB4","v":0},{"$f":"HQE35*'Makro i swap'!HQC4","v":0},{"$f":"HQF35*'Makro i swap'!HQD4","v":0},{"$f":"HQG35*'Makro i swap'!HQE4","v":0},{"$f":"HQH35*'Makro i swap'!HQF4","v":0},{"$f":"HQI35*'Makro i swap'!HQG4","v":0},{"$f":"HQJ35*'Makro i swap'!HQH4","v":0},{"$f":"HQK35*'Makro i swap'!HQI4","v":0},{"$f":"HQL35*'Makro i swap'!HQJ4","v":0},{"$f":"HQM35*'Makro i swap'!HQK4","v":0},{"$f":"HQN35*'Makro i swap'!HQL4","v":0},{"$f":"HQO35*'Makro i swap'!HQM4","v":0},{"$f":"HQP35*'Makro i swap'!HQN4","v":0},{"$f":"HQQ35*'Makro i swap'!HQO4","v":0},{"$f":"HQR35*'Makro i swap'!HQP4","v":0},{"$f":"HQS35*'Makro i swap'!HQQ4","v":0},{"$f":"HQT35*'Makro i swap'!HQR4","v":0},{"$f":"HQU35*'Makro i swap'!HQS4","v":0},{"$f":"HQV35*'Makro i swap'!HQT4","v":0},{"$f":"HQW35*'Makro i swap'!HQU4","v":0},{"$f":"HQX35*'Makro i swap'!HQV4","v":0},{"$f":"HQY35*'Makro i swap'!HQW4","v":0},{"$f":"HQZ35*'Makro i swap'!HQX4","v":0},{"$f":"HRA35*'Makro i swap'!HQY4","v":0},{"$f":"HRB35*'Makro i swap'!HQZ4","v":0},{"$f":"HRC35*'Makro i swap'!HRA4","v":0},{"$f":"HRD35*'Makro i swap'!HRB4","v":0},{"$f":"HRE35*'Makro i swap'!HRC4","v":0},{"$f":"HRF35*'Makro i swap'!HRD4","v":0},{"$f":"HRG35*'Makro i swap'!HRE4","v":0},{"$f":"HRH35*'Makro i swap'!HRF4","v":0},{"$f":"HRI35*'Makro i swap'!HRG4","v":0},{"$f":"HRJ35*'Makro i swap'!HRH4","v":0},{"$f":"HRK35*'Makro i swap'!HRI4","v":0},{"$f":"HRL35*'Makro i swap'!HRJ4","v":0},{"$f":"HRM35*'Makro i swap'!HRK4","v":0},{"$f":"HRN35*'Makro i swap'!HRL4","v":0},{"$f":"HRO35*'Makro i swap'!HRM4","v":0},{"$f":"HRP35*'Makro i swap'!HRN4","v":0},{"$f":"HRQ35*'Makro i swap'!HRO4","v":0},{"$f":"HRR35*'Makro i swap'!HRP4","v":0},{"$f":"HRS35*'Makro i swap'!HRQ4","v":0},{"$f":"HRT35*'Makro i swap'!HRR4","v":0},{"$f":"HRU35*'Makro i swap'!HRS4","v":0},{"$f":"HRV35*'Makro i swap'!HRT4","v":0},{"$f":"HRW35*'Makro i swap'!HRU4","v":0},{"$f":"HRX35*'Makro i swap'!HRV4","v":0},{"$f":"HRY35*'Makro i swap'!HRW4","v":0},{"$f":"HRZ35*'Makro i swap'!HRX4","v":0},{"$f":"HSA35*'Makro i swap'!HRY4","v":0},{"$f":"HSB35*'Makro i swap'!HRZ4","v":0},{"$f":"HSC35*'Makro i swap'!HSA4","v":0},{"$f":"HSD35*'Makro i swap'!HSB4","v":0},{"$f":"HSE35*'Makro i swap'!HSC4","v":0},{"$f":"HSF35*'Makro i swap'!HSD4","v":0},{"$f":"HSG35*'Makro i swap'!HSE4","v":0},{"$f":"HSH35*'Makro i swap'!HSF4","v":0},{"$f":"HSI35*'Makro i swap'!HSG4","v":0},{"$f":"HSJ35*'Makro i swap'!HSH4","v":0},{"$f":"HSK35*'Makro i swap'!HSI4","v":0},{"$f":"HSL35*'Makro i swap'!HSJ4","v":0},{"$f":"HSM35*'Makro i swap'!HSK4","v":0},{"$f":"HSN35*'Makro i swap'!HSL4","v":0},{"$f":"HSO35*'Makro i swap'!HSM4","v":0},{"$f":"HSP35*'Makro i swap'!HSN4","v":0},{"$f":"HSQ35*'Makro i swap'!HSO4","v":0},{"$f":"HSR35*'Makro i swap'!HSP4","v":0},{"$f":"HSS35*'Makro i swap'!HSQ4","v":0},{"$f":"HST35*'Makro i swap'!HSR4","v":0},{"$f":"HSU35*'Makro i swap'!HSS4","v":0},{"$f":"HSV35*'Makro i swap'!HST4","v":0},{"$f":"HSW35*'Makro i swap'!HSU4","v":0},{"$f":"HSX35*'Makro i swap'!HSV4","v":0},{"$f":"HSY35*'Makro i swap'!HSW4","v":0},{"$f":"HSZ35*'Makro i swap'!HSX4","v":0},{"$f":"HTA35*'Makro i swap'!HSY4","v":0},{"$f":"HTB35*'Makro i swap'!HSZ4","v":0},{"$f":"HTC35*'Makro i swap'!HTA4","v":0},{"$f":"HTD35*'Makro i swap'!HTB4","v":0},{"$f":"HTE35*'Makro i swap'!HTC4","v":0},{"$f":"HTF35*'Makro i swap'!HTD4","v":0},{"$f":"HTG35*'Makro i swap'!HTE4","v":0},{"$f":"HTH35*'Makro i swap'!HTF4","v":0},{"$f":"HTI35*'Makro i swap'!HTG4","v":0},{"$f":"HTJ35*'Makro i swap'!HTH4","v":0},{"$f":"HTK35*'Makro i swap'!HTI4","v":0},{"$f":"HTL35*'Makro i swap'!HTJ4","v":0},{"$f":"HTM35*'Makro i swap'!HTK4","v":0},{"$f":"HTN35*'Makro i swap'!HTL4","v":0},{"$f":"HTO35*'Makro i swap'!HTM4","v":0},{"$f":"HTP35*'Makro i swap'!HTN4","v":0},{"$f":"HTQ35*'Makro i swap'!HTO4","v":0},{"$f":"HTR35*'Makro i swap'!HTP4","v":0},{"$f":"HTS35*'Makro i swap'!HTQ4","v":0},{"$f":"HTT35*'Makro i swap'!HTR4","v":0},{"$f":"HTU35*'Makro i swap'!HTS4","v":0},{"$f":"HTV35*'Makro i swap'!HTT4","v":0},{"$f":"HTW35*'Makro i swap'!HTU4","v":0},{"$f":"HTX35*'Makro i swap'!HTV4","v":0},{"$f":"HTY35*'Makro i swap'!HTW4","v":0},{"$f":"HTZ35*'Makro i swap'!HTX4","v":0},{"$f":"HUA35*'Makro i swap'!HTY4","v":0},{"$f":"HUB35*'Makro i swap'!HTZ4","v":0},{"$f":"HUC35*'Makro i swap'!HUA4","v":0},{"$f":"HUD35*'Makro i swap'!HUB4","v":0},{"$f":"HUE35*'Makro i swap'!HUC4","v":0},{"$f":"HUF35*'Makro i swap'!HUD4","v":0},{"$f":"HUG35*'Makro i swap'!HUE4","v":0},{"$f":"HUH35*'Makro i swap'!HUF4","v":0},{"$f":"HUI35*'Makro i swap'!HUG4","v":0},{"$f":"HUJ35*'Makro i swap'!HUH4","v":0},{"$f":"HUK35*'Makro i swap'!HUI4","v":0},{"$f":"HUL35*'Makro i swap'!HUJ4","v":0},{"$f":"HUM35*'Makro i swap'!HUK4","v":0},{"$f":"HUN35*'Makro i swap'!HUL4","v":0},{"$f":"HUO35*'Makro i swap'!HUM4","v":0},{"$f":"HUP35*'Makro i swap'!HUN4","v":0},{"$f":"HUQ35*'Makro i swap'!HUO4","v":0},{"$f":"HUR35*'Makro i swap'!HUP4","v":0},{"$f":"HUS35*'Makro i swap'!HUQ4","v":0},{"$f":"HUT35*'Makro i swap'!HUR4","v":0},{"$f":"HUU35*'Makro i swap'!HUS4","v":0},{"$f":"HUV35*'Makro i swap'!HUT4","v":0},{"$f":"HUW35*'Makro i swap'!HUU4","v":0},{"$f":"HUX35*'Makro i swap'!HUV4","v":0},{"$f":"HUY35*'Makro i swap'!HUW4","v":0},{"$f":"HUZ35*'Makro i swap'!HUX4","v":0},{"$f":"HVA35*'Makro i swap'!HUY4","v":0},{"$f":"HVB35*'Makro i swap'!HUZ4","v":0},{"$f":"HVC35*'Makro i swap'!HVA4","v":0},{"$f":"HVD35*'Makro i swap'!HVB4","v":0},{"$f":"HVE35*'Makro i swap'!HVC4","v":0},{"$f":"HVF35*'Makro i swap'!HVD4","v":0},{"$f":"HVG35*'Makro i swap'!HVE4","v":0},{"$f":"HVH35*'Makro i swap'!HVF4","v":0},{"$f":"HVI35*'Makro i swap'!HVG4","v":0},{"$f":"HVJ35*'Makro i swap'!HVH4","v":0},{"$f":"HVK35*'Makro i swap'!HVI4","v":0},{"$f":"HVL35*'Makro i swap'!HVJ4","v":0},{"$f":"HVM35*'Makro i swap'!HVK4","v":0},{"$f":"HVN35*'Makro i swap'!HVL4","v":0},{"$f":"HVO35*'Makro i swap'!HVM4","v":0},{"$f":"HVP35*'Makro i swap'!HVN4","v":0},{"$f":"HVQ35*'Makro i swap'!HVO4","v":0},{"$f":"HVR35*'Makro i swap'!HVP4","v":0},{"$f":"HVS35*'Makro i swap'!HVQ4","v":0},{"$f":"HVT35*'Makro i swap'!HVR4","v":0},{"$f":"HVU35*'Makro i swap'!HVS4","v":0},{"$f":"HVV35*'Makro i swap'!HVT4","v":0},{"$f":"HVW35*'Makro i swap'!HVU4","v":0},{"$f":"HVX35*'Makro i swap'!HVV4","v":0},{"$f":"HVY35*'Makro i swap'!HVW4","v":0},{"$f":"HVZ35*'Makro i swap'!HVX4","v":0},{"$f":"HWA35*'Makro i swap'!HVY4","v":0},{"$f":"HWB35*'Makro i swap'!HVZ4","v":0},{"$f":"HWC35*'Makro i swap'!HWA4","v":0},{"$f":"HWD35*'Makro i swap'!HWB4","v":0},{"$f":"HWE35*'Makro i swap'!HWC4","v":0},{"$f":"HWF35*'Makro i swap'!HWD4","v":0},{"$f":"HWG35*'Makro i swap'!HWE4","v":0},{"$f":"HWH35*'Makro i swap'!HWF4","v":0},{"$f":"HWI35*'Makro i swap'!HWG4","v":0},{"$f":"HWJ35*'Makro i swap'!HWH4","v":0},{"$f":"HWK35*'Makro i swap'!HWI4","v":0},{"$f":"HWL35*'Makro i swap'!HWJ4","v":0},{"$f":"HWM35*'Makro i swap'!HWK4","v":0},{"$f":"HWN35*'Makro i swap'!HWL4","v":0},{"$f":"HWO35*'Makro i swap'!HWM4","v":0},{"$f":"HWP35*'Makro i swap'!HWN4","v":0},{"$f":"HWQ35*'Makro i swap'!HWO4","v":0},{"$f":"HWR35*'Makro i swap'!HWP4","v":0},{"$f":"HWS35*'Makro i swap'!HWQ4","v":0},{"$f":"HWT35*'Makro i swap'!HWR4","v":0},{"$f":"HWU35*'Makro i swap'!HWS4","v":0},{"$f":"HWV35*'Makro i swap'!HWT4","v":0},{"$f":"HWW35*'Makro i swap'!HWU4","v":0},{"$f":"HWX35*'Makro i swap'!HWV4","v":0},{"$f":"HWY35*'Makro i swap'!HWW4","v":0},{"$f":"HWZ35*'Makro i swap'!HWX4","v":0},{"$f":"HXA35*'Makro i swap'!HWY4","v":0},{"$f":"HXB35*'Makro i swap'!HWZ4","v":0},{"$f":"HXC35*'Makro i swap'!HXA4","v":0},{"$f":"HXD35*'Makro i swap'!HXB4","v":0},{"$f":"HXE35*'Makro i swap'!HXC4","v":0},{"$f":"HXF35*'Makro i swap'!HXD4","v":0},{"$f":"HXG35*'Makro i swap'!HXE4","v":0},{"$f":"HXH35*'Makro i swap'!HXF4","v":0},{"$f":"HXI35*'Makro i swap'!HXG4","v":0},{"$f":"HXJ35*'Makro i swap'!HXH4","v":0},{"$f":"HXK35*'Makro i swap'!HXI4","v":0},{"$f":"HXL35*'Makro i swap'!HXJ4","v":0},{"$f":"HXM35*'Makro i swap'!HXK4","v":0},{"$f":"HXN35*'Makro i swap'!HXL4","v":0},{"$f":"HXO35*'Makro i swap'!HXM4","v":0},{"$f":"HXP35*'Makro i swap'!HXN4","v":0},{"$f":"HXQ35*'Makro i swap'!HXO4","v":0},{"$f":"HXR35*'Makro i swap'!HXP4","v":0},{"$f":"HXS35*'Makro i swap'!HXQ4","v":0},{"$f":"HXT35*'Makro i swap'!HXR4","v":0},{"$f":"HXU35*'Makro i swap'!HXS4","v":0},{"$f":"HXV35*'Makro i swap'!HXT4","v":0},{"$f":"HXW35*'Makro i swap'!HXU4","v":0},{"$f":"HXX35*'Makro i swap'!HXV4","v":0},{"$f":"HXY35*'Makro i swap'!HXW4","v":0},{"$f":"HXZ35*'Makro i swap'!HXX4","v":0},{"$f":"HYA35*'Makro i swap'!HXY4","v":0},{"$f":"HYB35*'Makro i swap'!HXZ4","v":0},{"$f":"HYC35*'Makro i swap'!HYA4","v":0},{"$f":"HYD35*'Makro i swap'!HYB4","v":0},{"$f":"HYE35*'Makro i swap'!HYC4","v":0},{"$f":"HYF35*'Makro i swap'!HYD4","v":0},{"$f":"HYG35*'Makro i swap'!HYE4","v":0},{"$f":"HYH35*'Makro i swap'!HYF4","v":0},{"$f":"HYI35*'Makro i swap'!HYG4","v":0},{"$f":"HYJ35*'Makro i swap'!HYH4","v":0},{"$f":"HYK35*'Makro i swap'!HYI4","v":0},{"$f":"HYL35*'Makro i swap'!HYJ4","v":0},{"$f":"HYM35*'Makro i swap'!HYK4","v":0},{"$f":"HYN35*'Makro i swap'!HYL4","v":0},{"$f":"HYO35*'Makro i swap'!HYM4","v":0},{"$f":"HYP35*'Makro i swap'!HYN4","v":0},{"$f":"HYQ35*'Makro i swap'!HYO4","v":0},{"$f":"HYR35*'Makro i swap'!HYP4","v":0},{"$f":"HYS35*'Makro i swap'!HYQ4","v":0},{"$f":"HYT35*'Makro i swap'!HYR4","v":0},{"$f":"HYU35*'Makro i swap'!HYS4","v":0},{"$f":"HYV35*'Makro i swap'!HYT4","v":0},{"$f":"HYW35*'Makro i swap'!HYU4","v":0},{"$f":"HYX35*'Makro i swap'!HYV4","v":0},{"$f":"HYY35*'Makro i swap'!HYW4","v":0},{"$f":"HYZ35*'Makro i swap'!HYX4","v":0},{"$f":"HZA35*'Makro i swap'!HYY4","v":0},{"$f":"HZB35*'Makro i swap'!HYZ4","v":0},{"$f":"HZC35*'Makro i swap'!HZA4","v":0},{"$f":"HZD35*'Makro i swap'!HZB4","v":0},{"$f":"HZE35*'Makro i swap'!HZC4","v":0},{"$f":"HZF35*'Makro i swap'!HZD4","v":0},{"$f":"HZG35*'Makro i swap'!HZE4","v":0},{"$f":"HZH35*'Makro i swap'!HZF4","v":0},{"$f":"HZI35*'Makro i swap'!HZG4","v":0},{"$f":"HZJ35*'Makro i swap'!HZH4","v":0},{"$f":"HZK35*'Makro i swap'!HZI4","v":0},{"$f":"HZL35*'Makro i swap'!HZJ4","v":0},{"$f":"HZM35*'Makro i swap'!HZK4","v":0},{"$f":"HZN35*'Makro i swap'!HZL4","v":0},{"$f":"HZO35*'Makro i swap'!HZM4","v":0},{"$f":"HZP35*'Makro i swap'!HZN4","v":0},{"$f":"HZQ35*'Makro i swap'!HZO4","v":0},{"$f":"HZR35*'Makro i swap'!HZP4","v":0},{"$f":"HZS35*'Makro i swap'!HZQ4","v":0},{"$f":"HZT35*'Makro i swap'!HZR4","v":0},{"$f":"HZU35*'Makro i swap'!HZS4","v":0},{"$f":"HZV35*'Makro i swap'!HZT4","v":0},{"$f":"HZW35*'Makro i swap'!HZU4","v":0},{"$f":"HZX35*'Makro i swap'!HZV4","v":0},{"$f":"HZY35*'Makro i swap'!HZW4","v":0},{"$f":"HZZ35*'Makro i swap'!HZX4","v":0},{"$f":"IAA35*'Makro i swap'!HZY4","v":0},{"$f":"IAB35*'Makro i swap'!HZZ4","v":0},{"$f":"IAC35*'Makro i swap'!IAA4","v":0},{"$f":"IAD35*'Makro i swap'!IAB4","v":0},{"$f":"IAE35*'Makro i swap'!IAC4","v":0},{"$f":"IAF35*'Makro i swap'!IAD4","v":0},{"$f":"IAG35*'Makro i swap'!IAE4","v":0},{"$f":"IAH35*'Makro i swap'!IAF4","v":0},{"$f":"IAI35*'Makro i swap'!IAG4","v":0},{"$f":"IAJ35*'Makro i swap'!IAH4","v":0},{"$f":"IAK35*'Makro i swap'!IAI4","v":0},{"$f":"IAL35*'Makro i swap'!IAJ4","v":0},{"$f":"IAM35*'Makro i swap'!IAK4","v":0},{"$f":"IAN35*'Makro i swap'!IAL4","v":0},{"$f":"IAO35*'Makro i swap'!IAM4","v":0},{"$f":"IAP35*'Makro i swap'!IAN4","v":0},{"$f":"IAQ35*'Makro i swap'!IAO4","v":0},{"$f":"IAR35*'Makro i swap'!IAP4","v":0},{"$f":"IAS35*'Makro i swap'!IAQ4","v":0},{"$f":"IAT35*'Makro i swap'!IAR4","v":0},{"$f":"IAU35*'Makro i swap'!IAS4","v":0},{"$f":"IAV35*'Makro i swap'!IAT4","v":0},{"$f":"IAW35*'Makro i swap'!IAU4","v":0},{"$f":"IAX35*'Makro i swap'!IAV4","v":0},{"$f":"IAY35*'Makro i swap'!IAW4","v":0},{"$f":"IAZ35*'Makro i swap'!IAX4","v":0},{"$f":"IBA35*'Makro i swap'!IAY4","v":0},{"$f":"IBB35*'Makro i swap'!IAZ4","v":0},{"$f":"IBC35*'Makro i swap'!IBA4","v":0},{"$f":"IBD35*'Makro i swap'!IBB4","v":0},{"$f":"IBE35*'Makro i swap'!IBC4","v":0},{"$f":"IBF35*'Makro i swap'!IBD4","v":0},{"$f":"IBG35*'Makro i swap'!IBE4","v":0},{"$f":"IBH35*'Makro i swap'!IBF4","v":0},{"$f":"IBI35*'Makro i swap'!IBG4","v":0},{"$f":"IBJ35*'Makro i swap'!IBH4","v":0},{"$f":"IBK35*'Makro i swap'!IBI4","v":0},{"$f":"IBL35*'Makro i swap'!IBJ4","v":0},{"$f":"IBM35*'Makro i swap'!IBK4","v":0},{"$f":"IBN35*'Makro i swap'!IBL4","v":0},{"$f":"IBO35*'Makro i swap'!IBM4","v":0},{"$f":"IBP35*'Makro i swap'!IBN4","v":0},{"$f":"IBQ35*'Makro i swap'!IBO4","v":0},{"$f":"IBR35*'Makro i swap'!IBP4","v":0},{"$f":"IBS35*'Makro i swap'!IBQ4","v":0},{"$f":"IBT35*'Makro i swap'!IBR4","v":0},{"$f":"IBU35*'Makro i swap'!IBS4","v":0},{"$f":"IBV35*'Makro i swap'!IBT4","v":0},{"$f":"IBW35*'Makro i swap'!IBU4","v":0},{"$f":"IBX35*'Makro i swap'!IBV4","v":0},{"$f":"IBY35*'Makro i swap'!IBW4","v":0},{"$f":"IBZ35*'Makro i swap'!IBX4","v":0},{"$f":"ICA35*'Makro i swap'!IBY4","v":0},{"$f":"ICB35*'Makro i swap'!IBZ4","v":0},{"$f":"ICC35*'Makro i swap'!ICA4","v":0},{"$f":"ICD35*'Makro i swap'!ICB4","v":0},{"$f":"ICE35*'Makro i swap'!ICC4","v":0},{"$f":"ICF35*'Makro i swap'!ICD4","v":0},{"$f":"ICG35*'Makro i swap'!ICE4","v":0},{"$f":"ICH35*'Makro i swap'!ICF4","v":0},{"$f":"ICI35*'Makro i swap'!ICG4","v":0},{"$f":"ICJ35*'Makro i swap'!ICH4","v":0},{"$f":"ICK35*'Makro i swap'!ICI4","v":0},{"$f":"ICL35*'Makro i swap'!ICJ4","v":0},{"$f":"ICM35*'Makro i swap'!ICK4","v":0},{"$f":"ICN35*'Makro i swap'!ICL4","v":0},{"$f":"ICO35*'Makro i swap'!ICM4","v":0},{"$f":"ICP35*'Makro i swap'!ICN4","v":0},{"$f":"ICQ35*'Makro i swap'!ICO4","v":0},{"$f":"ICR35*'Makro i swap'!ICP4","v":0},{"$f":"ICS35*'Makro i swap'!ICQ4","v":0},{"$f":"ICT35*'Makro i swap'!ICR4","v":0},{"$f":"ICU35*'Makro i swap'!ICS4","v":0},{"$f":"ICV35*'Makro i swap'!ICT4","v":0},{"$f":"ICW35*'Makro i swap'!ICU4","v":0},{"$f":"ICX35*'Makro i swap'!ICV4","v":0},{"$f":"ICY35*'Makro i swap'!ICW4","v":0},{"$f":"ICZ35*'Makro i swap'!ICX4","v":0},{"$f":"IDA35*'Makro i swap'!ICY4","v":0},{"$f":"IDB35*'Makro i swap'!ICZ4","v":0},{"$f":"IDC35*'Makro i swap'!IDA4","v":0},{"$f":"IDD35*'Makro i swap'!IDB4","v":0},{"$f":"IDE35*'Makro i swap'!IDC4","v":0},{"$f":"IDF35*'Makro i swap'!IDD4","v":0},{"$f":"IDG35*'Makro i swap'!IDE4","v":0},{"$f":"IDH35*'Makro i swap'!IDF4","v":0},{"$f":"IDI35*'Makro i swap'!IDG4","v":0},{"$f":"IDJ35*'Makro i swap'!IDH4","v":0},{"$f":"IDK35*'Makro i swap'!IDI4","v":0},{"$f":"IDL35*'Makro i swap'!IDJ4","v":0},{"$f":"IDM35*'Makro i swap'!IDK4","v":0},{"$f":"IDN35*'Makro i swap'!IDL4","v":0},{"$f":"IDO35*'Makro i swap'!IDM4","v":0},{"$f":"IDP35*'Makro i swap'!IDN4","v":0},{"$f":"IDQ35*'Makro i swap'!IDO4","v":0},{"$f":"IDR35*'Makro i swap'!IDP4","v":0},{"$f":"IDS35*'Makro i swap'!IDQ4","v":0},{"$f":"IDT35*'Makro i swap'!IDR4","v":0},{"$f":"IDU35*'Makro i swap'!IDS4","v":0},{"$f":"IDV35*'Makro i swap'!IDT4","v":0},{"$f":"IDW35*'Makro i swap'!IDU4","v":0},{"$f":"IDX35*'Makro i swap'!IDV4","v":0},{"$f":"IDY35*'Makro i swap'!IDW4","v":0},{"$f":"IDZ35*'Makro i swap'!IDX4","v":0},{"$f":"IEA35*'Makro i swap'!IDY4","v":0},{"$f":"IEB35*'Makro i swap'!IDZ4","v":0},{"$f":"IEC35*'Makro i swap'!IEA4","v":0},{"$f":"IED35*'Makro i swap'!IEB4","v":0},{"$f":"IEE35*'Makro i swap'!IEC4","v":0},{"$f":"IEF35*'Makro i swap'!IED4","v":0},{"$f":"IEG35*'Makro i swap'!IEE4","v":0},{"$f":"IEH35*'Makro i swap'!IEF4","v":0},{"$f":"IEI35*'Makro i swap'!IEG4","v":0},{"$f":"IEJ35*'Makro i swap'!IEH4","v":0},{"$f":"IEK35*'Makro i swap'!IEI4","v":0},{"$f":"IEL35*'Makro i swap'!IEJ4","v":0},{"$f":"IEM35*'Makro i swap'!IEK4","v":0},{"$f":"IEN35*'Makro i swap'!IEL4","v":0},{"$f":"IEO35*'Makro i swap'!IEM4","v":0},{"$f":"IEP35*'Makro i swap'!IEN4","v":0},{"$f":"IEQ35*'Makro i swap'!IEO4","v":0},{"$f":"IER35*'Makro i swap'!IEP4","v":0},{"$f":"IES35*'Makro i swap'!IEQ4","v":0},{"$f":"IET35*'Makro i swap'!IER4","v":0},{"$f":"IEU35*'Makro i swap'!IES4","v":0},{"$f":"IEV35*'Makro i swap'!IET4","v":0},{"$f":"IEW35*'Makro i swap'!IEU4","v":0},{"$f":"IEX35*'Makro i swap'!IEV4","v":0},{"$f":"IEY35*'Makro i swap'!IEW4","v":0},{"$f":"IEZ35*'Makro i swap'!IEX4","v":0},{"$f":"IFA35*'Makro i swap'!IEY4","v":0},{"$f":"IFB35*'Makro i swap'!IEZ4","v":0},{"$f":"IFC35*'Makro i swap'!IFA4","v":0},{"$f":"IFD35*'Makro i swap'!IFB4","v":0},{"$f":"IFE35*'Makro i swap'!IFC4","v":0},{"$f":"IFF35*'Makro i swap'!IFD4","v":0},{"$f":"IFG35*'Makro i swap'!IFE4","v":0},{"$f":"IFH35*'Makro i swap'!IFF4","v":0},{"$f":"IFI35*'Makro i swap'!IFG4","v":0},{"$f":"IFJ35*'Makro i swap'!IFH4","v":0},{"$f":"IFK35*'Makro i swap'!IFI4","v":0},{"$f":"IFL35*'Makro i swap'!IFJ4","v":0},{"$f":"IFM35*'Makro i swap'!IFK4","v":0},{"$f":"IFN35*'Makro i swap'!IFL4","v":0},{"$f":"IFO35*'Makro i swap'!IFM4","v":0},{"$f":"IFP35*'Makro i swap'!IFN4","v":0},{"$f":"IFQ35*'Makro i swap'!IFO4","v":0},{"$f":"IFR35*'Makro i swap'!IFP4","v":0},{"$f":"IFS35*'Makro i swap'!IFQ4","v":0},{"$f":"IFT35*'Makro i swap'!IFR4","v":0},{"$f":"IFU35*'Makro i swap'!IFS4","v":0},{"$f":"IFV35*'Makro i swap'!IFT4","v":0},{"$f":"IFW35*'Makro i swap'!IFU4","v":0},{"$f":"IFX35*'Makro i swap'!IFV4","v":0},{"$f":"IFY35*'Makro i swap'!IFW4","v":0},{"$f":"IFZ35*'Makro i swap'!IFX4","v":0},{"$f":"IGA35*'Makro i swap'!IFY4","v":0},{"$f":"IGB35*'Makro i swap'!IFZ4","v":0},{"$f":"IGC35*'Makro i swap'!IGA4","v":0},{"$f":"IGD35*'Makro i swap'!IGB4","v":0},{"$f":"IGE35*'Makro i swap'!IGC4","v":0},{"$f":"IGF35*'Makro i swap'!IGD4","v":0},{"$f":"IGG35*'Makro i swap'!IGE4","v":0},{"$f":"IGH35*'Makro i swap'!IGF4","v":0},{"$f":"IGI35*'Makro i swap'!IGG4","v":0},{"$f":"IGJ35*'Makro i swap'!IGH4","v":0},{"$f":"IGK35*'Makro i swap'!IGI4","v":0},{"$f":"IGL35*'Makro i swap'!IGJ4","v":0},{"$f":"IGM35*'Makro i swap'!IGK4","v":0},{"$f":"IGN35*'Makro i swap'!IGL4","v":0},{"$f":"IGO35*'Makro i swap'!IGM4","v":0},{"$f":"IGP35*'Makro i swap'!IGN4","v":0},{"$f":"IGQ35*'Makro i swap'!IGO4","v":0},{"$f":"IGR35*'Makro i swap'!IGP4","v":0},{"$f":"IGS35*'Makro i swap'!IGQ4","v":0},{"$f":"IGT35*'Makro i swap'!IGR4","v":0},{"$f":"IGU35*'Makro i swap'!IGS4","v":0},{"$f":"IGV35*'Makro i swap'!IGT4","v":0},{"$f":"IGW35*'Makro i swap'!IGU4","v":0},{"$f":"IGX35*'Makro i swap'!IGV4","v":0},{"$f":"IGY35*'Makro i swap'!IGW4","v":0},{"$f":"IGZ35*'Makro i swap'!IGX4","v":0},{"$f":"IHA35*'Makro i swap'!IGY4","v":0},{"$f":"IHB35*'Makro i swap'!IGZ4","v":0},{"$f":"IHC35*'Makro i swap'!IHA4","v":0},{"$f":"IHD35*'Makro i swap'!IHB4","v":0},{"$f":"IHE35*'Makro i swap'!IHC4","v":0},{"$f":"IHF35*'Makro i swap'!IHD4","v":0},{"$f":"IHG35*'Makro i swap'!IHE4","v":0},{"$f":"IHH35*'Makro i swap'!IHF4","v":0},{"$f":"IHI35*'Makro i swap'!IHG4","v":0},{"$f":"IHJ35*'Makro i swap'!IHH4","v":0},{"$f":"IHK35*'Makro i swap'!IHI4","v":0},{"$f":"IHL35*'Makro i swap'!IHJ4","v":0},{"$f":"IHM35*'Makro i swap'!IHK4","v":0},{"$f":"IHN35*'Makro i swap'!IHL4","v":0},{"$f":"IHO35*'Makro i swap'!IHM4","v":0},{"$f":"IHP35*'Makro i swap'!IHN4","v":0},{"$f":"IHQ35*'Makro i swap'!IHO4","v":0},{"$f":"IHR35*'Makro i swap'!IHP4","v":0},{"$f":"IHS35*'Makro i swap'!IHQ4","v":0},{"$f":"IHT35*'Makro i swap'!IHR4","v":0},{"$f":"IHU35*'Makro i swap'!IHS4","v":0},{"$f":"IHV35*'Makro i swap'!IHT4","v":0},{"$f":"IHW35*'Makro i swap'!IHU4","v":0},{"$f":"IHX35*'Makro i swap'!IHV4","v":0},{"$f":"IHY35*'Makro i swap'!IHW4","v":0},{"$f":"IHZ35*'Makro i swap'!IHX4","v":0},{"$f":"IIA35*'Makro i swap'!IHY4","v":0},{"$f":"IIB35*'Makro i swap'!IHZ4","v":0},{"$f":"IIC35*'Makro i swap'!IIA4","v":0},{"$f":"IID35*'Makro i swap'!IIB4","v":0},{"$f":"IIE35*'Makro i swap'!IIC4","v":0},{"$f":"IIF35*'Makro i swap'!IID4","v":0},{"$f":"IIG35*'Makro i swap'!IIE4","v":0},{"$f":"IIH35*'Makro i swap'!IIF4","v":0},{"$f":"III35*'Makro i swap'!IIG4","v":0},{"$f":"IIJ35*'Makro i swap'!IIH4","v":0},{"$f":"IIK35*'Makro i swap'!III4","v":0},{"$f":"IIL35*'Makro i swap'!IIJ4","v":0},{"$f":"IIM35*'Makro i swap'!IIK4","v":0},{"$f":"IIN35*'Makro i swap'!IIL4","v":0},{"$f":"IIO35*'Makro i swap'!IIM4","v":0},{"$f":"IIP35*'Makro i swap'!IIN4","v":0},{"$f":"IIQ35*'Makro i swap'!IIO4","v":0},{"$f":"IIR35*'Makro i swap'!IIP4","v":0},{"$f":"IIS35*'Makro i swap'!IIQ4","v":0},{"$f":"IIT35*'Makro i swap'!IIR4","v":0},{"$f":"IIU35*'Makro i swap'!IIS4","v":0},{"$f":"IIV35*'Makro i swap'!IIT4","v":0},{"$f":"IIW35*'Makro i swap'!IIU4","v":0},{"$f":"IIX35*'Makro i swap'!IIV4","v":0},{"$f":"IIY35*'Makro i swap'!IIW4","v":0},{"$f":"IIZ35*'Makro i swap'!IIX4","v":0},{"$f":"IJA35*'Makro i swap'!IIY4","v":0},{"$f":"IJB35*'Makro i swap'!IIZ4","v":0},{"$f":"IJC35*'Makro i swap'!IJA4","v":0},{"$f":"IJD35*'Makro i swap'!IJB4","v":0},{"$f":"IJE35*'Makro i swap'!IJC4","v":0},{"$f":"IJF35*'Makro i swap'!IJD4","v":0},{"$f":"IJG35*'Makro i swap'!IJE4","v":0},{"$f":"IJH35*'Makro i swap'!IJF4","v":0},{"$f":"IJI35*'Makro i swap'!IJG4","v":0},{"$f":"IJJ35*'Makro i swap'!IJH4","v":0},{"$f":"IJK35*'Makro i swap'!IJI4","v":0},{"$f":"IJL35*'Makro i swap'!IJJ4","v":0},{"$f":"IJM35*'Makro i swap'!IJK4","v":0},{"$f":"IJN35*'Makro i swap'!IJL4","v":0},{"$f":"IJO35*'Makro i swap'!IJM4","v":0},{"$f":"IJP35*'Makro i swap'!IJN4","v":0},{"$f":"IJQ35*'Makro i swap'!IJO4","v":0},{"$f":"IJR35*'Makro i swap'!IJP4","v":0},{"$f":"IJS35*'Makro i swap'!IJQ4","v":0},{"$f":"IJT35*'Makro i swap'!IJR4","v":0},{"$f":"IJU35*'Makro i swap'!IJS4","v":0},{"$f":"IJV35*'Makro i swap'!IJT4","v":0},{"$f":"IJW35*'Makro i swap'!IJU4","v":0},{"$f":"IJX35*'Makro i swap'!IJV4","v":0},{"$f":"IJY35*'Makro i swap'!IJW4","v":0},{"$f":"IJZ35*'Makro i swap'!IJX4","v":0},{"$f":"IKA35*'Makro i swap'!IJY4","v":0},{"$f":"IKB35*'Makro i swap'!IJZ4","v":0},{"$f":"IKC35*'Makro i swap'!IKA4","v":0},{"$f":"IKD35*'Makro i swap'!IKB4","v":0},{"$f":"IKE35*'Makro i swap'!IKC4","v":0},{"$f":"IKF35*'Makro i swap'!IKD4","v":0},{"$f":"IKG35*'Makro i swap'!IKE4","v":0},{"$f":"IKH35*'Makro i swap'!IKF4","v":0},{"$f":"IKI35*'Makro i swap'!IKG4","v":0},{"$f":"IKJ35*'Makro i swap'!IKH4","v":0},{"$f":"IKK35*'Makro i swap'!IKI4","v":0},{"$f":"IKL35*'Makro i swap'!IKJ4","v":0},{"$f":"IKM35*'Makro i swap'!IKK4","v":0},{"$f":"IKN35*'Makro i swap'!IKL4","v":0},{"$f":"IKO35*'Makro i swap'!IKM4","v":0},{"$f":"IKP35*'Makro i swap'!IKN4","v":0},{"$f":"IKQ35*'Makro i swap'!IKO4","v":0},{"$f":"IKR35*'Makro i swap'!IKP4","v":0},{"$f":"IKS35*'Makro i swap'!IKQ4","v":0},{"$f":"IKT35*'Makro i swap'!IKR4","v":0},{"$f":"IKU35*'Makro i swap'!IKS4","v":0},{"$f":"IKV35*'Makro i swap'!IKT4","v":0},{"$f":"IKW35*'Makro i swap'!IKU4","v":0},{"$f":"IKX35*'Makro i swap'!IKV4","v":0},{"$f":"IKY35*'Makro i swap'!IKW4","v":0},{"$f":"IKZ35*'Makro i swap'!IKX4","v":0},{"$f":"ILA35*'Makro i swap'!IKY4","v":0},{"$f":"ILB35*'Makro i swap'!IKZ4","v":0},{"$f":"ILC35*'Makro i swap'!ILA4","v":0},{"$f":"ILD35*'Makro i swap'!ILB4","v":0},{"$f":"ILE35*'Makro i swap'!ILC4","v":0},{"$f":"ILF35*'Makro i swap'!ILD4","v":0},{"$f":"ILG35*'Makro i swap'!ILE4","v":0},{"$f":"ILH35*'Makro i swap'!ILF4","v":0},{"$f":"ILI35*'Makro i swap'!ILG4","v":0},{"$f":"ILJ35*'Makro i swap'!ILH4","v":0},{"$f":"ILK35*'Makro i swap'!ILI4","v":0},{"$f":"ILL35*'Makro i swap'!ILJ4","v":0},{"$f":"ILM35*'Makro i swap'!ILK4","v":0},{"$f":"ILN35*'Makro i swap'!ILL4","v":0},{"$f":"ILO35*'Makro i swap'!ILM4","v":0},{"$f":"ILP35*'Makro i swap'!ILN4","v":0},{"$f":"ILQ35*'Makro i swap'!ILO4","v":0},{"$f":"ILR35*'Makro i swap'!ILP4","v":0},{"$f":"ILS35*'Makro i swap'!ILQ4","v":0},{"$f":"ILT35*'Makro i swap'!ILR4","v":0},{"$f":"ILU35*'Makro i swap'!ILS4","v":0},{"$f":"ILV35*'Makro i swap'!ILT4","v":0},{"$f":"ILW35*'Makro i swap'!ILU4","v":0},{"$f":"ILX35*'Makro i swap'!ILV4","v":0},{"$f":"ILY35*'Makro i swap'!ILW4","v":0},{"$f":"ILZ35*'Makro i swap'!ILX4","v":0},{"$f":"IMA35*'Makro i swap'!ILY4","v":0},{"$f":"IMB35*'Makro i swap'!ILZ4","v":0},{"$f":"IMC35*'Makro i swap'!IMA4","v":0},{"$f":"IMD35*'Makro i swap'!IMB4","v":0},{"$f":"IME35*'Makro i swap'!IMC4","v":0},{"$f":"IMF35*'Makro i swap'!IMD4","v":0},{"$f":"IMG35*'Makro i swap'!IME4","v":0},{"$f":"IMH35*'Makro i swap'!IMF4","v":0},{"$f":"IMI35*'Makro i swap'!IMG4","v":0},{"$f":"IMJ35*'Makro i swap'!IMH4","v":0},{"$f":"IMK35*'Makro i swap'!IMI4","v":0},{"$f":"IML35*'Makro i swap'!IMJ4","v":0},{"$f":"IMM35*'Makro i swap'!IMK4","v":0},{"$f":"IMN35*'Makro i swap'!IML4","v":0},{"$f":"IMO35*'Makro i swap'!IMM4","v":0},{"$f":"IMP35*'Makro i swap'!IMN4","v":0},{"$f":"IMQ35*'Makro i swap'!IMO4","v":0},{"$f":"IMR35*'Makro i swap'!IMP4","v":0},{"$f":"IMS35*'Makro i swap'!IMQ4","v":0},{"$f":"IMT35*'Makro i swap'!IMR4","v":0},{"$f":"IMU35*'Makro i swap'!IMS4","v":0},{"$f":"IMV35*'Makro i swap'!IMT4","v":0},{"$f":"IMW35*'Makro i swap'!IMU4","v":0},{"$f":"IMX35*'Makro i swap'!IMV4","v":0},{"$f":"IMY35*'Makro i swap'!IMW4","v":0},{"$f":"IMZ35*'Makro i swap'!IMX4","v":0},{"$f":"INA35*'Makro i swap'!IMY4","v":0},{"$f":"INB35*'Makro i swap'!IMZ4","v":0},{"$f":"INC35*'Makro i swap'!INA4","v":0},{"$f":"IND35*'Makro i swap'!INB4","v":0},{"$f":"INE35*'Makro i swap'!INC4","v":0},{"$f":"INF35*'Makro i swap'!IND4","v":0},{"$f":"ING35*'Makro i swap'!INE4","v":0},{"$f":"INH35*'Makro i swap'!INF4","v":0},{"$f":"INI35*'Makro i swap'!ING4","v":0},{"$f":"INJ35*'Makro i swap'!INH4","v":0},{"$f":"INK35*'Makro i swap'!INI4","v":0},{"$f":"INL35*'Makro i swap'!INJ4","v":0},{"$f":"INM35*'Makro i swap'!INK4","v":0},{"$f":"INN35*'Makro i swap'!INL4","v":0},{"$f":"INO35*'Makro i swap'!INM4","v":0},{"$f":"INP35*'Makro i swap'!INN4","v":0},{"$f":"INQ35*'Makro i swap'!INO4","v":0},{"$f":"INR35*'Makro i swap'!INP4","v":0},{"$f":"INS35*'Makro i swap'!INQ4","v":0},{"$f":"INT35*'Makro i swap'!INR4","v":0},{"$f":"INU35*'Makro i swap'!INS4","v":0},{"$f":"INV35*'Makro i swap'!INT4","v":0},{"$f":"INW35*'Makro i swap'!INU4","v":0},{"$f":"INX35*'Makro i swap'!INV4","v":0},{"$f":"INY35*'Makro i swap'!INW4","v":0},{"$f":"INZ35*'Makro i swap'!INX4","v":0},{"$f":"IOA35*'Makro i swap'!INY4","v":0},{"$f":"IOB35*'Makro i swap'!INZ4","v":0},{"$f":"IOC35*'Makro i swap'!IOA4","v":0},{"$f":"IOD35*'Makro i swap'!IOB4","v":0},{"$f":"IOE35*'Makro i swap'!IOC4","v":0},{"$f":"IOF35*'Makro i swap'!IOD4","v":0},{"$f":"IOG35*'Makro i swap'!IOE4","v":0},{"$f":"IOH35*'Makro i swap'!IOF4","v":0},{"$f":"IOI35*'Makro i swap'!IOG4","v":0},{"$f":"IOJ35*'Makro i swap'!IOH4","v":0},{"$f":"IOK35*'Makro i swap'!IOI4","v":0},{"$f":"IOL35*'Makro i swap'!IOJ4","v":0},{"$f":"IOM35*'Makro i swap'!IOK4","v":0},{"$f":"ION35*'Makro i swap'!IOL4","v":0},{"$f":"IOO35*'Makro i swap'!IOM4","v":0},{"$f":"IOP35*'Makro i swap'!ION4","v":0},{"$f":"IOQ35*'Makro i swap'!IOO4","v":0},{"$f":"IOR35*'Makro i swap'!IOP4","v":0},{"$f":"IOS35*'Makro i swap'!IOQ4","v":0},{"$f":"IOT35*'Makro i swap'!IOR4","v":0},{"$f":"IOU35*'Makro i swap'!IOS4","v":0},{"$f":"IOV35*'Makro i swap'!IOT4","v":0},{"$f":"IOW35*'Makro i swap'!IOU4","v":0},{"$f":"IOX35*'Makro i swap'!IOV4","v":0},{"$f":"IOY35*'Makro i swap'!IOW4","v":0},{"$f":"IOZ35*'Makro i swap'!IOX4","v":0},{"$f":"IPA35*'Makro i swap'!IOY4","v":0},{"$f":"IPB35*'Makro i swap'!IOZ4","v":0},{"$f":"IPC35*'Makro i swap'!IPA4","v":0},{"$f":"IPD35*'Makro i swap'!IPB4","v":0},{"$f":"IPE35*'Makro i swap'!IPC4","v":0},{"$f":"IPF35*'Makro i swap'!IPD4","v":0},{"$f":"IPG35*'Makro i swap'!IPE4","v":0},{"$f":"IPH35*'Makro i swap'!IPF4","v":0},{"$f":"IPI35*'Makro i swap'!IPG4","v":0},{"$f":"IPJ35*'Makro i swap'!IPH4","v":0},{"$f":"IPK35*'Makro i swap'!IPI4","v":0},{"$f":"IPL35*'Makro i swap'!IPJ4","v":0},{"$f":"IPM35*'Makro i swap'!IPK4","v":0},{"$f":"IPN35*'Makro i swap'!IPL4","v":0},{"$f":"IPO35*'Makro i swap'!IPM4","v":0},{"$f":"IPP35*'Makro i swap'!IPN4","v":0},{"$f":"IPQ35*'Makro i swap'!IPO4","v":0},{"$f":"IPR35*'Makro i swap'!IPP4","v":0},{"$f":"IPS35*'Makro i swap'!IPQ4","v":0},{"$f":"IPT35*'Makro i swap'!IPR4","v":0},{"$f":"IPU35*'Makro i swap'!IPS4","v":0},{"$f":"IPV35*'Makro i swap'!IPT4","v":0},{"$f":"IPW35*'Makro i swap'!IPU4","v":0},{"$f":"IPX35*'Makro i swap'!IPV4","v":0},{"$f":"IPY35*'Makro i swap'!IPW4","v":0},{"$f":"IPZ35*'Makro i swap'!IPX4","v":0},{"$f":"IQA35*'Makro i swap'!IPY4","v":0},{"$f":"IQB35*'Makro i swap'!IPZ4","v":0},{"$f":"IQC35*'Makro i swap'!IQA4","v":0},{"$f":"IQD35*'Makro i swap'!IQB4","v":0},{"$f":"IQE35*'Makro i swap'!IQC4","v":0},{"$f":"IQF35*'Makro i swap'!IQD4","v":0},{"$f":"IQG35*'Makro i swap'!IQE4","v":0},{"$f":"IQH35*'Makro i swap'!IQF4","v":0},{"$f":"IQI35*'Makro i swap'!IQG4","v":0},{"$f":"IQJ35*'Makro i swap'!IQH4","v":0},{"$f":"IQK35*'Makro i swap'!IQI4","v":0},{"$f":"IQL35*'Makro i swap'!IQJ4","v":0},{"$f":"IQM35*'Makro i swap'!IQK4","v":0},{"$f":"IQN35*'Makro i swap'!IQL4","v":0},{"$f":"IQO35*'Makro i swap'!IQM4","v":0},{"$f":"IQP35*'Makro i swap'!IQN4","v":0},{"$f":"IQQ35*'Makro i swap'!IQO4","v":0},{"$f":"IQR35*'Makro i swap'!IQP4","v":0},{"$f":"IQS35*'Makro i swap'!IQQ4","v":0},{"$f":"IQT35*'Makro i swap'!IQR4","v":0},{"$f":"IQU35*'Makro i swap'!IQS4","v":0},{"$f":"IQV35*'Makro i swap'!IQT4","v":0},{"$f":"IQW35*'Makro i swap'!IQU4","v":0},{"$f":"IQX35*'Makro i swap'!IQV4","v":0},{"$f":"IQY35*'Makro i swap'!IQW4","v":0},{"$f":"IQZ35*'Makro i swap'!IQX4","v":0},{"$f":"IRA35*'Makro i swap'!IQY4","v":0},{"$f":"IRB35*'Makro i swap'!IQZ4","v":0},{"$f":"IRC35*'Makro i swap'!IRA4","v":0},{"$f":"IRD35*'Makro i swap'!IRB4","v":0},{"$f":"IRE35*'Makro i swap'!IRC4","v":0},{"$f":"IRF35*'Makro i swap'!IRD4","v":0},{"$f":"IRG35*'Makro i swap'!IRE4","v":0},{"$f":"IRH35*'Makro i swap'!IRF4","v":0},{"$f":"IRI35*'Makro i swap'!IRG4","v":0},{"$f":"IRJ35*'Makro i swap'!IRH4","v":0},{"$f":"IRK35*'Makro i swap'!IRI4","v":0},{"$f":"IRL35*'Makro i swap'!IRJ4","v":0},{"$f":"IRM35*'Makro i swap'!IRK4","v":0},{"$f":"IRN35*'Makro i swap'!IRL4","v":0},{"$f":"IRO35*'Makro i swap'!IRM4","v":0},{"$f":"IRP35*'Makro i swap'!IRN4","v":0},{"$f":"IRQ35*'Makro i swap'!IRO4","v":0},{"$f":"IRR35*'Makro i swap'!IRP4","v":0},{"$f":"IRS35*'Makro i swap'!IRQ4","v":0},{"$f":"IRT35*'Makro i swap'!IRR4","v":0},{"$f":"IRU35*'Makro i swap'!IRS4","v":0},{"$f":"IRV35*'Makro i swap'!IRT4","v":0},{"$f":"IRW35*'Makro i swap'!IRU4","v":0},{"$f":"IRX35*'Makro i swap'!IRV4","v":0},{"$f":"IRY35*'Makro i swap'!IRW4","v":0},{"$f":"IRZ35*'Makro i swap'!IRX4","v":0},{"$f":"ISA35*'Makro i swap'!IRY4","v":0},{"$f":"ISB35*'Makro i swap'!IRZ4","v":0},{"$f":"ISC35*'Makro i swap'!ISA4","v":0},{"$f":"ISD35*'Makro i swap'!ISB4","v":0},{"$f":"ISE35*'Makro i swap'!ISC4","v":0},{"$f":"ISF35*'Makro i swap'!ISD4","v":0},{"$f":"ISG35*'Makro i swap'!ISE4","v":0},{"$f":"ISH35*'Makro i swap'!ISF4","v":0},{"$f":"ISI35*'Makro i swap'!ISG4","v":0},{"$f":"ISJ35*'Makro i swap'!ISH4","v":0},{"$f":"ISK35*'Makro i swap'!ISI4","v":0},{"$f":"ISL35*'Makro i swap'!ISJ4","v":0},{"$f":"ISM35*'Makro i swap'!ISK4","v":0},{"$f":"ISN35*'Makro i swap'!ISL4","v":0},{"$f":"ISO35*'Makro i swap'!ISM4","v":0},{"$f":"ISP35*'Makro i swap'!ISN4","v":0},{"$f":"ISQ35*'Makro i swap'!ISO4","v":0},{"$f":"ISR35*'Makro i swap'!ISP4","v":0},{"$f":"ISS35*'Makro i swap'!ISQ4","v":0},{"$f":"IST35*'Makro i swap'!ISR4","v":0},{"$f":"ISU35*'Makro i swap'!ISS4","v":0},{"$f":"ISV35*'Makro i swap'!IST4","v":0},{"$f":"ISW35*'Makro i swap'!ISU4","v":0},{"$f":"ISX35*'Makro i swap'!ISV4","v":0},{"$f":"ISY35*'Makro i swap'!ISW4","v":0},{"$f":"ISZ35*'Makro i swap'!ISX4","v":0},{"$f":"ITA35*'Makro i swap'!ISY4","v":0},{"$f":"ITB35*'Makro i swap'!ISZ4","v":0},{"$f":"ITC35*'Makro i swap'!ITA4","v":0},{"$f":"ITD35*'Makro i swap'!ITB4","v":0},{"$f":"ITE35*'Makro i swap'!ITC4","v":0},{"$f":"ITF35*'Makro i swap'!ITD4","v":0},{"$f":"ITG35*'Makro i swap'!ITE4","v":0},{"$f":"ITH35*'Makro i swap'!ITF4","v":0},{"$f":"ITI35*'Makro i swap'!ITG4","v":0},{"$f":"ITJ35*'Makro i swap'!ITH4","v":0},{"$f":"ITK35*'Makro i swap'!ITI4","v":0},{"$f":"ITL35*'Makro i swap'!ITJ4","v":0},{"$f":"ITM35*'Makro i swap'!ITK4","v":0},{"$f":"ITN35*'Makro i swap'!ITL4","v":0},{"$f":"ITO35*'Makro i swap'!ITM4","v":0},{"$f":"ITP35*'Makro i swap'!ITN4","v":0},{"$f":"ITQ35*'Makro i swap'!ITO4","v":0},{"$f":"ITR35*'Makro i swap'!ITP4","v":0},{"$f":"ITS35*'Makro i swap'!ITQ4","v":0},{"$f":"ITT35*'Makro i swap'!ITR4","v":0},{"$f":"ITU35*'Makro i swap'!ITS4","v":0},{"$f":"ITV35*'Makro i swap'!ITT4","v":0},{"$f":"ITW35*'Makro i swap'!ITU4","v":0},{"$f":"ITX35*'Makro i swap'!ITV4","v":0},{"$f":"ITY35*'Makro i swap'!ITW4","v":0},{"$f":"ITZ35*'Makro i swap'!ITX4","v":0},{"$f":"IUA35*'Makro i swap'!ITY4","v":0},{"$f":"IUB35*'Makro i swap'!ITZ4","v":0},{"$f":"IUC35*'Makro i swap'!IUA4","v":0},{"$f":"IUD35*'Makro i swap'!IUB4","v":0},{"$f":"IUE35*'Makro i swap'!IUC4","v":0},{"$f":"IUF35*'Makro i swap'!IUD4","v":0},{"$f":"IUG35*'Makro i swap'!IUE4","v":0},{"$f":"IUH35*'Makro i swap'!IUF4","v":0},{"$f":"IUI35*'Makro i swap'!IUG4","v":0},{"$f":"IUJ35*'Makro i swap'!IUH4","v":0},{"$f":"IUK35*'Makro i swap'!IUI4","v":0},{"$f":"IUL35*'Makro i swap'!IUJ4","v":0},{"$f":"IUM35*'Makro i swap'!IUK4","v":0},{"$f":"IUN35*'Makro i swap'!IUL4","v":0},{"$f":"IUO35*'Makro i swap'!IUM4","v":0},{"$f":"IUP35*'Makro i swap'!IUN4","v":0},{"$f":"IUQ35*'Makro i swap'!IUO4","v":0},{"$f":"IUR35*'Makro i swap'!IUP4","v":0},{"$f":"IUS35*'Makro i swap'!IUQ4","v":0},{"$f":"IUT35*'Makro i swap'!IUR4","v":0},{"$f":"IUU35*'Makro i swap'!IUS4","v":0},{"$f":"IUV35*'Makro i swap'!IUT4","v":0},{"$f":"IUW35*'Makro i swap'!IUU4","v":0},{"$f":"IUX35*'Makro i swap'!IUV4","v":0},{"$f":"IUY35*'Makro i swap'!IUW4","v":0},{"$f":"IUZ35*'Makro i swap'!IUX4","v":0},{"$f":"IVA35*'Makro i swap'!IUY4","v":0},{"$f":"IVB35*'Makro i swap'!IUZ4","v":0},{"$f":"IVC35*'Makro i swap'!IVA4","v":0},{"$f":"IVD35*'Makro i swap'!IVB4","v":0},{"$f":"IVE35*'Makro i swap'!IVC4","v":0},{"$f":"IVF35*'Makro i swap'!IVD4","v":0},{"$f":"IVG35*'Makro i swap'!IVE4","v":0},{"$f":"IVH35*'Makro i swap'!IVF4","v":0},{"$f":"IVI35*'Makro i swap'!IVG4","v":0},{"$f":"IVJ35*'Makro i swap'!IVH4","v":0},{"$f":"IVK35*'Makro i swap'!IVI4","v":0},{"$f":"IVL35*'Makro i swap'!IVJ4","v":0},{"$f":"IVM35*'Makro i swap'!IVK4","v":0},{"$f":"IVN35*'Makro i swap'!IVL4","v":0},{"$f":"IVO35*'Makro i swap'!IVM4","v":0},{"$f":"IVP35*'Makro i swap'!IVN4","v":0},{"$f":"IVQ35*'Makro i swap'!IVO4","v":0},{"$f":"IVR35*'Makro i swap'!IVP4","v":0},{"$f":"IVS35*'Makro i swap'!IVQ4","v":0},{"$f":"IVT35*'Makro i swap'!IVR4","v":0},{"$f":"IVU35*'Makro i swap'!IVS4","v":0},{"$f":"IVV35*'Makro i swap'!IVT4","v":0},{"$f":"IVW35*'Makro i swap'!IVU4","v":0},{"$f":"IVX35*'Makro i swap'!IVV4","v":0},{"$f":"IVY35*'Makro i swap'!IVW4","v":0},{"$f":"IVZ35*'Makro i swap'!IVX4","v":0},{"$f":"IWA35*'Makro i swap'!IVY4","v":0},{"$f":"IWB35*'Makro i swap'!IVZ4","v":0},{"$f":"IWC35*'Makro i swap'!IWA4","v":0},{"$f":"IWD35*'Makro i swap'!IWB4","v":0},{"$f":"IWE35*'Makro i swap'!IWC4","v":0},{"$f":"IWF35*'Makro i swap'!IWD4","v":0},{"$f":"IWG35*'Makro i swap'!IWE4","v":0},{"$f":"IWH35*'Makro i swap'!IWF4","v":0},{"$f":"IWI35*'Makro i swap'!IWG4","v":0},{"$f":"IWJ35*'Makro i swap'!IWH4","v":0},{"$f":"IWK35*'Makro i swap'!IWI4","v":0},{"$f":"IWL35*'Makro i swap'!IWJ4","v":0},{"$f":"IWM35*'Makro i swap'!IWK4","v":0},{"$f":"IWN35*'Makro i swap'!IWL4","v":0},{"$f":"IWO35*'Makro i swap'!IWM4","v":0},{"$f":"IWP35*'Makro i swap'!IWN4","v":0},{"$f":"IWQ35*'Makro i swap'!IWO4","v":0},{"$f":"IWR35*'Makro i swap'!IWP4","v":0},{"$f":"IWS35*'Makro i swap'!IWQ4","v":0},{"$f":"IWT35*'Makro i swap'!IWR4","v":0},{"$f":"IWU35*'Makro i swap'!IWS4","v":0},{"$f":"IWV35*'Makro i swap'!IWT4","v":0},{"$f":"IWW35*'Makro i swap'!IWU4","v":0},{"$f":"IWX35*'Makro i swap'!IWV4","v":0},{"$f":"IWY35*'Makro i swap'!IWW4","v":0},{"$f":"IWZ35*'Makro i swap'!IWX4","v":0},{"$f":"IXA35*'Makro i swap'!IWY4","v":0},{"$f":"IXB35*'Makro i swap'!IWZ4","v":0},{"$f":"IXC35*'Makro i swap'!IXA4","v":0},{"$f":"IXD35*'Makro i swap'!IXB4","v":0},{"$f":"IXE35*'Makro i swap'!IXC4","v":0},{"$f":"IXF35*'Makro i swap'!IXD4","v":0},{"$f":"IXG35*'Makro i swap'!IXE4","v":0},{"$f":"IXH35*'Makro i swap'!IXF4","v":0},{"$f":"IXI35*'Makro i swap'!IXG4","v":0},{"$f":"IXJ35*'Makro i swap'!IXH4","v":0},{"$f":"IXK35*'Makro i swap'!IXI4","v":0},{"$f":"IXL35*'Makro i swap'!IXJ4","v":0},{"$f":"IXM35*'Makro i swap'!IXK4","v":0},{"$f":"IXN35*'Makro i swap'!IXL4","v":0},{"$f":"IXO35*'Makro i swap'!IXM4","v":0},{"$f":"IXP35*'Makro i swap'!IXN4","v":0},{"$f":"IXQ35*'Makro i swap'!IXO4","v":0},{"$f":"IXR35*'Makro i swap'!IXP4","v":0},{"$f":"IXS35*'Makro i swap'!IXQ4","v":0},{"$f":"IXT35*'Makro i swap'!IXR4","v":0},{"$f":"IXU35*'Makro i swap'!IXS4","v":0},{"$f":"IXV35*'Makro i swap'!IXT4","v":0},{"$f":"IXW35*'Makro i swap'!IXU4","v":0},{"$f":"IXX35*'Makro i swap'!IXV4","v":0},{"$f":"IXY35*'Makro i swap'!IXW4","v":0},{"$f":"IXZ35*'Makro i swap'!IXX4","v":0},{"$f":"IYA35*'Makro i swap'!IXY4","v":0},{"$f":"IYB35*'Makro i swap'!IXZ4","v":0},{"$f":"IYC35*'Makro i swap'!IYA4","v":0},{"$f":"IYD35*'Makro i swap'!IYB4","v":0},{"$f":"IYE35*'Makro i swap'!IYC4","v":0},{"$f":"IYF35*'Makro i swap'!IYD4","v":0},{"$f":"IYG35*'Makro i swap'!IYE4","v":0},{"$f":"IYH35*'Makro i swap'!IYF4","v":0},{"$f":"IYI35*'Makro i swap'!IYG4","v":0},{"$f":"IYJ35*'Makro i swap'!IYH4","v":0},{"$f":"IYK35*'Makro i swap'!IYI4","v":0},{"$f":"IYL35*'Makro i swap'!IYJ4","v":0},{"$f":"IYM35*'Makro i swap'!IYK4","v":0},{"$f":"IYN35*'Makro i swap'!IYL4","v":0},{"$f":"IYO35*'Makro i swap'!IYM4","v":0},{"$f":"IYP35*'Makro i swap'!IYN4","v":0},{"$f":"IYQ35*'Makro i swap'!IYO4","v":0},{"$f":"IYR35*'Makro i swap'!IYP4","v":0},{"$f":"IYS35*'Makro i swap'!IYQ4","v":0},{"$f":"IYT35*'Makro i swap'!IYR4","v":0},{"$f":"IYU35*'Makro i swap'!IYS4","v":0},{"$f":"IYV35*'Makro i swap'!IYT4","v":0},{"$f":"IYW35*'Makro i swap'!IYU4","v":0},{"$f":"IYX35*'Makro i swap'!IYV4","v":0},{"$f":"IYY35*'Makro i swap'!IYW4","v":0},{"$f":"IYZ35*'Makro i swap'!IYX4","v":0},{"$f":"IZA35*'Makro i swap'!IYY4","v":0},{"$f":"IZB35*'Makro i swap'!IYZ4","v":0},{"$f":"IZC35*'Makro i swap'!IZA4","v":0},{"$f":"IZD35*'Makro i swap'!IZB4","v":0},{"$f":"IZE35*'Makro i swap'!IZC4","v":0},{"$f":"IZF35*'Makro i swap'!IZD4","v":0},{"$f":"IZG35*'Makro i swap'!IZE4","v":0},{"$f":"IZH35*'Makro i swap'!IZF4","v":0},{"$f":"IZI35*'Makro i swap'!IZG4","v":0},{"$f":"IZJ35*'Makro i swap'!IZH4","v":0},{"$f":"IZK35*'Makro i swap'!IZI4","v":0},{"$f":"IZL35*'Makro i swap'!IZJ4","v":0},{"$f":"IZM35*'Makro i swap'!IZK4","v":0},{"$f":"IZN35*'Makro i swap'!IZL4","v":0},{"$f":"IZO35*'Makro i swap'!IZM4","v":0},{"$f":"IZP35*'Makro i swap'!IZN4","v":0},{"$f":"IZQ35*'Makro i swap'!IZO4","v":0},{"$f":"IZR35*'Makro i swap'!IZP4","v":0},{"$f":"IZS35*'Makro i swap'!IZQ4","v":0},{"$f":"IZT35*'Makro i swap'!IZR4","v":0},{"$f":"IZU35*'Makro i swap'!IZS4","v":0},{"$f":"IZV35*'Makro i swap'!IZT4","v":0},{"$f":"IZW35*'Makro i swap'!IZU4","v":0},{"$f":"IZX35*'Makro i swap'!IZV4","v":0},{"$f":"IZY35*'Makro i swap'!IZW4","v":0},{"$f":"IZZ35*'Makro i swap'!IZX4","v":0},{"$f":"JAA35*'Makro i swap'!IZY4","v":0},{"$f":"JAB35*'Makro i swap'!IZZ4","v":0},{"$f":"JAC35*'Makro i swap'!JAA4","v":0},{"$f":"JAD35*'Makro i swap'!JAB4","v":0},{"$f":"JAE35*'Makro i swap'!JAC4","v":0},{"$f":"JAF35*'Makro i swap'!JAD4","v":0},{"$f":"JAG35*'Makro i swap'!JAE4","v":0},{"$f":"JAH35*'Makro i swap'!JAF4","v":0},{"$f":"JAI35*'Makro i swap'!JAG4","v":0},{"$f":"JAJ35*'Makro i swap'!JAH4","v":0},{"$f":"JAK35*'Makro i swap'!JAI4","v":0},{"$f":"JAL35*'Makro i swap'!JAJ4","v":0},{"$f":"JAM35*'Makro i swap'!JAK4","v":0},{"$f":"JAN35*'Makro i swap'!JAL4","v":0},{"$f":"JAO35*'Makro i swap'!JAM4","v":0},{"$f":"JAP35*'Makro i swap'!JAN4","v":0},{"$f":"JAQ35*'Makro i swap'!JAO4","v":0},{"$f":"JAR35*'Makro i swap'!JAP4","v":0},{"$f":"JAS35*'Makro i swap'!JAQ4","v":0},{"$f":"JAT35*'Makro i swap'!JAR4","v":0},{"$f":"JAU35*'Makro i swap'!JAS4","v":0},{"$f":"JAV35*'Makro i swap'!JAT4","v":0},{"$f":"JAW35*'Makro i swap'!JAU4","v":0},{"$f":"JAX35*'Makro i swap'!JAV4","v":0},{"$f":"JAY35*'Makro i swap'!JAW4","v":0},{"$f":"JAZ35*'Makro i swap'!JAX4","v":0},{"$f":"JBA35*'Makro i swap'!JAY4","v":0},{"$f":"JBB35*'Makro i swap'!JAZ4","v":0},{"$f":"JBC35*'Makro i swap'!JBA4","v":0},{"$f":"JBD35*'Makro i swap'!JBB4","v":0},{"$f":"JBE35*'Makro i swap'!JBC4","v":0},{"$f":"JBF35*'Makro i swap'!JBD4","v":0},{"$f":"JBG35*'Makro i swap'!JBE4","v":0},{"$f":"JBH35*'Makro i swap'!JBF4","v":0},{"$f":"JBI35*'Makro i swap'!JBG4","v":0},{"$f":"JBJ35*'Makro i swap'!JBH4","v":0},{"$f":"JBK35*'Makro i swap'!JBI4","v":0},{"$f":"JBL35*'Makro i swap'!JBJ4","v":0},{"$f":"JBM35*'Makro i swap'!JBK4","v":0},{"$f":"JBN35*'Makro i swap'!JBL4","v":0},{"$f":"JBO35*'Makro i swap'!JBM4","v":0},{"$f":"JBP35*'Makro i swap'!JBN4","v":0},{"$f":"JBQ35*'Makro i swap'!JBO4","v":0},{"$f":"JBR35*'Makro i swap'!JBP4","v":0},{"$f":"JBS35*'Makro i swap'!JBQ4","v":0},{"$f":"JBT35*'Makro i swap'!JBR4","v":0},{"$f":"JBU35*'Makro i swap'!JBS4","v":0},{"$f":"JBV35*'Makro i swap'!JBT4","v":0},{"$f":"JBW35*'Makro i swap'!JBU4","v":0},{"$f":"JBX35*'Makro i swap'!JBV4","v":0},{"$f":"JBY35*'Makro i swap'!JBW4","v":0},{"$f":"JBZ35*'Makro i swap'!JBX4","v":0},{"$f":"JCA35*'Makro i swap'!JBY4","v":0},{"$f":"JCB35*'Makro i swap'!JBZ4","v":0},{"$f":"JCC35*'Makro i swap'!JCA4","v":0},{"$f":"JCD35*'Makro i swap'!JCB4","v":0},{"$f":"JCE35*'Makro i swap'!JCC4","v":0},{"$f":"JCF35*'Makro i swap'!JCD4","v":0},{"$f":"JCG35*'Makro i swap'!JCE4","v":0},{"$f":"JCH35*'Makro i swap'!JCF4","v":0},{"$f":"JCI35*'Makro i swap'!JCG4","v":0},{"$f":"JCJ35*'Makro i swap'!JCH4","v":0},{"$f":"JCK35*'Makro i swap'!JCI4","v":0},{"$f":"JCL35*'Makro i swap'!JCJ4","v":0},{"$f":"JCM35*'Makro i swap'!JCK4","v":0},{"$f":"JCN35*'Makro i swap'!JCL4","v":0},{"$f":"JCO35*'Makro i swap'!JCM4","v":0},{"$f":"JCP35*'Makro i swap'!JCN4","v":0},{"$f":"JCQ35*'Makro i swap'!JCO4","v":0},{"$f":"JCR35*'Makro i swap'!JCP4","v":0},{"$f":"JCS35*'Makro i swap'!JCQ4","v":0},{"$f":"JCT35*'Makro i swap'!JCR4","v":0},{"$f":"JCU35*'Makro i swap'!JCS4","v":0},{"$f":"JCV35*'Makro i swap'!JCT4","v":0},{"$f":"JCW35*'Makro i swap'!JCU4","v":0},{"$f":"JCX35*'Makro i swap'!JCV4","v":0},{"$f":"JCY35*'Makro i swap'!JCW4","v":0},{"$f":"JCZ35*'Makro i swap'!JCX4","v":0},{"$f":"JDA35*'Makro i swap'!JCY4","v":0},{"$f":"JDB35*'Makro i swap'!JCZ4","v":0},{"$f":"JDC35*'Makro i swap'!JDA4","v":0},{"$f":"JDD35*'Makro i swap'!JDB4","v":0},{"$f":"JDE35*'Makro i swap'!JDC4","v":0},{"$f":"JDF35*'Makro i swap'!JDD4","v":0},{"$f":"JDG35*'Makro i swap'!JDE4","v":0},{"$f":"JDH35*'Makro i swap'!JDF4","v":0},{"$f":"JDI35*'Makro i swap'!JDG4","v":0},{"$f":"JDJ35*'Makro i swap'!JDH4","v":0},{"$f":"JDK35*'Makro i swap'!JDI4","v":0},{"$f":"JDL35*'Makro i swap'!JDJ4","v":0},{"$f":"JDM35*'Makro i swap'!JDK4","v":0},{"$f":"JDN35*'Makro i swap'!JDL4","v":0},{"$f":"JDO35*'Makro i swap'!JDM4","v":0},{"$f":"JDP35*'Makro i swap'!JDN4","v":0},{"$f":"JDQ35*'Makro i swap'!JDO4","v":0},{"$f":"JDR35*'Makro i swap'!JDP4","v":0},{"$f":"JDS35*'Makro i swap'!JDQ4","v":0},{"$f":"JDT35*'Makro i swap'!JDR4","v":0},{"$f":"JDU35*'Makro i swap'!JDS4","v":0},{"$f":"JDV35*'Makro i swap'!JDT4","v":0},{"$f":"JDW35*'Makro i swap'!JDU4","v":0},{"$f":"JDX35*'Makro i swap'!JDV4","v":0},{"$f":"JDY35*'Makro i swap'!JDW4","v":0},{"$f":"JDZ35*'Makro i swap'!JDX4","v":0},{"$f":"JEA35*'Makro i swap'!JDY4","v":0},{"$f":"JEB35*'Makro i swap'!JDZ4","v":0},{"$f":"JEC35*'Makro i swap'!JEA4","v":0},{"$f":"JED35*'Makro i swap'!JEB4","v":0},{"$f":"JEE35*'Makro i swap'!JEC4","v":0},{"$f":"JEF35*'Makro i swap'!JED4","v":0},{"$f":"JEG35*'Makro i swap'!JEE4","v":0},{"$f":"JEH35*'Makro i swap'!JEF4","v":0},{"$f":"JEI35*'Makro i swap'!JEG4","v":0},{"$f":"JEJ35*'Makro i swap'!JEH4","v":0},{"$f":"JEK35*'Makro i swap'!JEI4","v":0},{"$f":"JEL35*'Makro i swap'!JEJ4","v":0},{"$f":"JEM35*'Makro i swap'!JEK4","v":0},{"$f":"JEN35*'Makro i swap'!JEL4","v":0},{"$f":"JEO35*'Makro i swap'!JEM4","v":0},{"$f":"JEP35*'Makro i swap'!JEN4","v":0},{"$f":"JEQ35*'Makro i swap'!JEO4","v":0},{"$f":"JER35*'Makro i swap'!JEP4","v":0},{"$f":"JES35*'Makro i swap'!JEQ4","v":0},{"$f":"JET35*'Makro i swap'!JER4","v":0},{"$f":"JEU35*'Makro i swap'!JES4","v":0},{"$f":"JEV35*'Makro i swap'!JET4","v":0},{"$f":"JEW35*'Makro i swap'!JEU4","v":0},{"$f":"JEX35*'Makro i swap'!JEV4","v":0},{"$f":"JEY35*'Makro i swap'!JEW4","v":0},{"$f":"JEZ35*'Makro i swap'!JEX4","v":0},{"$f":"JFA35*'Makro i swap'!JEY4","v":0},{"$f":"JFB35*'Makro i swap'!JEZ4","v":0},{"$f":"JFC35*'Makro i swap'!JFA4","v":0},{"$f":"JFD35*'Makro i swap'!JFB4","v":0},{"$f":"JFE35*'Makro i swap'!JFC4","v":0},{"$f":"JFF35*'Makro i swap'!JFD4","v":0},{"$f":"JFG35*'Makro i swap'!JFE4","v":0},{"$f":"JFH35*'Makro i swap'!JFF4","v":0},{"$f":"JFI35*'Makro i swap'!JFG4","v":0},{"$f":"JFJ35*'Makro i swap'!JFH4","v":0},{"$f":"JFK35*'Makro i swap'!JFI4","v":0},{"$f":"JFL35*'Makro i swap'!JFJ4","v":0},{"$f":"JFM35*'Makro i swap'!JFK4","v":0},{"$f":"JFN35*'Makro i swap'!JFL4","v":0},{"$f":"JFO35*'Makro i swap'!JFM4","v":0},{"$f":"JFP35*'Makro i swap'!JFN4","v":0},{"$f":"JFQ35*'Makro i swap'!JFO4","v":0},{"$f":"JFR35*'Makro i swap'!JFP4","v":0},{"$f":"JFS35*'Makro i swap'!JFQ4","v":0},{"$f":"JFT35*'Makro i swap'!JFR4","v":0},{"$f":"JFU35*'Makro i swap'!JFS4","v":0},{"$f":"JFV35*'Makro i swap'!JFT4","v":0},{"$f":"JFW35*'Makro i swap'!JFU4","v":0},{"$f":"JFX35*'Makro i swap'!JFV4","v":0},{"$f":"JFY35*'Makro i swap'!JFW4","v":0},{"$f":"JFZ35*'Makro i swap'!JFX4","v":0},{"$f":"JGA35*'Makro i swap'!JFY4","v":0},{"$f":"JGB35*'Makro i swap'!JFZ4","v":0},{"$f":"JGC35*'Makro i swap'!JGA4","v":0},{"$f":"JGD35*'Makro i swap'!JGB4","v":0},{"$f":"JGE35*'Makro i swap'!JGC4","v":0},{"$f":"JGF35*'Makro i swap'!JGD4","v":0},{"$f":"JGG35*'Makro i swap'!JGE4","v":0},{"$f":"JGH35*'Makro i swap'!JGF4","v":0},{"$f":"JGI35*'Makro i swap'!JGG4","v":0},{"$f":"JGJ35*'Makro i swap'!JGH4","v":0},{"$f":"JGK35*'Makro i swap'!JGI4","v":0},{"$f":"JGL35*'Makro i swap'!JGJ4","v":0},{"$f":"JGM35*'Makro i swap'!JGK4","v":0},{"$f":"JGN35*'Makro i swap'!JGL4","v":0},{"$f":"JGO35*'Makro i swap'!JGM4","v":0},{"$f":"JGP35*'Makro i swap'!JGN4","v":0},{"$f":"JGQ35*'Makro i swap'!JGO4","v":0},{"$f":"JGR35*'Makro i swap'!JGP4","v":0},{"$f":"JGS35*'Makro i swap'!JGQ4","v":0},{"$f":"JGT35*'Makro i swap'!JGR4","v":0},{"$f":"JGU35*'Makro i swap'!JGS4","v":0},{"$f":"JGV35*'Makro i swap'!JGT4","v":0},{"$f":"JGW35*'Makro i swap'!JGU4","v":0},{"$f":"JGX35*'Makro i swap'!JGV4","v":0},{"$f":"JGY35*'Makro i swap'!JGW4","v":0},{"$f":"JGZ35*'Makro i swap'!JGX4","v":0},{"$f":"JHA35*'Makro i swap'!JGY4","v":0},{"$f":"JHB35*'Makro i swap'!JGZ4","v":0},{"$f":"JHC35*'Makro i swap'!JHA4","v":0},{"$f":"JHD35*'Makro i swap'!JHB4","v":0},{"$f":"JHE35*'Makro i swap'!JHC4","v":0},{"$f":"JHF35*'Makro i swap'!JHD4","v":0},{"$f":"JHG35*'Makro i swap'!JHE4","v":0},{"$f":"JHH35*'Makro i swap'!JHF4","v":0},{"$f":"JHI35*'Makro i swap'!JHG4","v":0},{"$f":"JHJ35*'Makro i swap'!JHH4","v":0},{"$f":"JHK35*'Makro i swap'!JHI4","v":0},{"$f":"JHL35*'Makro i swap'!JHJ4","v":0},{"$f":"JHM35*'Makro i swap'!JHK4","v":0},{"$f":"JHN35*'Makro i swap'!JHL4","v":0},{"$f":"JHO35*'Makro i swap'!JHM4","v":0},{"$f":"JHP35*'Makro i swap'!JHN4","v":0},{"$f":"JHQ35*'Makro i swap'!JHO4","v":0},{"$f":"JHR35*'Makro i swap'!JHP4","v":0},{"$f":"JHS35*'Makro i swap'!JHQ4","v":0},{"$f":"JHT35*'Makro i swap'!JHR4","v":0},{"$f":"JHU35*'Makro i swap'!JHS4","v":0},{"$f":"JHV35*'Makro i swap'!JHT4","v":0},{"$f":"JHW35*'Makro i swap'!JHU4","v":0},{"$f":"JHX35*'Makro i swap'!JHV4","v":0},{"$f":"JHY35*'Makro i swap'!JHW4","v":0},{"$f":"JHZ35*'Makro i swap'!JHX4","v":0},{"$f":"JIA35*'Makro i swap'!JHY4","v":0},{"$f":"JIB35*'Makro i swap'!JHZ4","v":0},{"$f":"JIC35*'Makro i swap'!JIA4","v":0},{"$f":"JID35*'Makro i swap'!JIB4","v":0},{"$f":"JIE35*'Makro i swap'!JIC4","v":0},{"$f":"JIF35*'Makro i swap'!JID4","v":0},{"$f":"JIG35*'Makro i swap'!JIE4","v":0},{"$f":"JIH35*'Makro i swap'!JIF4","v":0},{"$f":"JII35*'Makro i swap'!JIG4","v":0},{"$f":"JIJ35*'Makro i swap'!JIH4","v":0},{"$f":"JIK35*'Makro i swap'!JII4","v":0},{"$f":"JIL35*'Makro i swap'!JIJ4","v":0},{"$f":"JIM35*'Makro i swap'!JIK4","v":0},{"$f":"JIN35*'Makro i swap'!JIL4","v":0},{"$f":"JIO35*'Makro i swap'!JIM4","v":0},{"$f":"JIP35*'Makro i swap'!JIN4","v":0},{"$f":"JIQ35*'Makro i swap'!JIO4","v":0},{"$f":"JIR35*'Makro i swap'!JIP4","v":0},{"$f":"JIS35*'Makro i swap'!JIQ4","v":0},{"$f":"JIT35*'Makro i swap'!JIR4","v":0},{"$f":"JIU35*'Makro i swap'!JIS4","v":0},{"$f":"JIV35*'Makro i swap'!JIT4","v":0},{"$f":"JIW35*'Makro i swap'!JIU4","v":0},{"$f":"JIX35*'Makro i swap'!JIV4","v":0},{"$f":"JIY35*'Makro i swap'!JIW4","v":0},{"$f":"JIZ35*'Makro i swap'!JIX4","v":0},{"$f":"JJA35*'Makro i swap'!JIY4","v":0},{"$f":"JJB35*'Makro i swap'!JIZ4","v":0},{"$f":"JJC35*'Makro i swap'!JJA4","v":0},{"$f":"JJD35*'Makro i swap'!JJB4","v":0},{"$f":"JJE35*'Makro i swap'!JJC4","v":0},{"$f":"JJF35*'Makro i swap'!JJD4","v":0},{"$f":"JJG35*'Makro i swap'!JJE4","v":0},{"$f":"JJH35*'Makro i swap'!JJF4","v":0},{"$f":"JJI35*'Makro i swap'!JJG4","v":0},{"$f":"JJJ35*'Makro i swap'!JJH4","v":0},{"$f":"JJK35*'Makro i swap'!JJI4","v":0},{"$f":"JJL35*'Makro i swap'!JJJ4","v":0},{"$f":"JJM35*'Makro i swap'!JJK4","v":0},{"$f":"JJN35*'Makro i swap'!JJL4","v":0},{"$f":"JJO35*'Makro i swap'!JJM4","v":0},{"$f":"JJP35*'Makro i swap'!JJN4","v":0},{"$f":"JJQ35*'Makro i swap'!JJO4","v":0},{"$f":"JJR35*'Makro i swap'!JJP4","v":0},{"$f":"JJS35*'Makro i swap'!JJQ4","v":0},{"$f":"JJT35*'Makro i swap'!JJR4","v":0},{"$f":"JJU35*'Makro i swap'!JJS4","v":0},{"$f":"JJV35*'Makro i swap'!JJT4","v":0},{"$f":"JJW35*'Makro i swap'!JJU4","v":0},{"$f":"JJX35*'Makro i swap'!JJV4","v":0},{"$f":"JJY35*'Makro i swap'!JJW4","v":0},{"$f":"JJZ35*'Makro i swap'!JJX4","v":0},{"$f":"JKA35*'Makro i swap'!JJY4","v":0},{"$f":"JKB35*'Makro i swap'!JJZ4","v":0},{"$f":"JKC35*'Makro i swap'!JKA4","v":0},{"$f":"JKD35*'Makro i swap'!JKB4","v":0},{"$f":"JKE35*'Makro i swap'!JKC4","v":0},{"$f":"JKF35*'Makro i swap'!JKD4","v":0},{"$f":"JKG35*'Makro i swap'!JKE4","v":0},{"$f":"JKH35*'Makro i swap'!JKF4","v":0},{"$f":"JKI35*'Makro i swap'!JKG4","v":0},{"$f":"JKJ35*'Makro i swap'!JKH4","v":0},{"$f":"JKK35*'Makro i swap'!JKI4","v":0},{"$f":"JKL35*'Makro i swap'!JKJ4","v":0},{"$f":"JKM35*'Makro i swap'!JKK4","v":0},{"$f":"JKN35*'Makro i swap'!JKL4","v":0},{"$f":"JKO35*'Makro i swap'!JKM4","v":0},{"$f":"JKP35*'Makro i swap'!JKN4","v":0},{"$f":"JKQ35*'Makro i swap'!JKO4","v":0},{"$f":"JKR35*'Makro i swap'!JKP4","v":0},{"$f":"JKS35*'Makro i swap'!JKQ4","v":0},{"$f":"JKT35*'Makro i swap'!JKR4","v":0},{"$f":"JKU35*'Makro i swap'!JKS4","v":0},{"$f":"JKV35*'Makro i swap'!JKT4","v":0},{"$f":"JKW35*'Makro i swap'!JKU4","v":0},{"$f":"JKX35*'Makro i swap'!JKV4","v":0},{"$f":"JKY35*'Makro i swap'!JKW4","v":0},{"$f":"JKZ35*'Makro i swap'!JKX4","v":0},{"$f":"JLA35*'Makro i swap'!JKY4","v":0},{"$f":"JLB35*'Makro i swap'!JKZ4","v":0},{"$f":"JLC35*'Makro i swap'!JLA4","v":0},{"$f":"JLD35*'Makro i swap'!JLB4","v":0},{"$f":"JLE35*'Makro i swap'!JLC4","v":0},{"$f":"JLF35*'Makro i swap'!JLD4","v":0},{"$f":"JLG35*'Makro i swap'!JLE4","v":0},{"$f":"JLH35*'Makro i swap'!JLF4","v":0},{"$f":"JLI35*'Makro i swap'!JLG4","v":0},{"$f":"JLJ35*'Makro i swap'!JLH4","v":0},{"$f":"JLK35*'Makro i swap'!JLI4","v":0},{"$f":"JLL35*'Makro i swap'!JLJ4","v":0},{"$f":"JLM35*'Makro i swap'!JLK4","v":0},{"$f":"JLN35*'Makro i swap'!JLL4","v":0},{"$f":"JLO35*'Makro i swap'!JLM4","v":0},{"$f":"JLP35*'Makro i swap'!JLN4","v":0},{"$f":"JLQ35*'Makro i swap'!JLO4","v":0},{"$f":"JLR35*'Makro i swap'!JLP4","v":0},{"$f":"JLS35*'Makro i swap'!JLQ4","v":0},{"$f":"JLT35*'Makro i swap'!JLR4","v":0},{"$f":"JLU35*'Makro i swap'!JLS4","v":0},{"$f":"JLV35*'Makro i swap'!JLT4","v":0},{"$f":"JLW35*'Makro i swap'!JLU4","v":0},{"$f":"JLX35*'Makro i swap'!JLV4","v":0},{"$f":"JLY35*'Makro i swap'!JLW4","v":0},{"$f":"JLZ35*'Makro i swap'!JLX4","v":0},{"$f":"JMA35*'Makro i swap'!JLY4","v":0},{"$f":"JMB35*'Makro i swap'!JLZ4","v":0},{"$f":"JMC35*'Makro i swap'!JMA4","v":0},{"$f":"JMD35*'Makro i swap'!JMB4","v":0},{"$f":"JME35*'Makro i swap'!JMC4","v":0},{"$f":"JMF35*'Makro i swap'!JMD4","v":0},{"$f":"JMG35*'Makro i swap'!JME4","v":0},{"$f":"JMH35*'Makro i swap'!JMF4","v":0},{"$f":"JMI35*'Makro i swap'!JMG4","v":0},{"$f":"JMJ35*'Makro i swap'!JMH4","v":0},{"$f":"JMK35*'Makro i swap'!JMI4","v":0},{"$f":"JML35*'Makro i swap'!JMJ4","v":0},{"$f":"JMM35*'Makro i swap'!JMK4","v":0},{"$f":"JMN35*'Makro i swap'!JML4","v":0},{"$f":"JMO35*'Makro i swap'!JMM4","v":0},{"$f":"JMP35*'Makro i swap'!JMN4","v":0},{"$f":"JMQ35*'Makro i swap'!JMO4","v":0},{"$f":"JMR35*'Makro i swap'!JMP4","v":0},{"$f":"JMS35*'Makro i swap'!JMQ4","v":0},{"$f":"JMT35*'Makro i swap'!JMR4","v":0},{"$f":"JMU35*'Makro i swap'!JMS4","v":0},{"$f":"JMV35*'Makro i swap'!JMT4","v":0},{"$f":"JMW35*'Makro i swap'!JMU4","v":0},{"$f":"JMX35*'Makro i swap'!JMV4","v":0},{"$f":"JMY35*'Makro i swap'!JMW4","v":0},{"$f":"JMZ35*'Makro i swap'!JMX4","v":0},{"$f":"JNA35*'Makro i swap'!JMY4","v":0},{"$f":"JNB35*'Makro i swap'!JMZ4","v":0},{"$f":"JNC35*'Makro i swap'!JNA4","v":0},{"$f":"JND35*'Makro i swap'!JNB4","v":0},{"$f":"JNE35*'Makro i swap'!JNC4","v":0},{"$f":"JNF35*'Makro i swap'!JND4","v":0},{"$f":"JNG35*'Makro i swap'!JNE4","v":0},{"$f":"JNH35*'Makro i swap'!JNF4","v":0},{"$f":"JNI35*'Makro i swap'!JNG4","v":0},{"$f":"JNJ35*'Makro i swap'!JNH4","v":0},{"$f":"JNK35*'Makro i swap'!JNI4","v":0},{"$f":"JNL35*'Makro i swap'!JNJ4","v":0},{"$f":"JNM35*'Makro i swap'!JNK4","v":0},{"$f":"JNN35*'Makro i swap'!JNL4","v":0},{"$f":"JNO35*'Makro i swap'!JNM4","v":0},{"$f":"JNP35*'Makro i swap'!JNN4","v":0},{"$f":"JNQ35*'Makro i swap'!JNO4","v":0},{"$f":"JNR35*'Makro i swap'!JNP4","v":0},{"$f":"JNS35*'Makro i swap'!JNQ4","v":0},{"$f":"JNT35*'Makro i swap'!JNR4","v":0},{"$f":"JNU35*'Makro i swap'!JNS4","v":0},{"$f":"JNV35*'Makro i swap'!JNT4","v":0},{"$f":"JNW35*'Makro i swap'!JNU4","v":0},{"$f":"JNX35*'Makro i swap'!JNV4","v":0},{"$f":"JNY35*'Makro i swap'!JNW4","v":0},{"$f":"JNZ35*'Makro i swap'!JNX4","v":0},{"$f":"JOA35*'Makro i swap'!JNY4","v":0},{"$f":"JOB35*'Makro i swap'!JNZ4","v":0},{"$f":"JOC35*'Makro i swap'!JOA4","v":0},{"$f":"JOD35*'Makro i swap'!JOB4","v":0},{"$f":"JOE35*'Makro i swap'!JOC4","v":0},{"$f":"JOF35*'Makro i swap'!JOD4","v":0},{"$f":"JOG35*'Makro i swap'!JOE4","v":0},{"$f":"JOH35*'Makro i swap'!JOF4","v":0},{"$f":"JOI35*'Makro i swap'!JOG4","v":0},{"$f":"JOJ35*'Makro i swap'!JOH4","v":0},{"$f":"JOK35*'Makro i swap'!JOI4","v":0},{"$f":"JOL35*'Makro i swap'!JOJ4","v":0},{"$f":"JOM35*'Makro i swap'!JOK4","v":0},{"$f":"JON35*'Makro i swap'!JOL4","v":0},{"$f":"JOO35*'Makro i swap'!JOM4","v":0},{"$f":"JOP35*'Makro i swap'!JON4","v":0},{"$f":"JOQ35*'Makro i swap'!JOO4","v":0},{"$f":"JOR35*'Makro i swap'!JOP4","v":0},{"$f":"JOS35*'Makro i swap'!JOQ4","v":0},{"$f":"JOT35*'Makro i swap'!JOR4","v":0},{"$f":"JOU35*'Makro i swap'!JOS4","v":0},{"$f":"JOV35*'Makro i swap'!JOT4","v":0},{"$f":"JOW35*'Makro i swap'!JOU4","v":0},{"$f":"JOX35*'Makro i swap'!JOV4","v":0},{"$f":"JOY35*'Makro i swap'!JOW4","v":0},{"$f":"JOZ35*'Makro i swap'!JOX4","v":0},{"$f":"JPA35*'Makro i swap'!JOY4","v":0},{"$f":"JPB35*'Makro i swap'!JOZ4","v":0},{"$f":"JPC35*'Makro i swap'!JPA4","v":0},{"$f":"JPD35*'Makro i swap'!JPB4","v":0},{"$f":"JPE35*'Makro i swap'!JPC4","v":0},{"$f":"JPF35*'Makro i swap'!JPD4","v":0},{"$f":"JPG35*'Makro i swap'!JPE4","v":0},{"$f":"JPH35*'Makro i swap'!JPF4","v":0},{"$f":"JPI35*'Makro i swap'!JPG4","v":0},{"$f":"JPJ35*'Makro i swap'!JPH4","v":0},{"$f":"JPK35*'Makro i swap'!JPI4","v":0},{"$f":"JPL35*'Makro i swap'!JPJ4","v":0},{"$f":"JPM35*'Makro i swap'!JPK4","v":0},{"$f":"JPN35*'Makro i swap'!JPL4","v":0},{"$f":"JPO35*'Makro i swap'!JPM4","v":0},{"$f":"JPP35*'Makro i swap'!JPN4","v":0},{"$f":"JPQ35*'Makro i swap'!JPO4","v":0},{"$f":"JPR35*'Makro i swap'!JPP4","v":0},{"$f":"JPS35*'Makro i swap'!JPQ4","v":0},{"$f":"JPT35*'Makro i swap'!JPR4","v":0},{"$f":"JPU35*'Makro i swap'!JPS4","v":0},{"$f":"JPV35*'Makro i swap'!JPT4","v":0},{"$f":"JPW35*'Makro i swap'!JPU4","v":0},{"$f":"JPX35*'Makro i swap'!JPV4","v":0},{"$f":"JPY35*'Makro i swap'!JPW4","v":0},{"$f":"JPZ35*'Makro i swap'!JPX4","v":0},{"$f":"JQA35*'Makro i swap'!JPY4","v":0},{"$f":"JQB35*'Makro i swap'!JPZ4","v":0},{"$f":"JQC35*'Makro i swap'!JQA4","v":0},{"$f":"JQD35*'Makro i swap'!JQB4","v":0},{"$f":"JQE35*'Makro i swap'!JQC4","v":0},{"$f":"JQF35*'Makro i swap'!JQD4","v":0},{"$f":"JQG35*'Makro i swap'!JQE4","v":0},{"$f":"JQH35*'Makro i swap'!JQF4","v":0},{"$f":"JQI35*'Makro i swap'!JQG4","v":0},{"$f":"JQJ35*'Makro i swap'!JQH4","v":0},{"$f":"JQK35*'Makro i swap'!JQI4","v":0},{"$f":"JQL35*'Makro i swap'!JQJ4","v":0},{"$f":"JQM35*'Makro i swap'!JQK4","v":0},{"$f":"JQN35*'Makro i swap'!JQL4","v":0},{"$f":"JQO35*'Makro i swap'!JQM4","v":0},{"$f":"JQP35*'Makro i swap'!JQN4","v":0},{"$f":"JQQ35*'Makro i swap'!JQO4","v":0},{"$f":"JQR35*'Makro i swap'!JQP4","v":0},{"$f":"JQS35*'Makro i swap'!JQQ4","v":0},{"$f":"JQT35*'Makro i swap'!JQR4","v":0},{"$f":"JQU35*'Makro i swap'!JQS4","v":0},{"$f":"JQV35*'Makro i swap'!JQT4","v":0},{"$f":"JQW35*'Makro i swap'!JQU4","v":0},{"$f":"JQX35*'Makro i swap'!JQV4","v":0},{"$f":"JQY35*'Makro i swap'!JQW4","v":0},{"$f":"JQZ35*'Makro i swap'!JQX4","v":0},{"$f":"JRA35*'Makro i swap'!JQY4","v":0},{"$f":"JRB35*'Makro i swap'!JQZ4","v":0},{"$f":"JRC35*'Makro i swap'!JRA4","v":0},{"$f":"JRD35*'Makro i swap'!JRB4","v":0},{"$f":"JRE35*'Makro i swap'!JRC4","v":0},{"$f":"JRF35*'Makro i swap'!JRD4","v":0},{"$f":"JRG35*'Makro i swap'!JRE4","v":0},{"$f":"JRH35*'Makro i swap'!JRF4","v":0},{"$f":"JRI35*'Makro i swap'!JRG4","v":0},{"$f":"JRJ35*'Makro i swap'!JRH4","v":0},{"$f":"JRK35*'Makro i swap'!JRI4","v":0},{"$f":"JRL35*'Makro i swap'!JRJ4","v":0},{"$f":"JRM35*'Makro i swap'!JRK4","v":0},{"$f":"JRN35*'Makro i swap'!JRL4","v":0},{"$f":"JRO35*'Makro i swap'!JRM4","v":0},{"$f":"JRP35*'Makro i swap'!JRN4","v":0},{"$f":"JRQ35*'Makro i swap'!JRO4","v":0},{"$f":"JRR35*'Makro i swap'!JRP4","v":0},{"$f":"JRS35*'Makro i swap'!JRQ4","v":0},{"$f":"JRT35*'Makro i swap'!JRR4","v":0},{"$f":"JRU35*'Makro i swap'!JRS4","v":0},{"$f":"JRV35*'Makro i swap'!JRT4","v":0},{"$f":"JRW35*'Makro i swap'!JRU4","v":0},{"$f":"JRX35*'Makro i swap'!JRV4","v":0},{"$f":"JRY35*'Makro i swap'!JRW4","v":0},{"$f":"JRZ35*'Makro i swap'!JRX4","v":0},{"$f":"JSA35*'Makro i swap'!JRY4","v":0},{"$f":"JSB35*'Makro i swap'!JRZ4","v":0},{"$f":"JSC35*'Makro i swap'!JSA4","v":0},{"$f":"JSD35*'Makro i swap'!JSB4","v":0},{"$f":"JSE35*'Makro i swap'!JSC4","v":0},{"$f":"JSF35*'Makro i swap'!JSD4","v":0},{"$f":"JSG35*'Makro i swap'!JSE4","v":0},{"$f":"JSH35*'Makro i swap'!JSF4","v":0},{"$f":"JSI35*'Makro i swap'!JSG4","v":0},{"$f":"JSJ35*'Makro i swap'!JSH4","v":0},{"$f":"JSK35*'Makro i swap'!JSI4","v":0},{"$f":"JSL35*'Makro i swap'!JSJ4","v":0},{"$f":"JSM35*'Makro i swap'!JSK4","v":0},{"$f":"JSN35*'Makro i swap'!JSL4","v":0},{"$f":"JSO35*'Makro i swap'!JSM4","v":0},{"$f":"JSP35*'Makro i swap'!JSN4","v":0},{"$f":"JSQ35*'Makro i swap'!JSO4","v":0},{"$f":"JSR35*'Makro i swap'!JSP4","v":0},{"$f":"JSS35*'Makro i swap'!JSQ4","v":0},{"$f":"JST35*'Makro i swap'!JSR4","v":0},{"$f":"JSU35*'Makro i swap'!JSS4","v":0},{"$f":"JSV35*'Makro i swap'!JST4","v":0},{"$f":"JSW35*'Makro i swap'!JSU4","v":0},{"$f":"JSX35*'Makro i swap'!JSV4","v":0},{"$f":"JSY35*'Makro i swap'!JSW4","v":0},{"$f":"JSZ35*'Makro i swap'!JSX4","v":0},{"$f":"JTA35*'Makro i swap'!JSY4","v":0},{"$f":"JTB35*'Makro i swap'!JSZ4","v":0},{"$f":"JTC35*'Makro i swap'!JTA4","v":0},{"$f":"JTD35*'Makro i swap'!JTB4","v":0},{"$f":"JTE35*'Makro i swap'!JTC4","v":0},{"$f":"JTF35*'Makro i swap'!JTD4","v":0},{"$f":"JTG35*'Makro i swap'!JTE4","v":0},{"$f":"JTH35*'Makro i swap'!JTF4","v":0},{"$f":"JTI35*'Makro i swap'!JTG4","v":0},{"$f":"JTJ35*'Makro i swap'!JTH4","v":0},{"$f":"JTK35*'Makro i swap'!JTI4","v":0},{"$f":"JTL35*'Makro i swap'!JTJ4","v":0},{"$f":"JTM35*'Makro i swap'!JTK4","v":0},{"$f":"JTN35*'Makro i swap'!JTL4","v":0},{"$f":"JTO35*'Makro i swap'!JTM4","v":0},{"$f":"JTP35*'Makro i swap'!JTN4","v":0},{"$f":"JTQ35*'Makro i swap'!JTO4","v":0},{"$f":"JTR35*'Makro i swap'!JTP4","v":0},{"$f":"JTS35*'Makro i swap'!JTQ4","v":0},{"$f":"JTT35*'Makro i swap'!JTR4","v":0},{"$f":"JTU35*'Makro i swap'!JTS4","v":0},{"$f":"JTV35*'Makro i swap'!JTT4","v":0},{"$f":"JTW35*'Makro i swap'!JTU4","v":0},{"$f":"JTX35*'Makro i swap'!JTV4","v":0},{"$f":"JTY35*'Makro i swap'!JTW4","v":0},{"$f":"JTZ35*'Makro i swap'!JTX4","v":0},{"$f":"JUA35*'Makro i swap'!JTY4","v":0},{"$f":"JUB35*'Makro i swap'!JTZ4","v":0},{"$f":"JUC35*'Makro i swap'!JUA4","v":0},{"$f":"JUD35*'Makro i swap'!JUB4","v":0},{"$f":"JUE35*'Makro i swap'!JUC4","v":0},{"$f":"JUF35*'Makro i swap'!JUD4","v":0},{"$f":"JUG35*'Makro i swap'!JUE4","v":0},{"$f":"JUH35*'Makro i swap'!JUF4","v":0},{"$f":"JUI35*'Makro i swap'!JUG4","v":0},{"$f":"JUJ35*'Makro i swap'!JUH4","v":0},{"$f":"JUK35*'Makro i swap'!JUI4","v":0},{"$f":"JUL35*'Makro i swap'!JUJ4","v":0},{"$f":"JUM35*'Makro i swap'!JUK4","v":0},{"$f":"JUN35*'Makro i swap'!JUL4","v":0},{"$f":"JUO35*'Makro i swap'!JUM4","v":0},{"$f":"JUP35*'Makro i swap'!JUN4","v":0},{"$f":"JUQ35*'Makro i swap'!JUO4","v":0},{"$f":"JUR35*'Makro i swap'!JUP4","v":0},{"$f":"JUS35*'Makro i swap'!JUQ4","v":0},{"$f":"JUT35*'Makro i swap'!JUR4","v":0},{"$f":"JUU35*'Makro i swap'!JUS4","v":0},{"$f":"JUV35*'Makro i swap'!JUT4","v":0},{"$f":"JUW35*'Makro i swap'!JUU4","v":0},{"$f":"JUX35*'Makro i swap'!JUV4","v":0},{"$f":"JUY35*'Makro i swap'!JUW4","v":0},{"$f":"JUZ35*'Makro i swap'!JUX4","v":0},{"$f":"JVA35*'Makro i swap'!JUY4","v":0},{"$f":"JVB35*'Makro i swap'!JUZ4","v":0},{"$f":"JVC35*'Makro i swap'!JVA4","v":0},{"$f":"JVD35*'Makro i swap'!JVB4","v":0},{"$f":"JVE35*'Makro i swap'!JVC4","v":0},{"$f":"JVF35*'Makro i swap'!JVD4","v":0},{"$f":"JVG35*'Makro i swap'!JVE4","v":0},{"$f":"JVH35*'Makro i swap'!JVF4","v":0},{"$f":"JVI35*'Makro i swap'!JVG4","v":0},{"$f":"JVJ35*'Makro i swap'!JVH4","v":0},{"$f":"JVK35*'Makro i swap'!JVI4","v":0},{"$f":"JVL35*'Makro i swap'!JVJ4","v":0},{"$f":"JVM35*'Makro i swap'!JVK4","v":0},{"$f":"JVN35*'Makro i swap'!JVL4","v":0},{"$f":"JVO35*'Makro i swap'!JVM4","v":0},{"$f":"JVP35*'Makro i swap'!JVN4","v":0},{"$f":"JVQ35*'Makro i swap'!JVO4","v":0},{"$f":"JVR35*'Makro i swap'!JVP4","v":0},{"$f":"JVS35*'Makro i swap'!JVQ4","v":0},{"$f":"JVT35*'Makro i swap'!JVR4","v":0},{"$f":"JVU35*'Makro i swap'!JVS4","v":0},{"$f":"JVV35*'Makro i swap'!JVT4","v":0},{"$f":"JVW35*'Makro i swap'!JVU4","v":0},{"$f":"JVX35*'Makro i swap'!JVV4","v":0},{"$f":"JVY35*'Makro i swap'!JVW4","v":0},{"$f":"JVZ35*'Makro i swap'!JVX4","v":0},{"$f":"JWA35*'Makro i swap'!JVY4","v":0},{"$f":"JWB35*'Makro i swap'!JVZ4","v":0},{"$f":"JWC35*'Makro i swap'!JWA4","v":0},{"$f":"JWD35*'Makro i swap'!JWB4","v":0},{"$f":"JWE35*'Makro i swap'!JWC4","v":0},{"$f":"JWF35*'Makro i swap'!JWD4","v":0},{"$f":"JWG35*'Makro i swap'!JWE4","v":0},{"$f":"JWH35*'Makro i swap'!JWF4","v":0},{"$f":"JWI35*'Makro i swap'!JWG4","v":0},{"$f":"JWJ35*'Makro i swap'!JWH4","v":0},{"$f":"JWK35*'Makro i swap'!JWI4","v":0},{"$f":"JWL35*'Makro i swap'!JWJ4","v":0},{"$f":"JWM35*'Makro i swap'!JWK4","v":0},{"$f":"JWN35*'Makro i swap'!JWL4","v":0},{"$f":"JWO35*'Makro i swap'!JWM4","v":0},{"$f":"JWP35*'Makro i swap'!JWN4","v":0},{"$f":"JWQ35*'Makro i swap'!JWO4","v":0},{"$f":"JWR35*'Makro i swap'!JWP4","v":0},{"$f":"JWS35*'Makro i swap'!JWQ4","v":0},{"$f":"JWT35*'Makro i swap'!JWR4","v":0},{"$f":"JWU35*'Makro i swap'!JWS4","v":0},{"$f":"JWV35*'Makro i swap'!JWT4","v":0},{"$f":"JWW35*'Makro i swap'!JWU4","v":0},{"$f":"JWX35*'Makro i swap'!JWV4","v":0},{"$f":"JWY35*'Makro i swap'!JWW4","v":0},{"$f":"JWZ35*'Makro i swap'!JWX4","v":0},{"$f":"JXA35*'Makro i swap'!JWY4","v":0},{"$f":"JXB35*'Makro i swap'!JWZ4","v":0},{"$f":"JXC35*'Makro i swap'!JXA4","v":0},{"$f":"JXD35*'Makro i swap'!JXB4","v":0},{"$f":"JXE35*'Makro i swap'!JXC4","v":0},{"$f":"JXF35*'Makro i swap'!JXD4","v":0},{"$f":"JXG35*'Makro i swap'!JXE4","v":0},{"$f":"JXH35*'Makro i swap'!JXF4","v":0},{"$f":"JXI35*'Makro i swap'!JXG4","v":0},{"$f":"JXJ35*'Makro i swap'!JXH4","v":0},{"$f":"JXK35*'Makro i swap'!JXI4","v":0},{"$f":"JXL35*'Makro i swap'!JXJ4","v":0},{"$f":"JXM35*'Makro i swap'!JXK4","v":0},{"$f":"JXN35*'Makro i swap'!JXL4","v":0},{"$f":"JXO35*'Makro i swap'!JXM4","v":0},{"$f":"JXP35*'Makro i swap'!JXN4","v":0},{"$f":"JXQ35*'Makro i swap'!JXO4","v":0},{"$f":"JXR35*'Makro i swap'!JXP4","v":0},{"$f":"JXS35*'Makro i swap'!JXQ4","v":0},{"$f":"JXT35*'Makro i swap'!JXR4","v":0},{"$f":"JXU35*'Makro i swap'!JXS4","v":0},{"$f":"JXV35*'Makro i swap'!JXT4","v":0},{"$f":"JXW35*'Makro i swap'!JXU4","v":0},{"$f":"JXX35*'Makro i swap'!JXV4","v":0},{"$f":"JXY35*'Makro i swap'!JXW4","v":0},{"$f":"JXZ35*'Makro i swap'!JXX4","v":0},{"$f":"JYA35*'Makro i swap'!JXY4","v":0},{"$f":"JYB35*'Makro i swap'!JXZ4","v":0},{"$f":"JYC35*'Makro i swap'!JYA4","v":0},{"$f":"JYD35*'Makro i swap'!JYB4","v":0},{"$f":"JYE35*'Makro i swap'!JYC4","v":0},{"$f":"JYF35*'Makro i swap'!JYD4","v":0},{"$f":"JYG35*'Makro i swap'!JYE4","v":0},{"$f":"JYH35*'Makro i swap'!JYF4","v":0},{"$f":"JYI35*'Makro i swap'!JYG4","v":0},{"$f":"JYJ35*'Makro i swap'!JYH4","v":0},{"$f":"JYK35*'Makro i swap'!JYI4","v":0},{"$f":"JYL35*'Makro i swap'!JYJ4","v":0},{"$f":"JYM35*'Makro i swap'!JYK4","v":0},{"$f":"JYN35*'Makro i swap'!JYL4","v":0},{"$f":"JYO35*'Makro i swap'!JYM4","v":0},{"$f":"JYP35*'Makro i swap'!JYN4","v":0},{"$f":"JYQ35*'Makro i swap'!JYO4","v":0},{"$f":"JYR35*'Makro i swap'!JYP4","v":0},{"$f":"JYS35*'Makro i swap'!JYQ4","v":0},{"$f":"JYT35*'Makro i swap'!JYR4","v":0},{"$f":"JYU35*'Makro i swap'!JYS4","v":0},{"$f":"JYV35*'Makro i swap'!JYT4","v":0},{"$f":"JYW35*'Makro i swap'!JYU4","v":0},{"$f":"JYX35*'Makro i swap'!JYV4","v":0},{"$f":"JYY35*'Makro i swap'!JYW4","v":0},{"$f":"JYZ35*'Makro i swap'!JYX4","v":0},{"$f":"JZA35*'Makro i swap'!JYY4","v":0},{"$f":"JZB35*'Makro i swap'!JYZ4","v":0},{"$f":"JZC35*'Makro i swap'!JZA4","v":0},{"$f":"JZD35*'Makro i swap'!JZB4","v":0},{"$f":"JZE35*'Makro i swap'!JZC4","v":0},{"$f":"JZF35*'Makro i swap'!JZD4","v":0},{"$f":"JZG35*'Makro i swap'!JZE4","v":0},{"$f":"JZH35*'Makro i swap'!JZF4","v":0},{"$f":"JZI35*'Makro i swap'!JZG4","v":0},{"$f":"JZJ35*'Makro i swap'!JZH4","v":0},{"$f":"JZK35*'Makro i swap'!JZI4","v":0},{"$f":"JZL35*'Makro i swap'!JZJ4","v":0},{"$f":"JZM35*'Makro i swap'!JZK4","v":0},{"$f":"JZN35*'Makro i swap'!JZL4","v":0},{"$f":"JZO35*'Makro i swap'!JZM4","v":0},{"$f":"JZP35*'Makro i swap'!JZN4","v":0},{"$f":"JZQ35*'Makro i swap'!JZO4","v":0},{"$f":"JZR35*'Makro i swap'!JZP4","v":0},{"$f":"JZS35*'Makro i swap'!JZQ4","v":0},{"$f":"JZT35*'Makro i swap'!JZR4","v":0},{"$f":"JZU35*'Makro i swap'!JZS4","v":0},{"$f":"JZV35*'Makro i swap'!JZT4","v":0},{"$f":"JZW35*'Makro i swap'!JZU4","v":0},{"$f":"JZX35*'Makro i swap'!JZV4","v":0},{"$f":"JZY35*'Makro i swap'!JZW4","v":0},{"$f":"JZZ35*'Makro i swap'!JZX4","v":0},{"$f":"KAA35*'Makro i swap'!JZY4","v":0},{"$f":"KAB35*'Makro i swap'!JZZ4","v":0},{"$f":"KAC35*'Makro i swap'!KAA4","v":0},{"$f":"KAD35*'Makro i swap'!KAB4","v":0},{"$f":"KAE35*'Makro i swap'!KAC4","v":0},{"$f":"KAF35*'Makro i swap'!KAD4","v":0},{"$f":"KAG35*'Makro i swap'!KAE4","v":0},{"$f":"KAH35*'Makro i swap'!KAF4","v":0},{"$f":"KAI35*'Makro i swap'!KAG4","v":0},{"$f":"KAJ35*'Makro i swap'!KAH4","v":0},{"$f":"KAK35*'Makro i swap'!KAI4","v":0},{"$f":"KAL35*'Makro i swap'!KAJ4","v":0},{"$f":"KAM35*'Makro i swap'!KAK4","v":0},{"$f":"KAN35*'Makro i swap'!KAL4","v":0},{"$f":"KAO35*'Makro i swap'!KAM4","v":0},{"$f":"KAP35*'Makro i swap'!KAN4","v":0},{"$f":"KAQ35*'Makro i swap'!KAO4","v":0},{"$f":"KAR35*'Makro i swap'!KAP4","v":0},{"$f":"KAS35*'Makro i swap'!KAQ4","v":0},{"$f":"KAT35*'Makro i swap'!KAR4","v":0},{"$f":"KAU35*'Makro i swap'!KAS4","v":0},{"$f":"KAV35*'Makro i swap'!KAT4","v":0},{"$f":"KAW35*'Makro i swap'!KAU4","v":0},{"$f":"KAX35*'Makro i swap'!KAV4","v":0},{"$f":"KAY35*'Makro i swap'!KAW4","v":0},{"$f":"KAZ35*'Makro i swap'!KAX4","v":0},{"$f":"KBA35*'Makro i swap'!KAY4","v":0},{"$f":"KBB35*'Makro i swap'!KAZ4","v":0},{"$f":"KBC35*'Makro i swap'!KBA4","v":0},{"$f":"KBD35*'Makro i swap'!KBB4","v":0},{"$f":"KBE35*'Makro i swap'!KBC4","v":0},{"$f":"KBF35*'Makro i swap'!KBD4","v":0},{"$f":"KBG35*'Makro i swap'!KBE4","v":0},{"$f":"KBH35*'Makro i swap'!KBF4","v":0},{"$f":"KBI35*'Makro i swap'!KBG4","v":0},{"$f":"KBJ35*'Makro i swap'!KBH4","v":0},{"$f":"KBK35*'Makro i swap'!KBI4","v":0},{"$f":"KBL35*'Makro i swap'!KBJ4","v":0},{"$f":"KBM35*'Makro i swap'!KBK4","v":0},{"$f":"KBN35*'Makro i swap'!KBL4","v":0},{"$f":"KBO35*'Makro i swap'!KBM4","v":0},{"$f":"KBP35*'Makro i swap'!KBN4","v":0},{"$f":"KBQ35*'Makro i swap'!KBO4","v":0},{"$f":"KBR35*'Makro i swap'!KBP4","v":0},{"$f":"KBS35*'Makro i swap'!KBQ4","v":0},{"$f":"KBT35*'Makro i swap'!KBR4","v":0},{"$f":"KBU35*'Makro i swap'!KBS4","v":0},{"$f":"KBV35*'Makro i swap'!KBT4","v":0},{"$f":"KBW35*'Makro i swap'!KBU4","v":0},{"$f":"KBX35*'Makro i swap'!KBV4","v":0},{"$f":"KBY35*'Makro i swap'!KBW4","v":0},{"$f":"KBZ35*'Makro i swap'!KBX4","v":0},{"$f":"KCA35*'Makro i swap'!KBY4","v":0},{"$f":"KCB35*'Makro i swap'!KBZ4","v":0},{"$f":"KCC35*'Makro i swap'!KCA4","v":0},{"$f":"KCD35*'Makro i swap'!KCB4","v":0},{"$f":"KCE35*'Makro i swap'!KCC4","v":0},{"$f":"KCF35*'Makro i swap'!KCD4","v":0},{"$f":"KCG35*'Makro i swap'!KCE4","v":0},{"$f":"KCH35*'Makro i swap'!KCF4","v":0},{"$f":"KCI35*'Makro i swap'!KCG4","v":0},{"$f":"KCJ35*'Makro i swap'!KCH4","v":0},{"$f":"KCK35*'Makro i swap'!KCI4","v":0},{"$f":"KCL35*'Makro i swap'!KCJ4","v":0},{"$f":"KCM35*'Makro i swap'!KCK4","v":0},{"$f":"KCN35*'Makro i swap'!KCL4","v":0},{"$f":"KCO35*'Makro i swap'!KCM4","v":0},{"$f":"KCP35*'Makro i swap'!KCN4","v":0},{"$f":"KCQ35*'Makro i swap'!KCO4","v":0},{"$f":"KCR35*'Makro i swap'!KCP4","v":0},{"$f":"KCS35*'Makro i swap'!KCQ4","v":0},{"$f":"KCT35*'Makro i swap'!KCR4","v":0},{"$f":"KCU35*'Makro i swap'!KCS4","v":0},{"$f":"KCV35*'Makro i swap'!KCT4","v":0},{"$f":"KCW35*'Makro i swap'!KCU4","v":0},{"$f":"KCX35*'Makro i swap'!KCV4","v":0},{"$f":"KCY35*'Makro i swap'!KCW4","v":0},{"$f":"KCZ35*'Makro i swap'!KCX4","v":0},{"$f":"KDA35*'Makro i swap'!KCY4","v":0},{"$f":"KDB35*'Makro i swap'!KCZ4","v":0},{"$f":"KDC35*'Makro i swap'!KDA4","v":0},{"$f":"KDD35*'Makro i swap'!KDB4","v":0},{"$f":"KDE35*'Makro i swap'!KDC4","v":0},{"$f":"KDF35*'Makro i swap'!KDD4","v":0},{"$f":"KDG35*'Makro i swap'!KDE4","v":0},{"$f":"KDH35*'Makro i swap'!KDF4","v":0},{"$f":"KDI35*'Makro i swap'!KDG4","v":0},{"$f":"KDJ35*'Makro i swap'!KDH4","v":0},{"$f":"KDK35*'Makro i swap'!KDI4","v":0},{"$f":"KDL35*'Makro i swap'!KDJ4","v":0},{"$f":"KDM35*'Makro i swap'!KDK4","v":0},{"$f":"KDN35*'Makro i swap'!KDL4","v":0},{"$f":"KDO35*'Makro i swap'!KDM4","v":0},{"$f":"KDP35*'Makro i swap'!KDN4","v":0},{"$f":"KDQ35*'Makro i swap'!KDO4","v":0},{"$f":"KDR35*'Makro i swap'!KDP4","v":0},{"$f":"KDS35*'Makro i swap'!KDQ4","v":0},{"$f":"KDT35*'Makro i swap'!KDR4","v":0},{"$f":"KDU35*'Makro i swap'!KDS4","v":0},{"$f":"KDV35*'Makro i swap'!KDT4","v":0},{"$f":"KDW35*'Makro i swap'!KDU4","v":0},{"$f":"KDX35*'Makro i swap'!KDV4","v":0},{"$f":"KDY35*'Makro i swap'!KDW4","v":0},{"$f":"KDZ35*'Makro i swap'!KDX4","v":0},{"$f":"KEA35*'Makro i swap'!KDY4","v":0},{"$f":"KEB35*'Makro i swap'!KDZ4","v":0},{"$f":"KEC35*'Makro i swap'!KEA4","v":0},{"$f":"KED35*'Makro i swap'!KEB4","v":0},{"$f":"KEE35*'Makro i swap'!KEC4","v":0},{"$f":"KEF35*'Makro i swap'!KED4","v":0},{"$f":"KEG35*'Makro i swap'!KEE4","v":0},{"$f":"KEH35*'Makro i swap'!KEF4","v":0},{"$f":"KEI35*'Makro i swap'!KEG4","v":0},{"$f":"KEJ35*'Makro i swap'!KEH4","v":0},{"$f":"KEK35*'Makro i swap'!KEI4","v":0},{"$f":"KEL35*'Makro i swap'!KEJ4","v":0},{"$f":"KEM35*'Makro i swap'!KEK4","v":0},{"$f":"KEN35*'Makro i swap'!KEL4","v":0},{"$f":"KEO35*'Makro i swap'!KEM4","v":0},{"$f":"KEP35*'Makro i swap'!KEN4","v":0},{"$f":"KEQ35*'Makro i swap'!KEO4","v":0},{"$f":"KER35*'Makro i swap'!KEP4","v":0},{"$f":"KES35*'Makro i swap'!KEQ4","v":0},{"$f":"KET35*'Makro i swap'!KER4","v":0},{"$f":"KEU35*'Makro i swap'!KES4","v":0},{"$f":"KEV35*'Makro i swap'!KET4","v":0},{"$f":"KEW35*'Makro i swap'!KEU4","v":0},{"$f":"KEX35*'Makro i swap'!KEV4","v":0},{"$f":"KEY35*'Makro i swap'!KEW4","v":0},{"$f":"KEZ35*'Makro i swap'!KEX4","v":0},{"$f":"KFA35*'Makro i swap'!KEY4","v":0},{"$f":"KFB35*'Makro i swap'!KEZ4","v":0},{"$f":"KFC35*'Makro i swap'!KFA4","v":0},{"$f":"KFD35*'Makro i swap'!KFB4","v":0},{"$f":"KFE35*'Makro i swap'!KFC4","v":0},{"$f":"KFF35*'Makro i swap'!KFD4","v":0},{"$f":"KFG35*'Makro i swap'!KFE4","v":0},{"$f":"KFH35*'Makro i swap'!KFF4","v":0},{"$f":"KFI35*'Makro i swap'!KFG4","v":0},{"$f":"KFJ35*'Makro i swap'!KFH4","v":0},{"$f":"KFK35*'Makro i swap'!KFI4","v":0},{"$f":"KFL35*'Makro i swap'!KFJ4","v":0},{"$f":"KFM35*'Makro i swap'!KFK4","v":0},{"$f":"KFN35*'Makro i swap'!KFL4","v":0},{"$f":"KFO35*'Makro i swap'!KFM4","v":0},{"$f":"KFP35*'Makro i swap'!KFN4","v":0},{"$f":"KFQ35*'Makro i swap'!KFO4","v":0},{"$f":"KFR35*'Makro i swap'!KFP4","v":0},{"$f":"KFS35*'Makro i swap'!KFQ4","v":0},{"$f":"KFT35*'Makro i swap'!KFR4","v":0},{"$f":"KFU35*'Makro i swap'!KFS4","v":0},{"$f":"KFV35*'Makro i swap'!KFT4","v":0},{"$f":"KFW35*'Makro i swap'!KFU4","v":0},{"$f":"KFX35*'Makro i swap'!KFV4","v":0},{"$f":"KFY35*'Makro i swap'!KFW4","v":0},{"$f":"KFZ35*'Makro i swap'!KFX4","v":0},{"$f":"KGA35*'Makro i swap'!KFY4","v":0},{"$f":"KGB35*'Makro i swap'!KFZ4","v":0},{"$f":"KGC35*'Makro i swap'!KGA4","v":0},{"$f":"KGD35*'Makro i swap'!KGB4","v":0},{"$f":"KGE35*'Makro i swap'!KGC4","v":0},{"$f":"KGF35*'Makro i swap'!KGD4","v":0},{"$f":"KGG35*'Makro i swap'!KGE4","v":0},{"$f":"KGH35*'Makro i swap'!KGF4","v":0},{"$f":"KGI35*'Makro i swap'!KGG4","v":0},{"$f":"KGJ35*'Makro i swap'!KGH4","v":0},{"$f":"KGK35*'Makro i swap'!KGI4","v":0},{"$f":"KGL35*'Makro i swap'!KGJ4","v":0},{"$f":"KGM35*'Makro i swap'!KGK4","v":0},{"$f":"KGN35*'Makro i swap'!KGL4","v":0},{"$f":"KGO35*'Makro i swap'!KGM4","v":0},{"$f":"KGP35*'Makro i swap'!KGN4","v":0},{"$f":"KGQ35*'Makro i swap'!KGO4","v":0},{"$f":"KGR35*'Makro i swap'!KGP4","v":0},{"$f":"KGS35*'Makro i swap'!KGQ4","v":0},{"$f":"KGT35*'Makro i swap'!KGR4","v":0},{"$f":"KGU35*'Makro i swap'!KGS4","v":0},{"$f":"KGV35*'Makro i swap'!KGT4","v":0},{"$f":"KGW35*'Makro i swap'!KGU4","v":0},{"$f":"KGX35*'Makro i swap'!KGV4","v":0},{"$f":"KGY35*'Makro i swap'!KGW4","v":0},{"$f":"KGZ35*'Makro i swap'!KGX4","v":0},{"$f":"KHA35*'Makro i swap'!KGY4","v":0},{"$f":"KHB35*'Makro i swap'!KGZ4","v":0},{"$f":"KHC35*'Makro i swap'!KHA4","v":0},{"$f":"KHD35*'Makro i swap'!KHB4","v":0},{"$f":"KHE35*'Makro i swap'!KHC4","v":0},{"$f":"KHF35*'Makro i swap'!KHD4","v":0},{"$f":"KHG35*'Makro i swap'!KHE4","v":0},{"$f":"KHH35*'Makro i swap'!KHF4","v":0},{"$f":"KHI35*'Makro i swap'!KHG4","v":0},{"$f":"KHJ35*'Makro i swap'!KHH4","v":0},{"$f":"KHK35*'Makro i swap'!KHI4","v":0},{"$f":"KHL35*'Makro i swap'!KHJ4","v":0},{"$f":"KHM35*'Makro i swap'!KHK4","v":0},{"$f":"KHN35*'Makro i swap'!KHL4","v":0},{"$f":"KHO35*'Makro i swap'!KHM4","v":0},{"$f":"KHP35*'Makro i swap'!KHN4","v":0},{"$f":"KHQ35*'Makro i swap'!KHO4","v":0},{"$f":"KHR35*'Makro i swap'!KHP4","v":0},{"$f":"KHS35*'Makro i swap'!KHQ4","v":0},{"$f":"KHT35*'Makro i swap'!KHR4","v":0},{"$f":"KHU35*'Makro i swap'!KHS4","v":0},{"$f":"KHV35*'Makro i swap'!KHT4","v":0},{"$f":"KHW35*'Makro i swap'!KHU4","v":0},{"$f":"KHX35*'Makro i swap'!KHV4","v":0},{"$f":"KHY35*'Makro i swap'!KHW4","v":0},{"$f":"KHZ35*'Makro i swap'!KHX4","v":0},{"$f":"KIA35*'Makro i swap'!KHY4","v":0},{"$f":"KIB35*'Makro i swap'!KHZ4","v":0},{"$f":"KIC35*'Makro i swap'!KIA4","v":0},{"$f":"KID35*'Makro i swap'!KIB4","v":0},{"$f":"KIE35*'Makro i swap'!KIC4","v":0},{"$f":"KIF35*'Makro i swap'!KID4","v":0},{"$f":"KIG35*'Makro i swap'!KIE4","v":0},{"$f":"KIH35*'Makro i swap'!KIF4","v":0},{"$f":"KII35*'Makro i swap'!KIG4","v":0},{"$f":"KIJ35*'Makro i swap'!KIH4","v":0},{"$f":"KIK35*'Makro i swap'!KII4","v":0},{"$f":"KIL35*'Makro i swap'!KIJ4","v":0},{"$f":"KIM35*'Makro i swap'!KIK4","v":0},{"$f":"KIN35*'Makro i swap'!KIL4","v":0},{"$f":"KIO35*'Makro i swap'!KIM4","v":0},{"$f":"KIP35*'Makro i swap'!KIN4","v":0},{"$f":"KIQ35*'Makro i swap'!KIO4","v":0},{"$f":"KIR35*'Makro i swap'!KIP4","v":0},{"$f":"KIS35*'Makro i swap'!KIQ4","v":0},{"$f":"KIT35*'Makro i swap'!KIR4","v":0},{"$f":"KIU35*'Makro i swap'!KIS4","v":0},{"$f":"KIV35*'Makro i swap'!KIT4","v":0},{"$f":"KIW35*'Makro i swap'!KIU4","v":0},{"$f":"KIX35*'Makro i swap'!KIV4","v":0},{"$f":"KIY35*'Makro i swap'!KIW4","v":0},{"$f":"KIZ35*'Makro i swap'!KIX4","v":0},{"$f":"KJA35*'Makro i swap'!KIY4","v":0},{"$f":"KJB35*'Makro i swap'!KIZ4","v":0},{"$f":"KJC35*'Makro i swap'!KJA4","v":0},{"$f":"KJD35*'Makro i swap'!KJB4","v":0},{"$f":"KJE35*'Makro i swap'!KJC4","v":0},{"$f":"KJF35*'Makro i swap'!KJD4","v":0},{"$f":"KJG35*'Makro i swap'!KJE4","v":0},{"$f":"KJH35*'Makro i swap'!KJF4","v":0},{"$f":"KJI35*'Makro i swap'!KJG4","v":0},{"$f":"KJJ35*'Makro i swap'!KJH4","v":0},{"$f":"KJK35*'Makro i swap'!KJI4","v":0},{"$f":"KJL35*'Makro i swap'!KJJ4","v":0},{"$f":"KJM35*'Makro i swap'!KJK4","v":0},{"$f":"KJN35*'Makro i swap'!KJL4","v":0},{"$f":"KJO35*'Makro i swap'!KJM4","v":0},{"$f":"KJP35*'Makro i swap'!KJN4","v":0},{"$f":"KJQ35*'Makro i swap'!KJO4","v":0},{"$f":"KJR35*'Makro i swap'!KJP4","v":0},{"$f":"KJS35*'Makro i swap'!KJQ4","v":0},{"$f":"KJT35*'Makro i swap'!KJR4","v":0},{"$f":"KJU35*'Makro i swap'!KJS4","v":0},{"$f":"KJV35*'Makro i swap'!KJT4","v":0},{"$f":"KJW35*'Makro i swap'!KJU4","v":0},{"$f":"KJX35*'Makro i swap'!KJV4","v":0},{"$f":"KJY35*'Makro i swap'!KJW4","v":0},{"$f":"KJZ35*'Makro i swap'!KJX4","v":0},{"$f":"KKA35*'Makro i swap'!KJY4","v":0},{"$f":"KKB35*'Makro i swap'!KJZ4","v":0},{"$f":"KKC35*'Makro i swap'!KKA4","v":0},{"$f":"KKD35*'Makro i swap'!KKB4","v":0},{"$f":"KKE35*'Makro i swap'!KKC4","v":0},{"$f":"KKF35*'Makro i swap'!KKD4","v":0},{"$f":"KKG35*'Makro i swap'!KKE4","v":0},{"$f":"KKH35*'Makro i swap'!KKF4","v":0},{"$f":"KKI35*'Makro i swap'!KKG4","v":0},{"$f":"KKJ35*'Makro i swap'!KKH4","v":0},{"$f":"KKK35*'Makro i swap'!KKI4","v":0},{"$f":"KKL35*'Makro i swap'!KKJ4","v":0},{"$f":"KKM35*'Makro i swap'!KKK4","v":0},{"$f":"KKN35*'Makro i swap'!KKL4","v":0},{"$f":"KKO35*'Makro i swap'!KKM4","v":0},{"$f":"KKP35*'Makro i swap'!KKN4","v":0},{"$f":"KKQ35*'Makro i swap'!KKO4","v":0},{"$f":"KKR35*'Makro i swap'!KKP4","v":0},{"$f":"KKS35*'Makro i swap'!KKQ4","v":0},{"$f":"KKT35*'Makro i swap'!KKR4","v":0},{"$f":"KKU35*'Makro i swap'!KKS4","v":0},{"$f":"KKV35*'Makro i swap'!KKT4","v":0},{"$f":"KKW35*'Makro i swap'!KKU4","v":0},{"$f":"KKX35*'Makro i swap'!KKV4","v":0},{"$f":"KKY35*'Makro i swap'!KKW4","v":0},{"$f":"KKZ35*'Makro i swap'!KKX4","v":0},{"$f":"KLA35*'Makro i swap'!KKY4","v":0},{"$f":"KLB35*'Makro i swap'!KKZ4","v":0},{"$f":"KLC35*'Makro i swap'!KLA4","v":0},{"$f":"KLD35*'Makro i swap'!KLB4","v":0},{"$f":"KLE35*'Makro i swap'!KLC4","v":0},{"$f":"KLF35*'Makro i swap'!KLD4","v":0},{"$f":"KLG35*'Makro i swap'!KLE4","v":0},{"$f":"KLH35*'Makro i swap'!KLF4","v":0},{"$f":"KLI35*'Makro i swap'!KLG4","v":0},{"$f":"KLJ35*'Makro i swap'!KLH4","v":0},{"$f":"KLK35*'Makro i swap'!KLI4","v":0},{"$f":"KLL35*'Makro i swap'!KLJ4","v":0},{"$f":"KLM35*'Makro i swap'!KLK4","v":0},{"$f":"KLN35*'Makro i swap'!KLL4","v":0},{"$f":"KLO35*'Makro i swap'!KLM4","v":0},{"$f":"KLP35*'Makro i swap'!KLN4","v":0},{"$f":"KLQ35*'Makro i swap'!KLO4","v":0},{"$f":"KLR35*'Makro i swap'!KLP4","v":0},{"$f":"KLS35*'Makro i swap'!KLQ4","v":0},{"$f":"KLT35*'Makro i swap'!KLR4","v":0},{"$f":"KLU35*'Makro i swap'!KLS4","v":0},{"$f":"KLV35*'Makro i swap'!KLT4","v":0},{"$f":"KLW35*'Makro i swap'!KLU4","v":0},{"$f":"KLX35*'Makro i swap'!KLV4","v":0},{"$f":"KLY35*'Makro i swap'!KLW4","v":0},{"$f":"KLZ35*'Makro i swap'!KLX4","v":0},{"$f":"KMA35*'Makro i swap'!KLY4","v":0},{"$f":"KMB35*'Makro i swap'!KLZ4","v":0},{"$f":"KMC35*'Makro i swap'!KMA4","v":0},{"$f":"KMD35*'Makro i swap'!KMB4","v":0},{"$f":"KME35*'Makro i swap'!KMC4","v":0},{"$f":"KMF35*'Makro i swap'!KMD4","v":0},{"$f":"KMG35*'Makro i swap'!KME4","v":0},{"$f":"KMH35*'Makro i swap'!KMF4","v":0},{"$f":"KMI35*'Makro i swap'!KMG4","v":0},{"$f":"KMJ35*'Makro i swap'!KMH4","v":0},{"$f":"KMK35*'Makro i swap'!KMI4","v":0},{"$f":"KML35*'Makro i swap'!KMJ4","v":0},{"$f":"KMM35*'Makro i swap'!KMK4","v":0},{"$f":"KMN35*'Makro i swap'!KML4","v":0},{"$f":"KMO35*'Makro i swap'!KMM4","v":0},{"$f":"KMP35*'Makro i swap'!KMN4","v":0},{"$f":"KMQ35*'Makro i swap'!KMO4","v":0},{"$f":"KMR35*'Makro i swap'!KMP4","v":0},{"$f":"KMS35*'Makro i swap'!KMQ4","v":0},{"$f":"KMT35*'Makro i swap'!KMR4","v":0},{"$f":"KMU35*'Makro i swap'!KMS4","v":0},{"$f":"KMV35*'Makro i swap'!KMT4","v":0},{"$f":"KMW35*'Makro i swap'!KMU4","v":0},{"$f":"KMX35*'Makro i swap'!KMV4","v":0},{"$f":"KMY35*'Makro i swap'!KMW4","v":0},{"$f":"KMZ35*'Makro i swap'!KMX4","v":0},{"$f":"KNA35*'Makro i swap'!KMY4","v":0},{"$f":"KNB35*'Makro i swap'!KMZ4","v":0},{"$f":"KNC35*'Makro i swap'!KNA4","v":0},{"$f":"KND35*'Makro i swap'!KNB4","v":0},{"$f":"KNE35*'Makro i swap'!KNC4","v":0},{"$f":"KNF35*'Makro i swap'!KND4","v":0},{"$f":"KNG35*'Makro i swap'!KNE4","v":0},{"$f":"KNH35*'Makro i swap'!KNF4","v":0},{"$f":"KNI35*'Makro i swap'!KNG4","v":0},{"$f":"KNJ35*'Makro i swap'!KNH4","v":0},{"$f":"KNK35*'Makro i swap'!KNI4","v":0},{"$f":"KNL35*'Makro i swap'!KNJ4","v":0},{"$f":"KNM35*'Makro i swap'!KNK4","v":0},{"$f":"KNN35*'Makro i swap'!KNL4","v":0},{"$f":"KNO35*'Makro i swap'!KNM4","v":0},{"$f":"KNP35*'Makro i swap'!KNN4","v":0},{"$f":"KNQ35*'Makro i swap'!KNO4","v":0},{"$f":"KNR35*'Makro i swap'!KNP4","v":0},{"$f":"KNS35*'Makro i swap'!KNQ4","v":0},{"$f":"KNT35*'Makro i swap'!KNR4","v":0},{"$f":"KNU35*'Makro i swap'!KNS4","v":0},{"$f":"KNV35*'Makro i swap'!KNT4","v":0},{"$f":"KNW35*'Makro i swap'!KNU4","v":0},{"$f":"KNX35*'Makro i swap'!KNV4","v":0},{"$f":"KNY35*'Makro i swap'!KNW4","v":0},{"$f":"KNZ35*'Makro i swap'!KNX4","v":0},{"$f":"KOA35*'Makro i swap'!KNY4","v":0},{"$f":"KOB35*'Makro i swap'!KNZ4","v":0},{"$f":"KOC35*'Makro i swap'!KOA4","v":0},{"$f":"KOD35*'Makro i swap'!KOB4","v":0},{"$f":"KOE35*'Makro i swap'!KOC4","v":0},{"$f":"KOF35*'Makro i swap'!KOD4","v":0},{"$f":"KOG35*'Makro i swap'!KOE4","v":0},{"$f":"KOH35*'Makro i swap'!KOF4","v":0},{"$f":"KOI35*'Makro i swap'!KOG4","v":0},{"$f":"KOJ35*'Makro i swap'!KOH4","v":0},{"$f":"KOK35*'Makro i swap'!KOI4","v":0},{"$f":"KOL35*'Makro i swap'!KOJ4","v":0},{"$f":"KOM35*'Makro i swap'!KOK4","v":0},{"$f":"KON35*'Makro i swap'!KOL4","v":0},{"$f":"KOO35*'Makro i swap'!KOM4","v":0},{"$f":"KOP35*'Makro i swap'!KON4","v":0},{"$f":"KOQ35*'Makro i swap'!KOO4","v":0},{"$f":"KOR35*'Makro i swap'!KOP4","v":0},{"$f":"KOS35*'Makro i swap'!KOQ4","v":0},{"$f":"KOT35*'Makro i swap'!KOR4","v":0},{"$f":"KOU35*'Makro i swap'!KOS4","v":0},{"$f":"KOV35*'Makro i swap'!KOT4","v":0},{"$f":"KOW35*'Makro i swap'!KOU4","v":0},{"$f":"KOX35*'Makro i swap'!KOV4","v":0},{"$f":"KOY35*'Makro i swap'!KOW4","v":0},{"$f":"KOZ35*'Makro i swap'!KOX4","v":0},{"$f":"KPA35*'Makro i swap'!KOY4","v":0},{"$f":"KPB35*'Makro i swap'!KOZ4","v":0},{"$f":"KPC35*'Makro i swap'!KPA4","v":0},{"$f":"KPD35*'Makro i swap'!KPB4","v":0},{"$f":"KPE35*'Makro i swap'!KPC4","v":0},{"$f":"KPF35*'Makro i swap'!KPD4","v":0},{"$f":"KPG35*'Makro i swap'!KPE4","v":0},{"$f":"KPH35*'Makro i swap'!KPF4","v":0},{"$f":"KPI35*'Makro i swap'!KPG4","v":0},{"$f":"KPJ35*'Makro i swap'!KPH4","v":0},{"$f":"KPK35*'Makro i swap'!KPI4","v":0},{"$f":"KPL35*'Makro i swap'!KPJ4","v":0},{"$f":"KPM35*'Makro i swap'!KPK4","v":0},{"$f":"KPN35*'Makro i swap'!KPL4","v":0},{"$f":"KPO35*'Makro i swap'!KPM4","v":0},{"$f":"KPP35*'Makro i swap'!KPN4","v":0},{"$f":"KPQ35*'Makro i swap'!KPO4","v":0},{"$f":"KPR35*'Makro i swap'!KPP4","v":0},{"$f":"KPS35*'Makro i swap'!KPQ4","v":0},{"$f":"KPT35*'Makro i swap'!KPR4","v":0},{"$f":"KPU35*'Makro i swap'!KPS4","v":0},{"$f":"KPV35*'Makro i swap'!KPT4","v":0},{"$f":"KPW35*'Makro i swap'!KPU4","v":0},{"$f":"KPX35*'Makro i swap'!KPV4","v":0},{"$f":"KPY35*'Makro i swap'!KPW4","v":0},{"$f":"KPZ35*'Makro i swap'!KPX4","v":0},{"$f":"KQA35*'Makro i swap'!KPY4","v":0},{"$f":"KQB35*'Makro i swap'!KPZ4","v":0},{"$f":"KQC35*'Makro i swap'!KQA4","v":0},{"$f":"KQD35*'Makro i swap'!KQB4","v":0},{"$f":"KQE35*'Makro i swap'!KQC4","v":0},{"$f":"KQF35*'Makro i swap'!KQD4","v":0},{"$f":"KQG35*'Makro i swap'!KQE4","v":0},{"$f":"KQH35*'Makro i swap'!KQF4","v":0},{"$f":"KQI35*'Makro i swap'!KQG4","v":0},{"$f":"KQJ35*'Makro i swap'!KQH4","v":0},{"$f":"KQK35*'Makro i swap'!KQI4","v":0},{"$f":"KQL35*'Makro i swap'!KQJ4","v":0},{"$f":"KQM35*'Makro i swap'!KQK4","v":0},{"$f":"KQN35*'Makro i swap'!KQL4","v":0},{"$f":"KQO35*'Makro i swap'!KQM4","v":0},{"$f":"KQP35*'Makro i swap'!KQN4","v":0},{"$f":"KQQ35*'Makro i swap'!KQO4","v":0},{"$f":"KQR35*'Makro i swap'!KQP4","v":0},{"$f":"KQS35*'Makro i swap'!KQQ4","v":0},{"$f":"KQT35*'Makro i swap'!KQR4","v":0},{"$f":"KQU35*'Makro i swap'!KQS4","v":0},{"$f":"KQV35*'Makro i swap'!KQT4","v":0},{"$f":"KQW35*'Makro i swap'!KQU4","v":0},{"$f":"KQX35*'Makro i swap'!KQV4","v":0},{"$f":"KQY35*'Makro i swap'!KQW4","v":0},{"$f":"KQZ35*'Makro i swap'!KQX4","v":0},{"$f":"KRA35*'Makro i swap'!KQY4","v":0},{"$f":"KRB35*'Makro i swap'!KQZ4","v":0},{"$f":"KRC35*'Makro i swap'!KRA4","v":0},{"$f":"KRD35*'Makro i swap'!KRB4","v":0},{"$f":"KRE35*'Makro i swap'!KRC4","v":0},{"$f":"KRF35*'Makro i swap'!KRD4","v":0},{"$f":"KRG35*'Makro i swap'!KRE4","v":0},{"$f":"KRH35*'Makro i swap'!KRF4","v":0},{"$f":"KRI35*'Makro i swap'!KRG4","v":0},{"$f":"KRJ35*'Makro i swap'!KRH4","v":0},{"$f":"KRK35*'Makro i swap'!KRI4","v":0},{"$f":"KRL35*'Makro i swap'!KRJ4","v":0},{"$f":"KRM35*'Makro i swap'!KRK4","v":0},{"$f":"KRN35*'Makro i swap'!KRL4","v":0},{"$f":"KRO35*'Makro i swap'!KRM4","v":0},{"$f":"KRP35*'Makro i swap'!KRN4","v":0},{"$f":"KRQ35*'Makro i swap'!KRO4","v":0},{"$f":"KRR35*'Makro i swap'!KRP4","v":0},{"$f":"KRS35*'Makro i swap'!KRQ4","v":0},{"$f":"KRT35*'Makro i swap'!KRR4","v":0},{"$f":"KRU35*'Makro i swap'!KRS4","v":0},{"$f":"KRV35*'Makro i swap'!KRT4","v":0},{"$f":"KRW35*'Makro i swap'!KRU4","v":0},{"$f":"KRX35*'Makro i swap'!KRV4","v":0},{"$f":"KRY35*'Makro i swap'!KRW4","v":0},{"$f":"KRZ35*'Makro i swap'!KRX4","v":0},{"$f":"KSA35*'Makro i swap'!KRY4","v":0},{"$f":"KSB35*'Makro i swap'!KRZ4","v":0},{"$f":"KSC35*'Makro i swap'!KSA4","v":0},{"$f":"KSD35*'Makro i swap'!KSB4","v":0},{"$f":"KSE35*'Makro i swap'!KSC4","v":0},{"$f":"KSF35*'Makro i swap'!KSD4","v":0},{"$f":"KSG35*'Makro i swap'!KSE4","v":0},{"$f":"KSH35*'Makro i swap'!KSF4","v":0},{"$f":"KSI35*'Makro i swap'!KSG4","v":0},{"$f":"KSJ35*'Makro i swap'!KSH4","v":0},{"$f":"KSK35*'Makro i swap'!KSI4","v":0},{"$f":"KSL35*'Makro i swap'!KSJ4","v":0},{"$f":"KSM35*'Makro i swap'!KSK4","v":0},{"$f":"KSN35*'Makro i swap'!KSL4","v":0},{"$f":"KSO35*'Makro i swap'!KSM4","v":0},{"$f":"KSP35*'Makro i swap'!KSN4","v":0},{"$f":"KSQ35*'Makro i swap'!KSO4","v":0},{"$f":"KSR35*'Makro i swap'!KSP4","v":0},{"$f":"KSS35*'Makro i swap'!KSQ4","v":0},{"$f":"KST35*'Makro i swap'!KSR4","v":0},{"$f":"KSU35*'Makro i swap'!KSS4","v":0},{"$f":"KSV35*'Makro i swap'!KST4","v":0},{"$f":"KSW35*'Makro i swap'!KSU4","v":0},{"$f":"KSX35*'Makro i swap'!KSV4","v":0},{"$f":"KSY35*'Makro i swap'!KSW4","v":0},{"$f":"KSZ35*'Makro i swap'!KSX4","v":0},{"$f":"KTA35*'Makro i swap'!KSY4","v":0},{"$f":"KTB35*'Makro i swap'!KSZ4","v":0},{"$f":"KTC35*'Makro i swap'!KTA4","v":0},{"$f":"KTD35*'Makro i swap'!KTB4","v":0},{"$f":"KTE35*'Makro i swap'!KTC4","v":0},{"$f":"KTF35*'Makro i swap'!KTD4","v":0},{"$f":"KTG35*'Makro i swap'!KTE4","v":0},{"$f":"KTH35*'Makro i swap'!KTF4","v":0},{"$f":"KTI35*'Makro i swap'!KTG4","v":0},{"$f":"KTJ35*'Makro i swap'!KTH4","v":0},{"$f":"KTK35*'Makro i swap'!KTI4","v":0},{"$f":"KTL35*'Makro i swap'!KTJ4","v":0},{"$f":"KTM35*'Makro i swap'!KTK4","v":0},{"$f":"KTN35*'Makro i swap'!KTL4","v":0},{"$f":"KTO35*'Makro i swap'!KTM4","v":0},{"$f":"KTP35*'Makro i swap'!KTN4","v":0},{"$f":"KTQ35*'Makro i swap'!KTO4","v":0},{"$f":"KTR35*'Makro i swap'!KTP4","v":0},{"$f":"KTS35*'Makro i swap'!KTQ4","v":0},{"$f":"KTT35*'Makro i swap'!KTR4","v":0},{"$f":"KTU35*'Makro i swap'!KTS4","v":0},{"$f":"KTV35*'Makro i swap'!KTT4","v":0},{"$f":"KTW35*'Makro i swap'!KTU4","v":0},{"$f":"KTX35*'Makro i swap'!KTV4","v":0},{"$f":"KTY35*'Makro i swap'!KTW4","v":0},{"$f":"KTZ35*'Makro i swap'!KTX4","v":0},{"$f":"KUA35*'Makro i swap'!KTY4","v":0},{"$f":"KUB35*'Makro i swap'!KTZ4","v":0},{"$f":"KUC35*'Makro i swap'!KUA4","v":0},{"$f":"KUD35*'Makro i swap'!KUB4","v":0},{"$f":"KUE35*'Makro i swap'!KUC4","v":0},{"$f":"KUF35*'Makro i swap'!KUD4","v":0},{"$f":"KUG35*'Makro i swap'!KUE4","v":0},{"$f":"KUH35*'Makro i swap'!KUF4","v":0},{"$f":"KUI35*'Makro i swap'!KUG4","v":0},{"$f":"KUJ35*'Makro i swap'!KUH4","v":0},{"$f":"KUK35*'Makro i swap'!KUI4","v":0},{"$f":"KUL35*'Makro i swap'!KUJ4","v":0},{"$f":"KUM35*'Makro i swap'!KUK4","v":0},{"$f":"KUN35*'Makro i swap'!KUL4","v":0},{"$f":"KUO35*'Makro i swap'!KUM4","v":0},{"$f":"KUP35*'Makro i swap'!KUN4","v":0},{"$f":"KUQ35*'Makro i swap'!KUO4","v":0},{"$f":"KUR35*'Makro i swap'!KUP4","v":0},{"$f":"KUS35*'Makro i swap'!KUQ4","v":0},{"$f":"KUT35*'Makro i swap'!KUR4","v":0},{"$f":"KUU35*'Makro i swap'!KUS4","v":0},{"$f":"KUV35*'Makro i swap'!KUT4","v":0},{"$f":"KUW35*'Makro i swap'!KUU4","v":0},{"$f":"KUX35*'Makro i swap'!KUV4","v":0},{"$f":"KUY35*'Makro i swap'!KUW4","v":0},{"$f":"KUZ35*'Makro i swap'!KUX4","v":0},{"$f":"KVA35*'Makro i swap'!KUY4","v":0},{"$f":"KVB35*'Makro i swap'!KUZ4","v":0},{"$f":"KVC35*'Makro i swap'!KVA4","v":0},{"$f":"KVD35*'Makro i swap'!KVB4","v":0},{"$f":"KVE35*'Makro i swap'!KVC4","v":0},{"$f":"KVF35*'Makro i swap'!KVD4","v":0},{"$f":"KVG35*'Makro i swap'!KVE4","v":0},{"$f":"KVH35*'Makro i swap'!KVF4","v":0},{"$f":"KVI35*'Makro i swap'!KVG4","v":0},{"$f":"KVJ35*'Makro i swap'!KVH4","v":0},{"$f":"KVK35*'Makro i swap'!KVI4","v":0},{"$f":"KVL35*'Makro i swap'!KVJ4","v":0},{"$f":"KVM35*'Makro i swap'!KVK4","v":0},{"$f":"KVN35*'Makro i swap'!KVL4","v":0},{"$f":"KVO35*'Makro i swap'!KVM4","v":0},{"$f":"KVP35*'Makro i swap'!KVN4","v":0},{"$f":"KVQ35*'Makro i swap'!KVO4","v":0},{"$f":"KVR35*'Makro i swap'!KVP4","v":0},{"$f":"KVS35*'Makro i swap'!KVQ4","v":0},{"$f":"KVT35*'Makro i swap'!KVR4","v":0},{"$f":"KVU35*'Makro i swap'!KVS4","v":0},{"$f":"KVV35*'Makro i swap'!KVT4","v":0},{"$f":"KVW35*'Makro i swap'!KVU4","v":0},{"$f":"KVX35*'Makro i swap'!KVV4","v":0},{"$f":"KVY35*'Makro i swap'!KVW4","v":0},{"$f":"KVZ35*'Makro i swap'!KVX4","v":0},{"$f":"KWA35*'Makro i swap'!KVY4","v":0},{"$f":"KWB35*'Makro i swap'!KVZ4","v":0},{"$f":"KWC35*'Makro i swap'!KWA4","v":0},{"$f":"KWD35*'Makro i swap'!KWB4","v":0},{"$f":"KWE35*'Makro i swap'!KWC4","v":0},{"$f":"KWF35*'Makro i swap'!KWD4","v":0},{"$f":"KWG35*'Makro i swap'!KWE4","v":0},{"$f":"KWH35*'Makro i swap'!KWF4","v":0},{"$f":"KWI35*'Makro i swap'!KWG4","v":0},{"$f":"KWJ35*'Makro i swap'!KWH4","v":0},{"$f":"KWK35*'Makro i swap'!KWI4","v":0},{"$f":"KWL35*'Makro i swap'!KWJ4","v":0},{"$f":"KWM35*'Makro i swap'!KWK4","v":0},{"$f":"KWN35*'Makro i swap'!KWL4","v":0},{"$f":"KWO35*'Makro i swap'!KWM4","v":0},{"$f":"KWP35*'Makro i swap'!KWN4","v":0},{"$f":"KWQ35*'Makro i swap'!KWO4","v":0},{"$f":"KWR35*'Makro i swap'!KWP4","v":0},{"$f":"KWS35*'Makro i swap'!KWQ4","v":0},{"$f":"KWT35*'Makro i swap'!KWR4","v":0},{"$f":"KWU35*'Makro i swap'!KWS4","v":0},{"$f":"KWV35*'Makro i swap'!KWT4","v":0},{"$f":"KWW35*'Makro i swap'!KWU4","v":0},{"$f":"KWX35*'Makro i swap'!KWV4","v":0},{"$f":"KWY35*'Makro i swap'!KWW4","v":0},{"$f":"KWZ35*'Makro i swap'!KWX4","v":0},{"$f":"KXA35*'Makro i swap'!KWY4","v":0},{"$f":"KXB35*'Makro i swap'!KWZ4","v":0},{"$f":"KXC35*'Makro i swap'!KXA4","v":0},{"$f":"KXD35*'Makro i swap'!KXB4","v":0},{"$f":"KXE35*'Makro i swap'!KXC4","v":0},{"$f":"KXF35*'Makro i swap'!KXD4","v":0},{"$f":"KXG35*'Makro i swap'!KXE4","v":0},{"$f":"KXH35*'Makro i swap'!KXF4","v":0},{"$f":"KXI35*'Makro i swap'!KXG4","v":0},{"$f":"KXJ35*'Makro i swap'!KXH4","v":0},{"$f":"KXK35*'Makro i swap'!KXI4","v":0},{"$f":"KXL35*'Makro i swap'!KXJ4","v":0},{"$f":"KXM35*'Makro i swap'!KXK4","v":0},{"$f":"KXN35*'Makro i swap'!KXL4","v":0},{"$f":"KXO35*'Makro i swap'!KXM4","v":0},{"$f":"KXP35*'Makro i swap'!KXN4","v":0},{"$f":"KXQ35*'Makro i swap'!KXO4","v":0},{"$f":"KXR35*'Makro i swap'!KXP4","v":0},{"$f":"KXS35*'Makro i swap'!KXQ4","v":0},{"$f":"KXT35*'Makro i swap'!KXR4","v":0},{"$f":"KXU35*'Makro i swap'!KXS4","v":0},{"$f":"KXV35*'Makro i swap'!KXT4","v":0},{"$f":"KXW35*'Makro i swap'!KXU4","v":0},{"$f":"KXX35*'Makro i swap'!KXV4","v":0},{"$f":"KXY35*'Makro i swap'!KXW4","v":0},{"$f":"KXZ35*'Makro i swap'!KXX4","v":0},{"$f":"KYA35*'Makro i swap'!KXY4","v":0},{"$f":"KYB35*'Makro i swap'!KXZ4","v":0},{"$f":"KYC35*'Makro i swap'!KYA4","v":0},{"$f":"KYD35*'Makro i swap'!KYB4","v":0},{"$f":"KYE35*'Makro i swap'!KYC4","v":0},{"$f":"KYF35*'Makro i swap'!KYD4","v":0},{"$f":"KYG35*'Makro i swap'!KYE4","v":0},{"$f":"KYH35*'Makro i swap'!KYF4","v":0},{"$f":"KYI35*'Makro i swap'!KYG4","v":0},{"$f":"KYJ35*'Makro i swap'!KYH4","v":0},{"$f":"KYK35*'Makro i swap'!KYI4","v":0},{"$f":"KYL35*'Makro i swap'!KYJ4","v":0},{"$f":"KYM35*'Makro i swap'!KYK4","v":0},{"$f":"KYN35*'Makro i swap'!KYL4","v":0},{"$f":"KYO35*'Makro i swap'!KYM4","v":0},{"$f":"KYP35*'Makro i swap'!KYN4","v":0},{"$f":"KYQ35*'Makro i swap'!KYO4","v":0},{"$f":"KYR35*'Makro i swap'!KYP4","v":0},{"$f":"KYS35*'Makro i swap'!KYQ4","v":0},{"$f":"KYT35*'Makro i swap'!KYR4","v":0},{"$f":"KYU35*'Makro i swap'!KYS4","v":0},{"$f":"KYV35*'Makro i swap'!KYT4","v":0},{"$f":"KYW35*'Makro i swap'!KYU4","v":0},{"$f":"KYX35*'Makro i swap'!KYV4","v":0},{"$f":"KYY35*'Makro i swap'!KYW4","v":0},{"$f":"KYZ35*'Makro i swap'!KYX4","v":0},{"$f":"KZA35*'Makro i swap'!KYY4","v":0},{"$f":"KZB35*'Makro i swap'!KYZ4","v":0},{"$f":"KZC35*'Makro i swap'!KZA4","v":0},{"$f":"KZD35*'Makro i swap'!KZB4","v":0},{"$f":"KZE35*'Makro i swap'!KZC4","v":0},{"$f":"KZF35*'Makro i swap'!KZD4","v":0},{"$f":"KZG35*'Makro i swap'!KZE4","v":0},{"$f":"KZH35*'Makro i swap'!KZF4","v":0},{"$f":"KZI35*'Makro i swap'!KZG4","v":0},{"$f":"KZJ35*'Makro i swap'!KZH4","v":0},{"$f":"KZK35*'Makro i swap'!KZI4","v":0},{"$f":"KZL35*'Makro i swap'!KZJ4","v":0},{"$f":"KZM35*'Makro i swap'!KZK4","v":0},{"$f":"KZN35*'Makro i swap'!KZL4","v":0},{"$f":"KZO35*'Makro i swap'!KZM4","v":0},{"$f":"KZP35*'Makro i swap'!KZN4","v":0},{"$f":"KZQ35*'Makro i swap'!KZO4","v":0},{"$f":"KZR35*'Makro i swap'!KZP4","v":0},{"$f":"KZS35*'Makro i swap'!KZQ4","v":0},{"$f":"KZT35*'Makro i swap'!KZR4","v":0},{"$f":"KZU35*'Makro i swap'!KZS4","v":0},{"$f":"KZV35*'Makro i swap'!KZT4","v":0},{"$f":"KZW35*'Makro i swap'!KZU4","v":0},{"$f":"KZX35*'Makro i swap'!KZV4","v":0},{"$f":"KZY35*'Makro i swap'!KZW4","v":0},{"$f":"KZZ35*'Makro i swap'!KZX4","v":0},{"$f":"LAA35*'Makro i swap'!KZY4","v":0},{"$f":"LAB35*'Makro i swap'!KZZ4","v":0},{"$f":"LAC35*'Makro i swap'!LAA4","v":0},{"$f":"LAD35*'Makro i swap'!LAB4","v":0},{"$f":"LAE35*'Makro i swap'!LAC4","v":0},{"$f":"LAF35*'Makro i swap'!LAD4","v":0},{"$f":"LAG35*'Makro i swap'!LAE4","v":0},{"$f":"LAH35*'Makro i swap'!LAF4","v":0},{"$f":"LAI35*'Makro i swap'!LAG4","v":0},{"$f":"LAJ35*'Makro i swap'!LAH4","v":0},{"$f":"LAK35*'Makro i swap'!LAI4","v":0},{"$f":"LAL35*'Makro i swap'!LAJ4","v":0},{"$f":"LAM35*'Makro i swap'!LAK4","v":0},{"$f":"LAN35*'Makro i swap'!LAL4","v":0},{"$f":"LAO35*'Makro i swap'!LAM4","v":0},{"$f":"LAP35*'Makro i swap'!LAN4","v":0},{"$f":"LAQ35*'Makro i swap'!LAO4","v":0},{"$f":"LAR35*'Makro i swap'!LAP4","v":0},{"$f":"LAS35*'Makro i swap'!LAQ4","v":0},{"$f":"LAT35*'Makro i swap'!LAR4","v":0},{"$f":"LAU35*'Makro i swap'!LAS4","v":0},{"$f":"LAV35*'Makro i swap'!LAT4","v":0},{"$f":"LAW35*'Makro i swap'!LAU4","v":0},{"$f":"LAX35*'Makro i swap'!LAV4","v":0},{"$f":"LAY35*'Makro i swap'!LAW4","v":0},{"$f":"LAZ35*'Makro i swap'!LAX4","v":0},{"$f":"LBA35*'Makro i swap'!LAY4","v":0},{"$f":"LBB35*'Makro i swap'!LAZ4","v":0},{"$f":"LBC35*'Makro i swap'!LBA4","v":0},{"$f":"LBD35*'Makro i swap'!LBB4","v":0},{"$f":"LBE35*'Makro i swap'!LBC4","v":0},{"$f":"LBF35*'Makro i swap'!LBD4","v":0},{"$f":"LBG35*'Makro i swap'!LBE4","v":0},{"$f":"LBH35*'Makro i swap'!LBF4","v":0},{"$f":"LBI35*'Makro i swap'!LBG4","v":0},{"$f":"LBJ35*'Makro i swap'!LBH4","v":0},{"$f":"LBK35*'Makro i swap'!LBI4","v":0},{"$f":"LBL35*'Makro i swap'!LBJ4","v":0},{"$f":"LBM35*'Makro i swap'!LBK4","v":0},{"$f":"LBN35*'Makro i swap'!LBL4","v":0},{"$f":"LBO35*'Makro i swap'!LBM4","v":0},{"$f":"LBP35*'Makro i swap'!LBN4","v":0},{"$f":"LBQ35*'Makro i swap'!LBO4","v":0},{"$f":"LBR35*'Makro i swap'!LBP4","v":0},{"$f":"LBS35*'Makro i swap'!LBQ4","v":0},{"$f":"LBT35*'Makro i swap'!LBR4","v":0},{"$f":"LBU35*'Makro i swap'!LBS4","v":0},{"$f":"LBV35*'Makro i swap'!LBT4","v":0},{"$f":"LBW35*'Makro i swap'!LBU4","v":0},{"$f":"LBX35*'Makro i swap'!LBV4","v":0},{"$f":"LBY35*'Makro i swap'!LBW4","v":0},{"$f":"LBZ35*'Makro i swap'!LBX4","v":0},{"$f":"LCA35*'Makro i swap'!LBY4","v":0},{"$f":"LCB35*'Makro i swap'!LBZ4","v":0},{"$f":"LCC35*'Makro i swap'!LCA4","v":0},{"$f":"LCD35*'Makro i swap'!LCB4","v":0},{"$f":"LCE35*'Makro i swap'!LCC4","v":0},{"$f":"LCF35*'Makro i swap'!LCD4","v":0},{"$f":"LCG35*'Makro i swap'!LCE4","v":0},{"$f":"LCH35*'Makro i swap'!LCF4","v":0},{"$f":"LCI35*'Makro i swap'!LCG4","v":0},{"$f":"LCJ35*'Makro i swap'!LCH4","v":0},{"$f":"LCK35*'Makro i swap'!LCI4","v":0},{"$f":"LCL35*'Makro i swap'!LCJ4","v":0},{"$f":"LCM35*'Makro i swap'!LCK4","v":0},{"$f":"LCN35*'Makro i swap'!LCL4","v":0},{"$f":"LCO35*'Makro i swap'!LCM4","v":0},{"$f":"LCP35*'Makro i swap'!LCN4","v":0},{"$f":"LCQ35*'Makro i swap'!LCO4","v":0},{"$f":"LCR35*'Makro i swap'!LCP4","v":0},{"$f":"LCS35*'Makro i swap'!LCQ4","v":0},{"$f":"LCT35*'Makro i swap'!LCR4","v":0},{"$f":"LCU35*'Makro i swap'!LCS4","v":0},{"$f":"LCV35*'Makro i swap'!LCT4","v":0},{"$f":"LCW35*'Makro i swap'!LCU4","v":0},{"$f":"LCX35*'Makro i swap'!LCV4","v":0},{"$f":"LCY35*'Makro i swap'!LCW4","v":0},{"$f":"LCZ35*'Makro i swap'!LCX4","v":0},{"$f":"LDA35*'Makro i swap'!LCY4","v":0},{"$f":"LDB35*'Makro i swap'!LCZ4","v":0},{"$f":"LDC35*'Makro i swap'!LDA4","v":0},{"$f":"LDD35*'Makro i swap'!LDB4","v":0},{"$f":"LDE35*'Makro i swap'!LDC4","v":0},{"$f":"LDF35*'Makro i swap'!LDD4","v":0},{"$f":"LDG35*'Makro i swap'!LDE4","v":0},{"$f":"LDH35*'Makro i swap'!LDF4","v":0},{"$f":"LDI35*'Makro i swap'!LDG4","v":0},{"$f":"LDJ35*'Makro i swap'!LDH4","v":0},{"$f":"LDK35*'Makro i swap'!LDI4","v":0},{"$f":"LDL35*'Makro i swap'!LDJ4","v":0},{"$f":"LDM35*'Makro i swap'!LDK4","v":0},{"$f":"LDN35*'Makro i swap'!LDL4","v":0},{"$f":"LDO35*'Makro i swap'!LDM4","v":0},{"$f":"LDP35*'Makro i swap'!LDN4","v":0},{"$f":"LDQ35*'Makro i swap'!LDO4","v":0},{"$f":"LDR35*'Makro i swap'!LDP4","v":0},{"$f":"LDS35*'Makro i swap'!LDQ4","v":0},{"$f":"LDT35*'Makro i swap'!LDR4","v":0},{"$f":"LDU35*'Makro i swap'!LDS4","v":0},{"$f":"LDV35*'Makro i swap'!LDT4","v":0},{"$f":"LDW35*'Makro i swap'!LDU4","v":0},{"$f":"LDX35*'Makro i swap'!LDV4","v":0},{"$f":"LDY35*'Makro i swap'!LDW4","v":0},{"$f":"LDZ35*'Makro i swap'!LDX4","v":0},{"$f":"LEA35*'Makro i swap'!LDY4","v":0},{"$f":"LEB35*'Makro i swap'!LDZ4","v":0},{"$f":"LEC35*'Makro i swap'!LEA4","v":0},{"$f":"LED35*'Makro i swap'!LEB4","v":0},{"$f":"LEE35*'Makro i swap'!LEC4","v":0},{"$f":"LEF35*'Makro i swap'!LED4","v":0},{"$f":"LEG35*'Makro i swap'!LEE4","v":0},{"$f":"LEH35*'Makro i swap'!LEF4","v":0},{"$f":"LEI35*'Makro i swap'!LEG4","v":0},{"$f":"LEJ35*'Makro i swap'!LEH4","v":0},{"$f":"LEK35*'Makro i swap'!LEI4","v":0},{"$f":"LEL35*'Makro i swap'!LEJ4","v":0},{"$f":"LEM35*'Makro i swap'!LEK4","v":0},{"$f":"LEN35*'Makro i swap'!LEL4","v":0},{"$f":"LEO35*'Makro i swap'!LEM4","v":0},{"$f":"LEP35*'Makro i swap'!LEN4","v":0},{"$f":"LEQ35*'Makro i swap'!LEO4","v":0},{"$f":"LER35*'Makro i swap'!LEP4","v":0},{"$f":"LES35*'Makro i swap'!LEQ4","v":0},{"$f":"LET35*'Makro i swap'!LER4","v":0},{"$f":"LEU35*'Makro i swap'!LES4","v":0},{"$f":"LEV35*'Makro i swap'!LET4","v":0},{"$f":"LEW35*'Makro i swap'!LEU4","v":0},{"$f":"LEX35*'Makro i swap'!LEV4","v":0},{"$f":"LEY35*'Makro i swap'!LEW4","v":0},{"$f":"LEZ35*'Makro i swap'!LEX4","v":0},{"$f":"LFA35*'Makro i swap'!LEY4","v":0},{"$f":"LFB35*'Makro i swap'!LEZ4","v":0},{"$f":"LFC35*'Makro i swap'!LFA4","v":0},{"$f":"LFD35*'Makro i swap'!LFB4","v":0},{"$f":"LFE35*'Makro i swap'!LFC4","v":0},{"$f":"LFF35*'Makro i swap'!LFD4","v":0},{"$f":"LFG35*'Makro i swap'!LFE4","v":0},{"$f":"LFH35*'Makro i swap'!LFF4","v":0},{"$f":"LFI35*'Makro i swap'!LFG4","v":0},{"$f":"LFJ35*'Makro i swap'!LFH4","v":0},{"$f":"LFK35*'Makro i swap'!LFI4","v":0},{"$f":"LFL35*'Makro i swap'!LFJ4","v":0},{"$f":"LFM35*'Makro i swap'!LFK4","v":0},{"$f":"LFN35*'Makro i swap'!LFL4","v":0},{"$f":"LFO35*'Makro i swap'!LFM4","v":0},{"$f":"LFP35*'Makro i swap'!LFN4","v":0},{"$f":"LFQ35*'Makro i swap'!LFO4","v":0},{"$f":"LFR35*'Makro i swap'!LFP4","v":0},{"$f":"LFS35*'Makro i swap'!LFQ4","v":0},{"$f":"LFT35*'Makro i swap'!LFR4","v":0},{"$f":"LFU35*'Makro i swap'!LFS4","v":0},{"$f":"LFV35*'Makro i swap'!LFT4","v":0},{"$f":"LFW35*'Makro i swap'!LFU4","v":0},{"$f":"LFX35*'Makro i swap'!LFV4","v":0},{"$f":"LFY35*'Makro i swap'!LFW4","v":0},{"$f":"LFZ35*'Makro i swap'!LFX4","v":0},{"$f":"LGA35*'Makro i swap'!LFY4","v":0},{"$f":"LGB35*'Makro i swap'!LFZ4","v":0},{"$f":"LGC35*'Makro i swap'!LGA4","v":0},{"$f":"LGD35*'Makro i swap'!LGB4","v":0},{"$f":"LGE35*'Makro i swap'!LGC4","v":0},{"$f":"LGF35*'Makro i swap'!LGD4","v":0},{"$f":"LGG35*'Makro i swap'!LGE4","v":0},{"$f":"LGH35*'Makro i swap'!LGF4","v":0},{"$f":"LGI35*'Makro i swap'!LGG4","v":0},{"$f":"LGJ35*'Makro i swap'!LGH4","v":0},{"$f":"LGK35*'Makro i swap'!LGI4","v":0},{"$f":"LGL35*'Makro i swap'!LGJ4","v":0},{"$f":"LGM35*'Makro i swap'!LGK4","v":0},{"$f":"LGN35*'Makro i swap'!LGL4","v":0},{"$f":"LGO35*'Makro i swap'!LGM4","v":0},{"$f":"LGP35*'Makro i swap'!LGN4","v":0},{"$f":"LGQ35*'Makro i swap'!LGO4","v":0},{"$f":"LGR35*'Makro i swap'!LGP4","v":0},{"$f":"LGS35*'Makro i swap'!LGQ4","v":0},{"$f":"LGT35*'Makro i swap'!LGR4","v":0},{"$f":"LGU35*'Makro i swap'!LGS4","v":0},{"$f":"LGV35*'Makro i swap'!LGT4","v":0},{"$f":"LGW35*'Makro i swap'!LGU4","v":0},{"$f":"LGX35*'Makro i swap'!LGV4","v":0},{"$f":"LGY35*'Makro i swap'!LGW4","v":0},{"$f":"LGZ35*'Makro i swap'!LGX4","v":0},{"$f":"LHA35*'Makro i swap'!LGY4","v":0},{"$f":"LHB35*'Makro i swap'!LGZ4","v":0},{"$f":"LHC35*'Makro i swap'!LHA4","v":0},{"$f":"LHD35*'Makro i swap'!LHB4","v":0},{"$f":"LHE35*'Makro i swap'!LHC4","v":0},{"$f":"LHF35*'Makro i swap'!LHD4","v":0},{"$f":"LHG35*'Makro i swap'!LHE4","v":0},{"$f":"LHH35*'Makro i swap'!LHF4","v":0},{"$f":"LHI35*'Makro i swap'!LHG4","v":0},{"$f":"LHJ35*'Makro i swap'!LHH4","v":0},{"$f":"LHK35*'Makro i swap'!LHI4","v":0},{"$f":"LHL35*'Makro i swap'!LHJ4","v":0},{"$f":"LHM35*'Makro i swap'!LHK4","v":0},{"$f":"LHN35*'Makro i swap'!LHL4","v":0},{"$f":"LHO35*'Makro i swap'!LHM4","v":0},{"$f":"LHP35*'Makro i swap'!LHN4","v":0},{"$f":"LHQ35*'Makro i swap'!LHO4","v":0},{"$f":"LHR35*'Makro i swap'!LHP4","v":0},{"$f":"LHS35*'Makro i swap'!LHQ4","v":0},{"$f":"LHT35*'Makro i swap'!LHR4","v":0},{"$f":"LHU35*'Makro i swap'!LHS4","v":0},{"$f":"LHV35*'Makro i swap'!LHT4","v":0},{"$f":"LHW35*'Makro i swap'!LHU4","v":0},{"$f":"LHX35*'Makro i swap'!LHV4","v":0},{"$f":"LHY35*'Makro i swap'!LHW4","v":0},{"$f":"LHZ35*'Makro i swap'!LHX4","v":0},{"$f":"LIA35*'Makro i swap'!LHY4","v":0},{"$f":"LIB35*'Makro i swap'!LHZ4","v":0},{"$f":"LIC35*'Makro i swap'!LIA4","v":0},{"$f":"LID35*'Makro i swap'!LIB4","v":0},{"$f":"LIE35*'Makro i swap'!LIC4","v":0},{"$f":"LIF35*'Makro i swap'!LID4","v":0},{"$f":"LIG35*'Makro i swap'!LIE4","v":0},{"$f":"LIH35*'Makro i swap'!LIF4","v":0},{"$f":"LII35*'Makro i swap'!LIG4","v":0},{"$f":"LIJ35*'Makro i swap'!LIH4","v":0},{"$f":"LIK35*'Makro i swap'!LII4","v":0},{"$f":"LIL35*'Makro i swap'!LIJ4","v":0},{"$f":"LIM35*'Makro i swap'!LIK4","v":0},{"$f":"LIN35*'Makro i swap'!LIL4","v":0},{"$f":"LIO35*'Makro i swap'!LIM4","v":0},{"$f":"LIP35*'Makro i swap'!LIN4","v":0},{"$f":"LIQ35*'Makro i swap'!LIO4","v":0},{"$f":"LIR35*'Makro i swap'!LIP4","v":0},{"$f":"LIS35*'Makro i swap'!LIQ4","v":0},{"$f":"LIT35*'Makro i swap'!LIR4","v":0},{"$f":"LIU35*'Makro i swap'!LIS4","v":0},{"$f":"LIV35*'Makro i swap'!LIT4","v":0},{"$f":"LIW35*'Makro i swap'!LIU4","v":0},{"$f":"LIX35*'Makro i swap'!LIV4","v":0},{"$f":"LIY35*'Makro i swap'!LIW4","v":0},{"$f":"LIZ35*'Makro i swap'!LIX4","v":0},{"$f":"LJA35*'Makro i swap'!LIY4","v":0},{"$f":"LJB35*'Makro i swap'!LIZ4","v":0},{"$f":"LJC35*'Makro i swap'!LJA4","v":0},{"$f":"LJD35*'Makro i swap'!LJB4","v":0},{"$f":"LJE35*'Makro i swap'!LJC4","v":0},{"$f":"LJF35*'Makro i swap'!LJD4","v":0},{"$f":"LJG35*'Makro i swap'!LJE4","v":0},{"$f":"LJH35*'Makro i swap'!LJF4","v":0},{"$f":"LJI35*'Makro i swap'!LJG4","v":0},{"$f":"LJJ35*'Makro i swap'!LJH4","v":0},{"$f":"LJK35*'Makro i swap'!LJI4","v":0},{"$f":"LJL35*'Makro i swap'!LJJ4","v":0},{"$f":"LJM35*'Makro i swap'!LJK4","v":0},{"$f":"LJN35*'Makro i swap'!LJL4","v":0},{"$f":"LJO35*'Makro i swap'!LJM4","v":0},{"$f":"LJP35*'Makro i swap'!LJN4","v":0},{"$f":"LJQ35*'Makro i swap'!LJO4","v":0},{"$f":"LJR35*'Makro i swap'!LJP4","v":0},{"$f":"LJS35*'Makro i swap'!LJQ4","v":0},{"$f":"LJT35*'Makro i swap'!LJR4","v":0},{"$f":"LJU35*'Makro i swap'!LJS4","v":0},{"$f":"LJV35*'Makro i swap'!LJT4","v":0},{"$f":"LJW35*'Makro i swap'!LJU4","v":0},{"$f":"LJX35*'Makro i swap'!LJV4","v":0},{"$f":"LJY35*'Makro i swap'!LJW4","v":0},{"$f":"LJZ35*'Makro i swap'!LJX4","v":0},{"$f":"LKA35*'Makro i swap'!LJY4","v":0},{"$f":"LKB35*'Makro i swap'!LJZ4","v":0},{"$f":"LKC35*'Makro i swap'!LKA4","v":0},{"$f":"LKD35*'Makro i swap'!LKB4","v":0},{"$f":"LKE35*'Makro i swap'!LKC4","v":0},{"$f":"LKF35*'Makro i swap'!LKD4","v":0},{"$f":"LKG35*'Makro i swap'!LKE4","v":0},{"$f":"LKH35*'Makro i swap'!LKF4","v":0},{"$f":"LKI35*'Makro i swap'!LKG4","v":0},{"$f":"LKJ35*'Makro i swap'!LKH4","v":0},{"$f":"LKK35*'Makro i swap'!LKI4","v":0},{"$f":"LKL35*'Makro i swap'!LKJ4","v":0},{"$f":"LKM35*'Makro i swap'!LKK4","v":0},{"$f":"LKN35*'Makro i swap'!LKL4","v":0},{"$f":"LKO35*'Makro i swap'!LKM4","v":0},{"$f":"LKP35*'Makro i swap'!LKN4","v":0},{"$f":"LKQ35*'Makro i swap'!LKO4","v":0},{"$f":"LKR35*'Makro i swap'!LKP4","v":0},{"$f":"LKS35*'Makro i swap'!LKQ4","v":0},{"$f":"LKT35*'Makro i swap'!LKR4","v":0},{"$f":"LKU35*'Makro i swap'!LKS4","v":0},{"$f":"LKV35*'Makro i swap'!LKT4","v":0},{"$f":"LKW35*'Makro i swap'!LKU4","v":0},{"$f":"LKX35*'Makro i swap'!LKV4","v":0},{"$f":"LKY35*'Makro i swap'!LKW4","v":0},{"$f":"LKZ35*'Makro i swap'!LKX4","v":0},{"$f":"LLA35*'Makro i swap'!LKY4","v":0},{"$f":"LLB35*'Makro i swap'!LKZ4","v":0},{"$f":"LLC35*'Makro i swap'!LLA4","v":0},{"$f":"LLD35*'Makro i swap'!LLB4","v":0},{"$f":"LLE35*'Makro i swap'!LLC4","v":0},{"$f":"LLF35*'Makro i swap'!LLD4","v":0},{"$f":"LLG35*'Makro i swap'!LLE4","v":0},{"$f":"LLH35*'Makro i swap'!LLF4","v":0},{"$f":"LLI35*'Makro i swap'!LLG4","v":0},{"$f":"LLJ35*'Makro i swap'!LLH4","v":0},{"$f":"LLK35*'Makro i swap'!LLI4","v":0},{"$f":"LLL35*'Makro i swap'!LLJ4","v":0},{"$f":"LLM35*'Makro i swap'!LLK4","v":0},{"$f":"LLN35*'Makro i swap'!LLL4","v":0},{"$f":"LLO35*'Makro i swap'!LLM4","v":0},{"$f":"LLP35*'Makro i swap'!LLN4","v":0},{"$f":"LLQ35*'Makro i swap'!LLO4","v":0},{"$f":"LLR35*'Makro i swap'!LLP4","v":0},{"$f":"LLS35*'Makro i swap'!LLQ4","v":0},{"$f":"LLT35*'Makro i swap'!LLR4","v":0},{"$f":"LLU35*'Makro i swap'!LLS4","v":0},{"$f":"LLV35*'Makro i swap'!LLT4","v":0},{"$f":"LLW35*'Makro i swap'!LLU4","v":0},{"$f":"LLX35*'Makro i swap'!LLV4","v":0},{"$f":"LLY35*'Makro i swap'!LLW4","v":0},{"$f":"LLZ35*'Makro i swap'!LLX4","v":0},{"$f":"LMA35*'Makro i swap'!LLY4","v":0},{"$f":"LMB35*'Makro i swap'!LLZ4","v":0},{"$f":"LMC35*'Makro i swap'!LMA4","v":0},{"$f":"LMD35*'Makro i swap'!LMB4","v":0},{"$f":"LME35*'Makro i swap'!LMC4","v":0},{"$f":"LMF35*'Makro i swap'!LMD4","v":0},{"$f":"LMG35*'Makro i swap'!LME4","v":0},{"$f":"LMH35*'Makro i swap'!LMF4","v":0},{"$f":"LMI35*'Makro i swap'!LMG4","v":0},{"$f":"LMJ35*'Makro i swap'!LMH4","v":0},{"$f":"LMK35*'Makro i swap'!LMI4","v":0},{"$f":"LML35*'Makro i swap'!LMJ4","v":0},{"$f":"LMM35*'Makro i swap'!LMK4","v":0},{"$f":"LMN35*'Makro i swap'!LML4","v":0},{"$f":"LMO35*'Makro i swap'!LMM4","v":0},{"$f":"LMP35*'Makro i swap'!LMN4","v":0},{"$f":"LMQ35*'Makro i swap'!LMO4","v":0},{"$f":"LMR35*'Makro i swap'!LMP4","v":0},{"$f":"LMS35*'Makro i swap'!LMQ4","v":0},{"$f":"LMT35*'Makro i swap'!LMR4","v":0},{"$f":"LMU35*'Makro i swap'!LMS4","v":0},{"$f":"LMV35*'Makro i swap'!LMT4","v":0},{"$f":"LMW35*'Makro i swap'!LMU4","v":0},{"$f":"LMX35*'Makro i swap'!LMV4","v":0},{"$f":"LMY35*'Makro i swap'!LMW4","v":0},{"$f":"LMZ35*'Makro i swap'!LMX4","v":0},{"$f":"LNA35*'Makro i swap'!LMY4","v":0},{"$f":"LNB35*'Makro i swap'!LMZ4","v":0},{"$f":"LNC35*'Makro i swap'!LNA4","v":0},{"$f":"LND35*'Makro i swap'!LNB4","v":0},{"$f":"LNE35*'Makro i swap'!LNC4","v":0},{"$f":"LNF35*'Makro i swap'!LND4","v":0},{"$f":"LNG35*'Makro i swap'!LNE4","v":0},{"$f":"LNH35*'Makro i swap'!LNF4","v":0},{"$f":"LNI35*'Makro i swap'!LNG4","v":0},{"$f":"LNJ35*'Makro i swap'!LNH4","v":0},{"$f":"LNK35*'Makro i swap'!LNI4","v":0},{"$f":"LNL35*'Makro i swap'!LNJ4","v":0},{"$f":"LNM35*'Makro i swap'!LNK4","v":0},{"$f":"LNN35*'Makro i swap'!LNL4","v":0},{"$f":"LNO35*'Makro i swap'!LNM4","v":0},{"$f":"LNP35*'Makro i swap'!LNN4","v":0},{"$f":"LNQ35*'Makro i swap'!LNO4","v":0},{"$f":"LNR35*'Makro i swap'!LNP4","v":0},{"$f":"LNS35*'Makro i swap'!LNQ4","v":0},{"$f":"LNT35*'Makro i swap'!LNR4","v":0},{"$f":"LNU35*'Makro i swap'!LNS4","v":0},{"$f":"LNV35*'Makro i swap'!LNT4","v":0},{"$f":"LNW35*'Makro i swap'!LNU4","v":0},{"$f":"LNX35*'Makro i swap'!LNV4","v":0},{"$f":"LNY35*'Makro i swap'!LNW4","v":0},{"$f":"LNZ35*'Makro i swap'!LNX4","v":0},{"$f":"LOA35*'Makro i swap'!LNY4","v":0},{"$f":"LOB35*'Makro i swap'!LNZ4","v":0},{"$f":"LOC35*'Makro i swap'!LOA4","v":0},{"$f":"LOD35*'Makro i swap'!LOB4","v":0},{"$f":"LOE35*'Makro i swap'!LOC4","v":0},{"$f":"LOF35*'Makro i swap'!LOD4","v":0},{"$f":"LOG35*'Makro i swap'!LOE4","v":0},{"$f":"LOH35*'Makro i swap'!LOF4","v":0},{"$f":"LOI35*'Makro i swap'!LOG4","v":0},{"$f":"LOJ35*'Makro i swap'!LOH4","v":0},{"$f":"LOK35*'Makro i swap'!LOI4","v":0},{"$f":"LOL35*'Makro i swap'!LOJ4","v":0},{"$f":"LOM35*'Makro i swap'!LOK4","v":0},{"$f":"LON35*'Makro i swap'!LOL4","v":0},{"$f":"LOO35*'Makro i swap'!LOM4","v":0},{"$f":"LOP35*'Makro i swap'!LON4","v":0},{"$f":"LOQ35*'Makro i swap'!LOO4","v":0},{"$f":"LOR35*'Makro i swap'!LOP4","v":0},{"$f":"LOS35*'Makro i swap'!LOQ4","v":0},{"$f":"LOT35*'Makro i swap'!LOR4","v":0},{"$f":"LOU35*'Makro i swap'!LOS4","v":0},{"$f":"LOV35*'Makro i swap'!LOT4","v":0},{"$f":"LOW35*'Makro i swap'!LOU4","v":0},{"$f":"LOX35*'Makro i swap'!LOV4","v":0},{"$f":"LOY35*'Makro i swap'!LOW4","v":0},{"$f":"LOZ35*'Makro i swap'!LOX4","v":0},{"$f":"LPA35*'Makro i swap'!LOY4","v":0},{"$f":"LPB35*'Makro i swap'!LOZ4","v":0},{"$f":"LPC35*'Makro i swap'!LPA4","v":0},{"$f":"LPD35*'Makro i swap'!LPB4","v":0},{"$f":"LPE35*'Makro i swap'!LPC4","v":0},{"$f":"LPF35*'Makro i swap'!LPD4","v":0},{"$f":"LPG35*'Makro i swap'!LPE4","v":0},{"$f":"LPH35*'Makro i swap'!LPF4","v":0},{"$f":"LPI35*'Makro i swap'!LPG4","v":0},{"$f":"LPJ35*'Makro i swap'!LPH4","v":0},{"$f":"LPK35*'Makro i swap'!LPI4","v":0},{"$f":"LPL35*'Makro i swap'!LPJ4","v":0},{"$f":"LPM35*'Makro i swap'!LPK4","v":0},{"$f":"LPN35*'Makro i swap'!LPL4","v":0},{"$f":"LPO35*'Makro i swap'!LPM4","v":0},{"$f":"LPP35*'Makro i swap'!LPN4","v":0},{"$f":"LPQ35*'Makro i swap'!LPO4","v":0},{"$f":"LPR35*'Makro i swap'!LPP4","v":0},{"$f":"LPS35*'Makro i swap'!LPQ4","v":0},{"$f":"LPT35*'Makro i swap'!LPR4","v":0},{"$f":"LPU35*'Makro i swap'!LPS4","v":0},{"$f":"LPV35*'Makro i swap'!LPT4","v":0},{"$f":"LPW35*'Makro i swap'!LPU4","v":0},{"$f":"LPX35*'Makro i swap'!LPV4","v":0},{"$f":"LPY35*'Makro i swap'!LPW4","v":0},{"$f":"LPZ35*'Makro i swap'!LPX4","v":0},{"$f":"LQA35*'Makro i swap'!LPY4","v":0},{"$f":"LQB35*'Makro i swap'!LPZ4","v":0},{"$f":"LQC35*'Makro i swap'!LQA4","v":0},{"$f":"LQD35*'Makro i swap'!LQB4","v":0},{"$f":"LQE35*'Makro i swap'!LQC4","v":0},{"$f":"LQF35*'Makro i swap'!LQD4","v":0},{"$f":"LQG35*'Makro i swap'!LQE4","v":0},{"$f":"LQH35*'Makro i swap'!LQF4","v":0},{"$f":"LQI35*'Makro i swap'!LQG4","v":0},{"$f":"LQJ35*'Makro i swap'!LQH4","v":0},{"$f":"LQK35*'Makro i swap'!LQI4","v":0},{"$f":"LQL35*'Makro i swap'!LQJ4","v":0},{"$f":"LQM35*'Makro i swap'!LQK4","v":0},{"$f":"LQN35*'Makro i swap'!LQL4","v":0},{"$f":"LQO35*'Makro i swap'!LQM4","v":0},{"$f":"LQP35*'Makro i swap'!LQN4","v":0},{"$f":"LQQ35*'Makro i swap'!LQO4","v":0},{"$f":"LQR35*'Makro i swap'!LQP4","v":0},{"$f":"LQS35*'Makro i swap'!LQQ4","v":0},{"$f":"LQT35*'Makro i swap'!LQR4","v":0},{"$f":"LQU35*'Makro i swap'!LQS4","v":0},{"$f":"LQV35*'Makro i swap'!LQT4","v":0},{"$f":"LQW35*'Makro i swap'!LQU4","v":0},{"$f":"LQX35*'Makro i swap'!LQV4","v":0},{"$f":"LQY35*'Makro i swap'!LQW4","v":0},{"$f":"LQZ35*'Makro i swap'!LQX4","v":0},{"$f":"LRA35*'Makro i swap'!LQY4","v":0},{"$f":"LRB35*'Makro i swap'!LQZ4","v":0},{"$f":"LRC35*'Makro i swap'!LRA4","v":0},{"$f":"LRD35*'Makro i swap'!LRB4","v":0},{"$f":"LRE35*'Makro i swap'!LRC4","v":0},{"$f":"LRF35*'Makro i swap'!LRD4","v":0},{"$f":"LRG35*'Makro i swap'!LRE4","v":0},{"$f":"LRH35*'Makro i swap'!LRF4","v":0},{"$f":"LRI35*'Makro i swap'!LRG4","v":0},{"$f":"LRJ35*'Makro i swap'!LRH4","v":0},{"$f":"LRK35*'Makro i swap'!LRI4","v":0},{"$f":"LRL35*'Makro i swap'!LRJ4","v":0},{"$f":"LRM35*'Makro i swap'!LRK4","v":0},{"$f":"LRN35*'Makro i swap'!LRL4","v":0},{"$f":"LRO35*'Makro i swap'!LRM4","v":0},{"$f":"LRP35*'Makro i swap'!LRN4","v":0},{"$f":"LRQ35*'Makro i swap'!LRO4","v":0},{"$f":"LRR35*'Makro i swap'!LRP4","v":0},{"$f":"LRS35*'Makro i swap'!LRQ4","v":0},{"$f":"LRT35*'Makro i swap'!LRR4","v":0},{"$f":"LRU35*'Makro i swap'!LRS4","v":0},{"$f":"LRV35*'Makro i swap'!LRT4","v":0},{"$f":"LRW35*'Makro i swap'!LRU4","v":0},{"$f":"LRX35*'Makro i swap'!LRV4","v":0},{"$f":"LRY35*'Makro i swap'!LRW4","v":0},{"$f":"LRZ35*'Makro i swap'!LRX4","v":0},{"$f":"LSA35*'Makro i swap'!LRY4","v":0},{"$f":"LSB35*'Makro i swap'!LRZ4","v":0},{"$f":"LSC35*'Makro i swap'!LSA4","v":0},{"$f":"LSD35*'Makro i swap'!LSB4","v":0},{"$f":"LSE35*'Makro i swap'!LSC4","v":0},{"$f":"LSF35*'Makro i swap'!LSD4","v":0},{"$f":"LSG35*'Makro i swap'!LSE4","v":0},{"$f":"LSH35*'Makro i swap'!LSF4","v":0},{"$f":"LSI35*'Makro i swap'!LSG4","v":0},{"$f":"LSJ35*'Makro i swap'!LSH4","v":0},{"$f":"LSK35*'Makro i swap'!LSI4","v":0},{"$f":"LSL35*'Makro i swap'!LSJ4","v":0},{"$f":"LSM35*'Makro i swap'!LSK4","v":0},{"$f":"LSN35*'Makro i swap'!LSL4","v":0},{"$f":"LSO35*'Makro i swap'!LSM4","v":0},{"$f":"LSP35*'Makro i swap'!LSN4","v":0},{"$f":"LSQ35*'Makro i swap'!LSO4","v":0},{"$f":"LSR35*'Makro i swap'!LSP4","v":0},{"$f":"LSS35*'Makro i swap'!LSQ4","v":0},{"$f":"LST35*'Makro i swap'!LSR4","v":0},{"$f":"LSU35*'Makro i swap'!LSS4","v":0},{"$f":"LSV35*'Makro i swap'!LST4","v":0},{"$f":"LSW35*'Makro i swap'!LSU4","v":0},{"$f":"LSX35*'Makro i swap'!LSV4","v":0},{"$f":"LSY35*'Makro i swap'!LSW4","v":0},{"$f":"LSZ35*'Makro i swap'!LSX4","v":0},{"$f":"LTA35*'Makro i swap'!LSY4","v":0},{"$f":"LTB35*'Makro i swap'!LSZ4","v":0},{"$f":"LTC35*'Makro i swap'!LTA4","v":0},{"$f":"LTD35*'Makro i swap'!LTB4","v":0},{"$f":"LTE35*'Makro i swap'!LTC4","v":0},{"$f":"LTF35*'Makro i swap'!LTD4","v":0},{"$f":"LTG35*'Makro i swap'!LTE4","v":0},{"$f":"LTH35*'Makro i swap'!LTF4","v":0},{"$f":"LTI35*'Makro i swap'!LTG4","v":0},{"$f":"LTJ35*'Makro i swap'!LTH4","v":0},{"$f":"LTK35*'Makro i swap'!LTI4","v":0},{"$f":"LTL35*'Makro i swap'!LTJ4","v":0},{"$f":"LTM35*'Makro i swap'!LTK4","v":0},{"$f":"LTN35*'Makro i swap'!LTL4","v":0},{"$f":"LTO35*'Makro i swap'!LTM4","v":0},{"$f":"LTP35*'Makro i swap'!LTN4","v":0},{"$f":"LTQ35*'Makro i swap'!LTO4","v":0},{"$f":"LTR35*'Makro i swap'!LTP4","v":0},{"$f":"LTS35*'Makro i swap'!LTQ4","v":0},{"$f":"LTT35*'Makro i swap'!LTR4","v":0},{"$f":"LTU35*'Makro i swap'!LTS4","v":0},{"$f":"LTV35*'Makro i swap'!LTT4","v":0},{"$f":"LTW35*'Makro i swap'!LTU4","v":0},{"$f":"LTX35*'Makro i swap'!LTV4","v":0},{"$f":"LTY35*'Makro i swap'!LTW4","v":0},{"$f":"LTZ35*'Makro i swap'!LTX4","v":0},{"$f":"LUA35*'Makro i swap'!LTY4","v":0},{"$f":"LUB35*'Makro i swap'!LTZ4","v":0},{"$f":"LUC35*'Makro i swap'!LUA4","v":0},{"$f":"LUD35*'Makro i swap'!LUB4","v":0},{"$f":"LUE35*'Makro i swap'!LUC4","v":0},{"$f":"LUF35*'Makro i swap'!LUD4","v":0},{"$f":"LUG35*'Makro i swap'!LUE4","v":0},{"$f":"LUH35*'Makro i swap'!LUF4","v":0},{"$f":"LUI35*'Makro i swap'!LUG4","v":0},{"$f":"LUJ35*'Makro i swap'!LUH4","v":0},{"$f":"LUK35*'Makro i swap'!LUI4","v":0},{"$f":"LUL35*'Makro i swap'!LUJ4","v":0},{"$f":"LUM35*'Makro i swap'!LUK4","v":0},{"$f":"LUN35*'Makro i swap'!LUL4","v":0},{"$f":"LUO35*'Makro i swap'!LUM4","v":0},{"$f":"LUP35*'Makro i swap'!LUN4","v":0},{"$f":"LUQ35*'Makro i swap'!LUO4","v":0},{"$f":"LUR35*'Makro i swap'!LUP4","v":0},{"$f":"LUS35*'Makro i swap'!LUQ4","v":0},{"$f":"LUT35*'Makro i swap'!LUR4","v":0},{"$f":"LUU35*'Makro i swap'!LUS4","v":0},{"$f":"LUV35*'Makro i swap'!LUT4","v":0},{"$f":"LUW35*'Makro i swap'!LUU4","v":0},{"$f":"LUX35*'Makro i swap'!LUV4","v":0},{"$f":"LUY35*'Makro i swap'!LUW4","v":0},{"$f":"LUZ35*'Makro i swap'!LUX4","v":0},{"$f":"LVA35*'Makro i swap'!LUY4","v":0},{"$f":"LVB35*'Makro i swap'!LUZ4","v":0},{"$f":"LVC35*'Makro i swap'!LVA4","v":0},{"$f":"LVD35*'Makro i swap'!LVB4","v":0},{"$f":"LVE35*'Makro i swap'!LVC4","v":0},{"$f":"LVF35*'Makro i swap'!LVD4","v":0},{"$f":"LVG35*'Makro i swap'!LVE4","v":0},{"$f":"LVH35*'Makro i swap'!LVF4","v":0},{"$f":"LVI35*'Makro i swap'!LVG4","v":0},{"$f":"LVJ35*'Makro i swap'!LVH4","v":0},{"$f":"LVK35*'Makro i swap'!LVI4","v":0},{"$f":"LVL35*'Makro i swap'!LVJ4","v":0},{"$f":"LVM35*'Makro i swap'!LVK4","v":0},{"$f":"LVN35*'Makro i swap'!LVL4","v":0},{"$f":"LVO35*'Makro i swap'!LVM4","v":0},{"$f":"LVP35*'Makro i swap'!LVN4","v":0},{"$f":"LVQ35*'Makro i swap'!LVO4","v":0},{"$f":"LVR35*'Makro i swap'!LVP4","v":0},{"$f":"LVS35*'Makro i swap'!LVQ4","v":0},{"$f":"LVT35*'Makro i swap'!LVR4","v":0},{"$f":"LVU35*'Makro i swap'!LVS4","v":0},{"$f":"LVV35*'Makro i swap'!LVT4","v":0},{"$f":"LVW35*'Makro i swap'!LVU4","v":0},{"$f":"LVX35*'Makro i swap'!LVV4","v":0},{"$f":"LVY35*'Makro i swap'!LVW4","v":0},{"$f":"LVZ35*'Makro i swap'!LVX4","v":0},{"$f":"LWA35*'Makro i swap'!LVY4","v":0},{"$f":"LWB35*'Makro i swap'!LVZ4","v":0},{"$f":"LWC35*'Makro i swap'!LWA4","v":0},{"$f":"LWD35*'Makro i swap'!LWB4","v":0},{"$f":"LWE35*'Makro i swap'!LWC4","v":0},{"$f":"LWF35*'Makro i swap'!LWD4","v":0},{"$f":"LWG35*'Makro i swap'!LWE4","v":0},{"$f":"LWH35*'Makro i swap'!LWF4","v":0},{"$f":"LWI35*'Makro i swap'!LWG4","v":0},{"$f":"LWJ35*'Makro i swap'!LWH4","v":0},{"$f":"LWK35*'Makro i swap'!LWI4","v":0},{"$f":"LWL35*'Makro i swap'!LWJ4","v":0},{"$f":"LWM35*'Makro i swap'!LWK4","v":0},{"$f":"LWN35*'Makro i swap'!LWL4","v":0},{"$f":"LWO35*'Makro i swap'!LWM4","v":0},{"$f":"LWP35*'Makro i swap'!LWN4","v":0},{"$f":"LWQ35*'Makro i swap'!LWO4","v":0},{"$f":"LWR35*'Makro i swap'!LWP4","v":0},{"$f":"LWS35*'Makro i swap'!LWQ4","v":0},{"$f":"LWT35*'Makro i swap'!LWR4","v":0},{"$f":"LWU35*'Makro i swap'!LWS4","v":0},{"$f":"LWV35*'Makro i swap'!LWT4","v":0},{"$f":"LWW35*'Makro i swap'!LWU4","v":0},{"$f":"LWX35*'Makro i swap'!LWV4","v":0},{"$f":"LWY35*'Makro i swap'!LWW4","v":0},{"$f":"LWZ35*'Makro i swap'!LWX4","v":0},{"$f":"LXA35*'Makro i swap'!LWY4","v":0},{"$f":"LXB35*'Makro i swap'!LWZ4","v":0},{"$f":"LXC35*'Makro i swap'!LXA4","v":0},{"$f":"LXD35*'Makro i swap'!LXB4","v":0},{"$f":"LXE35*'Makro i swap'!LXC4","v":0},{"$f":"LXF35*'Makro i swap'!LXD4","v":0},{"$f":"LXG35*'Makro i swap'!LXE4","v":0},{"$f":"LXH35*'Makro i swap'!LXF4","v":0},{"$f":"LXI35*'Makro i swap'!LXG4","v":0},{"$f":"LXJ35*'Makro i swap'!LXH4","v":0},{"$f":"LXK35*'Makro i swap'!LXI4","v":0},{"$f":"LXL35*'Makro i swap'!LXJ4","v":0},{"$f":"LXM35*'Makro i swap'!LXK4","v":0},{"$f":"LXN35*'Makro i swap'!LXL4","v":0},{"$f":"LXO35*'Makro i swap'!LXM4","v":0},{"$f":"LXP35*'Makro i swap'!LXN4","v":0},{"$f":"LXQ35*'Makro i swap'!LXO4","v":0},{"$f":"LXR35*'Makro i swap'!LXP4","v":0},{"$f":"LXS35*'Makro i swap'!LXQ4","v":0},{"$f":"LXT35*'Makro i swap'!LXR4","v":0},{"$f":"LXU35*'Makro i swap'!LXS4","v":0},{"$f":"LXV35*'Makro i swap'!LXT4","v":0},{"$f":"LXW35*'Makro i swap'!LXU4","v":0},{"$f":"LXX35*'Makro i swap'!LXV4","v":0},{"$f":"LXY35*'Makro i swap'!LXW4","v":0},{"$f":"LXZ35*'Makro i swap'!LXX4","v":0},{"$f":"LYA35*'Makro i swap'!LXY4","v":0},{"$f":"LYB35*'Makro i swap'!LXZ4","v":0},{"$f":"LYC35*'Makro i swap'!LYA4","v":0},{"$f":"LYD35*'Makro i swap'!LYB4","v":0},{"$f":"LYE35*'Makro i swap'!LYC4","v":0},{"$f":"LYF35*'Makro i swap'!LYD4","v":0},{"$f":"LYG35*'Makro i swap'!LYE4","v":0},{"$f":"LYH35*'Makro i swap'!LYF4","v":0},{"$f":"LYI35*'Makro i swap'!LYG4","v":0},{"$f":"LYJ35*'Makro i swap'!LYH4","v":0},{"$f":"LYK35*'Makro i swap'!LYI4","v":0},{"$f":"LYL35*'Makro i swap'!LYJ4","v":0},{"$f":"LYM35*'Makro i swap'!LYK4","v":0},{"$f":"LYN35*'Makro i swap'!LYL4","v":0},{"$f":"LYO35*'Makro i swap'!LYM4","v":0},{"$f":"LYP35*'Makro i swap'!LYN4","v":0},{"$f":"LYQ35*'Makro i swap'!LYO4","v":0},{"$f":"LYR35*'Makro i swap'!LYP4","v":0},{"$f":"LYS35*'Makro i swap'!LYQ4","v":0},{"$f":"LYT35*'Makro i swap'!LYR4","v":0},{"$f":"LYU35*'Makro i swap'!LYS4","v":0},{"$f":"LYV35*'Makro i swap'!LYT4","v":0},{"$f":"LYW35*'Makro i swap'!LYU4","v":0},{"$f":"LYX35*'Makro i swap'!LYV4","v":0},{"$f":"LYY35*'Makro i swap'!LYW4","v":0},{"$f":"LYZ35*'Makro i swap'!LYX4","v":0},{"$f":"LZA35*'Makro i swap'!LYY4","v":0},{"$f":"LZB35*'Makro i swap'!LYZ4","v":0},{"$f":"LZC35*'Makro i swap'!LZA4","v":0},{"$f":"LZD35*'Makro i swap'!LZB4","v":0},{"$f":"LZE35*'Makro i swap'!LZC4","v":0},{"$f":"LZF35*'Makro i swap'!LZD4","v":0},{"$f":"LZG35*'Makro i swap'!LZE4","v":0},{"$f":"LZH35*'Makro i swap'!LZF4","v":0},{"$f":"LZI35*'Makro i swap'!LZG4","v":0},{"$f":"LZJ35*'Makro i swap'!LZH4","v":0},{"$f":"LZK35*'Makro i swap'!LZI4","v":0},{"$f":"LZL35*'Makro i swap'!LZJ4","v":0},{"$f":"LZM35*'Makro i swap'!LZK4","v":0},{"$f":"LZN35*'Makro i swap'!LZL4","v":0},{"$f":"LZO35*'Makro i swap'!LZM4","v":0},{"$f":"LZP35*'Makro i swap'!LZN4","v":0},{"$f":"LZQ35*'Makro i swap'!LZO4","v":0},{"$f":"LZR35*'Makro i swap'!LZP4","v":0},{"$f":"LZS35*'Makro i swap'!LZQ4","v":0},{"$f":"LZT35*'Makro i swap'!LZR4","v":0},{"$f":"LZU35*'Makro i swap'!LZS4","v":0},{"$f":"LZV35*'Makro i swap'!LZT4","v":0},{"$f":"LZW35*'Makro i swap'!LZU4","v":0},{"$f":"LZX35*'Makro i swap'!LZV4","v":0},{"$f":"LZY35*'Makro i swap'!LZW4","v":0},{"$f":"LZZ35*'Makro i swap'!LZX4","v":0},{"$f":"MAA35*'Makro i swap'!LZY4","v":0},{"$f":"MAB35*'Makro i swap'!LZZ4","v":0},{"$f":"MAC35*'Makro i swap'!MAA4","v":0},{"$f":"MAD35*'Makro i swap'!MAB4","v":0},{"$f":"MAE35*'Makro i swap'!MAC4","v":0},{"$f":"MAF35*'Makro i swap'!MAD4","v":0},{"$f":"MAG35*'Makro i swap'!MAE4","v":0},{"$f":"MAH35*'Makro i swap'!MAF4","v":0},{"$f":"MAI35*'Makro i swap'!MAG4","v":0},{"$f":"MAJ35*'Makro i swap'!MAH4","v":0},{"$f":"MAK35*'Makro i swap'!MAI4","v":0},{"$f":"MAL35*'Makro i swap'!MAJ4","v":0},{"$f":"MAM35*'Makro i swap'!MAK4","v":0},{"$f":"MAN35*'Makro i swap'!MAL4","v":0},{"$f":"MAO35*'Makro i swap'!MAM4","v":0},{"$f":"MAP35*'Makro i swap'!MAN4","v":0},{"$f":"MAQ35*'Makro i swap'!MAO4","v":0},{"$f":"MAR35*'Makro i swap'!MAP4","v":0},{"$f":"MAS35*'Makro i swap'!MAQ4","v":0},{"$f":"MAT35*'Makro i swap'!MAR4","v":0},{"$f":"MAU35*'Makro i swap'!MAS4","v":0},{"$f":"MAV35*'Makro i swap'!MAT4","v":0},{"$f":"MAW35*'Makro i swap'!MAU4","v":0},{"$f":"MAX35*'Makro i swap'!MAV4","v":0},{"$f":"MAY35*'Makro i swap'!MAW4","v":0},{"$f":"MAZ35*'Makro i swap'!MAX4","v":0},{"$f":"MBA35*'Makro i swap'!MAY4","v":0},{"$f":"MBB35*'Makro i swap'!MAZ4","v":0},{"$f":"MBC35*'Makro i swap'!MBA4","v":0},{"$f":"MBD35*'Makro i swap'!MBB4","v":0},{"$f":"MBE35*'Makro i swap'!MBC4","v":0},{"$f":"MBF35*'Makro i swap'!MBD4","v":0},{"$f":"MBG35*'Makro i swap'!MBE4","v":0},{"$f":"MBH35*'Makro i swap'!MBF4","v":0},{"$f":"MBI35*'Makro i swap'!MBG4","v":0},{"$f":"MBJ35*'Makro i swap'!MBH4","v":0},{"$f":"MBK35*'Makro i swap'!MBI4","v":0},{"$f":"MBL35*'Makro i swap'!MBJ4","v":0},{"$f":"MBM35*'Makro i swap'!MBK4","v":0},{"$f":"MBN35*'Makro i swap'!MBL4","v":0},{"$f":"MBO35*'Makro i swap'!MBM4","v":0},{"$f":"MBP35*'Makro i swap'!MBN4","v":0},{"$f":"MBQ35*'Makro i swap'!MBO4","v":0},{"$f":"MBR35*'Makro i swap'!MBP4","v":0},{"$f":"MBS35*'Makro i swap'!MBQ4","v":0},{"$f":"MBT35*'Makro i swap'!MBR4","v":0},{"$f":"MBU35*'Makro i swap'!MBS4","v":0},{"$f":"MBV35*'Makro i swap'!MBT4","v":0},{"$f":"MBW35*'Makro i swap'!MBU4","v":0},{"$f":"MBX35*'Makro i swap'!MBV4","v":0},{"$f":"MBY35*'Makro i swap'!MBW4","v":0},{"$f":"MBZ35*'Makro i swap'!MBX4","v":0},{"$f":"MCA35*'Makro i swap'!MBY4","v":0},{"$f":"MCB35*'Makro i swap'!MBZ4","v":0},{"$f":"MCC35*'Makro i swap'!MCA4","v":0},{"$f":"MCD35*'Makro i swap'!MCB4","v":0},{"$f":"MCE35*'Makro i swap'!MCC4","v":0},{"$f":"MCF35*'Makro i swap'!MCD4","v":0},{"$f":"MCG35*'Makro i swap'!MCE4","v":0},{"$f":"MCH35*'Makro i swap'!MCF4","v":0},{"$f":"MCI35*'Makro i swap'!MCG4","v":0},{"$f":"MCJ35*'Makro i swap'!MCH4","v":0},{"$f":"MCK35*'Makro i swap'!MCI4","v":0},{"$f":"MCL35*'Makro i swap'!MCJ4","v":0},{"$f":"MCM35*'Makro i swap'!MCK4","v":0},{"$f":"MCN35*'Makro i swap'!MCL4","v":0},{"$f":"MCO35*'Makro i swap'!MCM4","v":0},{"$f":"MCP35*'Makro i swap'!MCN4","v":0},{"$f":"MCQ35*'Makro i swap'!MCO4","v":0},{"$f":"MCR35*'Makro i swap'!MCP4","v":0},{"$f":"MCS35*'Makro i swap'!MCQ4","v":0},{"$f":"MCT35*'Makro i swap'!MCR4","v":0},{"$f":"MCU35*'Makro i swap'!MCS4","v":0},{"$f":"MCV35*'Makro i swap'!MCT4","v":0},{"$f":"MCW35*'Makro i swap'!MCU4","v":0},{"$f":"MCX35*'Makro i swap'!MCV4","v":0},{"$f":"MCY35*'Makro i swap'!MCW4","v":0},{"$f":"MCZ35*'Makro i swap'!MCX4","v":0},{"$f":"MDA35*'Makro i swap'!MCY4","v":0},{"$f":"MDB35*'Makro i swap'!MCZ4","v":0},{"$f":"MDC35*'Makro i swap'!MDA4","v":0},{"$f":"MDD35*'Makro i swap'!MDB4","v":0},{"$f":"MDE35*'Makro i swap'!MDC4","v":0},{"$f":"MDF35*'Makro i swap'!MDD4","v":0},{"$f":"MDG35*'Makro i swap'!MDE4","v":0},{"$f":"MDH35*'Makro i swap'!MDF4","v":0},{"$f":"MDI35*'Makro i swap'!MDG4","v":0},{"$f":"MDJ35*'Makro i swap'!MDH4","v":0},{"$f":"MDK35*'Makro i swap'!MDI4","v":0},{"$f":"MDL35*'Makro i swap'!MDJ4","v":0},{"$f":"MDM35*'Makro i swap'!MDK4","v":0},{"$f":"MDN35*'Makro i swap'!MDL4","v":0},{"$f":"MDO35*'Makro i swap'!MDM4","v":0},{"$f":"MDP35*'Makro i swap'!MDN4","v":0},{"$f":"MDQ35*'Makro i swap'!MDO4","v":0},{"$f":"MDR35*'Makro i swap'!MDP4","v":0},{"$f":"MDS35*'Makro i swap'!MDQ4","v":0},{"$f":"MDT35*'Makro i swap'!MDR4","v":0},{"$f":"MDU35*'Makro i swap'!MDS4","v":0},{"$f":"MDV35*'Makro i swap'!MDT4","v":0},{"$f":"MDW35*'Makro i swap'!MDU4","v":0},{"$f":"MDX35*'Makro i swap'!MDV4","v":0},{"$f":"MDY35*'Makro i swap'!MDW4","v":0},{"$f":"MDZ35*'Makro i swap'!MDX4","v":0},{"$f":"MEA35*'Makro i swap'!MDY4","v":0},{"$f":"MEB35*'Makro i swap'!MDZ4","v":0},{"$f":"MEC35*'Makro i swap'!MEA4","v":0},{"$f":"MED35*'Makro i swap'!MEB4","v":0},{"$f":"MEE35*'Makro i swap'!MEC4","v":0},{"$f":"MEF35*'Makro i swap'!MED4","v":0},{"$f":"MEG35*'Makro i swap'!MEE4","v":0},{"$f":"MEH35*'Makro i swap'!MEF4","v":0},{"$f":"MEI35*'Makro i swap'!MEG4","v":0},{"$f":"MEJ35*'Makro i swap'!MEH4","v":0},{"$f":"MEK35*'Makro i swap'!MEI4","v":0},{"$f":"MEL35*'Makro i swap'!MEJ4","v":0},{"$f":"MEM35*'Makro i swap'!MEK4","v":0},{"$f":"MEN35*'Makro i swap'!MEL4","v":0},{"$f":"MEO35*'Makro i swap'!MEM4","v":0},{"$f":"MEP35*'Makro i swap'!MEN4","v":0},{"$f":"MEQ35*'Makro i swap'!MEO4","v":0},{"$f":"MER35*'Makro i swap'!MEP4","v":0},{"$f":"MES35*'Makro i swap'!MEQ4","v":0},{"$f":"MET35*'Makro i swap'!MER4","v":0},{"$f":"MEU35*'Makro i swap'!MES4","v":0},{"$f":"MEV35*'Makro i swap'!MET4","v":0},{"$f":"MEW35*'Makro i swap'!MEU4","v":0},{"$f":"MEX35*'Makro i swap'!MEV4","v":0},{"$f":"MEY35*'Makro i swap'!MEW4","v":0},{"$f":"MEZ35*'Makro i swap'!MEX4","v":0},{"$f":"MFA35*'Makro i swap'!MEY4","v":0},{"$f":"MFB35*'Makro i swap'!MEZ4","v":0},{"$f":"MFC35*'Makro i swap'!MFA4","v":0},{"$f":"MFD35*'Makro i swap'!MFB4","v":0},{"$f":"MFE35*'Makro i swap'!MFC4","v":0},{"$f":"MFF35*'Makro i swap'!MFD4","v":0},{"$f":"MFG35*'Makro i swap'!MFE4","v":0},{"$f":"MFH35*'Makro i swap'!MFF4","v":0},{"$f":"MFI35*'Makro i swap'!MFG4","v":0},{"$f":"MFJ35*'Makro i swap'!MFH4","v":0},{"$f":"MFK35*'Makro i swap'!MFI4","v":0},{"$f":"MFL35*'Makro i swap'!MFJ4","v":0},{"$f":"MFM35*'Makro i swap'!MFK4","v":0},{"$f":"MFN35*'Makro i swap'!MFL4","v":0},{"$f":"MFO35*'Makro i swap'!MFM4","v":0},{"$f":"MFP35*'Makro i swap'!MFN4","v":0},{"$f":"MFQ35*'Makro i swap'!MFO4","v":0},{"$f":"MFR35*'Makro i swap'!MFP4","v":0},{"$f":"MFS35*'Makro i swap'!MFQ4","v":0},{"$f":"MFT35*'Makro i swap'!MFR4","v":0},{"$f":"MFU35*'Makro i swap'!MFS4","v":0},{"$f":"MFV35*'Makro i swap'!MFT4","v":0},{"$f":"MFW35*'Makro i swap'!MFU4","v":0},{"$f":"MFX35*'Makro i swap'!MFV4","v":0},{"$f":"MFY35*'Makro i swap'!MFW4","v":0},{"$f":"MFZ35*'Makro i swap'!MFX4","v":0},{"$f":"MGA35*'Makro i swap'!MFY4","v":0},{"$f":"MGB35*'Makro i swap'!MFZ4","v":0},{"$f":"MGC35*'Makro i swap'!MGA4","v":0},{"$f":"MGD35*'Makro i swap'!MGB4","v":0},{"$f":"MGE35*'Makro i swap'!MGC4","v":0},{"$f":"MGF35*'Makro i swap'!MGD4","v":0},{"$f":"MGG35*'Makro i swap'!MGE4","v":0},{"$f":"MGH35*'Makro i swap'!MGF4","v":0},{"$f":"MGI35*'Makro i swap'!MGG4","v":0},{"$f":"MGJ35*'Makro i swap'!MGH4","v":0},{"$f":"MGK35*'Makro i swap'!MGI4","v":0},{"$f":"MGL35*'Makro i swap'!MGJ4","v":0},{"$f":"MGM35*'Makro i swap'!MGK4","v":0},{"$f":"MGN35*'Makro i swap'!MGL4","v":0},{"$f":"MGO35*'Makro i swap'!MGM4","v":0},{"$f":"MGP35*'Makro i swap'!MGN4","v":0},{"$f":"MGQ35*'Makro i swap'!MGO4","v":0},{"$f":"MGR35*'Makro i swap'!MGP4","v":0},{"$f":"MGS35*'Makro i swap'!MGQ4","v":0},{"$f":"MGT35*'Makro i swap'!MGR4","v":0},{"$f":"MGU35*'Makro i swap'!MGS4","v":0},{"$f":"MGV35*'Makro i swap'!MGT4","v":0},{"$f":"MGW35*'Makro i swap'!MGU4","v":0},{"$f":"MGX35*'Makro i swap'!MGV4","v":0},{"$f":"MGY35*'Makro i swap'!MGW4","v":0},{"$f":"MGZ35*'Makro i swap'!MGX4","v":0},{"$f":"MHA35*'Makro i swap'!MGY4","v":0},{"$f":"MHB35*'Makro i swap'!MGZ4","v":0},{"$f":"MHC35*'Makro i swap'!MHA4","v":0},{"$f":"MHD35*'Makro i swap'!MHB4","v":0},{"$f":"MHE35*'Makro i swap'!MHC4","v":0},{"$f":"MHF35*'Makro i swap'!MHD4","v":0},{"$f":"MHG35*'Makro i swap'!MHE4","v":0},{"$f":"MHH35*'Makro i swap'!MHF4","v":0},{"$f":"MHI35*'Makro i swap'!MHG4","v":0},{"$f":"MHJ35*'Makro i swap'!MHH4","v":0},{"$f":"MHK35*'Makro i swap'!MHI4","v":0},{"$f":"MHL35*'Makro i swap'!MHJ4","v":0},{"$f":"MHM35*'Makro i swap'!MHK4","v":0},{"$f":"MHN35*'Makro i swap'!MHL4","v":0},{"$f":"MHO35*'Makro i swap'!MHM4","v":0},{"$f":"MHP35*'Makro i swap'!MHN4","v":0},{"$f":"MHQ35*'Makro i swap'!MHO4","v":0},{"$f":"MHR35*'Makro i swap'!MHP4","v":0},{"$f":"MHS35*'Makro i swap'!MHQ4","v":0},{"$f":"MHT35*'Makro i swap'!MHR4","v":0},{"$f":"MHU35*'Makro i swap'!MHS4","v":0},{"$f":"MHV35*'Makro i swap'!MHT4","v":0},{"$f":"MHW35*'Makro i swap'!MHU4","v":0},{"$f":"MHX35*'Makro i swap'!MHV4","v":0},{"$f":"MHY35*'Makro i swap'!MHW4","v":0},{"$f":"MHZ35*'Makro i swap'!MHX4","v":0},{"$f":"MIA35*'Makro i swap'!MHY4","v":0},{"$f":"MIB35*'Makro i swap'!MHZ4","v":0},{"$f":"MIC35*'Makro i swap'!MIA4","v":0},{"$f":"MID35*'Makro i swap'!MIB4","v":0},{"$f":"MIE35*'Makro i swap'!MIC4","v":0},{"$f":"MIF35*'Makro i swap'!MID4","v":0},{"$f":"MIG35*'Makro i swap'!MIE4","v":0},{"$f":"MIH35*'Makro i swap'!MIF4","v":0},{"$f":"MII35*'Makro i swap'!MIG4","v":0},{"$f":"MIJ35*'Makro i swap'!MIH4","v":0},{"$f":"MIK35*'Makro i swap'!MII4","v":0},{"$f":"MIL35*'Makro i swap'!MIJ4","v":0},{"$f":"MIM35*'Makro i swap'!MIK4","v":0},{"$f":"MIN35*'Makro i swap'!MIL4","v":0},{"$f":"MIO35*'Makro i swap'!MIM4","v":0},{"$f":"MIP35*'Makro i swap'!MIN4","v":0},{"$f":"MIQ35*'Makro i swap'!MIO4","v":0},{"$f":"MIR35*'Makro i swap'!MIP4","v":0},{"$f":"MIS35*'Makro i swap'!MIQ4","v":0},{"$f":"MIT35*'Makro i swap'!MIR4","v":0},{"$f":"MIU35*'Makro i swap'!MIS4","v":0},{"$f":"MIV35*'Makro i swap'!MIT4","v":0},{"$f":"MIW35*'Makro i swap'!MIU4","v":0},{"$f":"MIX35*'Makro i swap'!MIV4","v":0},{"$f":"MIY35*'Makro i swap'!MIW4","v":0},{"$f":"MIZ35*'Makro i swap'!MIX4","v":0},{"$f":"MJA35*'Makro i swap'!MIY4","v":0},{"$f":"MJB35*'Makro i swap'!MIZ4","v":0},{"$f":"MJC35*'Makro i swap'!MJA4","v":0},{"$f":"MJD35*'Makro i swap'!MJB4","v":0},{"$f":"MJE35*'Makro i swap'!MJC4","v":0},{"$f":"MJF35*'Makro i swap'!MJD4","v":0},{"$f":"MJG35*'Makro i swap'!MJE4","v":0},{"$f":"MJH35*'Makro i swap'!MJF4","v":0},{"$f":"MJI35*'Makro i swap'!MJG4","v":0},{"$f":"MJJ35*'Makro i swap'!MJH4","v":0},{"$f":"MJK35*'Makro i swap'!MJI4","v":0},{"$f":"MJL35*'Makro i swap'!MJJ4","v":0},{"$f":"MJM35*'Makro i swap'!MJK4","v":0},{"$f":"MJN35*'Makro i swap'!MJL4","v":0},{"$f":"MJO35*'Makro i swap'!MJM4","v":0},{"$f":"MJP35*'Makro i swap'!MJN4","v":0},{"$f":"MJQ35*'Makro i swap'!MJO4","v":0},{"$f":"MJR35*'Makro i swap'!MJP4","v":0},{"$f":"MJS35*'Makro i swap'!MJQ4","v":0},{"$f":"MJT35*'Makro i swap'!MJR4","v":0},{"$f":"MJU35*'Makro i swap'!MJS4","v":0},{"$f":"MJV35*'Makro i swap'!MJT4","v":0},{"$f":"MJW35*'Makro i swap'!MJU4","v":0},{"$f":"MJX35*'Makro i swap'!MJV4","v":0},{"$f":"MJY35*'Makro i swap'!MJW4","v":0},{"$f":"MJZ35*'Makro i swap'!MJX4","v":0},{"$f":"MKA35*'Makro i swap'!MJY4","v":0},{"$f":"MKB35*'Makro i swap'!MJZ4","v":0},{"$f":"MKC35*'Makro i swap'!MKA4","v":0},{"$f":"MKD35*'Makro i swap'!MKB4","v":0},{"$f":"MKE35*'Makro i swap'!MKC4","v":0},{"$f":"MKF35*'Makro i swap'!MKD4","v":0},{"$f":"MKG35*'Makro i swap'!MKE4","v":0},{"$f":"MKH35*'Makro i swap'!MKF4","v":0},{"$f":"MKI35*'Makro i swap'!MKG4","v":0},{"$f":"MKJ35*'Makro i swap'!MKH4","v":0},{"$f":"MKK35*'Makro i swap'!MKI4","v":0},{"$f":"MKL35*'Makro i swap'!MKJ4","v":0},{"$f":"MKM35*'Makro i swap'!MKK4","v":0},{"$f":"MKN35*'Makro i swap'!MKL4","v":0},{"$f":"MKO35*'Makro i swap'!MKM4","v":0},{"$f":"MKP35*'Makro i swap'!MKN4","v":0},{"$f":"MKQ35*'Makro i swap'!MKO4","v":0},{"$f":"MKR35*'Makro i swap'!MKP4","v":0},{"$f":"MKS35*'Makro i swap'!MKQ4","v":0},{"$f":"MKT35*'Makro i swap'!MKR4","v":0},{"$f":"MKU35*'Makro i swap'!MKS4","v":0},{"$f":"MKV35*'Makro i swap'!MKT4","v":0},{"$f":"MKW35*'Makro i swap'!MKU4","v":0},{"$f":"MKX35*'Makro i swap'!MKV4","v":0},{"$f":"MKY35*'Makro i swap'!MKW4","v":0},{"$f":"MKZ35*'Makro i swap'!MKX4","v":0},{"$f":"MLA35*'Makro i swap'!MKY4","v":0},{"$f":"MLB35*'Makro i swap'!MKZ4","v":0},{"$f":"MLC35*'Makro i swap'!MLA4","v":0},{"$f":"MLD35*'Makro i swap'!MLB4","v":0},{"$f":"MLE35*'Makro i swap'!MLC4","v":0},{"$f":"MLF35*'Makro i swap'!MLD4","v":0},{"$f":"MLG35*'Makro i swap'!MLE4","v":0},{"$f":"MLH35*'Makro i swap'!MLF4","v":0},{"$f":"MLI35*'Makro i swap'!MLG4","v":0},{"$f":"MLJ35*'Makro i swap'!MLH4","v":0},{"$f":"MLK35*'Makro i swap'!MLI4","v":0},{"$f":"MLL35*'Makro i swap'!MLJ4","v":0},{"$f":"MLM35*'Makro i swap'!MLK4","v":0},{"$f":"MLN35*'Makro i swap'!MLL4","v":0},{"$f":"MLO35*'Makro i swap'!MLM4","v":0},{"$f":"MLP35*'Makro i swap'!MLN4","v":0},{"$f":"MLQ35*'Makro i swap'!MLO4","v":0},{"$f":"MLR35*'Makro i swap'!MLP4","v":0},{"$f":"MLS35*'Makro i swap'!MLQ4","v":0},{"$f":"MLT35*'Makro i swap'!MLR4","v":0},{"$f":"MLU35*'Makro i swap'!MLS4","v":0},{"$f":"MLV35*'Makro i swap'!MLT4","v":0},{"$f":"MLW35*'Makro i swap'!MLU4","v":0},{"$f":"MLX35*'Makro i swap'!MLV4","v":0},{"$f":"MLY35*'Makro i swap'!MLW4","v":0},{"$f":"MLZ35*'Makro i swap'!MLX4","v":0},{"$f":"MMA35*'Makro i swap'!MLY4","v":0},{"$f":"MMB35*'Makro i swap'!MLZ4","v":0},{"$f":"MMC35*'Makro i swap'!MMA4","v":0},{"$f":"MMD35*'Makro i swap'!MMB4","v":0},{"$f":"MME35*'Makro i swap'!MMC4","v":0},{"$f":"MMF35*'Makro i swap'!MMD4","v":0},{"$f":"MMG35*'Makro i swap'!MME4","v":0},{"$f":"MMH35*'Makro i swap'!MMF4","v":0},{"$f":"MMI35*'Makro i swap'!MMG4","v":0},{"$f":"MMJ35*'Makro i swap'!MMH4","v":0},{"$f":"MMK35*'Makro i swap'!MMI4","v":0},{"$f":"MML35*'Makro i swap'!MMJ4","v":0},{"$f":"MMM35*'Makro i swap'!MMK4","v":0},{"$f":"MMN35*'Makro i swap'!MML4","v":0},{"$f":"MMO35*'Makro i swap'!MMM4","v":0},{"$f":"MMP35*'Makro i swap'!MMN4","v":0},{"$f":"MMQ35*'Makro i swap'!MMO4","v":0},{"$f":"MMR35*'Makro i swap'!MMP4","v":0},{"$f":"MMS35*'Makro i swap'!MMQ4","v":0},{"$f":"MMT35*'Makro i swap'!MMR4","v":0},{"$f":"MMU35*'Makro i swap'!MMS4","v":0},{"$f":"MMV35*'Makro i swap'!MMT4","v":0},{"$f":"MMW35*'Makro i swap'!MMU4","v":0},{"$f":"MMX35*'Makro i swap'!MMV4","v":0},{"$f":"MMY35*'Makro i swap'!MMW4","v":0},{"$f":"MMZ35*'Makro i swap'!MMX4","v":0},{"$f":"MNA35*'Makro i swap'!MMY4","v":0},{"$f":"MNB35*'Makro i swap'!MMZ4","v":0},{"$f":"MNC35*'Makro i swap'!MNA4","v":0},{"$f":"MND35*'Makro i swap'!MNB4","v":0},{"$f":"MNE35*'Makro i swap'!MNC4","v":0},{"$f":"MNF35*'Makro i swap'!MND4","v":0},{"$f":"MNG35*'Makro i swap'!MNE4","v":0},{"$f":"MNH35*'Makro i swap'!MNF4","v":0},{"$f":"MNI35*'Makro i swap'!MNG4","v":0},{"$f":"MNJ35*'Makro i swap'!MNH4","v":0},{"$f":"MNK35*'Makro i swap'!MNI4","v":0},{"$f":"MNL35*'Makro i swap'!MNJ4","v":0},{"$f":"MNM35*'Makro i swap'!MNK4","v":0},{"$f":"MNN35*'Makro i swap'!MNL4","v":0},{"$f":"MNO35*'Makro i swap'!MNM4","v":0},{"$f":"MNP35*'Makro i swap'!MNN4","v":0},{"$f":"MNQ35*'Makro i swap'!MNO4","v":0},{"$f":"MNR35*'Makro i swap'!MNP4","v":0},{"$f":"MNS35*'Makro i swap'!MNQ4","v":0},{"$f":"MNT35*'Makro i swap'!MNR4","v":0},{"$f":"MNU35*'Makro i swap'!MNS4","v":0},{"$f":"MNV35*'Makro i swap'!MNT4","v":0},{"$f":"MNW35*'Makro i swap'!MNU4","v":0},{"$f":"MNX35*'Makro i swap'!MNV4","v":0},{"$f":"MNY35*'Makro i swap'!MNW4","v":0},{"$f":"MNZ35*'Makro i swap'!MNX4","v":0},{"$f":"MOA35*'Makro i swap'!MNY4","v":0},{"$f":"MOB35*'Makro i swap'!MNZ4","v":0},{"$f":"MOC35*'Makro i swap'!MOA4","v":0},{"$f":"MOD35*'Makro i swap'!MOB4","v":0},{"$f":"MOE35*'Makro i swap'!MOC4","v":0},{"$f":"MOF35*'Makro i swap'!MOD4","v":0},{"$f":"MOG35*'Makro i swap'!MOE4","v":0},{"$f":"MOH35*'Makro i swap'!MOF4","v":0},{"$f":"MOI35*'Makro i swap'!MOG4","v":0},{"$f":"MOJ35*'Makro i swap'!MOH4","v":0},{"$f":"MOK35*'Makro i swap'!MOI4","v":0},{"$f":"MOL35*'Makro i swap'!MOJ4","v":0},{"$f":"MOM35*'Makro i swap'!MOK4","v":0},{"$f":"MON35*'Makro i swap'!MOL4","v":0},{"$f":"MOO35*'Makro i swap'!MOM4","v":0},{"$f":"MOP35*'Makro i swap'!MON4","v":0},{"$f":"MOQ35*'Makro i swap'!MOO4","v":0},{"$f":"MOR35*'Makro i swap'!MOP4","v":0},{"$f":"MOS35*'Makro i swap'!MOQ4","v":0},{"$f":"MOT35*'Makro i swap'!MOR4","v":0},{"$f":"MOU35*'Makro i swap'!MOS4","v":0},{"$f":"MOV35*'Makro i swap'!MOT4","v":0},{"$f":"MOW35*'Makro i swap'!MOU4","v":0},{"$f":"MOX35*'Makro i swap'!MOV4","v":0},{"$f":"MOY35*'Makro i swap'!MOW4","v":0},{"$f":"MOZ35*'Makro i swap'!MOX4","v":0},{"$f":"MPA35*'Makro i swap'!MOY4","v":0},{"$f":"MPB35*'Makro i swap'!MOZ4","v":0},{"$f":"MPC35*'Makro i swap'!MPA4","v":0},{"$f":"MPD35*'Makro i swap'!MPB4","v":0},{"$f":"MPE35*'Makro i swap'!MPC4","v":0},{"$f":"MPF35*'Makro i swap'!MPD4","v":0},{"$f":"MPG35*'Makro i swap'!MPE4","v":0},{"$f":"MPH35*'Makro i swap'!MPF4","v":0},{"$f":"MPI35*'Makro i swap'!MPG4","v":0},{"$f":"MPJ35*'Makro i swap'!MPH4","v":0},{"$f":"MPK35*'Makro i swap'!MPI4","v":0},{"$f":"MPL35*'Makro i swap'!MPJ4","v":0},{"$f":"MPM35*'Makro i swap'!MPK4","v":0},{"$f":"MPN35*'Makro i swap'!MPL4","v":0},{"$f":"MPO35*'Makro i swap'!MPM4","v":0},{"$f":"MPP35*'Makro i swap'!MPN4","v":0},{"$f":"MPQ35*'Makro i swap'!MPO4","v":0},{"$f":"MPR35*'Makro i swap'!MPP4","v":0},{"$f":"MPS35*'Makro i swap'!MPQ4","v":0},{"$f":"MPT35*'Makro i swap'!MPR4","v":0},{"$f":"MPU35*'Makro i swap'!MPS4","v":0},{"$f":"MPV35*'Makro i swap'!MPT4","v":0},{"$f":"MPW35*'Makro i swap'!MPU4","v":0},{"$f":"MPX35*'Makro i swap'!MPV4","v":0},{"$f":"MPY35*'Makro i swap'!MPW4","v":0},{"$f":"MPZ35*'Makro i swap'!MPX4","v":0},{"$f":"MQA35*'Makro i swap'!MPY4","v":0},{"$f":"MQB35*'Makro i swap'!MPZ4","v":0},{"$f":"MQC35*'Makro i swap'!MQA4","v":0},{"$f":"MQD35*'Makro i swap'!MQB4","v":0},{"$f":"MQE35*'Makro i swap'!MQC4","v":0},{"$f":"MQF35*'Makro i swap'!MQD4","v":0},{"$f":"MQG35*'Makro i swap'!MQE4","v":0},{"$f":"MQH35*'Makro i swap'!MQF4","v":0},{"$f":"MQI35*'Makro i swap'!MQG4","v":0},{"$f":"MQJ35*'Makro i swap'!MQH4","v":0},{"$f":"MQK35*'Makro i swap'!MQI4","v":0},{"$f":"MQL35*'Makro i swap'!MQJ4","v":0},{"$f":"MQM35*'Makro i swap'!MQK4","v":0},{"$f":"MQN35*'Makro i swap'!MQL4","v":0},{"$f":"MQO35*'Makro i swap'!MQM4","v":0},{"$f":"MQP35*'Makro i swap'!MQN4","v":0},{"$f":"MQQ35*'Makro i swap'!MQO4","v":0},{"$f":"MQR35*'Makro i swap'!MQP4","v":0},{"$f":"MQS35*'Makro i swap'!MQQ4","v":0},{"$f":"MQT35*'Makro i swap'!MQR4","v":0},{"$f":"MQU35*'Makro i swap'!MQS4","v":0},{"$f":"MQV35*'Makro i swap'!MQT4","v":0},{"$f":"MQW35*'Makro i swap'!MQU4","v":0},{"$f":"MQX35*'Makro i swap'!MQV4","v":0},{"$f":"MQY35*'Makro i swap'!MQW4","v":0},{"$f":"MQZ35*'Makro i swap'!MQX4","v":0},{"$f":"MRA35*'Makro i swap'!MQY4","v":0},{"$f":"MRB35*'Makro i swap'!MQZ4","v":0},{"$f":"MRC35*'Makro i swap'!MRA4","v":0},{"$f":"MRD35*'Makro i swap'!MRB4","v":0},{"$f":"MRE35*'Makro i swap'!MRC4","v":0},{"$f":"MRF35*'Makro i swap'!MRD4","v":0},{"$f":"MRG35*'Makro i swap'!MRE4","v":0},{"$f":"MRH35*'Makro i swap'!MRF4","v":0},{"$f":"MRI35*'Makro i swap'!MRG4","v":0},{"$f":"MRJ35*'Makro i swap'!MRH4","v":0},{"$f":"MRK35*'Makro i swap'!MRI4","v":0},{"$f":"MRL35*'Makro i swap'!MRJ4","v":0},{"$f":"MRM35*'Makro i swap'!MRK4","v":0},{"$f":"MRN35*'Makro i swap'!MRL4","v":0},{"$f":"MRO35*'Makro i swap'!MRM4","v":0},{"$f":"MRP35*'Makro i swap'!MRN4","v":0},{"$f":"MRQ35*'Makro i swap'!MRO4","v":0},{"$f":"MRR35*'Makro i swap'!MRP4","v":0},{"$f":"MRS35*'Makro i swap'!MRQ4","v":0},{"$f":"MRT35*'Makro i swap'!MRR4","v":0},{"$f":"MRU35*'Makro i swap'!MRS4","v":0},{"$f":"MRV35*'Makro i swap'!MRT4","v":0},{"$f":"MRW35*'Makro i swap'!MRU4","v":0},{"$f":"MRX35*'Makro i swap'!MRV4","v":0},{"$f":"MRY35*'Makro i swap'!MRW4","v":0},{"$f":"MRZ35*'Makro i swap'!MRX4","v":0},{"$f":"MSA35*'Makro i swap'!MRY4","v":0},{"$f":"MSB35*'Makro i swap'!MRZ4","v":0},{"$f":"MSC35*'Makro i swap'!MSA4","v":0},{"$f":"MSD35*'Makro i swap'!MSB4","v":0},{"$f":"MSE35*'Makro i swap'!MSC4","v":0},{"$f":"MSF35*'Makro i swap'!MSD4","v":0},{"$f":"MSG35*'Makro i swap'!MSE4","v":0},{"$f":"MSH35*'Makro i swap'!MSF4","v":0},{"$f":"MSI35*'Makro i swap'!MSG4","v":0},{"$f":"MSJ35*'Makro i swap'!MSH4","v":0},{"$f":"MSK35*'Makro i swap'!MSI4","v":0},{"$f":"MSL35*'Makro i swap'!MSJ4","v":0},{"$f":"MSM35*'Makro i swap'!MSK4","v":0},{"$f":"MSN35*'Makro i swap'!MSL4","v":0},{"$f":"MSO35*'Makro i swap'!MSM4","v":0},{"$f":"MSP35*'Makro i swap'!MSN4","v":0},{"$f":"MSQ35*'Makro i swap'!MSO4","v":0},{"$f":"MSR35*'Makro i swap'!MSP4","v":0},{"$f":"MSS35*'Makro i swap'!MSQ4","v":0},{"$f":"MST35*'Makro i swap'!MSR4","v":0},{"$f":"MSU35*'Makro i swap'!MSS4","v":0},{"$f":"MSV35*'Makro i swap'!MST4","v":0},{"$f":"MSW35*'Makro i swap'!MSU4","v":0},{"$f":"MSX35*'Makro i swap'!MSV4","v":0},{"$f":"MSY35*'Makro i swap'!MSW4","v":0},{"$f":"MSZ35*'Makro i swap'!MSX4","v":0},{"$f":"MTA35*'Makro i swap'!MSY4","v":0},{"$f":"MTB35*'Makro i swap'!MSZ4","v":0},{"$f":"MTC35*'Makro i swap'!MTA4","v":0},{"$f":"MTD35*'Makro i swap'!MTB4","v":0},{"$f":"MTE35*'Makro i swap'!MTC4","v":0},{"$f":"MTF35*'Makro i swap'!MTD4","v":0},{"$f":"MTG35*'Makro i swap'!MTE4","v":0},{"$f":"MTH35*'Makro i swap'!MTF4","v":0},{"$f":"MTI35*'Makro i swap'!MTG4","v":0},{"$f":"MTJ35*'Makro i swap'!MTH4","v":0},{"$f":"MTK35*'Makro i swap'!MTI4","v":0},{"$f":"MTL35*'Makro i swap'!MTJ4","v":0},{"$f":"MTM35*'Makro i swap'!MTK4","v":0},{"$f":"MTN35*'Makro i swap'!MTL4","v":0},{"$f":"MTO35*'Makro i swap'!MTM4","v":0},{"$f":"MTP35*'Makro i swap'!MTN4","v":0},{"$f":"MTQ35*'Makro i swap'!MTO4","v":0},{"$f":"MTR35*'Makro i swap'!MTP4","v":0},{"$f":"MTS35*'Makro i swap'!MTQ4","v":0},{"$f":"MTT35*'Makro i swap'!MTR4","v":0},{"$f":"MTU35*'Makro i swap'!MTS4","v":0},{"$f":"MTV35*'Makro i swap'!MTT4","v":0},{"$f":"MTW35*'Makro i swap'!MTU4","v":0},{"$f":"MTX35*'Makro i swap'!MTV4","v":0},{"$f":"MTY35*'Makro i swap'!MTW4","v":0},{"$f":"MTZ35*'Makro i swap'!MTX4","v":0},{"$f":"MUA35*'Makro i swap'!MTY4","v":0},{"$f":"MUB35*'Makro i swap'!MTZ4","v":0},{"$f":"MUC35*'Makro i swap'!MUA4","v":0},{"$f":"MUD35*'Makro i swap'!MUB4","v":0},{"$f":"MUE35*'Makro i swap'!MUC4","v":0},{"$f":"MUF35*'Makro i swap'!MUD4","v":0},{"$f":"MUG35*'Makro i swap'!MUE4","v":0},{"$f":"MUH35*'Makro i swap'!MUF4","v":0},{"$f":"MUI35*'Makro i swap'!MUG4","v":0},{"$f":"MUJ35*'Makro i swap'!MUH4","v":0},{"$f":"MUK35*'Makro i swap'!MUI4","v":0},{"$f":"MUL35*'Makro i swap'!MUJ4","v":0},{"$f":"MUM35*'Makro i swap'!MUK4","v":0},{"$f":"MUN35*'Makro i swap'!MUL4","v":0},{"$f":"MUO35*'Makro i swap'!MUM4","v":0},{"$f":"MUP35*'Makro i swap'!MUN4","v":0},{"$f":"MUQ35*'Makro i swap'!MUO4","v":0},{"$f":"MUR35*'Makro i swap'!MUP4","v":0},{"$f":"MUS35*'Makro i swap'!MUQ4","v":0},{"$f":"MUT35*'Makro i swap'!MUR4","v":0},{"$f":"MUU35*'Makro i swap'!MUS4","v":0},{"$f":"MUV35*'Makro i swap'!MUT4","v":0},{"$f":"MUW35*'Makro i swap'!MUU4","v":0},{"$f":"MUX35*'Makro i swap'!MUV4","v":0},{"$f":"MUY35*'Makro i swap'!MUW4","v":0},{"$f":"MUZ35*'Makro i swap'!MUX4","v":0},{"$f":"MVA35*'Makro i swap'!MUY4","v":0},{"$f":"MVB35*'Makro i swap'!MUZ4","v":0},{"$f":"MVC35*'Makro i swap'!MVA4","v":0},{"$f":"MVD35*'Makro i swap'!MVB4","v":0},{"$f":"MVE35*'Makro i swap'!MVC4","v":0},{"$f":"MVF35*'Makro i swap'!MVD4","v":0},{"$f":"MVG35*'Makro i swap'!MVE4","v":0},{"$f":"MVH35*'Makro i swap'!MVF4","v":0},{"$f":"MVI35*'Makro i swap'!MVG4","v":0},{"$f":"MVJ35*'Makro i swap'!MVH4","v":0},{"$f":"MVK35*'Makro i swap'!MVI4","v":0},{"$f":"MVL35*'Makro i swap'!MVJ4","v":0},{"$f":"MVM35*'Makro i swap'!MVK4","v":0},{"$f":"MVN35*'Makro i swap'!MVL4","v":0},{"$f":"MVO35*'Makro i swap'!MVM4","v":0},{"$f":"MVP35*'Makro i swap'!MVN4","v":0},{"$f":"MVQ35*'Makro i swap'!MVO4","v":0},{"$f":"MVR35*'Makro i swap'!MVP4","v":0},{"$f":"MVS35*'Makro i swap'!MVQ4","v":0},{"$f":"MVT35*'Makro i swap'!MVR4","v":0},{"$f":"MVU35*'Makro i swap'!MVS4","v":0},{"$f":"MVV35*'Makro i swap'!MVT4","v":0},{"$f":"MVW35*'Makro i swap'!MVU4","v":0},{"$f":"MVX35*'Makro i swap'!MVV4","v":0},{"$f":"MVY35*'Makro i swap'!MVW4","v":0},{"$f":"MVZ35*'Makro i swap'!MVX4","v":0},{"$f":"MWA35*'Makro i swap'!MVY4","v":0},{"$f":"MWB35*'Makro i swap'!MVZ4","v":0},{"$f":"MWC35*'Makro i swap'!MWA4","v":0},{"$f":"MWD35*'Makro i swap'!MWB4","v":0},{"$f":"MWE35*'Makro i swap'!MWC4","v":0},{"$f":"MWF35*'Makro i swap'!MWD4","v":0},{"$f":"MWG35*'Makro i swap'!MWE4","v":0},{"$f":"MWH35*'Makro i swap'!MWF4","v":0},{"$f":"MWI35*'Makro i swap'!MWG4","v":0},{"$f":"MWJ35*'Makro i swap'!MWH4","v":0},{"$f":"MWK35*'Makro i swap'!MWI4","v":0},{"$f":"MWL35*'Makro i swap'!MWJ4","v":0},{"$f":"MWM35*'Makro i swap'!MWK4","v":0},{"$f":"MWN35*'Makro i swap'!MWL4","v":0},{"$f":"MWO35*'Makro i swap'!MWM4","v":0},{"$f":"MWP35*'Makro i swap'!MWN4","v":0},{"$f":"MWQ35*'Makro i swap'!MWO4","v":0},{"$f":"MWR35*'Makro i swap'!MWP4","v":0},{"$f":"MWS35*'Makro i swap'!MWQ4","v":0},{"$f":"MWT35*'Makro i swap'!MWR4","v":0},{"$f":"MWU35*'Makro i swap'!MWS4","v":0},{"$f":"MWV35*'Makro i swap'!MWT4","v":0},{"$f":"MWW35*'Makro i swap'!MWU4","v":0},{"$f":"MWX35*'Makro i swap'!MWV4","v":0},{"$f":"MWY35*'Makro i swap'!MWW4","v":0},{"$f":"MWZ35*'Makro i swap'!MWX4","v":0},{"$f":"MXA35*'Makro i swap'!MWY4","v":0},{"$f":"MXB35*'Makro i swap'!MWZ4","v":0},{"$f":"MXC35*'Makro i swap'!MXA4","v":0},{"$f":"MXD35*'Makro i swap'!MXB4","v":0},{"$f":"MXE35*'Makro i swap'!MXC4","v":0},{"$f":"MXF35*'Makro i swap'!MXD4","v":0},{"$f":"MXG35*'Makro i swap'!MXE4","v":0},{"$f":"MXH35*'Makro i swap'!MXF4","v":0},{"$f":"MXI35*'Makro i swap'!MXG4","v":0},{"$f":"MXJ35*'Makro i swap'!MXH4","v":0},{"$f":"MXK35*'Makro i swap'!MXI4","v":0},{"$f":"MXL35*'Makro i swap'!MXJ4","v":0},{"$f":"MXM35*'Makro i swap'!MXK4","v":0},{"$f":"MXN35*'Makro i swap'!MXL4","v":0},{"$f":"MXO35*'Makro i swap'!MXM4","v":0},{"$f":"MXP35*'Makro i swap'!MXN4","v":0},{"$f":"MXQ35*'Makro i swap'!MXO4","v":0},{"$f":"MXR35*'Makro i swap'!MXP4","v":0},{"$f":"MXS35*'Makro i swap'!MXQ4","v":0},{"$f":"MXT35*'Makro i swap'!MXR4","v":0},{"$f":"MXU35*'Makro i swap'!MXS4","v":0},{"$f":"MXV35*'Makro i swap'!MXT4","v":0},{"$f":"MXW35*'Makro i swap'!MXU4","v":0},{"$f":"MXX35*'Makro i swap'!MXV4","v":0},{"$f":"MXY35*'Makro i swap'!MXW4","v":0},{"$f":"MXZ35*'Makro i swap'!MXX4","v":0},{"$f":"MYA35*'Makro i swap'!MXY4","v":0},{"$f":"MYB35*'Makro i swap'!MXZ4","v":0},{"$f":"MYC35*'Makro i swap'!MYA4","v":0},{"$f":"MYD35*'Makro i swap'!MYB4","v":0},{"$f":"MYE35*'Makro i swap'!MYC4","v":0},{"$f":"MYF35*'Makro i swap'!MYD4","v":0},{"$f":"MYG35*'Makro i swap'!MYE4","v":0},{"$f":"MYH35*'Makro i swap'!MYF4","v":0},{"$f":"MYI35*'Makro i swap'!MYG4","v":0},{"$f":"MYJ35*'Makro i swap'!MYH4","v":0},{"$f":"MYK35*'Makro i swap'!MYI4","v":0},{"$f":"MYL35*'Makro i swap'!MYJ4","v":0},{"$f":"MYM35*'Makro i swap'!MYK4","v":0},{"$f":"MYN35*'Makro i swap'!MYL4","v":0},{"$f":"MYO35*'Makro i swap'!MYM4","v":0},{"$f":"MYP35*'Makro i swap'!MYN4","v":0},{"$f":"MYQ35*'Makro i swap'!MYO4","v":0},{"$f":"MYR35*'Makro i swap'!MYP4","v":0},{"$f":"MYS35*'Makro i swap'!MYQ4","v":0},{"$f":"MYT35*'Makro i swap'!MYR4","v":0},{"$f":"MYU35*'Makro i swap'!MYS4","v":0},{"$f":"MYV35*'Makro i swap'!MYT4","v":0},{"$f":"MYW35*'Makro i swap'!MYU4","v":0},{"$f":"MYX35*'Makro i swap'!MYV4","v":0},{"$f":"MYY35*'Makro i swap'!MYW4","v":0},{"$f":"MYZ35*'Makro i swap'!MYX4","v":0},{"$f":"MZA35*'Makro i swap'!MYY4","v":0},{"$f":"MZB35*'Makro i swap'!MYZ4","v":0},{"$f":"MZC35*'Makro i swap'!MZA4","v":0},{"$f":"MZD35*'Makro i swap'!MZB4","v":0},{"$f":"MZE35*'Makro i swap'!MZC4","v":0},{"$f":"MZF35*'Makro i swap'!MZD4","v":0},{"$f":"MZG35*'Makro i swap'!MZE4","v":0},{"$f":"MZH35*'Makro i swap'!MZF4","v":0},{"$f":"MZI35*'Makro i swap'!MZG4","v":0},{"$f":"MZJ35*'Makro i swap'!MZH4","v":0},{"$f":"MZK35*'Makro i swap'!MZI4","v":0},{"$f":"MZL35*'Makro i swap'!MZJ4","v":0},{"$f":"MZM35*'Makro i swap'!MZK4","v":0},{"$f":"MZN35*'Makro i swap'!MZL4","v":0},{"$f":"MZO35*'Makro i swap'!MZM4","v":0},{"$f":"MZP35*'Makro i swap'!MZN4","v":0},{"$f":"MZQ35*'Makro i swap'!MZO4","v":0},{"$f":"MZR35*'Makro i swap'!MZP4","v":0},{"$f":"MZS35*'Makro i swap'!MZQ4","v":0},{"$f":"MZT35*'Makro i swap'!MZR4","v":0},{"$f":"MZU35*'Makro i swap'!MZS4","v":0},{"$f":"MZV35*'Makro i swap'!MZT4","v":0},{"$f":"MZW35*'Makro i swap'!MZU4","v":0},{"$f":"MZX35*'Makro i swap'!MZV4","v":0},{"$f":"MZY35*'Makro i swap'!MZW4","v":0},{"$f":"MZZ35*'Makro i swap'!MZX4","v":0},{"$f":"NAA35*'Makro i swap'!MZY4","v":0},{"$f":"NAB35*'Makro i swap'!MZZ4","v":0},{"$f":"NAC35*'Makro i swap'!NAA4","v":0},{"$f":"NAD35*'Makro i swap'!NAB4","v":0},{"$f":"NAE35*'Makro i swap'!NAC4","v":0},{"$f":"NAF35*'Makro i swap'!NAD4","v":0},{"$f":"NAG35*'Makro i swap'!NAE4","v":0},{"$f":"NAH35*'Makro i swap'!NAF4","v":0},{"$f":"NAI35*'Makro i swap'!NAG4","v":0},{"$f":"NAJ35*'Makro i swap'!NAH4","v":0},{"$f":"NAK35*'Makro i swap'!NAI4","v":0},{"$f":"NAL35*'Makro i swap'!NAJ4","v":0},{"$f":"NAM35*'Makro i swap'!NAK4","v":0},{"$f":"NAN35*'Makro i swap'!NAL4","v":0},{"$f":"NAO35*'Makro i swap'!NAM4","v":0},{"$f":"NAP35*'Makro i swap'!NAN4","v":0},{"$f":"NAQ35*'Makro i swap'!NAO4","v":0},{"$f":"NAR35*'Makro i swap'!NAP4","v":0},{"$f":"NAS35*'Makro i swap'!NAQ4","v":0},{"$f":"NAT35*'Makro i swap'!NAR4","v":0},{"$f":"NAU35*'Makro i swap'!NAS4","v":0},{"$f":"NAV35*'Makro i swap'!NAT4","v":0},{"$f":"NAW35*'Makro i swap'!NAU4","v":0},{"$f":"NAX35*'Makro i swap'!NAV4","v":0},{"$f":"NAY35*'Makro i swap'!NAW4","v":0},{"$f":"NAZ35*'Makro i swap'!NAX4","v":0},{"$f":"NBA35*'Makro i swap'!NAY4","v":0},{"$f":"NBB35*'Makro i swap'!NAZ4","v":0},{"$f":"NBC35*'Makro i swap'!NBA4","v":0},{"$f":"NBD35*'Makro i swap'!NBB4","v":0},{"$f":"NBE35*'Makro i swap'!NBC4","v":0},{"$f":"NBF35*'Makro i swap'!NBD4","v":0},{"$f":"NBG35*'Makro i swap'!NBE4","v":0},{"$f":"NBH35*'Makro i swap'!NBF4","v":0},{"$f":"NBI35*'Makro i swap'!NBG4","v":0},{"$f":"NBJ35*'Makro i swap'!NBH4","v":0},{"$f":"NBK35*'Makro i swap'!NBI4","v":0},{"$f":"NBL35*'Makro i swap'!NBJ4","v":0},{"$f":"NBM35*'Makro i swap'!NBK4","v":0},{"$f":"NBN35*'Makro i swap'!NBL4","v":0},{"$f":"NBO35*'Makro i swap'!NBM4","v":0},{"$f":"NBP35*'Makro i swap'!NBN4","v":0},{"$f":"NBQ35*'Makro i swap'!NBO4","v":0},{"$f":"NBR35*'Makro i swap'!NBP4","v":0},{"$f":"NBS35*'Makro i swap'!NBQ4","v":0},{"$f":"NBT35*'Makro i swap'!NBR4","v":0},{"$f":"NBU35*'Makro i swap'!NBS4","v":0},{"$f":"NBV35*'Makro i swap'!NBT4","v":0},{"$f":"NBW35*'Makro i swap'!NBU4","v":0},{"$f":"NBX35*'Makro i swap'!NBV4","v":0},{"$f":"NBY35*'Makro i swap'!NBW4","v":0},{"$f":"NBZ35*'Makro i swap'!NBX4","v":0},{"$f":"NCA35*'Makro i swap'!NBY4","v":0},{"$f":"NCB35*'Makro i swap'!NBZ4","v":0},{"$f":"NCC35*'Makro i swap'!NCA4","v":0},{"$f":"NCD35*'Makro i swap'!NCB4","v":0},{"$f":"NCE35*'Makro i swap'!NCC4","v":0},{"$f":"NCF35*'Makro i swap'!NCD4","v":0},{"$f":"NCG35*'Makro i swap'!NCE4","v":0},{"$f":"NCH35*'Makro i swap'!NCF4","v":0},{"$f":"NCI35*'Makro i swap'!NCG4","v":0},{"$f":"NCJ35*'Makro i swap'!NCH4","v":0},{"$f":"NCK35*'Makro i swap'!NCI4","v":0},{"$f":"NCL35*'Makro i swap'!NCJ4","v":0},{"$f":"NCM35*'Makro i swap'!NCK4","v":0},{"$f":"NCN35*'Makro i swap'!NCL4","v":0},{"$f":"NCO35*'Makro i swap'!NCM4","v":0},{"$f":"NCP35*'Makro i swap'!NCN4","v":0},{"$f":"NCQ35*'Makro i swap'!NCO4","v":0},{"$f":"NCR35*'Makro i swap'!NCP4","v":0},{"$f":"NCS35*'Makro i swap'!NCQ4","v":0},{"$f":"NCT35*'Makro i swap'!NCR4","v":0},{"$f":"NCU35*'Makro i swap'!NCS4","v":0},{"$f":"NCV35*'Makro i swap'!NCT4","v":0},{"$f":"NCW35*'Makro i swap'!NCU4","v":0},{"$f":"NCX35*'Makro i swap'!NCV4","v":0},{"$f":"NCY35*'Makro i swap'!NCW4","v":0},{"$f":"NCZ35*'Makro i swap'!NCX4","v":0},{"$f":"NDA35*'Makro i swap'!NCY4","v":0},{"$f":"NDB35*'Makro i swap'!NCZ4","v":0},{"$f":"NDC35*'Makro i swap'!NDA4","v":0},{"$f":"NDD35*'Makro i swap'!NDB4","v":0},{"$f":"NDE35*'Makro i swap'!NDC4","v":0},{"$f":"NDF35*'Makro i swap'!NDD4","v":0},{"$f":"NDG35*'Makro i swap'!NDE4","v":0},{"$f":"NDH35*'Makro i swap'!NDF4","v":0},{"$f":"NDI35*'Makro i swap'!NDG4","v":0},{"$f":"NDJ35*'Makro i swap'!NDH4","v":0},{"$f":"NDK35*'Makro i swap'!NDI4","v":0},{"$f":"NDL35*'Makro i swap'!NDJ4","v":0},{"$f":"NDM35*'Makro i swap'!NDK4","v":0},{"$f":"NDN35*'Makro i swap'!NDL4","v":0},{"$f":"NDO35*'Makro i swap'!NDM4","v":0},{"$f":"NDP35*'Makro i swap'!NDN4","v":0},{"$f":"NDQ35*'Makro i swap'!NDO4","v":0},{"$f":"NDR35*'Makro i swap'!NDP4","v":0},{"$f":"NDS35*'Makro i swap'!NDQ4","v":0},{"$f":"NDT35*'Makro i swap'!NDR4","v":0},{"$f":"NDU35*'Makro i swap'!NDS4","v":0},{"$f":"NDV35*'Makro i swap'!NDT4","v":0},{"$f":"NDW35*'Makro i swap'!NDU4","v":0},{"$f":"NDX35*'Makro i swap'!NDV4","v":0},{"$f":"NDY35*'Makro i swap'!NDW4","v":0},{"$f":"NDZ35*'Makro i swap'!NDX4","v":0},{"$f":"NEA35*'Makro i swap'!NDY4","v":0},{"$f":"NEB35*'Makro i swap'!NDZ4","v":0},{"$f":"NEC35*'Makro i swap'!NEA4","v":0},{"$f":"NED35*'Makro i swap'!NEB4","v":0},{"$f":"NEE35*'Makro i swap'!NEC4","v":0},{"$f":"NEF35*'Makro i swap'!NED4","v":0},{"$f":"NEG35*'Makro i swap'!NEE4","v":0},{"$f":"NEH35*'Makro i swap'!NEF4","v":0},{"$f":"NEI35*'Makro i swap'!NEG4","v":0},{"$f":"NEJ35*'Makro i swap'!NEH4","v":0},{"$f":"NEK35*'Makro i swap'!NEI4","v":0},{"$f":"NEL35*'Makro i swap'!NEJ4","v":0},{"$f":"NEM35*'Makro i swap'!NEK4","v":0},{"$f":"NEN35*'Makro i swap'!NEL4","v":0},{"$f":"NEO35*'Makro i swap'!NEM4","v":0},{"$f":"NEP35*'Makro i swap'!NEN4","v":0},{"$f":"NEQ35*'Makro i swap'!NEO4","v":0},{"$f":"NER35*'Makro i swap'!NEP4","v":0},{"$f":"NES35*'Makro i swap'!NEQ4","v":0},{"$f":"NET35*'Makro i swap'!NER4","v":0},{"$f":"NEU35*'Makro i swap'!NES4","v":0},{"$f":"NEV35*'Makro i swap'!NET4","v":0},{"$f":"NEW35*'Makro i swap'!NEU4","v":0},{"$f":"NEX35*'Makro i swap'!NEV4","v":0},{"$f":"NEY35*'Makro i swap'!NEW4","v":0},{"$f":"NEZ35*'Makro i swap'!NEX4","v":0},{"$f":"NFA35*'Makro i swap'!NEY4","v":0},{"$f":"NFB35*'Makro i swap'!NEZ4","v":0},{"$f":"NFC35*'Makro i swap'!NFA4","v":0},{"$f":"NFD35*'Makro i swap'!NFB4","v":0},{"$f":"NFE35*'Makro i swap'!NFC4","v":0},{"$f":"NFF35*'Makro i swap'!NFD4","v":0},{"$f":"NFG35*'Makro i swap'!NFE4","v":0},{"$f":"NFH35*'Makro i swap'!NFF4","v":0},{"$f":"NFI35*'Makro i swap'!NFG4","v":0},{"$f":"NFJ35*'Makro i swap'!NFH4","v":0},{"$f":"NFK35*'Makro i swap'!NFI4","v":0},{"$f":"NFL35*'Makro i swap'!NFJ4","v":0},{"$f":"NFM35*'Makro i swap'!NFK4","v":0},{"$f":"NFN35*'Makro i swap'!NFL4","v":0},{"$f":"NFO35*'Makro i swap'!NFM4","v":0},{"$f":"NFP35*'Makro i swap'!NFN4","v":0},{"$f":"NFQ35*'Makro i swap'!NFO4","v":0},{"$f":"NFR35*'Makro i swap'!NFP4","v":0},{"$f":"NFS35*'Makro i swap'!NFQ4","v":0},{"$f":"NFT35*'Makro i swap'!NFR4","v":0},{"$f":"NFU35*'Makro i swap'!NFS4","v":0},{"$f":"NFV35*'Makro i swap'!NFT4","v":0},{"$f":"NFW35*'Makro i swap'!NFU4","v":0},{"$f":"NFX35*'Makro i swap'!NFV4","v":0},{"$f":"NFY35*'Makro i swap'!NFW4","v":0},{"$f":"NFZ35*'Makro i swap'!NFX4","v":0},{"$f":"NGA35*'Makro i swap'!NFY4","v":0},{"$f":"NGB35*'Makro i swap'!NFZ4","v":0},{"$f":"NGC35*'Makro i swap'!NGA4","v":0},{"$f":"NGD35*'Makro i swap'!NGB4","v":0},{"$f":"NGE35*'Makro i swap'!NGC4","v":0},{"$f":"NGF35*'Makro i swap'!NGD4","v":0},{"$f":"NGG35*'Makro i swap'!NGE4","v":0},{"$f":"NGH35*'Makro i swap'!NGF4","v":0},{"$f":"NGI35*'Makro i swap'!NGG4","v":0},{"$f":"NGJ35*'Makro i swap'!NGH4","v":0},{"$f":"NGK35*'Makro i swap'!NGI4","v":0},{"$f":"NGL35*'Makro i swap'!NGJ4","v":0},{"$f":"NGM35*'Makro i swap'!NGK4","v":0},{"$f":"NGN35*'Makro i swap'!NGL4","v":0},{"$f":"NGO35*'Makro i swap'!NGM4","v":0},{"$f":"NGP35*'Makro i swap'!NGN4","v":0},{"$f":"NGQ35*'Makro i swap'!NGO4","v":0},{"$f":"NGR35*'Makro i swap'!NGP4","v":0},{"$f":"NGS35*'Makro i swap'!NGQ4","v":0},{"$f":"NGT35*'Makro i swap'!NGR4","v":0},{"$f":"NGU35*'Makro i swap'!NGS4","v":0},{"$f":"NGV35*'Makro i swap'!NGT4","v":0},{"$f":"NGW35*'Makro i swap'!NGU4","v":0},{"$f":"NGX35*'Makro i swap'!NGV4","v":0},{"$f":"NGY35*'Makro i swap'!NGW4","v":0},{"$f":"NGZ35*'Makro i swap'!NGX4","v":0},{"$f":"NHA35*'Makro i swap'!NGY4","v":0},{"$f":"NHB35*'Makro i swap'!NGZ4","v":0},{"$f":"NHC35*'Makro i swap'!NHA4","v":0},{"$f":"NHD35*'Makro i swap'!NHB4","v":0},{"$f":"NHE35*'Makro i swap'!NHC4","v":0},{"$f":"NHF35*'Makro i swap'!NHD4","v":0},{"$f":"NHG35*'Makro i swap'!NHE4","v":0},{"$f":"NHH35*'Makro i swap'!NHF4","v":0},{"$f":"NHI35*'Makro i swap'!NHG4","v":0},{"$f":"NHJ35*'Makro i swap'!NHH4","v":0},{"$f":"NHK35*'Makro i swap'!NHI4","v":0},{"$f":"NHL35*'Makro i swap'!NHJ4","v":0},{"$f":"NHM35*'Makro i swap'!NHK4","v":0},{"$f":"NHN35*'Makro i swap'!NHL4","v":0},{"$f":"NHO35*'Makro i swap'!NHM4","v":0},{"$f":"NHP35*'Makro i swap'!NHN4","v":0},{"$f":"NHQ35*'Makro i swap'!NHO4","v":0},{"$f":"NHR35*'Makro i swap'!NHP4","v":0},{"$f":"NHS35*'Makro i swap'!NHQ4","v":0},{"$f":"NHT35*'Makro i swap'!NHR4","v":0},{"$f":"NHU35*'Makro i swap'!NHS4","v":0},{"$f":"NHV35*'Makro i swap'!NHT4","v":0},{"$f":"NHW35*'Makro i swap'!NHU4","v":0},{"$f":"NHX35*'Makro i swap'!NHV4","v":0},{"$f":"NHY35*'Makro i swap'!NHW4","v":0},{"$f":"NHZ35*'Makro i swap'!NHX4","v":0},{"$f":"NIA35*'Makro i swap'!NHY4","v":0},{"$f":"NIB35*'Makro i swap'!NHZ4","v":0},{"$f":"NIC35*'Makro i swap'!NIA4","v":0},{"$f":"NID35*'Makro i swap'!NIB4","v":0},{"$f":"NIE35*'Makro i swap'!NIC4","v":0},{"$f":"NIF35*'Makro i swap'!NID4","v":0},{"$f":"NIG35*'Makro i swap'!NIE4","v":0},{"$f":"NIH35*'Makro i swap'!NIF4","v":0},{"$f":"NII35*'Makro i swap'!NIG4","v":0},{"$f":"NIJ35*'Makro i swap'!NIH4","v":0},{"$f":"NIK35*'Makro i swap'!NII4","v":0},{"$f":"NIL35*'Makro i swap'!NIJ4","v":0},{"$f":"NIM35*'Makro i swap'!NIK4","v":0},{"$f":"NIN35*'Makro i swap'!NIL4","v":0},{"$f":"NIO35*'Makro i swap'!NIM4","v":0},{"$f":"NIP35*'Makro i swap'!NIN4","v":0},{"$f":"NIQ35*'Makro i swap'!NIO4","v":0},{"$f":"NIR35*'Makro i swap'!NIP4","v":0},{"$f":"NIS35*'Makro i swap'!NIQ4","v":0},{"$f":"NIT35*'Makro i swap'!NIR4","v":0},{"$f":"NIU35*'Makro i swap'!NIS4","v":0},{"$f":"NIV35*'Makro i swap'!NIT4","v":0},{"$f":"NIW35*'Makro i swap'!NIU4","v":0},{"$f":"NIX35*'Makro i swap'!NIV4","v":0},{"$f":"NIY35*'Makro i swap'!NIW4","v":0},{"$f":"NIZ35*'Makro i swap'!NIX4","v":0},{"$f":"NJA35*'Makro i swap'!NIY4","v":0},{"$f":"NJB35*'Makro i swap'!NIZ4","v":0},{"$f":"NJC35*'Makro i swap'!NJA4","v":0},{"$f":"NJD35*'Makro i swap'!NJB4","v":0},{"$f":"NJE35*'Makro i swap'!NJC4","v":0},{"$f":"NJF35*'Makro i swap'!NJD4","v":0},{"$f":"NJG35*'Makro i swap'!NJE4","v":0},{"$f":"NJH35*'Makro i swap'!NJF4","v":0},{"$f":"NJI35*'Makro i swap'!NJG4","v":0},{"$f":"NJJ35*'Makro i swap'!NJH4","v":0},{"$f":"NJK35*'Makro i swap'!NJI4","v":0},{"$f":"NJL35*'Makro i swap'!NJJ4","v":0},{"$f":"NJM35*'Makro i swap'!NJK4","v":0},{"$f":"NJN35*'Makro i swap'!NJL4","v":0},{"$f":"NJO35*'Makro i swap'!NJM4","v":0},{"$f":"NJP35*'Makro i swap'!NJN4","v":0},{"$f":"NJQ35*'Makro i swap'!NJO4","v":0},{"$f":"NJR35*'Makro i swap'!NJP4","v":0},{"$f":"NJS35*'Makro i swap'!NJQ4","v":0},{"$f":"NJT35*'Makro i swap'!NJR4","v":0},{"$f":"NJU35*'Makro i swap'!NJS4","v":0},{"$f":"NJV35*'Makro i swap'!NJT4","v":0},{"$f":"NJW35*'Makro i swap'!NJU4","v":0},{"$f":"NJX35*'Makro i swap'!NJV4","v":0},{"$f":"NJY35*'Makro i swap'!NJW4","v":0},{"$f":"NJZ35*'Makro i swap'!NJX4","v":0},{"$f":"NKA35*'Makro i swap'!NJY4","v":0},{"$f":"NKB35*'Makro i swap'!NJZ4","v":0},{"$f":"NKC35*'Makro i swap'!NKA4","v":0},{"$f":"NKD35*'Makro i swap'!NKB4","v":0},{"$f":"NKE35*'Makro i swap'!NKC4","v":0},{"$f":"NKF35*'Makro i swap'!NKD4","v":0},{"$f":"NKG35*'Makro i swap'!NKE4","v":0},{"$f":"NKH35*'Makro i swap'!NKF4","v":0},{"$f":"NKI35*'Makro i swap'!NKG4","v":0},{"$f":"NKJ35*'Makro i swap'!NKH4","v":0},{"$f":"NKK35*'Makro i swap'!NKI4","v":0},{"$f":"NKL35*'Makro i swap'!NKJ4","v":0},{"$f":"NKM35*'Makro i swap'!NKK4","v":0},{"$f":"NKN35*'Makro i swap'!NKL4","v":0},{"$f":"NKO35*'Makro i swap'!NKM4","v":0},{"$f":"NKP35*'Makro i swap'!NKN4","v":0},{"$f":"NKQ35*'Makro i swap'!NKO4","v":0},{"$f":"NKR35*'Makro i swap'!NKP4","v":0},{"$f":"NKS35*'Makro i swap'!NKQ4","v":0},{"$f":"NKT35*'Makro i swap'!NKR4","v":0},{"$f":"NKU35*'Makro i swap'!NKS4","v":0},{"$f":"NKV35*'Makro i swap'!NKT4","v":0},{"$f":"NKW35*'Makro i swap'!NKU4","v":0},{"$f":"NKX35*'Makro i swap'!NKV4","v":0},{"$f":"NKY35*'Makro i swap'!NKW4","v":0},{"$f":"NKZ35*'Makro i swap'!NKX4","v":0},{"$f":"NLA35*'Makro i swap'!NKY4","v":0},{"$f":"NLB35*'Makro i swap'!NKZ4","v":0},{"$f":"NLC35*'Makro i swap'!NLA4","v":0},{"$f":"NLD35*'Makro i swap'!NLB4","v":0},{"$f":"NLE35*'Makro i swap'!NLC4","v":0},{"$f":"NLF35*'Makro i swap'!NLD4","v":0},{"$f":"NLG35*'Makro i swap'!NLE4","v":0},{"$f":"NLH35*'Makro i swap'!NLF4","v":0},{"$f":"NLI35*'Makro i swap'!NLG4","v":0},{"$f":"NLJ35*'Makro i swap'!NLH4","v":0},{"$f":"NLK35*'Makro i swap'!NLI4","v":0},{"$f":"NLL35*'Makro i swap'!NLJ4","v":0},{"$f":"NLM35*'Makro i swap'!NLK4","v":0},{"$f":"NLN35*'Makro i swap'!NLL4","v":0},{"$f":"NLO35*'Makro i swap'!NLM4","v":0},{"$f":"NLP35*'Makro i swap'!NLN4","v":0},{"$f":"NLQ35*'Makro i swap'!NLO4","v":0},{"$f":"NLR35*'Makro i swap'!NLP4","v":0},{"$f":"NLS35*'Makro i swap'!NLQ4","v":0},{"$f":"NLT35*'Makro i swap'!NLR4","v":0},{"$f":"NLU35*'Makro i swap'!NLS4","v":0},{"$f":"NLV35*'Makro i swap'!NLT4","v":0},{"$f":"NLW35*'Makro i swap'!NLU4","v":0},{"$f":"NLX35*'Makro i swap'!NLV4","v":0},{"$f":"NLY35*'Makro i swap'!NLW4","v":0},{"$f":"NLZ35*'Makro i swap'!NLX4","v":0},{"$f":"NMA35*'Makro i swap'!NLY4","v":0},{"$f":"NMB35*'Makro i swap'!NLZ4","v":0},{"$f":"NMC35*'Makro i swap'!NMA4","v":0},{"$f":"NMD35*'Makro i swap'!NMB4","v":0},{"$f":"NME35*'Makro i swap'!NMC4","v":0},{"$f":"NMF35*'Makro i swap'!NMD4","v":0},{"$f":"NMG35*'Makro i swap'!NME4","v":0},{"$f":"NMH35*'Makro i swap'!NMF4","v":0},{"$f":"NMI35*'Makro i swap'!NMG4","v":0},{"$f":"NMJ35*'Makro i swap'!NMH4","v":0},{"$f":"NMK35*'Makro i swap'!NMI4","v":0},{"$f":"NML35*'Makro i swap'!NMJ4","v":0},{"$f":"NMM35*'Makro i swap'!NMK4","v":0},{"$f":"NMN35*'Makro i swap'!NML4","v":0},{"$f":"NMO35*'Makro i swap'!NMM4","v":0},{"$f":"NMP35*'Makro i swap'!NMN4","v":0},{"$f":"NMQ35*'Makro i swap'!NMO4","v":0},{"$f":"NMR35*'Makro i swap'!NMP4","v":0},{"$f":"NMS35*'Makro i swap'!NMQ4","v":0},{"$f":"NMT35*'Makro i swap'!NMR4","v":0},{"$f":"NMU35*'Makro i swap'!NMS4","v":0},{"$f":"NMV35*'Makro i swap'!NMT4","v":0},{"$f":"NMW35*'Makro i swap'!NMU4","v":0},{"$f":"NMX35*'Makro i swap'!NMV4","v":0},{"$f":"NMY35*'Makro i swap'!NMW4","v":0},{"$f":"NMZ35*'Makro i swap'!NMX4","v":0},{"$f":"NNA35*'Makro i swap'!NMY4","v":0},{"$f":"NNB35*'Makro i swap'!NMZ4","v":0},{"$f":"NNC35*'Makro i swap'!NNA4","v":0},{"$f":"NND35*'Makro i swap'!NNB4","v":0},{"$f":"NNE35*'Makro i swap'!NNC4","v":0},{"$f":"NNF35*'Makro i swap'!NND4","v":0},{"$f":"NNG35*'Makro i swap'!NNE4","v":0},{"$f":"NNH35*'Makro i swap'!NNF4","v":0},{"$f":"NNI35*'Makro i swap'!NNG4","v":0},{"$f":"NNJ35*'Makro i swap'!NNH4","v":0},{"$f":"NNK35*'Makro i swap'!NNI4","v":0},{"$f":"NNL35*'Makro i swap'!NNJ4","v":0},{"$f":"NNM35*'Makro i swap'!NNK4","v":0},{"$f":"NNN35*'Makro i swap'!NNL4","v":0},{"$f":"NNO35*'Makro i swap'!NNM4","v":0},{"$f":"NNP35*'Makro i swap'!NNN4","v":0},{"$f":"NNQ35*'Makro i swap'!NNO4","v":0},{"$f":"NNR35*'Makro i swap'!NNP4","v":0},{"$f":"NNS35*'Makro i swap'!NNQ4","v":0},{"$f":"NNT35*'Makro i swap'!NNR4","v":0},{"$f":"NNU35*'Makro i swap'!NNS4","v":0},{"$f":"NNV35*'Makro i swap'!NNT4","v":0},{"$f":"NNW35*'Makro i swap'!NNU4","v":0},{"$f":"NNX35*'Makro i swap'!NNV4","v":0},{"$f":"NNY35*'Makro i swap'!NNW4","v":0},{"$f":"NNZ35*'Makro i swap'!NNX4","v":0},{"$f":"NOA35*'Makro i swap'!NNY4","v":0},{"$f":"NOB35*'Makro i swap'!NNZ4","v":0},{"$f":"NOC35*'Makro i swap'!NOA4","v":0},{"$f":"NOD35*'Makro i swap'!NOB4","v":0},{"$f":"NOE35*'Makro i swap'!NOC4","v":0},{"$f":"NOF35*'Makro i swap'!NOD4","v":0},{"$f":"NOG35*'Makro i swap'!NOE4","v":0},{"$f":"NOH35*'Makro i swap'!NOF4","v":0},{"$f":"NOI35*'Makro i swap'!NOG4","v":0},{"$f":"NOJ35*'Makro i swap'!NOH4","v":0},{"$f":"NOK35*'Makro i swap'!NOI4","v":0},{"$f":"NOL35*'Makro i swap'!NOJ4","v":0},{"$f":"NOM35*'Makro i swap'!NOK4","v":0},{"$f":"NON35*'Makro i swap'!NOL4","v":0},{"$f":"NOO35*'Makro i swap'!NOM4","v":0},{"$f":"NOP35*'Makro i swap'!NON4","v":0},{"$f":"NOQ35*'Makro i swap'!NOO4","v":0},{"$f":"NOR35*'Makro i swap'!NOP4","v":0},{"$f":"NOS35*'Makro i swap'!NOQ4","v":0},{"$f":"NOT35*'Makro i swap'!NOR4","v":0},{"$f":"NOU35*'Makro i swap'!NOS4","v":0},{"$f":"NOV35*'Makro i swap'!NOT4","v":0},{"$f":"NOW35*'Makro i swap'!NOU4","v":0},{"$f":"NOX35*'Makro i swap'!NOV4","v":0},{"$f":"NOY35*'Makro i swap'!NOW4","v":0},{"$f":"NOZ35*'Makro i swap'!NOX4","v":0},{"$f":"NPA35*'Makro i swap'!NOY4","v":0},{"$f":"NPB35*'Makro i swap'!NOZ4","v":0},{"$f":"NPC35*'Makro i swap'!NPA4","v":0},{"$f":"NPD35*'Makro i swap'!NPB4","v":0},{"$f":"NPE35*'Makro i swap'!NPC4","v":0},{"$f":"NPF35*'Makro i swap'!NPD4","v":0},{"$f":"NPG35*'Makro i swap'!NPE4","v":0},{"$f":"NPH35*'Makro i swap'!NPF4","v":0},{"$f":"NPI35*'Makro i swap'!NPG4","v":0},{"$f":"NPJ35*'Makro i swap'!NPH4","v":0},{"$f":"NPK35*'Makro i swap'!NPI4","v":0},{"$f":"NPL35*'Makro i swap'!NPJ4","v":0},{"$f":"NPM35*'Makro i swap'!NPK4","v":0},{"$f":"NPN35*'Makro i swap'!NPL4","v":0},{"$f":"NPO35*'Makro i swap'!NPM4","v":0},{"$f":"NPP35*'Makro i swap'!NPN4","v":0},{"$f":"NPQ35*'Makro i swap'!NPO4","v":0},{"$f":"NPR35*'Makro i swap'!NPP4","v":0},{"$f":"NPS35*'Makro i swap'!NPQ4","v":0},{"$f":"NPT35*'Makro i swap'!NPR4","v":0},{"$f":"NPU35*'Makro i swap'!NPS4","v":0},{"$f":"NPV35*'Makro i swap'!NPT4","v":0},{"$f":"NPW35*'Makro i swap'!NPU4","v":0},{"$f":"NPX35*'Makro i swap'!NPV4","v":0},{"$f":"NPY35*'Makro i swap'!NPW4","v":0},{"$f":"NPZ35*'Makro i swap'!NPX4","v":0},{"$f":"NQA35*'Makro i swap'!NPY4","v":0},{"$f":"NQB35*'Makro i swap'!NPZ4","v":0},{"$f":"NQC35*'Makro i swap'!NQA4","v":0},{"$f":"NQD35*'Makro i swap'!NQB4","v":0},{"$f":"NQE35*'Makro i swap'!NQC4","v":0},{"$f":"NQF35*'Makro i swap'!NQD4","v":0},{"$f":"NQG35*'Makro i swap'!NQE4","v":0},{"$f":"NQH35*'Makro i swap'!NQF4","v":0},{"$f":"NQI35*'Makro i swap'!NQG4","v":0},{"$f":"NQJ35*'Makro i swap'!NQH4","v":0},{"$f":"NQK35*'Makro i swap'!NQI4","v":0},{"$f":"NQL35*'Makro i swap'!NQJ4","v":0},{"$f":"NQM35*'Makro i swap'!NQK4","v":0},{"$f":"NQN35*'Makro i swap'!NQL4","v":0},{"$f":"NQO35*'Makro i swap'!NQM4","v":0},{"$f":"NQP35*'Makro i swap'!NQN4","v":0},{"$f":"NQQ35*'Makro i swap'!NQO4","v":0},{"$f":"NQR35*'Makro i swap'!NQP4","v":0},{"$f":"NQS35*'Makro i swap'!NQQ4","v":0},{"$f":"NQT35*'Makro i swap'!NQR4","v":0},{"$f":"NQU35*'Makro i swap'!NQS4","v":0},{"$f":"NQV35*'Makro i swap'!NQT4","v":0},{"$f":"NQW35*'Makro i swap'!NQU4","v":0},{"$f":"NQX35*'Makro i swap'!NQV4","v":0},{"$f":"NQY35*'Makro i swap'!NQW4","v":0},{"$f":"NQZ35*'Makro i swap'!NQX4","v":0},{"$f":"NRA35*'Makro i swap'!NQY4","v":0},{"$f":"NRB35*'Makro i swap'!NQZ4","v":0},{"$f":"NRC35*'Makro i swap'!NRA4","v":0},{"$f":"NRD35*'Makro i swap'!NRB4","v":0},{"$f":"NRE35*'Makro i swap'!NRC4","v":0},{"$f":"NRF35*'Makro i swap'!NRD4","v":0},{"$f":"NRG35*'Makro i swap'!NRE4","v":0},{"$f":"NRH35*'Makro i swap'!NRF4","v":0},{"$f":"NRI35*'Makro i swap'!NRG4","v":0},{"$f":"NRJ35*'Makro i swap'!NRH4","v":0},{"$f":"NRK35*'Makro i swap'!NRI4","v":0},{"$f":"NRL35*'Makro i swap'!NRJ4","v":0},{"$f":"NRM35*'Makro i swap'!NRK4","v":0},{"$f":"NRN35*'Makro i swap'!NRL4","v":0},{"$f":"NRO35*'Makro i swap'!NRM4","v":0},{"$f":"NRP35*'Makro i swap'!NRN4","v":0},{"$f":"NRQ35*'Makro i swap'!NRO4","v":0},{"$f":"NRR35*'Makro i swap'!NRP4","v":0},{"$f":"NRS35*'Makro i swap'!NRQ4","v":0},{"$f":"NRT35*'Makro i swap'!NRR4","v":0},{"$f":"NRU35*'Makro i swap'!NRS4","v":0},{"$f":"NRV35*'Makro i swap'!NRT4","v":0},{"$f":"NRW35*'Makro i swap'!NRU4","v":0},{"$f":"NRX35*'Makro i swap'!NRV4","v":0},{"$f":"NRY35*'Makro i swap'!NRW4","v":0},{"$f":"NRZ35*'Makro i swap'!NRX4","v":0},{"$f":"NSA35*'Makro i swap'!NRY4","v":0},{"$f":"NSB35*'Makro i swap'!NRZ4","v":0},{"$f":"NSC35*'Makro i swap'!NSA4","v":0},{"$f":"NSD35*'Makro i swap'!NSB4","v":0},{"$f":"NSE35*'Makro i swap'!NSC4","v":0},{"$f":"NSF35*'Makro i swap'!NSD4","v":0},{"$f":"NSG35*'Makro i swap'!NSE4","v":0},{"$f":"NSH35*'Makro i swap'!NSF4","v":0},{"$f":"NSI35*'Makro i swap'!NSG4","v":0},{"$f":"NSJ35*'Makro i swap'!NSH4","v":0},{"$f":"NSK35*'Makro i swap'!NSI4","v":0},{"$f":"NSL35*'Makro i swap'!NSJ4","v":0},{"$f":"NSM35*'Makro i swap'!NSK4","v":0},{"$f":"NSN35*'Makro i swap'!NSL4","v":0},{"$f":"NSO35*'Makro i swap'!NSM4","v":0},{"$f":"NSP35*'Makro i swap'!NSN4","v":0},{"$f":"NSQ35*'Makro i swap'!NSO4","v":0},{"$f":"NSR35*'Makro i swap'!NSP4","v":0},{"$f":"NSS35*'Makro i swap'!NSQ4","v":0},{"$f":"NST35*'Makro i swap'!NSR4","v":0},{"$f":"NSU35*'Makro i swap'!NSS4","v":0},{"$f":"NSV35*'Makro i swap'!NST4","v":0},{"$f":"NSW35*'Makro i swap'!NSU4","v":0},{"$f":"NSX35*'Makro i swap'!NSV4","v":0},{"$f":"NSY35*'Makro i swap'!NSW4","v":0},{"$f":"NSZ35*'Makro i swap'!NSX4","v":0},{"$f":"NTA35*'Makro i swap'!NSY4","v":0},{"$f":"NTB35*'Makro i swap'!NSZ4","v":0},{"$f":"NTC35*'Makro i swap'!NTA4","v":0},{"$f":"NTD35*'Makro i swap'!NTB4","v":0},{"$f":"NTE35*'Makro i swap'!NTC4","v":0},{"$f":"NTF35*'Makro i swap'!NTD4","v":0},{"$f":"NTG35*'Makro i swap'!NTE4","v":0},{"$f":"NTH35*'Makro i swap'!NTF4","v":0},{"$f":"NTI35*'Makro i swap'!NTG4","v":0},{"$f":"NTJ35*'Makro i swap'!NTH4","v":0},{"$f":"NTK35*'Makro i swap'!NTI4","v":0},{"$f":"NTL35*'Makro i swap'!NTJ4","v":0},{"$f":"NTM35*'Makro i swap'!NTK4","v":0},{"$f":"NTN35*'Makro i swap'!NTL4","v":0},{"$f":"NTO35*'Makro i swap'!NTM4","v":0},{"$f":"NTP35*'Makro i swap'!NTN4","v":0},{"$f":"NTQ35*'Makro i swap'!NTO4","v":0},{"$f":"NTR35*'Makro i swap'!NTP4","v":0},{"$f":"NTS35*'Makro i swap'!NTQ4","v":0},{"$f":"NTT35*'Makro i swap'!NTR4","v":0},{"$f":"NTU35*'Makro i swap'!NTS4","v":0},{"$f":"NTV35*'Makro i swap'!NTT4","v":0},{"$f":"NTW35*'Makro i swap'!NTU4","v":0},{"$f":"NTX35*'Makro i swap'!NTV4","v":0},{"$f":"NTY35*'Makro i swap'!NTW4","v":0},{"$f":"NTZ35*'Makro i swap'!NTX4","v":0},{"$f":"NUA35*'Makro i swap'!NTY4","v":0},{"$f":"NUB35*'Makro i swap'!NTZ4","v":0},{"$f":"NUC35*'Makro i swap'!NUA4","v":0},{"$f":"NUD35*'Makro i swap'!NUB4","v":0},{"$f":"NUE35*'Makro i swap'!NUC4","v":0},{"$f":"NUF35*'Makro i swap'!NUD4","v":0},{"$f":"NUG35*'Makro i swap'!NUE4","v":0},{"$f":"NUH35*'Makro i swap'!NUF4","v":0},{"$f":"NUI35*'Makro i swap'!NUG4","v":0},{"$f":"NUJ35*'Makro i swap'!NUH4","v":0},{"$f":"NUK35*'Makro i swap'!NUI4","v":0},{"$f":"NUL35*'Makro i swap'!NUJ4","v":0},{"$f":"NUM35*'Makro i swap'!NUK4","v":0},{"$f":"NUN35*'Makro i swap'!NUL4","v":0},{"$f":"NUO35*'Makro i swap'!NUM4","v":0},{"$f":"NUP35*'Makro i swap'!NUN4","v":0},{"$f":"NUQ35*'Makro i swap'!NUO4","v":0},{"$f":"NUR35*'Makro i swap'!NUP4","v":0},{"$f":"NUS35*'Makro i swap'!NUQ4","v":0},{"$f":"NUT35*'Makro i swap'!NUR4","v":0},{"$f":"NUU35*'Makro i swap'!NUS4","v":0},{"$f":"NUV35*'Makro i swap'!NUT4","v":0},{"$f":"NUW35*'Makro i swap'!NUU4","v":0},{"$f":"NUX35*'Makro i swap'!NUV4","v":0},{"$f":"NUY35*'Makro i swap'!NUW4","v":0},{"$f":"NUZ35*'Makro i swap'!NUX4","v":0},{"$f":"NVA35*'Makro i swap'!NUY4","v":0},{"$f":"NVB35*'Makro i swap'!NUZ4","v":0},{"$f":"NVC35*'Makro i swap'!NVA4","v":0},{"$f":"NVD35*'Makro i swap'!NVB4","v":0},{"$f":"NVE35*'Makro i swap'!NVC4","v":0},{"$f":"NVF35*'Makro i swap'!NVD4","v":0},{"$f":"NVG35*'Makro i swap'!NVE4","v":0},{"$f":"NVH35*'Makro i swap'!NVF4","v":0},{"$f":"NVI35*'Makro i swap'!NVG4","v":0},{"$f":"NVJ35*'Makro i swap'!NVH4","v":0},{"$f":"NVK35*'Makro i swap'!NVI4","v":0},{"$f":"NVL35*'Makro i swap'!NVJ4","v":0},{"$f":"NVM35*'Makro i swap'!NVK4","v":0},{"$f":"NVN35*'Makro i swap'!NVL4","v":0},{"$f":"NVO35*'Makro i swap'!NVM4","v":0},{"$f":"NVP35*'Makro i swap'!NVN4","v":0},{"$f":"NVQ35*'Makro i swap'!NVO4","v":0},{"$f":"NVR35*'Makro i swap'!NVP4","v":0},{"$f":"NVS35*'Makro i swap'!NVQ4","v":0},{"$f":"NVT35*'Makro i swap'!NVR4","v":0},{"$f":"NVU35*'Makro i swap'!NVS4","v":0},{"$f":"NVV35*'Makro i swap'!NVT4","v":0},{"$f":"NVW35*'Makro i swap'!NVU4","v":0},{"$f":"NVX35*'Makro i swap'!NVV4","v":0},{"$f":"NVY35*'Makro i swap'!NVW4","v":0},{"$f":"NVZ35*'Makro i swap'!NVX4","v":0},{"$f":"NWA35*'Makro i swap'!NVY4","v":0},{"$f":"NWB35*'Makro i swap'!NVZ4","v":0},{"$f":"NWC35*'Makro i swap'!NWA4","v":0},{"$f":"NWD35*'Makro i swap'!NWB4","v":0},{"$f":"NWE35*'Makro i swap'!NWC4","v":0},{"$f":"NWF35*'Makro i swap'!NWD4","v":0},{"$f":"NWG35*'Makro i swap'!NWE4","v":0},{"$f":"NWH35*'Makro i swap'!NWF4","v":0},{"$f":"NWI35*'Makro i swap'!NWG4","v":0},{"$f":"NWJ35*'Makro i swap'!NWH4","v":0},{"$f":"NWK35*'Makro i swap'!NWI4","v":0},{"$f":"NWL35*'Makro i swap'!NWJ4","v":0},{"$f":"NWM35*'Makro i swap'!NWK4","v":0},{"$f":"NWN35*'Makro i swap'!NWL4","v":0},{"$f":"NWO35*'Makro i swap'!NWM4","v":0},{"$f":"NWP35*'Makro i swap'!NWN4","v":0},{"$f":"NWQ35*'Makro i swap'!NWO4","v":0},{"$f":"NWR35*'Makro i swap'!NWP4","v":0},{"$f":"NWS35*'Makro i swap'!NWQ4","v":0},{"$f":"NWT35*'Makro i swap'!NWR4","v":0},{"$f":"NWU35*'Makro i swap'!NWS4","v":0},{"$f":"NWV35*'Makro i swap'!NWT4","v":0},{"$f":"NWW35*'Makro i swap'!NWU4","v":0},{"$f":"NWX35*'Makro i swap'!NWV4","v":0},{"$f":"NWY35*'Makro i swap'!NWW4","v":0},{"$f":"NWZ35*'Makro i swap'!NWX4","v":0},{"$f":"NXA35*'Makro i swap'!NWY4","v":0},{"$f":"NXB35*'Makro i swap'!NWZ4","v":0},{"$f":"NXC35*'Makro i swap'!NXA4","v":0},{"$f":"NXD35*'Makro i swap'!NXB4","v":0},{"$f":"NXE35*'Makro i swap'!NXC4","v":0},{"$f":"NXF35*'Makro i swap'!NXD4","v":0},{"$f":"NXG35*'Makro i swap'!NXE4","v":0},{"$f":"NXH35*'Makro i swap'!NXF4","v":0},{"$f":"NXI35*'Makro i swap'!NXG4","v":0},{"$f":"NXJ35*'Makro i swap'!NXH4","v":0},{"$f":"NXK35*'Makro i swap'!NXI4","v":0},{"$f":"NXL35*'Makro i swap'!NXJ4","v":0},{"$f":"NXM35*'Makro i swap'!NXK4","v":0},{"$f":"NXN35*'Makro i swap'!NXL4","v":0},{"$f":"NXO35*'Makro i swap'!NXM4","v":0},{"$f":"NXP35*'Makro i swap'!NXN4","v":0},{"$f":"NXQ35*'Makro i swap'!NXO4","v":0},{"$f":"NXR35*'Makro i swap'!NXP4","v":0},{"$f":"NXS35*'Makro i swap'!NXQ4","v":0},{"$f":"NXT35*'Makro i swap'!NXR4","v":0},{"$f":"NXU35*'Makro i swap'!NXS4","v":0},{"$f":"NXV35*'Makro i swap'!NXT4","v":0},{"$f":"NXW35*'Makro i swap'!NXU4","v":0},{"$f":"NXX35*'Makro i swap'!NXV4","v":0},{"$f":"NXY35*'Makro i swap'!NXW4","v":0},{"$f":"NXZ35*'Makro i swap'!NXX4","v":0},{"$f":"NYA35*'Makro i swap'!NXY4","v":0},{"$f":"NYB35*'Makro i swap'!NXZ4","v":0},{"$f":"NYC35*'Makro i swap'!NYA4","v":0},{"$f":"NYD35*'Makro i swap'!NYB4","v":0},{"$f":"NYE35*'Makro i swap'!NYC4","v":0},{"$f":"NYF35*'Makro i swap'!NYD4","v":0},{"$f":"NYG35*'Makro i swap'!NYE4","v":0},{"$f":"NYH35*'Makro i swap'!NYF4","v":0},{"$f":"NYI35*'Makro i swap'!NYG4","v":0},{"$f":"NYJ35*'Makro i swap'!NYH4","v":0},{"$f":"NYK35*'Makro i swap'!NYI4","v":0},{"$f":"NYL35*'Makro i swap'!NYJ4","v":0},{"$f":"NYM35*'Makro i swap'!NYK4","v":0},{"$f":"NYN35*'Makro i swap'!NYL4","v":0},{"$f":"NYO35*'Makro i swap'!NYM4","v":0},{"$f":"NYP35*'Makro i swap'!NYN4","v":0},{"$f":"NYQ35*'Makro i swap'!NYO4","v":0},{"$f":"NYR35*'Makro i swap'!NYP4","v":0},{"$f":"NYS35*'Makro i swap'!NYQ4","v":0},{"$f":"NYT35*'Makro i swap'!NYR4","v":0},{"$f":"NYU35*'Makro i swap'!NYS4","v":0},{"$f":"NYV35*'Makro i swap'!NYT4","v":0},{"$f":"NYW35*'Makro i swap'!NYU4","v":0},{"$f":"NYX35*'Makro i swap'!NYV4","v":0},{"$f":"NYY35*'Makro i swap'!NYW4","v":0},{"$f":"NYZ35*'Makro i swap'!NYX4","v":0},{"$f":"NZA35*'Makro i swap'!NYY4","v":0},{"$f":"NZB35*'Makro i swap'!NYZ4","v":0},{"$f":"NZC35*'Makro i swap'!NZA4","v":0},{"$f":"NZD35*'Makro i swap'!NZB4","v":0},{"$f":"NZE35*'Makro i swap'!NZC4","v":0},{"$f":"NZF35*'Makro i swap'!NZD4","v":0},{"$f":"NZG35*'Makro i swap'!NZE4","v":0},{"$f":"NZH35*'Makro i swap'!NZF4","v":0},{"$f":"NZI35*'Makro i swap'!NZG4","v":0},{"$f":"NZJ35*'Makro i swap'!NZH4","v":0},{"$f":"NZK35*'Makro i swap'!NZI4","v":0},{"$f":"NZL35*'Makro i swap'!NZJ4","v":0},{"$f":"NZM35*'Makro i swap'!NZK4","v":0},{"$f":"NZN35*'Makro i swap'!NZL4","v":0},{"$f":"NZO35*'Makro i swap'!NZM4","v":0},{"$f":"NZP35*'Makro i swap'!NZN4","v":0},{"$f":"NZQ35*'Makro i swap'!NZO4","v":0},{"$f":"NZR35*'Makro i swap'!NZP4","v":0},{"$f":"NZS35*'Makro i swap'!NZQ4","v":0},{"$f":"NZT35*'Makro i swap'!NZR4","v":0},{"$f":"NZU35*'Makro i swap'!NZS4","v":0},{"$f":"NZV35*'Makro i swap'!NZT4","v":0},{"$f":"NZW35*'Makro i swap'!NZU4","v":0},{"$f":"NZX35*'Makro i swap'!NZV4","v":0},{"$f":"NZY35*'Makro i swap'!NZW4","v":0},{"$f":"NZZ35*'Makro i swap'!NZX4","v":0},{"$f":"OAA35*'Makro i swap'!NZY4","v":0},{"$f":"OAB35*'Makro i swap'!NZZ4","v":0},{"$f":"OAC35*'Makro i swap'!OAA4","v":0},{"$f":"OAD35*'Makro i swap'!OAB4","v":0},{"$f":"OAE35*'Makro i swap'!OAC4","v":0},{"$f":"OAF35*'Makro i swap'!OAD4","v":0},{"$f":"OAG35*'Makro i swap'!OAE4","v":0},{"$f":"OAH35*'Makro i swap'!OAF4","v":0},{"$f":"OAI35*'Makro i swap'!OAG4","v":0},{"$f":"OAJ35*'Makro i swap'!OAH4","v":0},{"$f":"OAK35*'Makro i swap'!OAI4","v":0},{"$f":"OAL35*'Makro i swap'!OAJ4","v":0},{"$f":"OAM35*'Makro i swap'!OAK4","v":0},{"$f":"OAN35*'Makro i swap'!OAL4","v":0},{"$f":"OAO35*'Makro i swap'!OAM4","v":0},{"$f":"OAP35*'Makro i swap'!OAN4","v":0},{"$f":"OAQ35*'Makro i swap'!OAO4","v":0},{"$f":"OAR35*'Makro i swap'!OAP4","v":0},{"$f":"OAS35*'Makro i swap'!OAQ4","v":0},{"$f":"OAT35*'Makro i swap'!OAR4","v":0},{"$f":"OAU35*'Makro i swap'!OAS4","v":0},{"$f":"OAV35*'Makro i swap'!OAT4","v":0},{"$f":"OAW35*'Makro i swap'!OAU4","v":0},{"$f":"OAX35*'Makro i swap'!OAV4","v":0},{"$f":"OAY35*'Makro i swap'!OAW4","v":0},{"$f":"OAZ35*'Makro i swap'!OAX4","v":0},{"$f":"OBA35*'Makro i swap'!OAY4","v":0},{"$f":"OBB35*'Makro i swap'!OAZ4","v":0},{"$f":"OBC35*'Makro i swap'!OBA4","v":0},{"$f":"OBD35*'Makro i swap'!OBB4","v":0},{"$f":"OBE35*'Makro i swap'!OBC4","v":0},{"$f":"OBF35*'Makro i swap'!OBD4","v":0},{"$f":"OBG35*'Makro i swap'!OBE4","v":0},{"$f":"OBH35*'Makro i swap'!OBF4","v":0},{"$f":"OBI35*'Makro i swap'!OBG4","v":0},{"$f":"OBJ35*'Makro i swap'!OBH4","v":0},{"$f":"OBK35*'Makro i swap'!OBI4","v":0},{"$f":"OBL35*'Makro i swap'!OBJ4","v":0},{"$f":"OBM35*'Makro i swap'!OBK4","v":0},{"$f":"OBN35*'Makro i swap'!OBL4","v":0},{"$f":"OBO35*'Makro i swap'!OBM4","v":0},{"$f":"OBP35*'Makro i swap'!OBN4","v":0},{"$f":"OBQ35*'Makro i swap'!OBO4","v":0},{"$f":"OBR35*'Makro i swap'!OBP4","v":0},{"$f":"OBS35*'Makro i swap'!OBQ4","v":0},{"$f":"OBT35*'Makro i swap'!OBR4","v":0},{"$f":"OBU35*'Makro i swap'!OBS4","v":0},{"$f":"OBV35*'Makro i swap'!OBT4","v":0},{"$f":"OBW35*'Makro i swap'!OBU4","v":0},{"$f":"OBX35*'Makro i swap'!OBV4","v":0},{"$f":"OBY35*'Makro i swap'!OBW4","v":0},{"$f":"OBZ35*'Makro i swap'!OBX4","v":0},{"$f":"OCA35*'Makro i swap'!OBY4","v":0},{"$f":"OCB35*'Makro i swap'!OBZ4","v":0},{"$f":"OCC35*'Makro i swap'!OCA4","v":0},{"$f":"OCD35*'Makro i swap'!OCB4","v":0},{"$f":"OCE35*'Makro i swap'!OCC4","v":0},{"$f":"OCF35*'Makro i swap'!OCD4","v":0},{"$f":"OCG35*'Makro i swap'!OCE4","v":0},{"$f":"OCH35*'Makro i swap'!OCF4","v":0},{"$f":"OCI35*'Makro i swap'!OCG4","v":0},{"$f":"OCJ35*'Makro i swap'!OCH4","v":0},{"$f":"OCK35*'Makro i swap'!OCI4","v":0},{"$f":"OCL35*'Makro i swap'!OCJ4","v":0},{"$f":"OCM35*'Makro i swap'!OCK4","v":0},{"$f":"OCN35*'Makro i swap'!OCL4","v":0},{"$f":"OCO35*'Makro i swap'!OCM4","v":0},{"$f":"OCP35*'Makro i swap'!OCN4","v":0},{"$f":"OCQ35*'Makro i swap'!OCO4","v":0},{"$f":"OCR35*'Makro i swap'!OCP4","v":0},{"$f":"OCS35*'Makro i swap'!OCQ4","v":0},{"$f":"OCT35*'Makro i swap'!OCR4","v":0},{"$f":"OCU35*'Makro i swap'!OCS4","v":0},{"$f":"OCV35*'Makro i swap'!OCT4","v":0},{"$f":"OCW35*'Makro i swap'!OCU4","v":0},{"$f":"OCX35*'Makro i swap'!OCV4","v":0},{"$f":"OCY35*'Makro i swap'!OCW4","v":0},{"$f":"OCZ35*'Makro i swap'!OCX4","v":0},{"$f":"ODA35*'Makro i swap'!OCY4","v":0},{"$f":"ODB35*'Makro i swap'!OCZ4","v":0},{"$f":"ODC35*'Makro i swap'!ODA4","v":0},{"$f":"ODD35*'Makro i swap'!ODB4","v":0},{"$f":"ODE35*'Makro i swap'!ODC4","v":0},{"$f":"ODF35*'Makro i swap'!ODD4","v":0},{"$f":"ODG35*'Makro i swap'!ODE4","v":0},{"$f":"ODH35*'Makro i swap'!ODF4","v":0},{"$f":"ODI35*'Makro i swap'!ODG4","v":0},{"$f":"ODJ35*'Makro i swap'!ODH4","v":0},{"$f":"ODK35*'Makro i swap'!ODI4","v":0},{"$f":"ODL35*'Makro i swap'!ODJ4","v":0},{"$f":"ODM35*'Makro i swap'!ODK4","v":0},{"$f":"ODN35*'Makro i swap'!ODL4","v":0},{"$f":"ODO35*'Makro i swap'!ODM4","v":0},{"$f":"ODP35*'Makro i swap'!ODN4","v":0},{"$f":"ODQ35*'Makro i swap'!ODO4","v":0},{"$f":"ODR35*'Makro i swap'!ODP4","v":0},{"$f":"ODS35*'Makro i swap'!ODQ4","v":0},{"$f":"ODT35*'Makro i swap'!ODR4","v":0},{"$f":"ODU35*'Makro i swap'!ODS4","v":0},{"$f":"ODV35*'Makro i swap'!ODT4","v":0},{"$f":"ODW35*'Makro i swap'!ODU4","v":0},{"$f":"ODX35*'Makro i swap'!ODV4","v":0},{"$f":"ODY35*'Makro i swap'!ODW4","v":0},{"$f":"ODZ35*'Makro i swap'!ODX4","v":0},{"$f":"OEA35*'Makro i swap'!ODY4","v":0},{"$f":"OEB35*'Makro i swap'!ODZ4","v":0},{"$f":"OEC35*'Makro i swap'!OEA4","v":0},{"$f":"OED35*'Makro i swap'!OEB4","v":0},{"$f":"OEE35*'Makro i swap'!OEC4","v":0},{"$f":"OEF35*'Makro i swap'!OED4","v":0},{"$f":"OEG35*'Makro i swap'!OEE4","v":0},{"$f":"OEH35*'Makro i swap'!OEF4","v":0},{"$f":"OEI35*'Makro i swap'!OEG4","v":0},{"$f":"OEJ35*'Makro i swap'!OEH4","v":0},{"$f":"OEK35*'Makro i swap'!OEI4","v":0},{"$f":"OEL35*'Makro i swap'!OEJ4","v":0},{"$f":"OEM35*'Makro i swap'!OEK4","v":0},{"$f":"OEN35*'Makro i swap'!OEL4","v":0},{"$f":"OEO35*'Makro i swap'!OEM4","v":0},{"$f":"OEP35*'Makro i swap'!OEN4","v":0},{"$f":"OEQ35*'Makro i swap'!OEO4","v":0},{"$f":"OER35*'Makro i swap'!OEP4","v":0},{"$f":"OES35*'Makro i swap'!OEQ4","v":0},{"$f":"OET35*'Makro i swap'!OER4","v":0},{"$f":"OEU35*'Makro i swap'!OES4","v":0},{"$f":"OEV35*'Makro i swap'!OET4","v":0},{"$f":"OEW35*'Makro i swap'!OEU4","v":0},{"$f":"OEX35*'Makro i swap'!OEV4","v":0},{"$f":"OEY35*'Makro i swap'!OEW4","v":0},{"$f":"OEZ35*'Makro i swap'!OEX4","v":0},{"$f":"OFA35*'Makro i swap'!OEY4","v":0},{"$f":"OFB35*'Makro i swap'!OEZ4","v":0},{"$f":"OFC35*'Makro i swap'!OFA4","v":0},{"$f":"OFD35*'Makro i swap'!OFB4","v":0},{"$f":"OFE35*'Makro i swap'!OFC4","v":0},{"$f":"OFF35*'Makro i swap'!OFD4","v":0},{"$f":"OFG35*'Makro i swap'!OFE4","v":0},{"$f":"OFH35*'Makro i swap'!OFF4","v":0},{"$f":"OFI35*'Makro i swap'!OFG4","v":0},{"$f":"OFJ35*'Makro i swap'!OFH4","v":0},{"$f":"OFK35*'Makro i swap'!OFI4","v":0},{"$f":"OFL35*'Makro i swap'!OFJ4","v":0},{"$f":"OFM35*'Makro i swap'!OFK4","v":0},{"$f":"OFN35*'Makro i swap'!OFL4","v":0},{"$f":"OFO35*'Makro i swap'!OFM4","v":0},{"$f":"OFP35*'Makro i swap'!OFN4","v":0},{"$f":"OFQ35*'Makro i swap'!OFO4","v":0},{"$f":"OFR35*'Makro i swap'!OFP4","v":0},{"$f":"OFS35*'Makro i swap'!OFQ4","v":0},{"$f":"OFT35*'Makro i swap'!OFR4","v":0},{"$f":"OFU35*'Makro i swap'!OFS4","v":0},{"$f":"OFV35*'Makro i swap'!OFT4","v":0},{"$f":"OFW35*'Makro i swap'!OFU4","v":0},{"$f":"OFX35*'Makro i swap'!OFV4","v":0},{"$f":"OFY35*'Makro i swap'!OFW4","v":0},{"$f":"OFZ35*'Makro i swap'!OFX4","v":0},{"$f":"OGA35*'Makro i swap'!OFY4","v":0},{"$f":"OGB35*'Makro i swap'!OFZ4","v":0},{"$f":"OGC35*'Makro i swap'!OGA4","v":0},{"$f":"OGD35*'Makro i swap'!OGB4","v":0},{"$f":"OGE35*'Makro i swap'!OGC4","v":0},{"$f":"OGF35*'Makro i swap'!OGD4","v":0},{"$f":"OGG35*'Makro i swap'!OGE4","v":0},{"$f":"OGH35*'Makro i swap'!OGF4","v":0},{"$f":"OGI35*'Makro i swap'!OGG4","v":0},{"$f":"OGJ35*'Makro i swap'!OGH4","v":0},{"$f":"OGK35*'Makro i swap'!OGI4","v":0},{"$f":"OGL35*'Makro i swap'!OGJ4","v":0},{"$f":"OGM35*'Makro i swap'!OGK4","v":0},{"$f":"OGN35*'Makro i swap'!OGL4","v":0},{"$f":"OGO35*'Makro i swap'!OGM4","v":0},{"$f":"OGP35*'Makro i swap'!OGN4","v":0},{"$f":"OGQ35*'Makro i swap'!OGO4","v":0},{"$f":"OGR35*'Makro i swap'!OGP4","v":0},{"$f":"OGS35*'Makro i swap'!OGQ4","v":0},{"$f":"OGT35*'Makro i swap'!OGR4","v":0},{"$f":"OGU35*'Makro i swap'!OGS4","v":0},{"$f":"OGV35*'Makro i swap'!OGT4","v":0},{"$f":"OGW35*'Makro i swap'!OGU4","v":0},{"$f":"OGX35*'Makro i swap'!OGV4","v":0},{"$f":"OGY35*'Makro i swap'!OGW4","v":0},{"$f":"OGZ35*'Makro i swap'!OGX4","v":0},{"$f":"OHA35*'Makro i swap'!OGY4","v":0},{"$f":"OHB35*'Makro i swap'!OGZ4","v":0},{"$f":"OHC35*'Makro i swap'!OHA4","v":0},{"$f":"OHD35*'Makro i swap'!OHB4","v":0},{"$f":"OHE35*'Makro i swap'!OHC4","v":0},{"$f":"OHF35*'Makro i swap'!OHD4","v":0},{"$f":"OHG35*'Makro i swap'!OHE4","v":0},{"$f":"OHH35*'Makro i swap'!OHF4","v":0},{"$f":"OHI35*'Makro i swap'!OHG4","v":0},{"$f":"OHJ35*'Makro i swap'!OHH4","v":0},{"$f":"OHK35*'Makro i swap'!OHI4","v":0},{"$f":"OHL35*'Makro i swap'!OHJ4","v":0},{"$f":"OHM35*'Makro i swap'!OHK4","v":0},{"$f":"OHN35*'Makro i swap'!OHL4","v":0},{"$f":"OHO35*'Makro i swap'!OHM4","v":0},{"$f":"OHP35*'Makro i swap'!OHN4","v":0},{"$f":"OHQ35*'Makro i swap'!OHO4","v":0},{"$f":"OHR35*'Makro i swap'!OHP4","v":0},{"$f":"OHS35*'Makro i swap'!OHQ4","v":0},{"$f":"OHT35*'Makro i swap'!OHR4","v":0},{"$f":"OHU35*'Makro i swap'!OHS4","v":0},{"$f":"OHV35*'Makro i swap'!OHT4","v":0},{"$f":"OHW35*'Makro i swap'!OHU4","v":0},{"$f":"OHX35*'Makro i swap'!OHV4","v":0},{"$f":"OHY35*'Makro i swap'!OHW4","v":0},{"$f":"OHZ35*'Makro i swap'!OHX4","v":0},{"$f":"OIA35*'Makro i swap'!OHY4","v":0},{"$f":"OIB35*'Makro i swap'!OHZ4","v":0},{"$f":"OIC35*'Makro i swap'!OIA4","v":0},{"$f":"OID35*'Makro i swap'!OIB4","v":0},{"$f":"OIE35*'Makro i swap'!OIC4","v":0},{"$f":"OIF35*'Makro i swap'!OID4","v":0},{"$f":"OIG35*'Makro i swap'!OIE4","v":0},{"$f":"OIH35*'Makro i swap'!OIF4","v":0},{"$f":"OII35*'Makro i swap'!OIG4","v":0},{"$f":"OIJ35*'Makro i swap'!OIH4","v":0},{"$f":"OIK35*'Makro i swap'!OII4","v":0},{"$f":"OIL35*'Makro i swap'!OIJ4","v":0},{"$f":"OIM35*'Makro i swap'!OIK4","v":0},{"$f":"OIN35*'Makro i swap'!OIL4","v":0},{"$f":"OIO35*'Makro i swap'!OIM4","v":0},{"$f":"OIP35*'Makro i swap'!OIN4","v":0},{"$f":"OIQ35*'Makro i swap'!OIO4","v":0},{"$f":"OIR35*'Makro i swap'!OIP4","v":0},{"$f":"OIS35*'Makro i swap'!OIQ4","v":0},{"$f":"OIT35*'Makro i swap'!OIR4","v":0},{"$f":"OIU35*'Makro i swap'!OIS4","v":0},{"$f":"OIV35*'Makro i swap'!OIT4","v":0},{"$f":"OIW35*'Makro i swap'!OIU4","v":0},{"$f":"OIX35*'Makro i swap'!OIV4","v":0},{"$f":"OIY35*'Makro i swap'!OIW4","v":0},{"$f":"OIZ35*'Makro i swap'!OIX4","v":0},{"$f":"OJA35*'Makro i swap'!OIY4","v":0},{"$f":"OJB35*'Makro i swap'!OIZ4","v":0},{"$f":"OJC35*'Makro i swap'!OJA4","v":0},{"$f":"OJD35*'Makro i swap'!OJB4","v":0},{"$f":"OJE35*'Makro i swap'!OJC4","v":0},{"$f":"OJF35*'Makro i swap'!OJD4","v":0},{"$f":"OJG35*'Makro i swap'!OJE4","v":0},{"$f":"OJH35*'Makro i swap'!OJF4","v":0},{"$f":"OJI35*'Makro i swap'!OJG4","v":0},{"$f":"OJJ35*'Makro i swap'!OJH4","v":0},{"$f":"OJK35*'Makro i swap'!OJI4","v":0},{"$f":"OJL35*'Makro i swap'!OJJ4","v":0},{"$f":"OJM35*'Makro i swap'!OJK4","v":0},{"$f":"OJN35*'Makro i swap'!OJL4","v":0},{"$f":"OJO35*'Makro i swap'!OJM4","v":0},{"$f":"OJP35*'Makro i swap'!OJN4","v":0},{"$f":"OJQ35*'Makro i swap'!OJO4","v":0},{"$f":"OJR35*'Makro i swap'!OJP4","v":0},{"$f":"OJS35*'Makro i swap'!OJQ4","v":0},{"$f":"OJT35*'Makro i swap'!OJR4","v":0},{"$f":"OJU35*'Makro i swap'!OJS4","v":0},{"$f":"OJV35*'Makro i swap'!OJT4","v":0},{"$f":"OJW35*'Makro i swap'!OJU4","v":0},{"$f":"OJX35*'Makro i swap'!OJV4","v":0},{"$f":"OJY35*'Makro i swap'!OJW4","v":0},{"$f":"OJZ35*'Makro i swap'!OJX4","v":0},{"$f":"OKA35*'Makro i swap'!OJY4","v":0},{"$f":"OKB35*'Makro i swap'!OJZ4","v":0},{"$f":"OKC35*'Makro i swap'!OKA4","v":0},{"$f":"OKD35*'Makro i swap'!OKB4","v":0},{"$f":"OKE35*'Makro i swap'!OKC4","v":0},{"$f":"OKF35*'Makro i swap'!OKD4","v":0},{"$f":"OKG35*'Makro i swap'!OKE4","v":0},{"$f":"OKH35*'Makro i swap'!OKF4","v":0},{"$f":"OKI35*'Makro i swap'!OKG4","v":0},{"$f":"OKJ35*'Makro i swap'!OKH4","v":0},{"$f":"OKK35*'Makro i swap'!OKI4","v":0},{"$f":"OKL35*'Makro i swap'!OKJ4","v":0},{"$f":"OKM35*'Makro i swap'!OKK4","v":0},{"$f":"OKN35*'Makro i swap'!OKL4","v":0},{"$f":"OKO35*'Makro i swap'!OKM4","v":0},{"$f":"OKP35*'Makro i swap'!OKN4","v":0},{"$f":"OKQ35*'Makro i swap'!OKO4","v":0},{"$f":"OKR35*'Makro i swap'!OKP4","v":0},{"$f":"OKS35*'Makro i swap'!OKQ4","v":0},{"$f":"OKT35*'Makro i swap'!OKR4","v":0},{"$f":"OKU35*'Makro i swap'!OKS4","v":0},{"$f":"OKV35*'Makro i swap'!OKT4","v":0},{"$f":"OKW35*'Makro i swap'!OKU4","v":0},{"$f":"OKX35*'Makro i swap'!OKV4","v":0},{"$f":"OKY35*'Makro i swap'!OKW4","v":0},{"$f":"OKZ35*'Makro i swap'!OKX4","v":0},{"$f":"OLA35*'Makro i swap'!OKY4","v":0},{"$f":"OLB35*'Makro i swap'!OKZ4","v":0},{"$f":"OLC35*'Makro i swap'!OLA4","v":0},{"$f":"OLD35*'Makro i swap'!OLB4","v":0},{"$f":"OLE35*'Makro i swap'!OLC4","v":0},{"$f":"OLF35*'Makro i swap'!OLD4","v":0},{"$f":"OLG35*'Makro i swap'!OLE4","v":0},{"$f":"OLH35*'Makro i swap'!OLF4","v":0},{"$f":"OLI35*'Makro i swap'!OLG4","v":0},{"$f":"OLJ35*'Makro i swap'!OLH4","v":0},{"$f":"OLK35*'Makro i swap'!OLI4","v":0},{"$f":"OLL35*'Makro i swap'!OLJ4","v":0},{"$f":"OLM35*'Makro i swap'!OLK4","v":0},{"$f":"OLN35*'Makro i swap'!OLL4","v":0},{"$f":"OLO35*'Makro i swap'!OLM4","v":0},{"$f":"OLP35*'Makro i swap'!OLN4","v":0},{"$f":"OLQ35*'Makro i swap'!OLO4","v":0},{"$f":"OLR35*'Makro i swap'!OLP4","v":0},{"$f":"OLS35*'Makro i swap'!OLQ4","v":0},{"$f":"OLT35*'Makro i swap'!OLR4","v":0},{"$f":"OLU35*'Makro i swap'!OLS4","v":0},{"$f":"OLV35*'Makro i swap'!OLT4","v":0},{"$f":"OLW35*'Makro i swap'!OLU4","v":0},{"$f":"OLX35*'Makro i swap'!OLV4","v":0},{"$f":"OLY35*'Makro i swap'!OLW4","v":0},{"$f":"OLZ35*'Makro i swap'!OLX4","v":0},{"$f":"OMA35*'Makro i swap'!OLY4","v":0},{"$f":"OMB35*'Makro i swap'!OLZ4","v":0},{"$f":"OMC35*'Makro i swap'!OMA4","v":0},{"$f":"OMD35*'Makro i swap'!OMB4","v":0},{"$f":"OME35*'Makro i swap'!OMC4","v":0},{"$f":"OMF35*'Makro i swap'!OMD4","v":0},{"$f":"OMG35*'Makro i swap'!OME4","v":0},{"$f":"OMH35*'Makro i swap'!OMF4","v":0},{"$f":"OMI35*'Makro i swap'!OMG4","v":0},{"$f":"OMJ35*'Makro i swap'!OMH4","v":0},{"$f":"OMK35*'Makro i swap'!OMI4","v":0},{"$f":"OML35*'Makro i swap'!OMJ4","v":0},{"$f":"OMM35*'Makro i swap'!OMK4","v":0},{"$f":"OMN35*'Makro i swap'!OML4","v":0},{"$f":"OMO35*'Makro i swap'!OMM4","v":0},{"$f":"OMP35*'Makro i swap'!OMN4","v":0},{"$f":"OMQ35*'Makro i swap'!OMO4","v":0},{"$f":"OMR35*'Makro i swap'!OMP4","v":0},{"$f":"OMS35*'Makro i swap'!OMQ4","v":0},{"$f":"OMT35*'Makro i swap'!OMR4","v":0},{"$f":"OMU35*'Makro i swap'!OMS4","v":0},{"$f":"OMV35*'Makro i swap'!OMT4","v":0},{"$f":"OMW35*'Makro i swap'!OMU4","v":0},{"$f":"OMX35*'Makro i swap'!OMV4","v":0},{"$f":"OMY35*'Makro i swap'!OMW4","v":0},{"$f":"OMZ35*'Makro i swap'!OMX4","v":0},{"$f":"ONA35*'Makro i swap'!OMY4","v":0},{"$f":"ONB35*'Makro i swap'!OMZ4","v":0},{"$f":"ONC35*'Makro i swap'!ONA4","v":0},{"$f":"OND35*'Makro i swap'!ONB4","v":0},{"$f":"ONE35*'Makro i swap'!ONC4","v":0},{"$f":"ONF35*'Makro i swap'!OND4","v":0},{"$f":"ONG35*'Makro i swap'!ONE4","v":0},{"$f":"ONH35*'Makro i swap'!ONF4","v":0},{"$f":"ONI35*'Makro i swap'!ONG4","v":0},{"$f":"ONJ35*'Makro i swap'!ONH4","v":0},{"$f":"ONK35*'Makro i swap'!ONI4","v":0},{"$f":"ONL35*'Makro i swap'!ONJ4","v":0},{"$f":"ONM35*'Makro i swap'!ONK4","v":0},{"$f":"ONN35*'Makro i swap'!ONL4","v":0},{"$f":"ONO35*'Makro i swap'!ONM4","v":0},{"$f":"ONP35*'Makro i swap'!ONN4","v":0},{"$f":"ONQ35*'Makro i swap'!ONO4","v":0},{"$f":"ONR35*'Makro i swap'!ONP4","v":0},{"$f":"ONS35*'Makro i swap'!ONQ4","v":0},{"$f":"ONT35*'Makro i swap'!ONR4","v":0},{"$f":"ONU35*'Makro i swap'!ONS4","v":0},{"$f":"ONV35*'Makro i swap'!ONT4","v":0},{"$f":"ONW35*'Makro i swap'!ONU4","v":0},{"$f":"ONX35*'Makro i swap'!ONV4","v":0},{"$f":"ONY35*'Makro i swap'!ONW4","v":0},{"$f":"ONZ35*'Makro i swap'!ONX4","v":0},{"$f":"OOA35*'Makro i swap'!ONY4","v":0},{"$f":"OOB35*'Makro i swap'!ONZ4","v":0},{"$f":"OOC35*'Makro i swap'!OOA4","v":0},{"$f":"OOD35*'Makro i swap'!OOB4","v":0},{"$f":"OOE35*'Makro i swap'!OOC4","v":0},{"$f":"OOF35*'Makro i swap'!OOD4","v":0},{"$f":"OOG35*'Makro i swap'!OOE4","v":0},{"$f":"OOH35*'Makro i swap'!OOF4","v":0},{"$f":"OOI35*'Makro i swap'!OOG4","v":0},{"$f":"OOJ35*'Makro i swap'!OOH4","v":0},{"$f":"OOK35*'Makro i swap'!OOI4","v":0},{"$f":"OOL35*'Makro i swap'!OOJ4","v":0},{"$f":"OOM35*'Makro i swap'!OOK4","v":0},{"$f":"OON35*'Makro i swap'!OOL4","v":0},{"$f":"OOO35*'Makro i swap'!OOM4","v":0},{"$f":"OOP35*'Makro i swap'!OON4","v":0},{"$f":"OOQ35*'Makro i swap'!OOO4","v":0},{"$f":"OOR35*'Makro i swap'!OOP4","v":0},{"$f":"OOS35*'Makro i swap'!OOQ4","v":0},{"$f":"OOT35*'Makro i swap'!OOR4","v":0},{"$f":"OOU35*'Makro i swap'!OOS4","v":0},{"$f":"OOV35*'Makro i swap'!OOT4","v":0},{"$f":"OOW35*'Makro i swap'!OOU4","v":0},{"$f":"OOX35*'Makro i swap'!OOV4","v":0},{"$f":"OOY35*'Makro i swap'!OOW4","v":0},{"$f":"OOZ35*'Makro i swap'!OOX4","v":0},{"$f":"OPA35*'Makro i swap'!OOY4","v":0},{"$f":"OPB35*'Makro i swap'!OOZ4","v":0},{"$f":"OPC35*'Makro i swap'!OPA4","v":0},{"$f":"OPD35*'Makro i swap'!OPB4","v":0},{"$f":"OPE35*'Makro i swap'!OPC4","v":0},{"$f":"OPF35*'Makro i swap'!OPD4","v":0},{"$f":"OPG35*'Makro i swap'!OPE4","v":0},{"$f":"OPH35*'Makro i swap'!OPF4","v":0},{"$f":"OPI35*'Makro i swap'!OPG4","v":0},{"$f":"OPJ35*'Makro i swap'!OPH4","v":0},{"$f":"OPK35*'Makro i swap'!OPI4","v":0},{"$f":"OPL35*'Makro i swap'!OPJ4","v":0},{"$f":"OPM35*'Makro i swap'!OPK4","v":0},{"$f":"OPN35*'Makro i swap'!OPL4","v":0},{"$f":"OPO35*'Makro i swap'!OPM4","v":0},{"$f":"OPP35*'Makro i swap'!OPN4","v":0},{"$f":"OPQ35*'Makro i swap'!OPO4","v":0},{"$f":"OPR35*'Makro i swap'!OPP4","v":0},{"$f":"OPS35*'Makro i swap'!OPQ4","v":0},{"$f":"OPT35*'Makro i swap'!OPR4","v":0},{"$f":"OPU35*'Makro i swap'!OPS4","v":0},{"$f":"OPV35*'Makro i swap'!OPT4","v":0},{"$f":"OPW35*'Makro i swap'!OPU4","v":0},{"$f":"OPX35*'Makro i swap'!OPV4","v":0},{"$f":"OPY35*'Makro i swap'!OPW4","v":0},{"$f":"OPZ35*'Makro i swap'!OPX4","v":0},{"$f":"OQA35*'Makro i swap'!OPY4","v":0},{"$f":"OQB35*'Makro i swap'!OPZ4","v":0},{"$f":"OQC35*'Makro i swap'!OQA4","v":0},{"$f":"OQD35*'Makro i swap'!OQB4","v":0},{"$f":"OQE35*'Makro i swap'!OQC4","v":0},{"$f":"OQF35*'Makro i swap'!OQD4","v":0},{"$f":"OQG35*'Makro i swap'!OQE4","v":0},{"$f":"OQH35*'Makro i swap'!OQF4","v":0},{"$f":"OQI35*'Makro i swap'!OQG4","v":0},{"$f":"OQJ35*'Makro i swap'!OQH4","v":0},{"$f":"OQK35*'Makro i swap'!OQI4","v":0},{"$f":"OQL35*'Makro i swap'!OQJ4","v":0},{"$f":"OQM35*'Makro i swap'!OQK4","v":0},{"$f":"OQN35*'Makro i swap'!OQL4","v":0},{"$f":"OQO35*'Makro i swap'!OQM4","v":0},{"$f":"OQP35*'Makro i swap'!OQN4","v":0},{"$f":"OQQ35*'Makro i swap'!OQO4","v":0},{"$f":"OQR35*'Makro i swap'!OQP4","v":0},{"$f":"OQS35*'Makro i swap'!OQQ4","v":0},{"$f":"OQT35*'Makro i swap'!OQR4","v":0},{"$f":"OQU35*'Makro i swap'!OQS4","v":0},{"$f":"OQV35*'Makro i swap'!OQT4","v":0},{"$f":"OQW35*'Makro i swap'!OQU4","v":0},{"$f":"OQX35*'Makro i swap'!OQV4","v":0},{"$f":"OQY35*'Makro i swap'!OQW4","v":0},{"$f":"OQZ35*'Makro i swap'!OQX4","v":0},{"$f":"ORA35*'Makro i swap'!OQY4","v":0},{"$f":"ORB35*'Makro i swap'!OQZ4","v":0},{"$f":"ORC35*'Makro i swap'!ORA4","v":0},{"$f":"ORD35*'Makro i swap'!ORB4","v":0},{"$f":"ORE35*'Makro i swap'!ORC4","v":0},{"$f":"ORF35*'Makro i swap'!ORD4","v":0},{"$f":"ORG35*'Makro i swap'!ORE4","v":0},{"$f":"ORH35*'Makro i swap'!ORF4","v":0},{"$f":"ORI35*'Makro i swap'!ORG4","v":0},{"$f":"ORJ35*'Makro i swap'!ORH4","v":0},{"$f":"ORK35*'Makro i swap'!ORI4","v":0},{"$f":"ORL35*'Makro i swap'!ORJ4","v":0},{"$f":"ORM35*'Makro i swap'!ORK4","v":0},{"$f":"ORN35*'Makro i swap'!ORL4","v":0},{"$f":"ORO35*'Makro i swap'!ORM4","v":0},{"$f":"ORP35*'Makro i swap'!ORN4","v":0},{"$f":"ORQ35*'Makro i swap'!ORO4","v":0},{"$f":"ORR35*'Makro i swap'!ORP4","v":0},{"$f":"ORS35*'Makro i swap'!ORQ4","v":0},{"$f":"ORT35*'Makro i swap'!ORR4","v":0},{"$f":"ORU35*'Makro i swap'!ORS4","v":0},{"$f":"ORV35*'Makro i swap'!ORT4","v":0},{"$f":"ORW35*'Makro i swap'!ORU4","v":0},{"$f":"ORX35*'Makro i swap'!ORV4","v":0},{"$f":"ORY35*'Makro i swap'!ORW4","v":0},{"$f":"ORZ35*'Makro i swap'!ORX4","v":0},{"$f":"OSA35*'Makro i swap'!ORY4","v":0},{"$f":"OSB35*'Makro i swap'!ORZ4","v":0},{"$f":"OSC35*'Makro i swap'!OSA4","v":0},{"$f":"OSD35*'Makro i swap'!OSB4","v":0},{"$f":"OSE35*'Makro i swap'!OSC4","v":0},{"$f":"OSF35*'Makro i swap'!OSD4","v":0},{"$f":"OSG35*'Makro i swap'!OSE4","v":0},{"$f":"OSH35*'Makro i swap'!OSF4","v":0},{"$f":"OSI35*'Makro i swap'!OSG4","v":0},{"$f":"OSJ35*'Makro i swap'!OSH4","v":0},{"$f":"OSK35*'Makro i swap'!OSI4","v":0},{"$f":"OSL35*'Makro i swap'!OSJ4","v":0},{"$f":"OSM35*'Makro i swap'!OSK4","v":0},{"$f":"OSN35*'Makro i swap'!OSL4","v":0},{"$f":"OSO35*'Makro i swap'!OSM4","v":0},{"$f":"OSP35*'Makro i swap'!OSN4","v":0},{"$f":"OSQ35*'Makro i swap'!OSO4","v":0},{"$f":"OSR35*'Makro i swap'!OSP4","v":0},{"$f":"OSS35*'Makro i swap'!OSQ4","v":0},{"$f":"OST35*'Makro i swap'!OSR4","v":0},{"$f":"OSU35*'Makro i swap'!OSS4","v":0},{"$f":"OSV35*'Makro i swap'!OST4","v":0},{"$f":"OSW35*'Makro i swap'!OSU4","v":0},{"$f":"OSX35*'Makro i swap'!OSV4","v":0},{"$f":"OSY35*'Makro i swap'!OSW4","v":0},{"$f":"OSZ35*'Makro i swap'!OSX4","v":0},{"$f":"OTA35*'Makro i swap'!OSY4","v":0},{"$f":"OTB35*'Makro i swap'!OSZ4","v":0},{"$f":"OTC35*'Makro i swap'!OTA4","v":0},{"$f":"OTD35*'Makro i swap'!OTB4","v":0},{"$f":"OTE35*'Makro i swap'!OTC4","v":0},{"$f":"OTF35*'Makro i swap'!OTD4","v":0},{"$f":"OTG35*'Makro i swap'!OTE4","v":0},{"$f":"OTH35*'Makro i swap'!OTF4","v":0},{"$f":"OTI35*'Makro i swap'!OTG4","v":0},{"$f":"OTJ35*'Makro i swap'!OTH4","v":0},{"$f":"OTK35*'Makro i swap'!OTI4","v":0},{"$f":"OTL35*'Makro i swap'!OTJ4","v":0},{"$f":"OTM35*'Makro i swap'!OTK4","v":0},{"$f":"OTN35*'Makro i swap'!OTL4","v":0},{"$f":"OTO35*'Makro i swap'!OTM4","v":0},{"$f":"OTP35*'Makro i swap'!OTN4","v":0},{"$f":"OTQ35*'Makro i swap'!OTO4","v":0},{"$f":"OTR35*'Makro i swap'!OTP4","v":0},{"$f":"OTS35*'Makro i swap'!OTQ4","v":0},{"$f":"OTT35*'Makro i swap'!OTR4","v":0},{"$f":"OTU35*'Makro i swap'!OTS4","v":0},{"$f":"OTV35*'Makro i swap'!OTT4","v":0},{"$f":"OTW35*'Makro i swap'!OTU4","v":0},{"$f":"OTX35*'Makro i swap'!OTV4","v":0},{"$f":"OTY35*'Makro i swap'!OTW4","v":0},{"$f":"OTZ35*'Makro i swap'!OTX4","v":0},{"$f":"OUA35*'Makro i swap'!OTY4","v":0},{"$f":"OUB35*'Makro i swap'!OTZ4","v":0},{"$f":"OUC35*'Makro i swap'!OUA4","v":0},{"$f":"OUD35*'Makro i swap'!OUB4","v":0},{"$f":"OUE35*'Makro i swap'!OUC4","v":0},{"$f":"OUF35*'Makro i swap'!OUD4","v":0},{"$f":"OUG35*'Makro i swap'!OUE4","v":0},{"$f":"OUH35*'Makro i swap'!OUF4","v":0},{"$f":"OUI35*'Makro i swap'!OUG4","v":0},{"$f":"OUJ35*'Makro i swap'!OUH4","v":0},{"$f":"OUK35*'Makro i swap'!OUI4","v":0},{"$f":"OUL35*'Makro i swap'!OUJ4","v":0},{"$f":"OUM35*'Makro i swap'!OUK4","v":0},{"$f":"OUN35*'Makro i swap'!OUL4","v":0},{"$f":"OUO35*'Makro i swap'!OUM4","v":0},{"$f":"OUP35*'Makro i swap'!OUN4","v":0},{"$f":"OUQ35*'Makro i swap'!OUO4","v":0},{"$f":"OUR35*'Makro i swap'!OUP4","v":0},{"$f":"OUS35*'Makro i swap'!OUQ4","v":0},{"$f":"OUT35*'Makro i swap'!OUR4","v":0},{"$f":"OUU35*'Makro i swap'!OUS4","v":0},{"$f":"OUV35*'Makro i swap'!OUT4","v":0},{"$f":"OUW35*'Makro i swap'!OUU4","v":0},{"$f":"OUX35*'Makro i swap'!OUV4","v":0},{"$f":"OUY35*'Makro i swap'!OUW4","v":0},{"$f":"OUZ35*'Makro i swap'!OUX4","v":0},{"$f":"OVA35*'Makro i swap'!OUY4","v":0},{"$f":"OVB35*'Makro i swap'!OUZ4","v":0},{"$f":"OVC35*'Makro i swap'!OVA4","v":0},{"$f":"OVD35*'Makro i swap'!OVB4","v":0},{"$f":"OVE35*'Makro i swap'!OVC4","v":0},{"$f":"OVF35*'Makro i swap'!OVD4","v":0},{"$f":"OVG35*'Makro i swap'!OVE4","v":0},{"$f":"OVH35*'Makro i swap'!OVF4","v":0},{"$f":"OVI35*'Makro i swap'!OVG4","v":0},{"$f":"OVJ35*'Makro i swap'!OVH4","v":0},{"$f":"OVK35*'Makro i swap'!OVI4","v":0},{"$f":"OVL35*'Makro i swap'!OVJ4","v":0},{"$f":"OVM35*'Makro i swap'!OVK4","v":0},{"$f":"OVN35*'Makro i swap'!OVL4","v":0},{"$f":"OVO35*'Makro i swap'!OVM4","v":0},{"$f":"OVP35*'Makro i swap'!OVN4","v":0},{"$f":"OVQ35*'Makro i swap'!OVO4","v":0},{"$f":"OVR35*'Makro i swap'!OVP4","v":0},{"$f":"OVS35*'Makro i swap'!OVQ4","v":0},{"$f":"OVT35*'Makro i swap'!OVR4","v":0},{"$f":"OVU35*'Makro i swap'!OVS4","v":0},{"$f":"OVV35*'Makro i swap'!OVT4","v":0},{"$f":"OVW35*'Makro i swap'!OVU4","v":0},{"$f":"OVX35*'Makro i swap'!OVV4","v":0},{"$f":"OVY35*'Makro i swap'!OVW4","v":0},{"$f":"OVZ35*'Makro i swap'!OVX4","v":0},{"$f":"OWA35*'Makro i swap'!OVY4","v":0},{"$f":"OWB35*'Makro i swap'!OVZ4","v":0},{"$f":"OWC35*'Makro i swap'!OWA4","v":0},{"$f":"OWD35*'Makro i swap'!OWB4","v":0},{"$f":"OWE35*'Makro i swap'!OWC4","v":0},{"$f":"OWF35*'Makro i swap'!OWD4","v":0},{"$f":"OWG35*'Makro i swap'!OWE4","v":0},{"$f":"OWH35*'Makro i swap'!OWF4","v":0},{"$f":"OWI35*'Makro i swap'!OWG4","v":0},{"$f":"OWJ35*'Makro i swap'!OWH4","v":0},{"$f":"OWK35*'Makro i swap'!OWI4","v":0},{"$f":"OWL35*'Makro i swap'!OWJ4","v":0},{"$f":"OWM35*'Makro i swap'!OWK4","v":0},{"$f":"OWN35*'Makro i swap'!OWL4","v":0},{"$f":"OWO35*'Makro i swap'!OWM4","v":0},{"$f":"OWP35*'Makro i swap'!OWN4","v":0},{"$f":"OWQ35*'Makro i swap'!OWO4","v":0},{"$f":"OWR35*'Makro i swap'!OWP4","v":0},{"$f":"OWS35*'Makro i swap'!OWQ4","v":0},{"$f":"OWT35*'Makro i swap'!OWR4","v":0},{"$f":"OWU35*'Makro i swap'!OWS4","v":0},{"$f":"OWV35*'Makro i swap'!OWT4","v":0},{"$f":"OWW35*'Makro i swap'!OWU4","v":0},{"$f":"OWX35*'Makro i swap'!OWV4","v":0},{"$f":"OWY35*'Makro i swap'!OWW4","v":0},{"$f":"OWZ35*'Makro i swap'!OWX4","v":0},{"$f":"OXA35*'Makro i swap'!OWY4","v":0},{"$f":"OXB35*'Makro i swap'!OWZ4","v":0},{"$f":"OXC35*'Makro i swap'!OXA4","v":0},{"$f":"OXD35*'Makro i swap'!OXB4","v":0},{"$f":"OXE35*'Makro i swap'!OXC4","v":0},{"$f":"OXF35*'Makro i swap'!OXD4","v":0},{"$f":"OXG35*'Makro i swap'!OXE4","v":0},{"$f":"OXH35*'Makro i swap'!OXF4","v":0},{"$f":"OXI35*'Makro i swap'!OXG4","v":0},{"$f":"OXJ35*'Makro i swap'!OXH4","v":0},{"$f":"OXK35*'Makro i swap'!OXI4","v":0},{"$f":"OXL35*'Makro i swap'!OXJ4","v":0},{"$f":"OXM35*'Makro i swap'!OXK4","v":0},{"$f":"OXN35*'Makro i swap'!OXL4","v":0},{"$f":"OXO35*'Makro i swap'!OXM4","v":0},{"$f":"OXP35*'Makro i swap'!OXN4","v":0},{"$f":"OXQ35*'Makro i swap'!OXO4","v":0},{"$f":"OXR35*'Makro i swap'!OXP4","v":0},{"$f":"OXS35*'Makro i swap'!OXQ4","v":0},{"$f":"OXT35*'Makro i swap'!OXR4","v":0},{"$f":"OXU35*'Makro i swap'!OXS4","v":0},{"$f":"OXV35*'Makro i swap'!OXT4","v":0},{"$f":"OXW35*'Makro i swap'!OXU4","v":0},{"$f":"OXX35*'Makro i swap'!OXV4","v":0},{"$f":"OXY35*'Makro i swap'!OXW4","v":0},{"$f":"OXZ35*'Makro i swap'!OXX4","v":0},{"$f":"OYA35*'Makro i swap'!OXY4","v":0},{"$f":"OYB35*'Makro i swap'!OXZ4","v":0},{"$f":"OYC35*'Makro i swap'!OYA4","v":0},{"$f":"OYD35*'Makro i swap'!OYB4","v":0},{"$f":"OYE35*'Makro i swap'!OYC4","v":0},{"$f":"OYF35*'Makro i swap'!OYD4","v":0},{"$f":"OYG35*'Makro i swap'!OYE4","v":0},{"$f":"OYH35*'Makro i swap'!OYF4","v":0},{"$f":"OYI35*'Makro i swap'!OYG4","v":0},{"$f":"OYJ35*'Makro i swap'!OYH4","v":0},{"$f":"OYK35*'Makro i swap'!OYI4","v":0},{"$f":"OYL35*'Makro i swap'!OYJ4","v":0},{"$f":"OYM35*'Makro i swap'!OYK4","v":0},{"$f":"OYN35*'Makro i swap'!OYL4","v":0},{"$f":"OYO35*'Makro i swap'!OYM4","v":0},{"$f":"OYP35*'Makro i swap'!OYN4","v":0},{"$f":"OYQ35*'Makro i swap'!OYO4","v":0},{"$f":"OYR35*'Makro i swap'!OYP4","v":0},{"$f":"OYS35*'Makro i swap'!OYQ4","v":0},{"$f":"OYT35*'Makro i swap'!OYR4","v":0},{"$f":"OYU35*'Makro i swap'!OYS4","v":0},{"$f":"OYV35*'Makro i swap'!OYT4","v":0},{"$f":"OYW35*'Makro i swap'!OYU4","v":0},{"$f":"OYX35*'Makro i swap'!OYV4","v":0},{"$f":"OYY35*'Makro i swap'!OYW4","v":0},{"$f":"OYZ35*'Makro i swap'!OYX4","v":0},{"$f":"OZA35*'Makro i swap'!OYY4","v":0},{"$f":"OZB35*'Makro i swap'!OYZ4","v":0},{"$f":"OZC35*'Makro i swap'!OZA4","v":0},{"$f":"OZD35*'Makro i swap'!OZB4","v":0},{"$f":"OZE35*'Makro i swap'!OZC4","v":0},{"$f":"OZF35*'Makro i swap'!OZD4","v":0},{"$f":"OZG35*'Makro i swap'!OZE4","v":0},{"$f":"OZH35*'Makro i swap'!OZF4","v":0},{"$f":"OZI35*'Makro i swap'!OZG4","v":0},{"$f":"OZJ35*'Makro i swap'!OZH4","v":0},{"$f":"OZK35*'Makro i swap'!OZI4","v":0},{"$f":"OZL35*'Makro i swap'!OZJ4","v":0},{"$f":"OZM35*'Makro i swap'!OZK4","v":0},{"$f":"OZN35*'Makro i swap'!OZL4","v":0},{"$f":"OZO35*'Makro i swap'!OZM4","v":0},{"$f":"OZP35*'Makro i swap'!OZN4","v":0},{"$f":"OZQ35*'Makro i swap'!OZO4","v":0},{"$f":"OZR35*'Makro i swap'!OZP4","v":0},{"$f":"OZS35*'Makro i swap'!OZQ4","v":0},{"$f":"OZT35*'Makro i swap'!OZR4","v":0},{"$f":"OZU35*'Makro i swap'!OZS4","v":0},{"$f":"OZV35*'Makro i swap'!OZT4","v":0},{"$f":"OZW35*'Makro i swap'!OZU4","v":0},{"$f":"OZX35*'Makro i swap'!OZV4","v":0},{"$f":"OZY35*'Makro i swap'!OZW4","v":0},{"$f":"OZZ35*'Makro i swap'!OZX4","v":0},{"$f":"PAA35*'Makro i swap'!OZY4","v":0},{"$f":"PAB35*'Makro i swap'!OZZ4","v":0},{"$f":"PAC35*'Makro i swap'!PAA4","v":0},{"$f":"PAD35*'Makro i swap'!PAB4","v":0},{"$f":"PAE35*'Makro i swap'!PAC4","v":0},{"$f":"PAF35*'Makro i swap'!PAD4","v":0},{"$f":"PAG35*'Makro i swap'!PAE4","v":0},{"$f":"PAH35*'Makro i swap'!PAF4","v":0},{"$f":"PAI35*'Makro i swap'!PAG4","v":0},{"$f":"PAJ35*'Makro i swap'!PAH4","v":0},{"$f":"PAK35*'Makro i swap'!PAI4","v":0},{"$f":"PAL35*'Makro i swap'!PAJ4","v":0},{"$f":"PAM35*'Makro i swap'!PAK4","v":0},{"$f":"PAN35*'Makro i swap'!PAL4","v":0},{"$f":"PAO35*'Makro i swap'!PAM4","v":0},{"$f":"PAP35*'Makro i swap'!PAN4","v":0},{"$f":"PAQ35*'Makro i swap'!PAO4","v":0},{"$f":"PAR35*'Makro i swap'!PAP4","v":0},{"$f":"PAS35*'Makro i swap'!PAQ4","v":0},{"$f":"PAT35*'Makro i swap'!PAR4","v":0},{"$f":"PAU35*'Makro i swap'!PAS4","v":0},{"$f":"PAV35*'Makro i swap'!PAT4","v":0},{"$f":"PAW35*'Makro i swap'!PAU4","v":0},{"$f":"PAX35*'Makro i swap'!PAV4","v":0},{"$f":"PAY35*'Makro i swap'!PAW4","v":0},{"$f":"PAZ35*'Makro i swap'!PAX4","v":0},{"$f":"PBA35*'Makro i swap'!PAY4","v":0},{"$f":"PBB35*'Makro i swap'!PAZ4","v":0},{"$f":"PBC35*'Makro i swap'!PBA4","v":0},{"$f":"PBD35*'Makro i swap'!PBB4","v":0},{"$f":"PBE35*'Makro i swap'!PBC4","v":0},{"$f":"PBF35*'Makro i swap'!PBD4","v":0},{"$f":"PBG35*'Makro i swap'!PBE4","v":0},{"$f":"PBH35*'Makro i swap'!PBF4","v":0},{"$f":"PBI35*'Makro i swap'!PBG4","v":0},{"$f":"PBJ35*'Makro i swap'!PBH4","v":0},{"$f":"PBK35*'Makro i swap'!PBI4","v":0},{"$f":"PBL35*'Makro i swap'!PBJ4","v":0},{"$f":"PBM35*'Makro i swap'!PBK4","v":0},{"$f":"PBN35*'Makro i swap'!PBL4","v":0},{"$f":"PBO35*'Makro i swap'!PBM4","v":0},{"$f":"PBP35*'Makro i swap'!PBN4","v":0},{"$f":"PBQ35*'Makro i swap'!PBO4","v":0},{"$f":"PBR35*'Makro i swap'!PBP4","v":0},{"$f":"PBS35*'Makro i swap'!PBQ4","v":0},{"$f":"PBT35*'Makro i swap'!PBR4","v":0},{"$f":"PBU35*'Makro i swap'!PBS4","v":0},{"$f":"PBV35*'Makro i swap'!PBT4","v":0},{"$f":"PBW35*'Makro i swap'!PBU4","v":0},{"$f":"PBX35*'Makro i swap'!PBV4","v":0},{"$f":"PBY35*'Makro i swap'!PBW4","v":0},{"$f":"PBZ35*'Makro i swap'!PBX4","v":0},{"$f":"PCA35*'Makro i swap'!PBY4","v":0},{"$f":"PCB35*'Makro i swap'!PBZ4","v":0},{"$f":"PCC35*'Makro i swap'!PCA4","v":0},{"$f":"PCD35*'Makro i swap'!PCB4","v":0},{"$f":"PCE35*'Makro i swap'!PCC4","v":0},{"$f":"PCF35*'Makro i swap'!PCD4","v":0},{"$f":"PCG35*'Makro i swap'!PCE4","v":0},{"$f":"PCH35*'Makro i swap'!PCF4","v":0},{"$f":"PCI35*'Makro i swap'!PCG4","v":0},{"$f":"PCJ35*'Makro i swap'!PCH4","v":0},{"$f":"PCK35*'Makro i swap'!PCI4","v":0},{"$f":"PCL35*'Makro i swap'!PCJ4","v":0},{"$f":"PCM35*'Makro i swap'!PCK4","v":0},{"$f":"PCN35*'Makro i swap'!PCL4","v":0},{"$f":"PCO35*'Makro i swap'!PCM4","v":0},{"$f":"PCP35*'Makro i swap'!PCN4","v":0},{"$f":"PCQ35*'Makro i swap'!PCO4","v":0},{"$f":"PCR35*'Makro i swap'!PCP4","v":0},{"$f":"PCS35*'Makro i swap'!PCQ4","v":0},{"$f":"PCT35*'Makro i swap'!PCR4","v":0},{"$f":"PCU35*'Makro i swap'!PCS4","v":0},{"$f":"PCV35*'Makro i swap'!PCT4","v":0},{"$f":"PCW35*'Makro i swap'!PCU4","v":0},{"$f":"PCX35*'Makro i swap'!PCV4","v":0},{"$f":"PCY35*'Makro i swap'!PCW4","v":0},{"$f":"PCZ35*'Makro i swap'!PCX4","v":0},{"$f":"PDA35*'Makro i swap'!PCY4","v":0},{"$f":"PDB35*'Makro i swap'!PCZ4","v":0},{"$f":"PDC35*'Makro i swap'!PDA4","v":0},{"$f":"PDD35*'Makro i swap'!PDB4","v":0},{"$f":"PDE35*'Makro i swap'!PDC4","v":0},{"$f":"PDF35*'Makro i swap'!PDD4","v":0},{"$f":"PDG35*'Makro i swap'!PDE4","v":0},{"$f":"PDH35*'Makro i swap'!PDF4","v":0},{"$f":"PDI35*'Makro i swap'!PDG4","v":0},{"$f":"PDJ35*'Makro i swap'!PDH4","v":0},{"$f":"PDK35*'Makro i swap'!PDI4","v":0},{"$f":"PDL35*'Makro i swap'!PDJ4","v":0},{"$f":"PDM35*'Makro i swap'!PDK4","v":0},{"$f":"PDN35*'Makro i swap'!PDL4","v":0},{"$f":"PDO35*'Makro i swap'!PDM4","v":0},{"$f":"PDP35*'Makro i swap'!PDN4","v":0},{"$f":"PDQ35*'Makro i swap'!PDO4","v":0},{"$f":"PDR35*'Makro i swap'!PDP4","v":0},{"$f":"PDS35*'Makro i swap'!PDQ4","v":0},{"$f":"PDT35*'Makro i swap'!PDR4","v":0},{"$f":"PDU35*'Makro i swap'!PDS4","v":0},{"$f":"PDV35*'Makro i swap'!PDT4","v":0},{"$f":"PDW35*'Makro i swap'!PDU4","v":0},{"$f":"PDX35*'Makro i swap'!PDV4","v":0},{"$f":"PDY35*'Makro i swap'!PDW4","v":0},{"$f":"PDZ35*'Makro i swap'!PDX4","v":0},{"$f":"PEA35*'Makro i swap'!PDY4","v":0},{"$f":"PEB35*'Makro i swap'!PDZ4","v":0},{"$f":"PEC35*'Makro i swap'!PEA4","v":0},{"$f":"PED35*'Makro i swap'!PEB4","v":0},{"$f":"PEE35*'Makro i swap'!PEC4","v":0},{"$f":"PEF35*'Makro i swap'!PED4","v":0},{"$f":"PEG35*'Makro i swap'!PEE4","v":0},{"$f":"PEH35*'Makro i swap'!PEF4","v":0},{"$f":"PEI35*'Makro i swap'!PEG4","v":0},{"$f":"PEJ35*'Makro i swap'!PEH4","v":0},{"$f":"PEK35*'Makro i swap'!PEI4","v":0},{"$f":"PEL35*'Makro i swap'!PEJ4","v":0},{"$f":"PEM35*'Makro i swap'!PEK4","v":0},{"$f":"PEN35*'Makro i swap'!PEL4","v":0},{"$f":"PEO35*'Makro i swap'!PEM4","v":0},{"$f":"PEP35*'Makro i swap'!PEN4","v":0},{"$f":"PEQ35*'Makro i swap'!PEO4","v":0},{"$f":"PER35*'Makro i swap'!PEP4","v":0},{"$f":"PES35*'Makro i swap'!PEQ4","v":0},{"$f":"PET35*'Makro i swap'!PER4","v":0},{"$f":"PEU35*'Makro i swap'!PES4","v":0},{"$f":"PEV35*'Makro i swap'!PET4","v":0},{"$f":"PEW35*'Makro i swap'!PEU4","v":0},{"$f":"PEX35*'Makro i swap'!PEV4","v":0},{"$f":"PEY35*'Makro i swap'!PEW4","v":0},{"$f":"PEZ35*'Makro i swap'!PEX4","v":0},{"$f":"PFA35*'Makro i swap'!PEY4","v":0},{"$f":"PFB35*'Makro i swap'!PEZ4","v":0},{"$f":"PFC35*'Makro i swap'!PFA4","v":0},{"$f":"PFD35*'Makro i swap'!PFB4","v":0},{"$f":"PFE35*'Makro i swap'!PFC4","v":0},{"$f":"PFF35*'Makro i swap'!PFD4","v":0},{"$f":"PFG35*'Makro i swap'!PFE4","v":0},{"$f":"PFH35*'Makro i swap'!PFF4","v":0},{"$f":"PFI35*'Makro i swap'!PFG4","v":0},{"$f":"PFJ35*'Makro i swap'!PFH4","v":0},{"$f":"PFK35*'Makro i swap'!PFI4","v":0},{"$f":"PFL35*'Makro i swap'!PFJ4","v":0},{"$f":"PFM35*'Makro i swap'!PFK4","v":0},{"$f":"PFN35*'Makro i swap'!PFL4","v":0},{"$f":"PFO35*'Makro i swap'!PFM4","v":0},{"$f":"PFP35*'Makro i swap'!PFN4","v":0},{"$f":"PFQ35*'Makro i swap'!PFO4","v":0},{"$f":"PFR35*'Makro i swap'!PFP4","v":0},{"$f":"PFS35*'Makro i swap'!PFQ4","v":0},{"$f":"PFT35*'Makro i swap'!PFR4","v":0},{"$f":"PFU35*'Makro i swap'!PFS4","v":0},{"$f":"PFV35*'Makro i swap'!PFT4","v":0},{"$f":"PFW35*'Makro i swap'!PFU4","v":0},{"$f":"PFX35*'Makro i swap'!PFV4","v":0},{"$f":"PFY35*'Makro i swap'!PFW4","v":0},{"$f":"PFZ35*'Makro i swap'!PFX4","v":0},{"$f":"PGA35*'Makro i swap'!PFY4","v":0},{"$f":"PGB35*'Makro i swap'!PFZ4","v":0},{"$f":"PGC35*'Makro i swap'!PGA4","v":0},{"$f":"PGD35*'Makro i swap'!PGB4","v":0},{"$f":"PGE35*'Makro i swap'!PGC4","v":0},{"$f":"PGF35*'Makro i swap'!PGD4","v":0},{"$f":"PGG35*'Makro i swap'!PGE4","v":0},{"$f":"PGH35*'Makro i swap'!PGF4","v":0},{"$f":"PGI35*'Makro i swap'!PGG4","v":0},{"$f":"PGJ35*'Makro i swap'!PGH4","v":0},{"$f":"PGK35*'Makro i swap'!PGI4","v":0},{"$f":"PGL35*'Makro i swap'!PGJ4","v":0},{"$f":"PGM35*'Makro i swap'!PGK4","v":0},{"$f":"PGN35*'Makro i swap'!PGL4","v":0},{"$f":"PGO35*'Makro i swap'!PGM4","v":0},{"$f":"PGP35*'Makro i swap'!PGN4","v":0},{"$f":"PGQ35*'Makro i swap'!PGO4","v":0},{"$f":"PGR35*'Makro i swap'!PGP4","v":0},{"$f":"PGS35*'Makro i swap'!PGQ4","v":0},{"$f":"PGT35*'Makro i swap'!PGR4","v":0},{"$f":"PGU35*'Makro i swap'!PGS4","v":0},{"$f":"PGV35*'Makro i swap'!PGT4","v":0},{"$f":"PGW35*'Makro i swap'!PGU4","v":0},{"$f":"PGX35*'Makro i swap'!PGV4","v":0},{"$f":"PGY35*'Makro i swap'!PGW4","v":0},{"$f":"PGZ35*'Makro i swap'!PGX4","v":0},{"$f":"PHA35*'Makro i swap'!PGY4","v":0},{"$f":"PHB35*'Makro i swap'!PGZ4","v":0},{"$f":"PHC35*'Makro i swap'!PHA4","v":0},{"$f":"PHD35*'Makro i swap'!PHB4","v":0},{"$f":"PHE35*'Makro i swap'!PHC4","v":0},{"$f":"PHF35*'Makro i swap'!PHD4","v":0},{"$f":"PHG35*'Makro i swap'!PHE4","v":0},{"$f":"PHH35*'Makro i swap'!PHF4","v":0},{"$f":"PHI35*'Makro i swap'!PHG4","v":0},{"$f":"PHJ35*'Makro i swap'!PHH4","v":0},{"$f":"PHK35*'Makro i swap'!PHI4","v":0},{"$f":"PHL35*'Makro i swap'!PHJ4","v":0},{"$f":"PHM35*'Makro i swap'!PHK4","v":0},{"$f":"PHN35*'Makro i swap'!PHL4","v":0},{"$f":"PHO35*'Makro i swap'!PHM4","v":0},{"$f":"PHP35*'Makro i swap'!PHN4","v":0},{"$f":"PHQ35*'Makro i swap'!PHO4","v":0},{"$f":"PHR35*'Makro i swap'!PHP4","v":0},{"$f":"PHS35*'Makro i swap'!PHQ4","v":0},{"$f":"PHT35*'Makro i swap'!PHR4","v":0},{"$f":"PHU35*'Makro i swap'!PHS4","v":0},{"$f":"PHV35*'Makro i swap'!PHT4","v":0},{"$f":"PHW35*'Makro i swap'!PHU4","v":0},{"$f":"PHX35*'Makro i swap'!PHV4","v":0},{"$f":"PHY35*'Makro i swap'!PHW4","v":0},{"$f":"PHZ35*'Makro i swap'!PHX4","v":0},{"$f":"PIA35*'Makro i swap'!PHY4","v":0},{"$f":"PIB35*'Makro i swap'!PHZ4","v":0},{"$f":"PIC35*'Makro i swap'!PIA4","v":0},{"$f":"PID35*'Makro i swap'!PIB4","v":0},{"$f":"PIE35*'Makro i swap'!PIC4","v":0},{"$f":"PIF35*'Makro i swap'!PID4","v":0},{"$f":"PIG35*'Makro i swap'!PIE4","v":0},{"$f":"PIH35*'Makro i swap'!PIF4","v":0},{"$f":"PII35*'Makro i swap'!PIG4","v":0},{"$f":"PIJ35*'Makro i swap'!PIH4","v":0},{"$f":"PIK35*'Makro i swap'!PII4","v":0},{"$f":"PIL35*'Makro i swap'!PIJ4","v":0},{"$f":"PIM35*'Makro i swap'!PIK4","v":0},{"$f":"PIN35*'Makro i swap'!PIL4","v":0},{"$f":"PIO35*'Makro i swap'!PIM4","v":0},{"$f":"PIP35*'Makro i swap'!PIN4","v":0},{"$f":"PIQ35*'Makro i swap'!PIO4","v":0},{"$f":"PIR35*'Makro i swap'!PIP4","v":0},{"$f":"PIS35*'Makro i swap'!PIQ4","v":0},{"$f":"PIT35*'Makro i swap'!PIR4","v":0},{"$f":"PIU35*'Makro i swap'!PIS4","v":0},{"$f":"PIV35*'Makro i swap'!PIT4","v":0},{"$f":"PIW35*'Makro i swap'!PIU4","v":0},{"$f":"PIX35*'Makro i swap'!PIV4","v":0},{"$f":"PIY35*'Makro i swap'!PIW4","v":0},{"$f":"PIZ35*'Makro i swap'!PIX4","v":0},{"$f":"PJA35*'Makro i swap'!PIY4","v":0},{"$f":"PJB35*'Makro i swap'!PIZ4","v":0},{"$f":"PJC35*'Makro i swap'!PJA4","v":0},{"$f":"PJD35*'Makro i swap'!PJB4","v":0},{"$f":"PJE35*'Makro i swap'!PJC4","v":0},{"$f":"PJF35*'Makro i swap'!PJD4","v":0},{"$f":"PJG35*'Makro i swap'!PJE4","v":0},{"$f":"PJH35*'Makro i swap'!PJF4","v":0},{"$f":"PJI35*'Makro i swap'!PJG4","v":0},{"$f":"PJJ35*'Makro i swap'!PJH4","v":0},{"$f":"PJK35*'Makro i swap'!PJI4","v":0},{"$f":"PJL35*'Makro i swap'!PJJ4","v":0},{"$f":"PJM35*'Makro i swap'!PJK4","v":0},{"$f":"PJN35*'Makro i swap'!PJL4","v":0},{"$f":"PJO35*'Makro i swap'!PJM4","v":0},{"$f":"PJP35*'Makro i swap'!PJN4","v":0},{"$f":"PJQ35*'Makro i swap'!PJO4","v":0},{"$f":"PJR35*'Makro i swap'!PJP4","v":0},{"$f":"PJS35*'Makro i swap'!PJQ4","v":0},{"$f":"PJT35*'Makro i swap'!PJR4","v":0},{"$f":"PJU35*'Makro i swap'!PJS4","v":0},{"$f":"PJV35*'Makro i swap'!PJT4","v":0},{"$f":"PJW35*'Makro i swap'!PJU4","v":0},{"$f":"PJX35*'Makro i swap'!PJV4","v":0},{"$f":"PJY35*'Makro i swap'!PJW4","v":0},{"$f":"PJZ35*'Makro i swap'!PJX4","v":0},{"$f":"PKA35*'Makro i swap'!PJY4","v":0},{"$f":"PKB35*'Makro i swap'!PJZ4","v":0},{"$f":"PKC35*'Makro i swap'!PKA4","v":0},{"$f":"PKD35*'Makro i swap'!PKB4","v":0},{"$f":"PKE35*'Makro i swap'!PKC4","v":0},{"$f":"PKF35*'Makro i swap'!PKD4","v":0},{"$f":"PKG35*'Makro i swap'!PKE4","v":0},{"$f":"PKH35*'Makro i swap'!PKF4","v":0},{"$f":"PKI35*'Makro i swap'!PKG4","v":0},{"$f":"PKJ35*'Makro i swap'!PKH4","v":0},{"$f":"PKK35*'Makro i swap'!PKI4","v":0},{"$f":"PKL35*'Makro i swap'!PKJ4","v":0},{"$f":"PKM35*'Makro i swap'!PKK4","v":0},{"$f":"PKN35*'Makro i swap'!PKL4","v":0},{"$f":"PKO35*'Makro i swap'!PKM4","v":0},{"$f":"PKP35*'Makro i swap'!PKN4","v":0},{"$f":"PKQ35*'Makro i swap'!PKO4","v":0},{"$f":"PKR35*'Makro i swap'!PKP4","v":0},{"$f":"PKS35*'Makro i swap'!PKQ4","v":0},{"$f":"PKT35*'Makro i swap'!PKR4","v":0},{"$f":"PKU35*'Makro i swap'!PKS4","v":0},{"$f":"PKV35*'Makro i swap'!PKT4","v":0},{"$f":"PKW35*'Makro i swap'!PKU4","v":0},{"$f":"PKX35*'Makro i swap'!PKV4","v":0},{"$f":"PKY35*'Makro i swap'!PKW4","v":0},{"$f":"PKZ35*'Makro i swap'!PKX4","v":0},{"$f":"PLA35*'Makro i swap'!PKY4","v":0},{"$f":"PLB35*'Makro i swap'!PKZ4","v":0},{"$f":"PLC35*'Makro i swap'!PLA4","v":0},{"$f":"PLD35*'Makro i swap'!PLB4","v":0},{"$f":"PLE35*'Makro i swap'!PLC4","v":0},{"$f":"PLF35*'Makro i swap'!PLD4","v":0},{"$f":"PLG35*'Makro i swap'!PLE4","v":0},{"$f":"PLH35*'Makro i swap'!PLF4","v":0},{"$f":"PLI35*'Makro i swap'!PLG4","v":0},{"$f":"PLJ35*'Makro i swap'!PLH4","v":0},{"$f":"PLK35*'Makro i swap'!PLI4","v":0},{"$f":"PLL35*'Makro i swap'!PLJ4","v":0},{"$f":"PLM35*'Makro i swap'!PLK4","v":0},{"$f":"PLN35*'Makro i swap'!PLL4","v":0},{"$f":"PLO35*'Makro i swap'!PLM4","v":0},{"$f":"PLP35*'Makro i swap'!PLN4","v":0},{"$f":"PLQ35*'Makro i swap'!PLO4","v":0},{"$f":"PLR35*'Makro i swap'!PLP4","v":0},{"$f":"PLS35*'Makro i swap'!PLQ4","v":0},{"$f":"PLT35*'Makro i swap'!PLR4","v":0},{"$f":"PLU35*'Makro i swap'!PLS4","v":0},{"$f":"PLV35*'Makro i swap'!PLT4","v":0},{"$f":"PLW35*'Makro i swap'!PLU4","v":0},{"$f":"PLX35*'Makro i swap'!PLV4","v":0},{"$f":"PLY35*'Makro i swap'!PLW4","v":0},{"$f":"PLZ35*'Makro i swap'!PLX4","v":0},{"$f":"PMA35*'Makro i swap'!PLY4","v":0},{"$f":"PMB35*'Makro i swap'!PLZ4","v":0},{"$f":"PMC35*'Makro i swap'!PMA4","v":0},{"$f":"PMD35*'Makro i swap'!PMB4","v":0},{"$f":"PME35*'Makro i swap'!PMC4","v":0},{"$f":"PMF35*'Makro i swap'!PMD4","v":0},{"$f":"PMG35*'Makro i swap'!PME4","v":0},{"$f":"PMH35*'Makro i swap'!PMF4","v":0},{"$f":"PMI35*'Makro i swap'!PMG4","v":0},{"$f":"PMJ35*'Makro i swap'!PMH4","v":0},{"$f":"PMK35*'Makro i swap'!PMI4","v":0},{"$f":"PML35*'Makro i swap'!PMJ4","v":0},{"$f":"PMM35*'Makro i swap'!PMK4","v":0},{"$f":"PMN35*'Makro i swap'!PML4","v":0},{"$f":"PMO35*'Makro i swap'!PMM4","v":0},{"$f":"PMP35*'Makro i swap'!PMN4","v":0},{"$f":"PMQ35*'Makro i swap'!PMO4","v":0},{"$f":"PMR35*'Makro i swap'!PMP4","v":0},{"$f":"PMS35*'Makro i swap'!PMQ4","v":0},{"$f":"PMT35*'Makro i swap'!PMR4","v":0},{"$f":"PMU35*'Makro i swap'!PMS4","v":0},{"$f":"PMV35*'Makro i swap'!PMT4","v":0},{"$f":"PMW35*'Makro i swap'!PMU4","v":0},{"$f":"PMX35*'Makro i swap'!PMV4","v":0},{"$f":"PMY35*'Makro i swap'!PMW4","v":0},{"$f":"PMZ35*'Makro i swap'!PMX4","v":0},{"$f":"PNA35*'Makro i swap'!PMY4","v":0},{"$f":"PNB35*'Makro i swap'!PMZ4","v":0},{"$f":"PNC35*'Makro i swap'!PNA4","v":0},{"$f":"PND35*'Makro i swap'!PNB4","v":0},{"$f":"PNE35*'Makro i swap'!PNC4","v":0},{"$f":"PNF35*'Makro i swap'!PND4","v":0},{"$f":"PNG35*'Makro i swap'!PNE4","v":0},{"$f":"PNH35*'Makro i swap'!PNF4","v":0},{"$f":"PNI35*'Makro i swap'!PNG4","v":0},{"$f":"PNJ35*'Makro i swap'!PNH4","v":0},{"$f":"PNK35*'Makro i swap'!PNI4","v":0},{"$f":"PNL35*'Makro i swap'!PNJ4","v":0},{"$f":"PNM35*'Makro i swap'!PNK4","v":0},{"$f":"PNN35*'Makro i swap'!PNL4","v":0},{"$f":"PNO35*'Makro i swap'!PNM4","v":0},{"$f":"PNP35*'Makro i swap'!PNN4","v":0},{"$f":"PNQ35*'Makro i swap'!PNO4","v":0},{"$f":"PNR35*'Makro i swap'!PNP4","v":0},{"$f":"PNS35*'Makro i swap'!PNQ4","v":0},{"$f":"PNT35*'Makro i swap'!PNR4","v":0},{"$f":"PNU35*'Makro i swap'!PNS4","v":0},{"$f":"PNV35*'Makro i swap'!PNT4","v":0},{"$f":"PNW35*'Makro i swap'!PNU4","v":0},{"$f":"PNX35*'Makro i swap'!PNV4","v":0},{"$f":"PNY35*'Makro i swap'!PNW4","v":0},{"$f":"PNZ35*'Makro i swap'!PNX4","v":0},{"$f":"POA35*'Makro i swap'!PNY4","v":0},{"$f":"POB35*'Makro i swap'!PNZ4","v":0},{"$f":"POC35*'Makro i swap'!POA4","v":0},{"$f":"POD35*'Makro i swap'!POB4","v":0},{"$f":"POE35*'Makro i swap'!POC4","v":0},{"$f":"POF35*'Makro i swap'!POD4","v":0},{"$f":"POG35*'Makro i swap'!POE4","v":0},{"$f":"POH35*'Makro i swap'!POF4","v":0},{"$f":"POI35*'Makro i swap'!POG4","v":0},{"$f":"POJ35*'Makro i swap'!POH4","v":0},{"$f":"POK35*'Makro i swap'!POI4","v":0},{"$f":"POL35*'Makro i swap'!POJ4","v":0},{"$f":"POM35*'Makro i swap'!POK4","v":0},{"$f":"PON35*'Makro i swap'!POL4","v":0},{"$f":"POO35*'Makro i swap'!POM4","v":0},{"$f":"POP35*'Makro i swap'!PON4","v":0},{"$f":"POQ35*'Makro i swap'!POO4","v":0},{"$f":"POR35*'Makro i swap'!POP4","v":0},{"$f":"POS35*'Makro i swap'!POQ4","v":0},{"$f":"POT35*'Makro i swap'!POR4","v":0},{"$f":"POU35*'Makro i swap'!POS4","v":0},{"$f":"POV35*'Makro i swap'!POT4","v":0},{"$f":"POW35*'Makro i swap'!POU4","v":0},{"$f":"POX35*'Makro i swap'!POV4","v":0},{"$f":"POY35*'Makro i swap'!POW4","v":0},{"$f":"POZ35*'Makro i swap'!POX4","v":0},{"$f":"PPA35*'Makro i swap'!POY4","v":0},{"$f":"PPB35*'Makro i swap'!POZ4","v":0},{"$f":"PPC35*'Makro i swap'!PPA4","v":0},{"$f":"PPD35*'Makro i swap'!PPB4","v":0},{"$f":"PPE35*'Makro i swap'!PPC4","v":0},{"$f":"PPF35*'Makro i swap'!PPD4","v":0},{"$f":"PPG35*'Makro i swap'!PPE4","v":0},{"$f":"PPH35*'Makro i swap'!PPF4","v":0},{"$f":"PPI35*'Makro i swap'!PPG4","v":0},{"$f":"PPJ35*'Makro i swap'!PPH4","v":0},{"$f":"PPK35*'Makro i swap'!PPI4","v":0},{"$f":"PPL35*'Makro i swap'!PPJ4","v":0},{"$f":"PPM35*'Makro i swap'!PPK4","v":0},{"$f":"PPN35*'Makro i swap'!PPL4","v":0},{"$f":"PPO35*'Makro i swap'!PPM4","v":0},{"$f":"PPP35*'Makro i swap'!PPN4","v":0},{"$f":"PPQ35*'Makro i swap'!PPO4","v":0},{"$f":"PPR35*'Makro i swap'!PPP4","v":0},{"$f":"PPS35*'Makro i swap'!PPQ4","v":0},{"$f":"PPT35*'Makro i swap'!PPR4","v":0},{"$f":"PPU35*'Makro i swap'!PPS4","v":0},{"$f":"PPV35*'Makro i swap'!PPT4","v":0},{"$f":"PPW35*'Makro i swap'!PPU4","v":0},{"$f":"PPX35*'Makro i swap'!PPV4","v":0},{"$f":"PPY35*'Makro i swap'!PPW4","v":0},{"$f":"PPZ35*'Makro i swap'!PPX4","v":0},{"$f":"PQA35*'Makro i swap'!PPY4","v":0},{"$f":"PQB35*'Makro i swap'!PPZ4","v":0},{"$f":"PQC35*'Makro i swap'!PQA4","v":0},{"$f":"PQD35*'Makro i swap'!PQB4","v":0},{"$f":"PQE35*'Makro i swap'!PQC4","v":0},{"$f":"PQF35*'Makro i swap'!PQD4","v":0},{"$f":"PQG35*'Makro i swap'!PQE4","v":0},{"$f":"PQH35*'Makro i swap'!PQF4","v":0},{"$f":"PQI35*'Makro i swap'!PQG4","v":0},{"$f":"PQJ35*'Makro i swap'!PQH4","v":0},{"$f":"PQK35*'Makro i swap'!PQI4","v":0},{"$f":"PQL35*'Makro i swap'!PQJ4","v":0},{"$f":"PQM35*'Makro i swap'!PQK4","v":0},{"$f":"PQN35*'Makro i swap'!PQL4","v":0},{"$f":"PQO35*'Makro i swap'!PQM4","v":0},{"$f":"PQP35*'Makro i swap'!PQN4","v":0},{"$f":"PQQ35*'Makro i swap'!PQO4","v":0},{"$f":"PQR35*'Makro i swap'!PQP4","v":0},{"$f":"PQS35*'Makro i swap'!PQQ4","v":0},{"$f":"PQT35*'Makro i swap'!PQR4","v":0},{"$f":"PQU35*'Makro i swap'!PQS4","v":0},{"$f":"PQV35*'Makro i swap'!PQT4","v":0},{"$f":"PQW35*'Makro i swap'!PQU4","v":0},{"$f":"PQX35*'Makro i swap'!PQV4","v":0},{"$f":"PQY35*'Makro i swap'!PQW4","v":0},{"$f":"PQZ35*'Makro i swap'!PQX4","v":0},{"$f":"PRA35*'Makro i swap'!PQY4","v":0},{"$f":"PRB35*'Makro i swap'!PQZ4","v":0},{"$f":"PRC35*'Makro i swap'!PRA4","v":0},{"$f":"PRD35*'Makro i swap'!PRB4","v":0},{"$f":"PRE35*'Makro i swap'!PRC4","v":0},{"$f":"PRF35*'Makro i swap'!PRD4","v":0},{"$f":"PRG35*'Makro i swap'!PRE4","v":0},{"$f":"PRH35*'Makro i swap'!PRF4","v":0},{"$f":"PRI35*'Makro i swap'!PRG4","v":0},{"$f":"PRJ35*'Makro i swap'!PRH4","v":0},{"$f":"PRK35*'Makro i swap'!PRI4","v":0},{"$f":"PRL35*'Makro i swap'!PRJ4","v":0},{"$f":"PRM35*'Makro i swap'!PRK4","v":0},{"$f":"PRN35*'Makro i swap'!PRL4","v":0},{"$f":"PRO35*'Makro i swap'!PRM4","v":0},{"$f":"PRP35*'Makro i swap'!PRN4","v":0},{"$f":"PRQ35*'Makro i swap'!PRO4","v":0},{"$f":"PRR35*'Makro i swap'!PRP4","v":0},{"$f":"PRS35*'Makro i swap'!PRQ4","v":0},{"$f":"PRT35*'Makro i swap'!PRR4","v":0},{"$f":"PRU35*'Makro i swap'!PRS4","v":0},{"$f":"PRV35*'Makro i swap'!PRT4","v":0},{"$f":"PRW35*'Makro i swap'!PRU4","v":0},{"$f":"PRX35*'Makro i swap'!PRV4","v":0},{"$f":"PRY35*'Makro i swap'!PRW4","v":0},{"$f":"PRZ35*'Makro i swap'!PRX4","v":0},{"$f":"PSA35*'Makro i swap'!PRY4","v":0},{"$f":"PSB35*'Makro i swap'!PRZ4","v":0},{"$f":"PSC35*'Makro i swap'!PSA4","v":0},{"$f":"PSD35*'Makro i swap'!PSB4","v":0},{"$f":"PSE35*'Makro i swap'!PSC4","v":0},{"$f":"PSF35*'Makro i swap'!PSD4","v":0},{"$f":"PSG35*'Makro i swap'!PSE4","v":0},{"$f":"PSH35*'Makro i swap'!PSF4","v":0},{"$f":"PSI35*'Makro i swap'!PSG4","v":0},{"$f":"PSJ35*'Makro i swap'!PSH4","v":0},{"$f":"PSK35*'Makro i swap'!PSI4","v":0},{"$f":"PSL35*'Makro i swap'!PSJ4","v":0},{"$f":"PSM35*'Makro i swap'!PSK4","v":0},{"$f":"PSN35*'Makro i swap'!PSL4","v":0},{"$f":"PSO35*'Makro i swap'!PSM4","v":0},{"$f":"PSP35*'Makro i swap'!PSN4","v":0},{"$f":"PSQ35*'Makro i swap'!PSO4","v":0},{"$f":"PSR35*'Makro i swap'!PSP4","v":0},{"$f":"PSS35*'Makro i swap'!PSQ4","v":0},{"$f":"PST35*'Makro i swap'!PSR4","v":0},{"$f":"PSU35*'Makro i swap'!PSS4","v":0},{"$f":"PSV35*'Makro i swap'!PST4","v":0},{"$f":"PSW35*'Makro i swap'!PSU4","v":0},{"$f":"PSX35*'Makro i swap'!PSV4","v":0},{"$f":"PSY35*'Makro i swap'!PSW4","v":0},{"$f":"PSZ35*'Makro i swap'!PSX4","v":0},{"$f":"PTA35*'Makro i swap'!PSY4","v":0},{"$f":"PTB35*'Makro i swap'!PSZ4","v":0},{"$f":"PTC35*'Makro i swap'!PTA4","v":0},{"$f":"PTD35*'Makro i swap'!PTB4","v":0},{"$f":"PTE35*'Makro i swap'!PTC4","v":0},{"$f":"PTF35*'Makro i swap'!PTD4","v":0},{"$f":"PTG35*'Makro i swap'!PTE4","v":0},{"$f":"PTH35*'Makro i swap'!PTF4","v":0},{"$f":"PTI35*'Makro i swap'!PTG4","v":0},{"$f":"PTJ35*'Makro i swap'!PTH4","v":0},{"$f":"PTK35*'Makro i swap'!PTI4","v":0},{"$f":"PTL35*'Makro i swap'!PTJ4","v":0},{"$f":"PTM35*'Makro i swap'!PTK4","v":0},{"$f":"PTN35*'Makro i swap'!PTL4","v":0},{"$f":"PTO35*'Makro i swap'!PTM4","v":0},{"$f":"PTP35*'Makro i swap'!PTN4","v":0},{"$f":"PTQ35*'Makro i swap'!PTO4","v":0},{"$f":"PTR35*'Makro i swap'!PTP4","v":0},{"$f":"PTS35*'Makro i swap'!PTQ4","v":0},{"$f":"PTT35*'Makro i swap'!PTR4","v":0},{"$f":"PTU35*'Makro i swap'!PTS4","v":0},{"$f":"PTV35*'Makro i swap'!PTT4","v":0},{"$f":"PTW35*'Makro i swap'!PTU4","v":0},{"$f":"PTX35*'Makro i swap'!PTV4","v":0},{"$f":"PTY35*'Makro i swap'!PTW4","v":0},{"$f":"PTZ35*'Makro i swap'!PTX4","v":0},{"$f":"PUA35*'Makro i swap'!PTY4","v":0},{"$f":"PUB35*'Makro i swap'!PTZ4","v":0},{"$f":"PUC35*'Makro i swap'!PUA4","v":0},{"$f":"PUD35*'Makro i swap'!PUB4","v":0},{"$f":"PUE35*'Makro i swap'!PUC4","v":0},{"$f":"PUF35*'Makro i swap'!PUD4","v":0},{"$f":"PUG35*'Makro i swap'!PUE4","v":0},{"$f":"PUH35*'Makro i swap'!PUF4","v":0},{"$f":"PUI35*'Makro i swap'!PUG4","v":0},{"$f":"PUJ35*'Makro i swap'!PUH4","v":0},{"$f":"PUK35*'Makro i swap'!PUI4","v":0},{"$f":"PUL35*'Makro i swap'!PUJ4","v":0},{"$f":"PUM35*'Makro i swap'!PUK4","v":0},{"$f":"PUN35*'Makro i swap'!PUL4","v":0},{"$f":"PUO35*'Makro i swap'!PUM4","v":0},{"$f":"PUP35*'Makro i swap'!PUN4","v":0},{"$f":"PUQ35*'Makro i swap'!PUO4","v":0},{"$f":"PUR35*'Makro i swap'!PUP4","v":0},{"$f":"PUS35*'Makro i swap'!PUQ4","v":0},{"$f":"PUT35*'Makro i swap'!PUR4","v":0},{"$f":"PUU35*'Makro i swap'!PUS4","v":0},{"$f":"PUV35*'Makro i swap'!PUT4","v":0},{"$f":"PUW35*'Makro i swap'!PUU4","v":0},{"$f":"PUX35*'Makro i swap'!PUV4","v":0},{"$f":"PUY35*'Makro i swap'!PUW4","v":0},{"$f":"PUZ35*'Makro i swap'!PUX4","v":0},{"$f":"PVA35*'Makro i swap'!PUY4","v":0},{"$f":"PVB35*'Makro i swap'!PUZ4","v":0},{"$f":"PVC35*'Makro i swap'!PVA4","v":0},{"$f":"PVD35*'Makro i swap'!PVB4","v":0},{"$f":"PVE35*'Makro i swap'!PVC4","v":0},{"$f":"PVF35*'Makro i swap'!PVD4","v":0},{"$f":"PVG35*'Makro i swap'!PVE4","v":0},{"$f":"PVH35*'Makro i swap'!PVF4","v":0},{"$f":"PVI35*'Makro i swap'!PVG4","v":0},{"$f":"PVJ35*'Makro i swap'!PVH4","v":0},{"$f":"PVK35*'Makro i swap'!PVI4","v":0},{"$f":"PVL35*'Makro i swap'!PVJ4","v":0},{"$f":"PVM35*'Makro i swap'!PVK4","v":0},{"$f":"PVN35*'Makro i swap'!PVL4","v":0},{"$f":"PVO35*'Makro i swap'!PVM4","v":0},{"$f":"PVP35*'Makro i swap'!PVN4","v":0},{"$f":"PVQ35*'Makro i swap'!PVO4","v":0},{"$f":"PVR35*'Makro i swap'!PVP4","v":0},{"$f":"PVS35*'Makro i swap'!PVQ4","v":0},{"$f":"PVT35*'Makro i swap'!PVR4","v":0},{"$f":"PVU35*'Makro i swap'!PVS4","v":0},{"$f":"PVV35*'Makro i swap'!PVT4","v":0},{"$f":"PVW35*'Makro i swap'!PVU4","v":0},{"$f":"PVX35*'Makro i swap'!PVV4","v":0},{"$f":"PVY35*'Makro i swap'!PVW4","v":0},{"$f":"PVZ35*'Makro i swap'!PVX4","v":0},{"$f":"PWA35*'Makro i swap'!PVY4","v":0},{"$f":"PWB35*'Makro i swap'!PVZ4","v":0},{"$f":"PWC35*'Makro i swap'!PWA4","v":0},{"$f":"PWD35*'Makro i swap'!PWB4","v":0},{"$f":"PWE35*'Makro i swap'!PWC4","v":0},{"$f":"PWF35*'Makro i swap'!PWD4","v":0},{"$f":"PWG35*'Makro i swap'!PWE4","v":0},{"$f":"PWH35*'Makro i swap'!PWF4","v":0},{"$f":"PWI35*'Makro i swap'!PWG4","v":0},{"$f":"PWJ35*'Makro i swap'!PWH4","v":0},{"$f":"PWK35*'Makro i swap'!PWI4","v":0},{"$f":"PWL35*'Makro i swap'!PWJ4","v":0},{"$f":"PWM35*'Makro i swap'!PWK4","v":0},{"$f":"PWN35*'Makro i swap'!PWL4","v":0},{"$f":"PWO35*'Makro i swap'!PWM4","v":0},{"$f":"PWP35*'Makro i swap'!PWN4","v":0},{"$f":"PWQ35*'Makro i swap'!PWO4","v":0},{"$f":"PWR35*'Makro i swap'!PWP4","v":0},{"$f":"PWS35*'Makro i swap'!PWQ4","v":0},{"$f":"PWT35*'Makro i swap'!PWR4","v":0},{"$f":"PWU35*'Makro i swap'!PWS4","v":0},{"$f":"PWV35*'Makro i swap'!PWT4","v":0},{"$f":"PWW35*'Makro i swap'!PWU4","v":0},{"$f":"PWX35*'Makro i swap'!PWV4","v":0},{"$f":"PWY35*'Makro i swap'!PWW4","v":0},{"$f":"PWZ35*'Makro i swap'!PWX4","v":0},{"$f":"PXA35*'Makro i swap'!PWY4","v":0},{"$f":"PXB35*'Makro i swap'!PWZ4","v":0},{"$f":"PXC35*'Makro i swap'!PXA4","v":0},{"$f":"PXD35*'Makro i swap'!PXB4","v":0},{"$f":"PXE35*'Makro i swap'!PXC4","v":0},{"$f":"PXF35*'Makro i swap'!PXD4","v":0},{"$f":"PXG35*'Makro i swap'!PXE4","v":0},{"$f":"PXH35*'Makro i swap'!PXF4","v":0},{"$f":"PXI35*'Makro i swap'!PXG4","v":0},{"$f":"PXJ35*'Makro i swap'!PXH4","v":0},{"$f":"PXK35*'Makro i swap'!PXI4","v":0},{"$f":"PXL35*'Makro i swap'!PXJ4","v":0},{"$f":"PXM35*'Makro i swap'!PXK4","v":0},{"$f":"PXN35*'Makro i swap'!PXL4","v":0},{"$f":"PXO35*'Makro i swap'!PXM4","v":0},{"$f":"PXP35*'Makro i swap'!PXN4","v":0},{"$f":"PXQ35*'Makro i swap'!PXO4","v":0},{"$f":"PXR35*'Makro i swap'!PXP4","v":0},{"$f":"PXS35*'Makro i swap'!PXQ4","v":0},{"$f":"PXT35*'Makro i swap'!PXR4","v":0},{"$f":"PXU35*'Makro i swap'!PXS4","v":0},{"$f":"PXV35*'Makro i swap'!PXT4","v":0},{"$f":"PXW35*'Makro i swap'!PXU4","v":0},{"$f":"PXX35*'Makro i swap'!PXV4","v":0},{"$f":"PXY35*'Makro i swap'!PXW4","v":0},{"$f":"PXZ35*'Makro i swap'!PXX4","v":0},{"$f":"PYA35*'Makro i swap'!PXY4","v":0},{"$f":"PYB35*'Makro i swap'!PXZ4","v":0},{"$f":"PYC35*'Makro i swap'!PYA4","v":0},{"$f":"PYD35*'Makro i swap'!PYB4","v":0},{"$f":"PYE35*'Makro i swap'!PYC4","v":0},{"$f":"PYF35*'Makro i swap'!PYD4","v":0},{"$f":"PYG35*'Makro i swap'!PYE4","v":0},{"$f":"PYH35*'Makro i swap'!PYF4","v":0},{"$f":"PYI35*'Makro i swap'!PYG4","v":0},{"$f":"PYJ35*'Makro i swap'!PYH4","v":0},{"$f":"PYK35*'Makro i swap'!PYI4","v":0},{"$f":"PYL35*'Makro i swap'!PYJ4","v":0},{"$f":"PYM35*'Makro i swap'!PYK4","v":0},{"$f":"PYN35*'Makro i swap'!PYL4","v":0},{"$f":"PYO35*'Makro i swap'!PYM4","v":0},{"$f":"PYP35*'Makro i swap'!PYN4","v":0},{"$f":"PYQ35*'Makro i swap'!PYO4","v":0},{"$f":"PYR35*'Makro i swap'!PYP4","v":0},{"$f":"PYS35*'Makro i swap'!PYQ4","v":0},{"$f":"PYT35*'Makro i swap'!PYR4","v":0},{"$f":"PYU35*'Makro i swap'!PYS4","v":0},{"$f":"PYV35*'Makro i swap'!PYT4","v":0},{"$f":"PYW35*'Makro i swap'!PYU4","v":0},{"$f":"PYX35*'Makro i swap'!PYV4","v":0},{"$f":"PYY35*'Makro i swap'!PYW4","v":0},{"$f":"PYZ35*'Makro i swap'!PYX4","v":0},{"$f":"PZA35*'Makro i swap'!PYY4","v":0},{"$f":"PZB35*'Makro i swap'!PYZ4","v":0},{"$f":"PZC35*'Makro i swap'!PZA4","v":0},{"$f":"PZD35*'Makro i swap'!PZB4","v":0},{"$f":"PZE35*'Makro i swap'!PZC4","v":0},{"$f":"PZF35*'Makro i swap'!PZD4","v":0},{"$f":"PZG35*'Makro i swap'!PZE4","v":0},{"$f":"PZH35*'Makro i swap'!PZF4","v":0},{"$f":"PZI35*'Makro i swap'!PZG4","v":0},{"$f":"PZJ35*'Makro i swap'!PZH4","v":0},{"$f":"PZK35*'Makro i swap'!PZI4","v":0},{"$f":"PZL35*'Makro i swap'!PZJ4","v":0},{"$f":"PZM35*'Makro i swap'!PZK4","v":0},{"$f":"PZN35*'Makro i swap'!PZL4","v":0},{"$f":"PZO35*'Makro i swap'!PZM4","v":0},{"$f":"PZP35*'Makro i swap'!PZN4","v":0},{"$f":"PZQ35*'Makro i swap'!PZO4","v":0},{"$f":"PZR35*'Makro i swap'!PZP4","v":0},{"$f":"PZS35*'Makro i swap'!PZQ4","v":0},{"$f":"PZT35*'Makro i swap'!PZR4","v":0},{"$f":"PZU35*'Makro i swap'!PZS4","v":0},{"$f":"PZV35*'Makro i swap'!PZT4","v":0},{"$f":"PZW35*'Makro i swap'!PZU4","v":0},{"$f":"PZX35*'Makro i swap'!PZV4","v":0},{"$f":"PZY35*'Makro i swap'!PZW4","v":0},{"$f":"PZZ35*'Makro i swap'!PZX4","v":0},{"$f":"QAA35*'Makro i swap'!PZY4","v":0},{"$f":"QAB35*'Makro i swap'!PZZ4","v":0},{"$f":"QAC35*'Makro i swap'!QAA4","v":0},{"$f":"QAD35*'Makro i swap'!QAB4","v":0},{"$f":"QAE35*'Makro i swap'!QAC4","v":0},{"$f":"QAF35*'Makro i swap'!QAD4","v":0},{"$f":"QAG35*'Makro i swap'!QAE4","v":0},{"$f":"QAH35*'Makro i swap'!QAF4","v":0},{"$f":"QAI35*'Makro i swap'!QAG4","v":0},{"$f":"QAJ35*'Makro i swap'!QAH4","v":0},{"$f":"QAK35*'Makro i swap'!QAI4","v":0},{"$f":"QAL35*'Makro i swap'!QAJ4","v":0},{"$f":"QAM35*'Makro i swap'!QAK4","v":0},{"$f":"QAN35*'Makro i swap'!QAL4","v":0},{"$f":"QAO35*'Makro i swap'!QAM4","v":0},{"$f":"QAP35*'Makro i swap'!QAN4","v":0},{"$f":"QAQ35*'Makro i swap'!QAO4","v":0},{"$f":"QAR35*'Makro i swap'!QAP4","v":0},{"$f":"QAS35*'Makro i swap'!QAQ4","v":0},{"$f":"QAT35*'Makro i swap'!QAR4","v":0},{"$f":"QAU35*'Makro i swap'!QAS4","v":0},{"$f":"QAV35*'Makro i swap'!QAT4","v":0},{"$f":"QAW35*'Makro i swap'!QAU4","v":0},{"$f":"QAX35*'Makro i swap'!QAV4","v":0},{"$f":"QAY35*'Makro i swap'!QAW4","v":0},{"$f":"QAZ35*'Makro i swap'!QAX4","v":0},{"$f":"QBA35*'Makro i swap'!QAY4","v":0},{"$f":"QBB35*'Makro i swap'!QAZ4","v":0},{"$f":"QBC35*'Makro i swap'!QBA4","v":0},{"$f":"QBD35*'Makro i swap'!QBB4","v":0},{"$f":"QBE35*'Makro i swap'!QBC4","v":0},{"$f":"QBF35*'Makro i swap'!QBD4","v":0},{"$f":"QBG35*'Makro i swap'!QBE4","v":0},{"$f":"QBH35*'Makro i swap'!QBF4","v":0},{"$f":"QBI35*'Makro i swap'!QBG4","v":0},{"$f":"QBJ35*'Makro i swap'!QBH4","v":0},{"$f":"QBK35*'Makro i swap'!QBI4","v":0},{"$f":"QBL35*'Makro i swap'!QBJ4","v":0},{"$f":"QBM35*'Makro i swap'!QBK4","v":0},{"$f":"QBN35*'Makro i swap'!QBL4","v":0},{"$f":"QBO35*'Makro i swap'!QBM4","v":0},{"$f":"QBP35*'Makro i swap'!QBN4","v":0},{"$f":"QBQ35*'Makro i swap'!QBO4","v":0},{"$f":"QBR35*'Makro i swap'!QBP4","v":0},{"$f":"QBS35*'Makro i swap'!QBQ4","v":0},{"$f":"QBT35*'Makro i swap'!QBR4","v":0},{"$f":"QBU35*'Makro i swap'!QBS4","v":0},{"$f":"QBV35*'Makro i swap'!QBT4","v":0},{"$f":"QBW35*'Makro i swap'!QBU4","v":0},{"$f":"QBX35*'Makro i swap'!QBV4","v":0},{"$f":"QBY35*'Makro i swap'!QBW4","v":0},{"$f":"QBZ35*'Makro i swap'!QBX4","v":0},{"$f":"QCA35*'Makro i swap'!QBY4","v":0},{"$f":"QCB35*'Makro i swap'!QBZ4","v":0},{"$f":"QCC35*'Makro i swap'!QCA4","v":0},{"$f":"QCD35*'Makro i swap'!QCB4","v":0},{"$f":"QCE35*'Makro i swap'!QCC4","v":0},{"$f":"QCF35*'Makro i swap'!QCD4","v":0},{"$f":"QCG35*'Makro i swap'!QCE4","v":0},{"$f":"QCH35*'Makro i swap'!QCF4","v":0},{"$f":"QCI35*'Makro i swap'!QCG4","v":0},{"$f":"QCJ35*'Makro i swap'!QCH4","v":0},{"$f":"QCK35*'Makro i swap'!QCI4","v":0},{"$f":"QCL35*'Makro i swap'!QCJ4","v":0},{"$f":"QCM35*'Makro i swap'!QCK4","v":0},{"$f":"QCN35*'Makro i swap'!QCL4","v":0},{"$f":"QCO35*'Makro i swap'!QCM4","v":0},{"$f":"QCP35*'Makro i swap'!QCN4","v":0},{"$f":"QCQ35*'Makro i swap'!QCO4","v":0},{"$f":"QCR35*'Makro i swap'!QCP4","v":0},{"$f":"QCS35*'Makro i swap'!QCQ4","v":0},{"$f":"QCT35*'Makro i swap'!QCR4","v":0},{"$f":"QCU35*'Makro i swap'!QCS4","v":0},{"$f":"QCV35*'Makro i swap'!QCT4","v":0},{"$f":"QCW35*'Makro i swap'!QCU4","v":0},{"$f":"QCX35*'Makro i swap'!QCV4","v":0},{"$f":"QCY35*'Makro i swap'!QCW4","v":0},{"$f":"QCZ35*'Makro i swap'!QCX4","v":0},{"$f":"QDA35*'Makro i swap'!QCY4","v":0},{"$f":"QDB35*'Makro i swap'!QCZ4","v":0},{"$f":"QDC35*'Makro i swap'!QDA4","v":0},{"$f":"QDD35*'Makro i swap'!QDB4","v":0},{"$f":"QDE35*'Makro i swap'!QDC4","v":0},{"$f":"QDF35*'Makro i swap'!QDD4","v":0},{"$f":"QDG35*'Makro i swap'!QDE4","v":0},{"$f":"QDH35*'Makro i swap'!QDF4","v":0},{"$f":"QDI35*'Makro i swap'!QDG4","v":0},{"$f":"QDJ35*'Makro i swap'!QDH4","v":0},{"$f":"QDK35*'Makro i swap'!QDI4","v":0},{"$f":"QDL35*'Makro i swap'!QDJ4","v":0},{"$f":"QDM35*'Makro i swap'!QDK4","v":0},{"$f":"QDN35*'Makro i swap'!QDL4","v":0},{"$f":"QDO35*'Makro i swap'!QDM4","v":0},{"$f":"QDP35*'Makro i swap'!QDN4","v":0},{"$f":"QDQ35*'Makro i swap'!QDO4","v":0},{"$f":"QDR35*'Makro i swap'!QDP4","v":0},{"$f":"QDS35*'Makro i swap'!QDQ4","v":0},{"$f":"QDT35*'Makro i swap'!QDR4","v":0},{"$f":"QDU35*'Makro i swap'!QDS4","v":0},{"$f":"QDV35*'Makro i swap'!QDT4","v":0},{"$f":"QDW35*'Makro i swap'!QDU4","v":0},{"$f":"QDX35*'Makro i swap'!QDV4","v":0},{"$f":"QDY35*'Makro i swap'!QDW4","v":0},{"$f":"QDZ35*'Makro i swap'!QDX4","v":0},{"$f":"QEA35*'Makro i swap'!QDY4","v":0},{"$f":"QEB35*'Makro i swap'!QDZ4","v":0},{"$f":"QEC35*'Makro i swap'!QEA4","v":0},{"$f":"QED35*'Makro i swap'!QEB4","v":0},{"$f":"QEE35*'Makro i swap'!QEC4","v":0},{"$f":"QEF35*'Makro i swap'!QED4","v":0},{"$f":"QEG35*'Makro i swap'!QEE4","v":0},{"$f":"QEH35*'Makro i swap'!QEF4","v":0},{"$f":"QEI35*'Makro i swap'!QEG4","v":0},{"$f":"QEJ35*'Makro i swap'!QEH4","v":0},{"$f":"QEK35*'Makro i swap'!QEI4","v":0},{"$f":"QEL35*'Makro i swap'!QEJ4","v":0},{"$f":"QEM35*'Makro i swap'!QEK4","v":0},{"$f":"QEN35*'Makro i swap'!QEL4","v":0},{"$f":"QEO35*'Makro i swap'!QEM4","v":0},{"$f":"QEP35*'Makro i swap'!QEN4","v":0},{"$f":"QEQ35*'Makro i swap'!QEO4","v":0},{"$f":"QER35*'Makro i swap'!QEP4","v":0},{"$f":"QES35*'Makro i swap'!QEQ4","v":0},{"$f":"QET35*'Makro i swap'!QER4","v":0},{"$f":"QEU35*'Makro i swap'!QES4","v":0},{"$f":"QEV35*'Makro i swap'!QET4","v":0},{"$f":"QEW35*'Makro i swap'!QEU4","v":0},{"$f":"QEX35*'Makro i swap'!QEV4","v":0},{"$f":"QEY35*'Makro i swap'!QEW4","v":0},{"$f":"QEZ35*'Makro i swap'!QEX4","v":0},{"$f":"QFA35*'Makro i swap'!QEY4","v":0},{"$f":"QFB35*'Makro i swap'!QEZ4","v":0},{"$f":"QFC35*'Makro i swap'!QFA4","v":0},{"$f":"QFD35*'Makro i swap'!QFB4","v":0},{"$f":"QFE35*'Makro i swap'!QFC4","v":0},{"$f":"QFF35*'Makro i swap'!QFD4","v":0},{"$f":"QFG35*'Makro i swap'!QFE4","v":0},{"$f":"QFH35*'Makro i swap'!QFF4","v":0},{"$f":"QFI35*'Makro i swap'!QFG4","v":0},{"$f":"QFJ35*'Makro i swap'!QFH4","v":0},{"$f":"QFK35*'Makro i swap'!QFI4","v":0},{"$f":"QFL35*'Makro i swap'!QFJ4","v":0},{"$f":"QFM35*'Makro i swap'!QFK4","v":0},{"$f":"QFN35*'Makro i swap'!QFL4","v":0},{"$f":"QFO35*'Makro i swap'!QFM4","v":0},{"$f":"QFP35*'Makro i swap'!QFN4","v":0},{"$f":"QFQ35*'Makro i swap'!QFO4","v":0},{"$f":"QFR35*'Makro i swap'!QFP4","v":0},{"$f":"QFS35*'Makro i swap'!QFQ4","v":0},{"$f":"QFT35*'Makro i swap'!QFR4","v":0},{"$f":"QFU35*'Makro i swap'!QFS4","v":0},{"$f":"QFV35*'Makro i swap'!QFT4","v":0},{"$f":"QFW35*'Makro i swap'!QFU4","v":0},{"$f":"QFX35*'Makro i swap'!QFV4","v":0},{"$f":"QFY35*'Makro i swap'!QFW4","v":0},{"$f":"QFZ35*'Makro i swap'!QFX4","v":0},{"$f":"QGA35*'Makro i swap'!QFY4","v":0},{"$f":"QGB35*'Makro i swap'!QFZ4","v":0},{"$f":"QGC35*'Makro i swap'!QGA4","v":0},{"$f":"QGD35*'Makro i swap'!QGB4","v":0},{"$f":"QGE35*'Makro i swap'!QGC4","v":0},{"$f":"QGF35*'Makro i swap'!QGD4","v":0},{"$f":"QGG35*'Makro i swap'!QGE4","v":0},{"$f":"QGH35*'Makro i swap'!QGF4","v":0},{"$f":"QGI35*'Makro i swap'!QGG4","v":0},{"$f":"QGJ35*'Makro i swap'!QGH4","v":0},{"$f":"QGK35*'Makro i swap'!QGI4","v":0},{"$f":"QGL35*'Makro i swap'!QGJ4","v":0},{"$f":"QGM35*'Makro i swap'!QGK4","v":0},{"$f":"QGN35*'Makro i swap'!QGL4","v":0},{"$f":"QGO35*'Makro i swap'!QGM4","v":0},{"$f":"QGP35*'Makro i swap'!QGN4","v":0},{"$f":"QGQ35*'Makro i swap'!QGO4","v":0},{"$f":"QGR35*'Makro i swap'!QGP4","v":0},{"$f":"QGS35*'Makro i swap'!QGQ4","v":0},{"$f":"QGT35*'Makro i swap'!QGR4","v":0},{"$f":"QGU35*'Makro i swap'!QGS4","v":0},{"$f":"QGV35*'Makro i swap'!QGT4","v":0},{"$f":"QGW35*'Makro i swap'!QGU4","v":0},{"$f":"QGX35*'Makro i swap'!QGV4","v":0},{"$f":"QGY35*'Makro i swap'!QGW4","v":0},{"$f":"QGZ35*'Makro i swap'!QGX4","v":0},{"$f":"QHA35*'Makro i swap'!QGY4","v":0},{"$f":"QHB35*'Makro i swap'!QGZ4","v":0},{"$f":"QHC35*'Makro i swap'!QHA4","v":0},{"$f":"QHD35*'Makro i swap'!QHB4","v":0},{"$f":"QHE35*'Makro i swap'!QHC4","v":0},{"$f":"QHF35*'Makro i swap'!QHD4","v":0},{"$f":"QHG35*'Makro i swap'!QHE4","v":0},{"$f":"QHH35*'Makro i swap'!QHF4","v":0},{"$f":"QHI35*'Makro i swap'!QHG4","v":0},{"$f":"QHJ35*'Makro i swap'!QHH4","v":0},{"$f":"QHK35*'Makro i swap'!QHI4","v":0},{"$f":"QHL35*'Makro i swap'!QHJ4","v":0},{"$f":"QHM35*'Makro i swap'!QHK4","v":0},{"$f":"QHN35*'Makro i swap'!QHL4","v":0},{"$f":"QHO35*'Makro i swap'!QHM4","v":0},{"$f":"QHP35*'Makro i swap'!QHN4","v":0},{"$f":"QHQ35*'Makro i swap'!QHO4","v":0},{"$f":"QHR35*'Makro i swap'!QHP4","v":0},{"$f":"QHS35*'Makro i swap'!QHQ4","v":0},{"$f":"QHT35*'Makro i swap'!QHR4","v":0},{"$f":"QHU35*'Makro i swap'!QHS4","v":0},{"$f":"QHV35*'Makro i swap'!QHT4","v":0},{"$f":"QHW35*'Makro i swap'!QHU4","v":0},{"$f":"QHX35*'Makro i swap'!QHV4","v":0},{"$f":"QHY35*'Makro i swap'!QHW4","v":0},{"$f":"QHZ35*'Makro i swap'!QHX4","v":0},{"$f":"QIA35*'Makro i swap'!QHY4","v":0},{"$f":"QIB35*'Makro i swap'!QHZ4","v":0},{"$f":"QIC35*'Makro i swap'!QIA4","v":0},{"$f":"QID35*'Makro i swap'!QIB4","v":0},{"$f":"QIE35*'Makro i swap'!QIC4","v":0},{"$f":"QIF35*'Makro i swap'!QID4","v":0},{"$f":"QIG35*'Makro i swap'!QIE4","v":0},{"$f":"QIH35*'Makro i swap'!QIF4","v":0},{"$f":"QII35*'Makro i swap'!QIG4","v":0},{"$f":"QIJ35*'Makro i swap'!QIH4","v":0},{"$f":"QIK35*'Makro i swap'!QII4","v":0},{"$f":"QIL35*'Makro i swap'!QIJ4","v":0},{"$f":"QIM35*'Makro i swap'!QIK4","v":0},{"$f":"QIN35*'Makro i swap'!QIL4","v":0},{"$f":"QIO35*'Makro i swap'!QIM4","v":0},{"$f":"QIP35*'Makro i swap'!QIN4","v":0},{"$f":"QIQ35*'Makro i swap'!QIO4","v":0},{"$f":"QIR35*'Makro i swap'!QIP4","v":0},{"$f":"QIS35*'Makro i swap'!QIQ4","v":0},{"$f":"QIT35*'Makro i swap'!QIR4","v":0},{"$f":"QIU35*'Makro i swap'!QIS4","v":0},{"$f":"QIV35*'Makro i swap'!QIT4","v":0},{"$f":"QIW35*'Makro i swap'!QIU4","v":0},{"$f":"QIX35*'Makro i swap'!QIV4","v":0},{"$f":"QIY35*'Makro i swap'!QIW4","v":0},{"$f":"QIZ35*'Makro i swap'!QIX4","v":0},{"$f":"QJA35*'Makro i swap'!QIY4","v":0},{"$f":"QJB35*'Makro i swap'!QIZ4","v":0},{"$f":"QJC35*'Makro i swap'!QJA4","v":0},{"$f":"QJD35*'Makro i swap'!QJB4","v":0},{"$f":"QJE35*'Makro i swap'!QJC4","v":0},{"$f":"QJF35*'Makro i swap'!QJD4","v":0},{"$f":"QJG35*'Makro i swap'!QJE4","v":0},{"$f":"QJH35*'Makro i swap'!QJF4","v":0},{"$f":"QJI35*'Makro i swap'!QJG4","v":0},{"$f":"QJJ35*'Makro i swap'!QJH4","v":0},{"$f":"QJK35*'Makro i swap'!QJI4","v":0},{"$f":"QJL35*'Makro i swap'!QJJ4","v":0},{"$f":"QJM35*'Makro i swap'!QJK4","v":0},{"$f":"QJN35*'Makro i swap'!QJL4","v":0},{"$f":"QJO35*'Makro i swap'!QJM4","v":0},{"$f":"QJP35*'Makro i swap'!QJN4","v":0},{"$f":"QJQ35*'Makro i swap'!QJO4","v":0},{"$f":"QJR35*'Makro i swap'!QJP4","v":0},{"$f":"QJS35*'Makro i swap'!QJQ4","v":0},{"$f":"QJT35*'Makro i swap'!QJR4","v":0},{"$f":"QJU35*'Makro i swap'!QJS4","v":0},{"$f":"QJV35*'Makro i swap'!QJT4","v":0},{"$f":"QJW35*'Makro i swap'!QJU4","v":0},{"$f":"QJX35*'Makro i swap'!QJV4","v":0},{"$f":"QJY35*'Makro i swap'!QJW4","v":0},{"$f":"QJZ35*'Makro i swap'!QJX4","v":0},{"$f":"QKA35*'Makro i swap'!QJY4","v":0},{"$f":"QKB35*'Makro i swap'!QJZ4","v":0},{"$f":"QKC35*'Makro i swap'!QKA4","v":0},{"$f":"QKD35*'Makro i swap'!QKB4","v":0},{"$f":"QKE35*'Makro i swap'!QKC4","v":0},{"$f":"QKF35*'Makro i swap'!QKD4","v":0},{"$f":"QKG35*'Makro i swap'!QKE4","v":0},{"$f":"QKH35*'Makro i swap'!QKF4","v":0},{"$f":"QKI35*'Makro i swap'!QKG4","v":0},{"$f":"QKJ35*'Makro i swap'!QKH4","v":0},{"$f":"QKK35*'Makro i swap'!QKI4","v":0},{"$f":"QKL35*'Makro i swap'!QKJ4","v":0},{"$f":"QKM35*'Makro i swap'!QKK4","v":0},{"$f":"QKN35*'Makro i swap'!QKL4","v":0},{"$f":"QKO35*'Makro i swap'!QKM4","v":0},{"$f":"QKP35*'Makro i swap'!QKN4","v":0},{"$f":"QKQ35*'Makro i swap'!QKO4","v":0},{"$f":"QKR35*'Makro i swap'!QKP4","v":0},{"$f":"QKS35*'Makro i swap'!QKQ4","v":0},{"$f":"QKT35*'Makro i swap'!QKR4","v":0},{"$f":"QKU35*'Makro i swap'!QKS4","v":0},{"$f":"QKV35*'Makro i swap'!QKT4","v":0},{"$f":"QKW35*'Makro i swap'!QKU4","v":0},{"$f":"QKX35*'Makro i swap'!QKV4","v":0},{"$f":"QKY35*'Makro i swap'!QKW4","v":0},{"$f":"QKZ35*'Makro i swap'!QKX4","v":0},{"$f":"QLA35*'Makro i swap'!QKY4","v":0},{"$f":"QLB35*'Makro i swap'!QKZ4","v":0},{"$f":"QLC35*'Makro i swap'!QLA4","v":0},{"$f":"QLD35*'Makro i swap'!QLB4","v":0},{"$f":"QLE35*'Makro i swap'!QLC4","v":0},{"$f":"QLF35*'Makro i swap'!QLD4","v":0},{"$f":"QLG35*'Makro i swap'!QLE4","v":0},{"$f":"QLH35*'Makro i swap'!QLF4","v":0},{"$f":"QLI35*'Makro i swap'!QLG4","v":0},{"$f":"QLJ35*'Makro i swap'!QLH4","v":0},{"$f":"QLK35*'Makro i swap'!QLI4","v":0},{"$f":"QLL35*'Makro i swap'!QLJ4","v":0},{"$f":"QLM35*'Makro i swap'!QLK4","v":0},{"$f":"QLN35*'Makro i swap'!QLL4","v":0},{"$f":"QLO35*'Makro i swap'!QLM4","v":0},{"$f":"QLP35*'Makro i swap'!QLN4","v":0},{"$f":"QLQ35*'Makro i swap'!QLO4","v":0},{"$f":"QLR35*'Makro i swap'!QLP4","v":0},{"$f":"QLS35*'Makro i swap'!QLQ4","v":0},{"$f":"QLT35*'Makro i swap'!QLR4","v":0},{"$f":"QLU35*'Makro i swap'!QLS4","v":0},{"$f":"QLV35*'Makro i swap'!QLT4","v":0},{"$f":"QLW35*'Makro i swap'!QLU4","v":0},{"$f":"QLX35*'Makro i swap'!QLV4","v":0},{"$f":"QLY35*'Makro i swap'!QLW4","v":0},{"$f":"QLZ35*'Makro i swap'!QLX4","v":0},{"$f":"QMA35*'Makro i swap'!QLY4","v":0},{"$f":"QMB35*'Makro i swap'!QLZ4","v":0},{"$f":"QMC35*'Makro i swap'!QMA4","v":0},{"$f":"QMD35*'Makro i swap'!QMB4","v":0},{"$f":"QME35*'Makro i swap'!QMC4","v":0},{"$f":"QMF35*'Makro i swap'!QMD4","v":0},{"$f":"QMG35*'Makro i swap'!QME4","v":0},{"$f":"QMH35*'Makro i swap'!QMF4","v":0},{"$f":"QMI35*'Makro i swap'!QMG4","v":0},{"$f":"QMJ35*'Makro i swap'!QMH4","v":0},{"$f":"QMK35*'Makro i swap'!QMI4","v":0},{"$f":"QML35*'Makro i swap'!QMJ4","v":0},{"$f":"QMM35*'Makro i swap'!QMK4","v":0},{"$f":"QMN35*'Makro i swap'!QML4","v":0},{"$f":"QMO35*'Makro i swap'!QMM4","v":0},{"$f":"QMP35*'Makro i swap'!QMN4","v":0},{"$f":"QMQ35*'Makro i swap'!QMO4","v":0},{"$f":"QMR35*'Makro i swap'!QMP4","v":0},{"$f":"QMS35*'Makro i swap'!QMQ4","v":0},{"$f":"QMT35*'Makro i swap'!QMR4","v":0},{"$f":"QMU35*'Makro i swap'!QMS4","v":0},{"$f":"QMV35*'Makro i swap'!QMT4","v":0},{"$f":"QMW35*'Makro i swap'!QMU4","v":0},{"$f":"QMX35*'Makro i swap'!QMV4","v":0},{"$f":"QMY35*'Makro i swap'!QMW4","v":0},{"$f":"QMZ35*'Makro i swap'!QMX4","v":0},{"$f":"QNA35*'Makro i swap'!QMY4","v":0},{"$f":"QNB35*'Makro i swap'!QMZ4","v":0},{"$f":"QNC35*'Makro i swap'!QNA4","v":0},{"$f":"QND35*'Makro i swap'!QNB4","v":0},{"$f":"QNE35*'Makro i swap'!QNC4","v":0},{"$f":"QNF35*'Makro i swap'!QND4","v":0},{"$f":"QNG35*'Makro i swap'!QNE4","v":0},{"$f":"QNH35*'Makro i swap'!QNF4","v":0},{"$f":"QNI35*'Makro i swap'!QNG4","v":0},{"$f":"QNJ35*'Makro i swap'!QNH4","v":0},{"$f":"QNK35*'Makro i swap'!QNI4","v":0},{"$f":"QNL35*'Makro i swap'!QNJ4","v":0},{"$f":"QNM35*'Makro i swap'!QNK4","v":0},{"$f":"QNN35*'Makro i swap'!QNL4","v":0},{"$f":"QNO35*'Makro i swap'!QNM4","v":0},{"$f":"QNP35*'Makro i swap'!QNN4","v":0},{"$f":"QNQ35*'Makro i swap'!QNO4","v":0},{"$f":"QNR35*'Makro i swap'!QNP4","v":0},{"$f":"QNS35*'Makro i swap'!QNQ4","v":0},{"$f":"QNT35*'Makro i swap'!QNR4","v":0},{"$f":"QNU35*'Makro i swap'!QNS4","v":0},{"$f":"QNV35*'Makro i swap'!QNT4","v":0},{"$f":"QNW35*'Makro i swap'!QNU4","v":0},{"$f":"QNX35*'Makro i swap'!QNV4","v":0},{"$f":"QNY35*'Makro i swap'!QNW4","v":0},{"$f":"QNZ35*'Makro i swap'!QNX4","v":0},{"$f":"QOA35*'Makro i swap'!QNY4","v":0},{"$f":"QOB35*'Makro i swap'!QNZ4","v":0},{"$f":"QOC35*'Makro i swap'!QOA4","v":0},{"$f":"QOD35*'Makro i swap'!QOB4","v":0},{"$f":"QOE35*'Makro i swap'!QOC4","v":0},{"$f":"QOF35*'Makro i swap'!QOD4","v":0},{"$f":"QOG35*'Makro i swap'!QOE4","v":0},{"$f":"QOH35*'Makro i swap'!QOF4","v":0},{"$f":"QOI35*'Makro i swap'!QOG4","v":0},{"$f":"QOJ35*'Makro i swap'!QOH4","v":0},{"$f":"QOK35*'Makro i swap'!QOI4","v":0},{"$f":"QOL35*'Makro i swap'!QOJ4","v":0},{"$f":"QOM35*'Makro i swap'!QOK4","v":0},{"$f":"QON35*'Makro i swap'!QOL4","v":0},{"$f":"QOO35*'Makro i swap'!QOM4","v":0},{"$f":"QOP35*'Makro i swap'!QON4","v":0},{"$f":"QOQ35*'Makro i swap'!QOO4","v":0},{"$f":"QOR35*'Makro i swap'!QOP4","v":0},{"$f":"QOS35*'Makro i swap'!QOQ4","v":0},{"$f":"QOT35*'Makro i swap'!QOR4","v":0},{"$f":"QOU35*'Makro i swap'!QOS4","v":0},{"$f":"QOV35*'Makro i swap'!QOT4","v":0},{"$f":"QOW35*'Makro i swap'!QOU4","v":0},{"$f":"QOX35*'Makro i swap'!QOV4","v":0},{"$f":"QOY35*'Makro i swap'!QOW4","v":0},{"$f":"QOZ35*'Makro i swap'!QOX4","v":0},{"$f":"QPA35*'Makro i swap'!QOY4","v":0},{"$f":"QPB35*'Makro i swap'!QOZ4","v":0},{"$f":"QPC35*'Makro i swap'!QPA4","v":0},{"$f":"QPD35*'Makro i swap'!QPB4","v":0},{"$f":"QPE35*'Makro i swap'!QPC4","v":0},{"$f":"QPF35*'Makro i swap'!QPD4","v":0},{"$f":"QPG35*'Makro i swap'!QPE4","v":0},{"$f":"QPH35*'Makro i swap'!QPF4","v":0},{"$f":"QPI35*'Makro i swap'!QPG4","v":0},{"$f":"QPJ35*'Makro i swap'!QPH4","v":0},{"$f":"QPK35*'Makro i swap'!QPI4","v":0},{"$f":"QPL35*'Makro i swap'!QPJ4","v":0},{"$f":"QPM35*'Makro i swap'!QPK4","v":0},{"$f":"QPN35*'Makro i swap'!QPL4","v":0},{"$f":"QPO35*'Makro i swap'!QPM4","v":0},{"$f":"QPP35*'Makro i swap'!QPN4","v":0},{"$f":"QPQ35*'Makro i swap'!QPO4","v":0},{"$f":"QPR35*'Makro i swap'!QPP4","v":0},{"$f":"QPS35*'Makro i swap'!QPQ4","v":0},{"$f":"QPT35*'Makro i swap'!QPR4","v":0},{"$f":"QPU35*'Makro i swap'!QPS4","v":0},{"$f":"QPV35*'Makro i swap'!QPT4","v":0},{"$f":"QPW35*'Makro i swap'!QPU4","v":0},{"$f":"QPX35*'Makro i swap'!QPV4","v":0},{"$f":"QPY35*'Makro i swap'!QPW4","v":0},{"$f":"QPZ35*'Makro i swap'!QPX4","v":0},{"$f":"QQA35*'Makro i swap'!QPY4","v":0},{"$f":"QQB35*'Makro i swap'!QPZ4","v":0},{"$f":"QQC35*'Makro i swap'!QQA4","v":0},{"$f":"QQD35*'Makro i swap'!QQB4","v":0},{"$f":"QQE35*'Makro i swap'!QQC4","v":0},{"$f":"QQF35*'Makro i swap'!QQD4","v":0},{"$f":"QQG35*'Makro i swap'!QQE4","v":0},{"$f":"QQH35*'Makro i swap'!QQF4","v":0},{"$f":"QQI35*'Makro i swap'!QQG4","v":0},{"$f":"QQJ35*'Makro i swap'!QQH4","v":0},{"$f":"QQK35*'Makro i swap'!QQI4","v":0},{"$f":"QQL35*'Makro i swap'!QQJ4","v":0},{"$f":"QQM35*'Makro i swap'!QQK4","v":0},{"$f":"QQN35*'Makro i swap'!QQL4","v":0},{"$f":"QQO35*'Makro i swap'!QQM4","v":0},{"$f":"QQP35*'Makro i swap'!QQN4","v":0},{"$f":"QQQ35*'Makro i swap'!QQO4","v":0},{"$f":"QQR35*'Makro i swap'!QQP4","v":0},{"$f":"QQS35*'Makro i swap'!QQQ4","v":0},{"$f":"QQT35*'Makro i swap'!QQR4","v":0},{"$f":"QQU35*'Makro i swap'!QQS4","v":0},{"$f":"QQV35*'Makro i swap'!QQT4","v":0},{"$f":"QQW35*'Makro i swap'!QQU4","v":0},{"$f":"QQX35*'Makro i swap'!QQV4","v":0},{"$f":"QQY35*'Makro i swap'!QQW4","v":0},{"$f":"QQZ35*'Makro i swap'!QQX4","v":0},{"$f":"QRA35*'Makro i swap'!QQY4","v":0},{"$f":"QRB35*'Makro i swap'!QQZ4","v":0},{"$f":"QRC35*'Makro i swap'!QRA4","v":0},{"$f":"QRD35*'Makro i swap'!QRB4","v":0},{"$f":"QRE35*'Makro i swap'!QRC4","v":0},{"$f":"QRF35*'Makro i swap'!QRD4","v":0},{"$f":"QRG35*'Makro i swap'!QRE4","v":0},{"$f":"QRH35*'Makro i swap'!QRF4","v":0},{"$f":"QRI35*'Makro i swap'!QRG4","v":0},{"$f":"QRJ35*'Makro i swap'!QRH4","v":0},{"$f":"QRK35*'Makro i swap'!QRI4","v":0},{"$f":"QRL35*'Makro i swap'!QRJ4","v":0},{"$f":"QRM35*'Makro i swap'!QRK4","v":0},{"$f":"QRN35*'Makro i swap'!QRL4","v":0},{"$f":"QRO35*'Makro i swap'!QRM4","v":0},{"$f":"QRP35*'Makro i swap'!QRN4","v":0},{"$f":"QRQ35*'Makro i swap'!QRO4","v":0},{"$f":"QRR35*'Makro i swap'!QRP4","v":0},{"$f":"QRS35*'Makro i swap'!QRQ4","v":0},{"$f":"QRT35*'Makro i swap'!QRR4","v":0},{"$f":"QRU35*'Makro i swap'!QRS4","v":0},{"$f":"QRV35*'Makro i swap'!QRT4","v":0},{"$f":"QRW35*'Makro i swap'!QRU4","v":0},{"$f":"QRX35*'Makro i swap'!QRV4","v":0},{"$f":"QRY35*'Makro i swap'!QRW4","v":0},{"$f":"QRZ35*'Makro i swap'!QRX4","v":0},{"$f":"QSA35*'Makro i swap'!QRY4","v":0},{"$f":"QSB35*'Makro i swap'!QRZ4","v":0},{"$f":"QSC35*'Makro i swap'!QSA4","v":0},{"$f":"QSD35*'Makro i swap'!QSB4","v":0},{"$f":"QSE35*'Makro i swap'!QSC4","v":0},{"$f":"QSF35*'Makro i swap'!QSD4","v":0},{"$f":"QSG35*'Makro i swap'!QSE4","v":0},{"$f":"QSH35*'Makro i swap'!QSF4","v":0},{"$f":"QSI35*'Makro i swap'!QSG4","v":0},{"$f":"QSJ35*'Makro i swap'!QSH4","v":0},{"$f":"QSK35*'Makro i swap'!QSI4","v":0},{"$f":"QSL35*'Makro i swap'!QSJ4","v":0},{"$f":"QSM35*'Makro i swap'!QSK4","v":0},{"$f":"QSN35*'Makro i swap'!QSL4","v":0},{"$f":"QSO35*'Makro i swap'!QSM4","v":0},{"$f":"QSP35*'Makro i swap'!QSN4","v":0},{"$f":"QSQ35*'Makro i swap'!QSO4","v":0},{"$f":"QSR35*'Makro i swap'!QSP4","v":0},{"$f":"QSS35*'Makro i swap'!QSQ4","v":0},{"$f":"QST35*'Makro i swap'!QSR4","v":0},{"$f":"QSU35*'Makro i swap'!QSS4","v":0},{"$f":"QSV35*'Makro i swap'!QST4","v":0},{"$f":"QSW35*'Makro i swap'!QSU4","v":0},{"$f":"QSX35*'Makro i swap'!QSV4","v":0},{"$f":"QSY35*'Makro i swap'!QSW4","v":0},{"$f":"QSZ35*'Makro i swap'!QSX4","v":0},{"$f":"QTA35*'Makro i swap'!QSY4","v":0},{"$f":"QTB35*'Makro i swap'!QSZ4","v":0},{"$f":"QTC35*'Makro i swap'!QTA4","v":0},{"$f":"QTD35*'Makro i swap'!QTB4","v":0},{"$f":"QTE35*'Makro i swap'!QTC4","v":0},{"$f":"QTF35*'Makro i swap'!QTD4","v":0},{"$f":"QTG35*'Makro i swap'!QTE4","v":0},{"$f":"QTH35*'Makro i swap'!QTF4","v":0},{"$f":"QTI35*'Makro i swap'!QTG4","v":0},{"$f":"QTJ35*'Makro i swap'!QTH4","v":0},{"$f":"QTK35*'Makro i swap'!QTI4","v":0},{"$f":"QTL35*'Makro i swap'!QTJ4","v":0},{"$f":"QTM35*'Makro i swap'!QTK4","v":0},{"$f":"QTN35*'Makro i swap'!QTL4","v":0},{"$f":"QTO35*'Makro i swap'!QTM4","v":0},{"$f":"QTP35*'Makro i swap'!QTN4","v":0},{"$f":"QTQ35*'Makro i swap'!QTO4","v":0},{"$f":"QTR35*'Makro i swap'!QTP4","v":0},{"$f":"QTS35*'Makro i swap'!QTQ4","v":0},{"$f":"QTT35*'Makro i swap'!QTR4","v":0},{"$f":"QTU35*'Makro i swap'!QTS4","v":0},{"$f":"QTV35*'Makro i swap'!QTT4","v":0},{"$f":"QTW35*'Makro i swap'!QTU4","v":0},{"$f":"QTX35*'Makro i swap'!QTV4","v":0},{"$f":"QTY35*'Makro i swap'!QTW4","v":0},{"$f":"QTZ35*'Makro i swap'!QTX4","v":0},{"$f":"QUA35*'Makro i swap'!QTY4","v":0},{"$f":"QUB35*'Makro i swap'!QTZ4","v":0},{"$f":"QUC35*'Makro i swap'!QUA4","v":0},{"$f":"QUD35*'Makro i swap'!QUB4","v":0},{"$f":"QUE35*'Makro i swap'!QUC4","v":0},{"$f":"QUF35*'Makro i swap'!QUD4","v":0},{"$f":"QUG35*'Makro i swap'!QUE4","v":0},{"$f":"QUH35*'Makro i swap'!QUF4","v":0},{"$f":"QUI35*'Makro i swap'!QUG4","v":0},{"$f":"QUJ35*'Makro i swap'!QUH4","v":0},{"$f":"QUK35*'Makro i swap'!QUI4","v":0},{"$f":"QUL35*'Makro i swap'!QUJ4","v":0},{"$f":"QUM35*'Makro i swap'!QUK4","v":0},{"$f":"QUN35*'Makro i swap'!QUL4","v":0},{"$f":"QUO35*'Makro i swap'!QUM4","v":0},{"$f":"QUP35*'Makro i swap'!QUN4","v":0},{"$f":"QUQ35*'Makro i swap'!QUO4","v":0},{"$f":"QUR35*'Makro i swap'!QUP4","v":0},{"$f":"QUS35*'Makro i swap'!QUQ4","v":0},{"$f":"QUT35*'Makro i swap'!QUR4","v":0},{"$f":"QUU35*'Makro i swap'!QUS4","v":0},{"$f":"QUV35*'Makro i swap'!QUT4","v":0},{"$f":"QUW35*'Makro i swap'!QUU4","v":0},{"$f":"QUX35*'Makro i swap'!QUV4","v":0},{"$f":"QUY35*'Makro i swap'!QUW4","v":0},{"$f":"QUZ35*'Makro i swap'!QUX4","v":0},{"$f":"QVA35*'Makro i swap'!QUY4","v":0},{"$f":"QVB35*'Makro i swap'!QUZ4","v":0},{"$f":"QVC35*'Makro i swap'!QVA4","v":0},{"$f":"QVD35*'Makro i swap'!QVB4","v":0},{"$f":"QVE35*'Makro i swap'!QVC4","v":0},{"$f":"QVF35*'Makro i swap'!QVD4","v":0},{"$f":"QVG35*'Makro i swap'!QVE4","v":0},{"$f":"QVH35*'Makro i swap'!QVF4","v":0},{"$f":"QVI35*'Makro i swap'!QVG4","v":0},{"$f":"QVJ35*'Makro i swap'!QVH4","v":0},{"$f":"QVK35*'Makro i swap'!QVI4","v":0},{"$f":"QVL35*'Makro i swap'!QVJ4","v":0},{"$f":"QVM35*'Makro i swap'!QVK4","v":0},{"$f":"QVN35*'Makro i swap'!QVL4","v":0},{"$f":"QVO35*'Makro i swap'!QVM4","v":0},{"$f":"QVP35*'Makro i swap'!QVN4","v":0},{"$f":"QVQ35*'Makro i swap'!QVO4","v":0},{"$f":"QVR35*'Makro i swap'!QVP4","v":0},{"$f":"QVS35*'Makro i swap'!QVQ4","v":0},{"$f":"QVT35*'Makro i swap'!QVR4","v":0},{"$f":"QVU35*'Makro i swap'!QVS4","v":0},{"$f":"QVV35*'Makro i swap'!QVT4","v":0},{"$f":"QVW35*'Makro i swap'!QVU4","v":0},{"$f":"QVX35*'Makro i swap'!QVV4","v":0},{"$f":"QVY35*'Makro i swap'!QVW4","v":0},{"$f":"QVZ35*'Makro i swap'!QVX4","v":0},{"$f":"QWA35*'Makro i swap'!QVY4","v":0},{"$f":"QWB35*'Makro i swap'!QVZ4","v":0},{"$f":"QWC35*'Makro i swap'!QWA4","v":0},{"$f":"QWD35*'Makro i swap'!QWB4","v":0},{"$f":"QWE35*'Makro i swap'!QWC4","v":0},{"$f":"QWF35*'Makro i swap'!QWD4","v":0},{"$f":"QWG35*'Makro i swap'!QWE4","v":0},{"$f":"QWH35*'Makro i swap'!QWF4","v":0},{"$f":"QWI35*'Makro i swap'!QWG4","v":0},{"$f":"QWJ35*'Makro i swap'!QWH4","v":0},{"$f":"QWK35*'Makro i swap'!QWI4","v":0},{"$f":"QWL35*'Makro i swap'!QWJ4","v":0},{"$f":"QWM35*'Makro i swap'!QWK4","v":0},{"$f":"QWN35*'Makro i swap'!QWL4","v":0},{"$f":"QWO35*'Makro i swap'!QWM4","v":0},{"$f":"QWP35*'Makro i swap'!QWN4","v":0},{"$f":"QWQ35*'Makro i swap'!QWO4","v":0},{"$f":"QWR35*'Makro i swap'!QWP4","v":0},{"$f":"QWS35*'Makro i swap'!QWQ4","v":0},{"$f":"QWT35*'Makro i swap'!QWR4","v":0},{"$f":"QWU35*'Makro i swap'!QWS4","v":0},{"$f":"QWV35*'Makro i swap'!QWT4","v":0},{"$f":"QWW35*'Makro i swap'!QWU4","v":0},{"$f":"QWX35*'Makro i swap'!QWV4","v":0},{"$f":"QWY35*'Makro i swap'!QWW4","v":0},{"$f":"QWZ35*'Makro i swap'!QWX4","v":0},{"$f":"QXA35*'Makro i swap'!QWY4","v":0},{"$f":"QXB35*'Makro i swap'!QWZ4","v":0},{"$f":"QXC35*'Makro i swap'!QXA4","v":0},{"$f":"QXD35*'Makro i swap'!QXB4","v":0},{"$f":"QXE35*'Makro i swap'!QXC4","v":0},{"$f":"QXF35*'Makro i swap'!QXD4","v":0},{"$f":"QXG35*'Makro i swap'!QXE4","v":0},{"$f":"QXH35*'Makro i swap'!QXF4","v":0},{"$f":"QXI35*'Makro i swap'!QXG4","v":0},{"$f":"QXJ35*'Makro i swap'!QXH4","v":0},{"$f":"QXK35*'Makro i swap'!QXI4","v":0},{"$f":"QXL35*'Makro i swap'!QXJ4","v":0},{"$f":"QXM35*'Makro i swap'!QXK4","v":0},{"$f":"QXN35*'Makro i swap'!QXL4","v":0},{"$f":"QXO35*'Makro i swap'!QXM4","v":0},{"$f":"QXP35*'Makro i swap'!QXN4","v":0},{"$f":"QXQ35*'Makro i swap'!QXO4","v":0},{"$f":"QXR35*'Makro i swap'!QXP4","v":0},{"$f":"QXS35*'Makro i swap'!QXQ4","v":0},{"$f":"QXT35*'Makro i swap'!QXR4","v":0},{"$f":"QXU35*'Makro i swap'!QXS4","v":0},{"$f":"QXV35*'Makro i swap'!QXT4","v":0},{"$f":"QXW35*'Makro i swap'!QXU4","v":0},{"$f":"QXX35*'Makro i swap'!QXV4","v":0},{"$f":"QXY35*'Makro i swap'!QXW4","v":0},{"$f":"QXZ35*'Makro i swap'!QXX4","v":0},{"$f":"QYA35*'Makro i swap'!QXY4","v":0},{"$f":"QYB35*'Makro i swap'!QXZ4","v":0},{"$f":"QYC35*'Makro i swap'!QYA4","v":0},{"$f":"QYD35*'Makro i swap'!QYB4","v":0},{"$f":"QYE35*'Makro i swap'!QYC4","v":0},{"$f":"QYF35*'Makro i swap'!QYD4","v":0},{"$f":"QYG35*'Makro i swap'!QYE4","v":0},{"$f":"QYH35*'Makro i swap'!QYF4","v":0},{"$f":"QYI35*'Makro i swap'!QYG4","v":0},{"$f":"QYJ35*'Makro i swap'!QYH4","v":0},{"$f":"QYK35*'Makro i swap'!QYI4","v":0},{"$f":"QYL35*'Makro i swap'!QYJ4","v":0},{"$f":"QYM35*'Makro i swap'!QYK4","v":0},{"$f":"QYN35*'Makro i swap'!QYL4","v":0},{"$f":"QYO35*'Makro i swap'!QYM4","v":0},{"$f":"QYP35*'Makro i swap'!QYN4","v":0},{"$f":"QYQ35*'Makro i swap'!QYO4","v":0},{"$f":"QYR35*'Makro i swap'!QYP4","v":0},{"$f":"QYS35*'Makro i swap'!QYQ4","v":0},{"$f":"QYT35*'Makro i swap'!QYR4","v":0},{"$f":"QYU35*'Makro i swap'!QYS4","v":0},{"$f":"QYV35*'Makro i swap'!QYT4","v":0},{"$f":"QYW35*'Makro i swap'!QYU4","v":0},{"$f":"QYX35*'Makro i swap'!QYV4","v":0},{"$f":"QYY35*'Makro i swap'!QYW4","v":0},{"$f":"QYZ35*'Makro i swap'!QYX4","v":0},{"$f":"QZA35*'Makro i swap'!QYY4","v":0},{"$f":"QZB35*'Makro i swap'!QYZ4","v":0},{"$f":"QZC35*'Makro i swap'!QZA4","v":0},{"$f":"QZD35*'Makro i swap'!QZB4","v":0},{"$f":"QZE35*'Makro i swap'!QZC4","v":0},{"$f":"QZF35*'Makro i swap'!QZD4","v":0},{"$f":"QZG35*'Makro i swap'!QZE4","v":0},{"$f":"QZH35*'Makro i swap'!QZF4","v":0},{"$f":"QZI35*'Makro i swap'!QZG4","v":0},{"$f":"QZJ35*'Makro i swap'!QZH4","v":0},{"$f":"QZK35*'Makro i swap'!QZI4","v":0},{"$f":"QZL35*'Makro i swap'!QZJ4","v":0},{"$f":"QZM35*'Makro i swap'!QZK4","v":0},{"$f":"QZN35*'Makro i swap'!QZL4","v":0},{"$f":"QZO35*'Makro i swap'!QZM4","v":0},{"$f":"QZP35*'Makro i swap'!QZN4","v":0},{"$f":"QZQ35*'Makro i swap'!QZO4","v":0},{"$f":"QZR35*'Makro i swap'!QZP4","v":0},{"$f":"QZS35*'Makro i swap'!QZQ4","v":0},{"$f":"QZT35*'Makro i swap'!QZR4","v":0},{"$f":"QZU35*'Makro i swap'!QZS4","v":0},{"$f":"QZV35*'Makro i swap'!QZT4","v":0},{"$f":"QZW35*'Makro i swap'!QZU4","v":0},{"$f":"QZX35*'Makro i swap'!QZV4","v":0},{"$f":"QZY35*'Makro i swap'!QZW4","v":0},{"$f":"QZZ35*'Makro i swap'!QZX4","v":0},{"$f":"RAA35*'Makro i swap'!QZY4","v":0},{"$f":"RAB35*'Makro i swap'!QZZ4","v":0},{"$f":"RAC35*'Makro i swap'!RAA4","v":0},{"$f":"RAD35*'Makro i swap'!RAB4","v":0},{"$f":"RAE35*'Makro i swap'!RAC4","v":0},{"$f":"RAF35*'Makro i swap'!RAD4","v":0},{"$f":"RAG35*'Makro i swap'!RAE4","v":0},{"$f":"RAH35*'Makro i swap'!RAF4","v":0},{"$f":"RAI35*'Makro i swap'!RAG4","v":0},{"$f":"RAJ35*'Makro i swap'!RAH4","v":0},{"$f":"RAK35*'Makro i swap'!RAI4","v":0},{"$f":"RAL35*'Makro i swap'!RAJ4","v":0},{"$f":"RAM35*'Makro i swap'!RAK4","v":0},{"$f":"RAN35*'Makro i swap'!RAL4","v":0},{"$f":"RAO35*'Makro i swap'!RAM4","v":0},{"$f":"RAP35*'Makro i swap'!RAN4","v":0},{"$f":"RAQ35*'Makro i swap'!RAO4","v":0},{"$f":"RAR35*'Makro i swap'!RAP4","v":0},{"$f":"RAS35*'Makro i swap'!RAQ4","v":0},{"$f":"RAT35*'Makro i swap'!RAR4","v":0},{"$f":"RAU35*'Makro i swap'!RAS4","v":0},{"$f":"RAV35*'Makro i swap'!RAT4","v":0},{"$f":"RAW35*'Makro i swap'!RAU4","v":0},{"$f":"RAX35*'Makro i swap'!RAV4","v":0},{"$f":"RAY35*'Makro i swap'!RAW4","v":0},{"$f":"RAZ35*'Makro i swap'!RAX4","v":0},{"$f":"RBA35*'Makro i swap'!RAY4","v":0},{"$f":"RBB35*'Makro i swap'!RAZ4","v":0},{"$f":"RBC35*'Makro i swap'!RBA4","v":0},{"$f":"RBD35*'Makro i swap'!RBB4","v":0},{"$f":"RBE35*'Makro i swap'!RBC4","v":0},{"$f":"RBF35*'Makro i swap'!RBD4","v":0},{"$f":"RBG35*'Makro i swap'!RBE4","v":0},{"$f":"RBH35*'Makro i swap'!RBF4","v":0},{"$f":"RBI35*'Makro i swap'!RBG4","v":0},{"$f":"RBJ35*'Makro i swap'!RBH4","v":0},{"$f":"RBK35*'Makro i swap'!RBI4","v":0},{"$f":"RBL35*'Makro i swap'!RBJ4","v":0},{"$f":"RBM35*'Makro i swap'!RBK4","v":0},{"$f":"RBN35*'Makro i swap'!RBL4","v":0},{"$f":"RBO35*'Makro i swap'!RBM4","v":0},{"$f":"RBP35*'Makro i swap'!RBN4","v":0},{"$f":"RBQ35*'Makro i swap'!RBO4","v":0},{"$f":"RBR35*'Makro i swap'!RBP4","v":0},{"$f":"RBS35*'Makro i swap'!RBQ4","v":0},{"$f":"RBT35*'Makro i swap'!RBR4","v":0},{"$f":"RBU35*'Makro i swap'!RBS4","v":0},{"$f":"RBV35*'Makro i swap'!RBT4","v":0},{"$f":"RBW35*'Makro i swap'!RBU4","v":0},{"$f":"RBX35*'Makro i swap'!RBV4","v":0},{"$f":"RBY35*'Makro i swap'!RBW4","v":0},{"$f":"RBZ35*'Makro i swap'!RBX4","v":0},{"$f":"RCA35*'Makro i swap'!RBY4","v":0},{"$f":"RCB35*'Makro i swap'!RBZ4","v":0},{"$f":"RCC35*'Makro i swap'!RCA4","v":0},{"$f":"RCD35*'Makro i swap'!RCB4","v":0},{"$f":"RCE35*'Makro i swap'!RCC4","v":0},{"$f":"RCF35*'Makro i swap'!RCD4","v":0},{"$f":"RCG35*'Makro i swap'!RCE4","v":0},{"$f":"RCH35*'Makro i swap'!RCF4","v":0},{"$f":"RCI35*'Makro i swap'!RCG4","v":0},{"$f":"RCJ35*'Makro i swap'!RCH4","v":0},{"$f":"RCK35*'Makro i swap'!RCI4","v":0},{"$f":"RCL35*'Makro i swap'!RCJ4","v":0},{"$f":"RCM35*'Makro i swap'!RCK4","v":0},{"$f":"RCN35*'Makro i swap'!RCL4","v":0},{"$f":"RCO35*'Makro i swap'!RCM4","v":0},{"$f":"RCP35*'Makro i swap'!RCN4","v":0},{"$f":"RCQ35*'Makro i swap'!RCO4","v":0},{"$f":"RCR35*'Makro i swap'!RCP4","v":0},{"$f":"RCS35*'Makro i swap'!RCQ4","v":0},{"$f":"RCT35*'Makro i swap'!RCR4","v":0},{"$f":"RCU35*'Makro i swap'!RCS4","v":0},{"$f":"RCV35*'Makro i swap'!RCT4","v":0},{"$f":"RCW35*'Makro i swap'!RCU4","v":0},{"$f":"RCX35*'Makro i swap'!RCV4","v":0},{"$f":"RCY35*'Makro i swap'!RCW4","v":0},{"$f":"RCZ35*'Makro i swap'!RCX4","v":0},{"$f":"RDA35*'Makro i swap'!RCY4","v":0},{"$f":"RDB35*'Makro i swap'!RCZ4","v":0},{"$f":"RDC35*'Makro i swap'!RDA4","v":0},{"$f":"RDD35*'Makro i swap'!RDB4","v":0},{"$f":"RDE35*'Makro i swap'!RDC4","v":0},{"$f":"RDF35*'Makro i swap'!RDD4","v":0},{"$f":"RDG35*'Makro i swap'!RDE4","v":0},{"$f":"RDH35*'Makro i swap'!RDF4","v":0},{"$f":"RDI35*'Makro i swap'!RDG4","v":0},{"$f":"RDJ35*'Makro i swap'!RDH4","v":0},{"$f":"RDK35*'Makro i swap'!RDI4","v":0},{"$f":"RDL35*'Makro i swap'!RDJ4","v":0},{"$f":"RDM35*'Makro i swap'!RDK4","v":0},{"$f":"RDN35*'Makro i swap'!RDL4","v":0},{"$f":"RDO35*'Makro i swap'!RDM4","v":0},{"$f":"RDP35*'Makro i swap'!RDN4","v":0},{"$f":"RDQ35*'Makro i swap'!RDO4","v":0},{"$f":"RDR35*'Makro i swap'!RDP4","v":0},{"$f":"RDS35*'Makro i swap'!RDQ4","v":0},{"$f":"RDT35*'Makro i swap'!RDR4","v":0},{"$f":"RDU35*'Makro i swap'!RDS4","v":0},{"$f":"RDV35*'Makro i swap'!RDT4","v":0},{"$f":"RDW35*'Makro i swap'!RDU4","v":0},{"$f":"RDX35*'Makro i swap'!RDV4","v":0},{"$f":"RDY35*'Makro i swap'!RDW4","v":0},{"$f":"RDZ35*'Makro i swap'!RDX4","v":0},{"$f":"REA35*'Makro i swap'!RDY4","v":0},{"$f":"REB35*'Makro i swap'!RDZ4","v":0},{"$f":"REC35*'Makro i swap'!REA4","v":0},{"$f":"RED35*'Makro i swap'!REB4","v":0},{"$f":"REE35*'Makro i swap'!REC4","v":0},{"$f":"REF35*'Makro i swap'!RED4","v":0},{"$f":"REG35*'Makro i swap'!REE4","v":0},{"$f":"REH35*'Makro i swap'!REF4","v":0},{"$f":"REI35*'Makro i swap'!REG4","v":0},{"$f":"REJ35*'Makro i swap'!REH4","v":0},{"$f":"REK35*'Makro i swap'!REI4","v":0},{"$f":"REL35*'Makro i swap'!REJ4","v":0},{"$f":"REM35*'Makro i swap'!REK4","v":0},{"$f":"REN35*'Makro i swap'!REL4","v":0},{"$f":"REO35*'Makro i swap'!REM4","v":0},{"$f":"REP35*'Makro i swap'!REN4","v":0},{"$f":"REQ35*'Makro i swap'!REO4","v":0},{"$f":"RER35*'Makro i swap'!REP4","v":0},{"$f":"RES35*'Makro i swap'!REQ4","v":0},{"$f":"RET35*'Makro i swap'!RER4","v":0},{"$f":"REU35*'Makro i swap'!RES4","v":0},{"$f":"REV35*'Makro i swap'!RET4","v":0},{"$f":"REW35*'Makro i swap'!REU4","v":0},{"$f":"REX35*'Makro i swap'!REV4","v":0},{"$f":"REY35*'Makro i swap'!REW4","v":0},{"$f":"REZ35*'Makro i swap'!REX4","v":0},{"$f":"RFA35*'Makro i swap'!REY4","v":0},{"$f":"RFB35*'Makro i swap'!REZ4","v":0},{"$f":"RFC35*'Makro i swap'!RFA4","v":0},{"$f":"RFD35*'Makro i swap'!RFB4","v":0},{"$f":"RFE35*'Makro i swap'!RFC4","v":0},{"$f":"RFF35*'Makro i swap'!RFD4","v":0},{"$f":"RFG35*'Makro i swap'!RFE4","v":0},{"$f":"RFH35*'Makro i swap'!RFF4","v":0},{"$f":"RFI35*'Makro i swap'!RFG4","v":0},{"$f":"RFJ35*'Makro i swap'!RFH4","v":0},{"$f":"RFK35*'Makro i swap'!RFI4","v":0},{"$f":"RFL35*'Makro i swap'!RFJ4","v":0},{"$f":"RFM35*'Makro i swap'!RFK4","v":0},{"$f":"RFN35*'Makro i swap'!RFL4","v":0},{"$f":"RFO35*'Makro i swap'!RFM4","v":0},{"$f":"RFP35*'Makro i swap'!RFN4","v":0},{"$f":"RFQ35*'Makro i swap'!RFO4","v":0},{"$f":"RFR35*'Makro i swap'!RFP4","v":0},{"$f":"RFS35*'Makro i swap'!RFQ4","v":0},{"$f":"RFT35*'Makro i swap'!RFR4","v":0},{"$f":"RFU35*'Makro i swap'!RFS4","v":0},{"$f":"RFV35*'Makro i swap'!RFT4","v":0},{"$f":"RFW35*'Makro i swap'!RFU4","v":0},{"$f":"RFX35*'Makro i swap'!RFV4","v":0},{"$f":"RFY35*'Makro i swap'!RFW4","v":0},{"$f":"RFZ35*'Makro i swap'!RFX4","v":0},{"$f":"RGA35*'Makro i swap'!RFY4","v":0},{"$f":"RGB35*'Makro i swap'!RFZ4","v":0},{"$f":"RGC35*'Makro i swap'!RGA4","v":0},{"$f":"RGD35*'Makro i swap'!RGB4","v":0},{"$f":"RGE35*'Makro i swap'!RGC4","v":0},{"$f":"RGF35*'Makro i swap'!RGD4","v":0},{"$f":"RGG35*'Makro i swap'!RGE4","v":0},{"$f":"RGH35*'Makro i swap'!RGF4","v":0},{"$f":"RGI35*'Makro i swap'!RGG4","v":0},{"$f":"RGJ35*'Makro i swap'!RGH4","v":0},{"$f":"RGK35*'Makro i swap'!RGI4","v":0},{"$f":"RGL35*'Makro i swap'!RGJ4","v":0},{"$f":"RGM35*'Makro i swap'!RGK4","v":0},{"$f":"RGN35*'Makro i swap'!RGL4","v":0},{"$f":"RGO35*'Makro i swap'!RGM4","v":0},{"$f":"RGP35*'Makro i swap'!RGN4","v":0},{"$f":"RGQ35*'Makro i swap'!RGO4","v":0},{"$f":"RGR35*'Makro i swap'!RGP4","v":0},{"$f":"RGS35*'Makro i swap'!RGQ4","v":0},{"$f":"RGT35*'Makro i swap'!RGR4","v":0},{"$f":"RGU35*'Makro i swap'!RGS4","v":0},{"$f":"RGV35*'Makro i swap'!RGT4","v":0},{"$f":"RGW35*'Makro i swap'!RGU4","v":0},{"$f":"RGX35*'Makro i swap'!RGV4","v":0},{"$f":"RGY35*'Makro i swap'!RGW4","v":0},{"$f":"RGZ35*'Makro i swap'!RGX4","v":0},{"$f":"RHA35*'Makro i swap'!RGY4","v":0},{"$f":"RHB35*'Makro i swap'!RGZ4","v":0},{"$f":"RHC35*'Makro i swap'!RHA4","v":0},{"$f":"RHD35*'Makro i swap'!RHB4","v":0},{"$f":"RHE35*'Makro i swap'!RHC4","v":0},{"$f":"RHF35*'Makro i swap'!RHD4","v":0},{"$f":"RHG35*'Makro i swap'!RHE4","v":0},{"$f":"RHH35*'Makro i swap'!RHF4","v":0},{"$f":"RHI35*'Makro i swap'!RHG4","v":0},{"$f":"RHJ35*'Makro i swap'!RHH4","v":0},{"$f":"RHK35*'Makro i swap'!RHI4","v":0},{"$f":"RHL35*'Makro i swap'!RHJ4","v":0},{"$f":"RHM35*'Makro i swap'!RHK4","v":0},{"$f":"RHN35*'Makro i swap'!RHL4","v":0},{"$f":"RHO35*'Makro i swap'!RHM4","v":0},{"$f":"RHP35*'Makro i swap'!RHN4","v":0},{"$f":"RHQ35*'Makro i swap'!RHO4","v":0},{"$f":"RHR35*'Makro i swap'!RHP4","v":0},{"$f":"RHS35*'Makro i swap'!RHQ4","v":0},{"$f":"RHT35*'Makro i swap'!RHR4","v":0},{"$f":"RHU35*'Makro i swap'!RHS4","v":0},{"$f":"RHV35*'Makro i swap'!RHT4","v":0},{"$f":"RHW35*'Makro i swap'!RHU4","v":0},{"$f":"RHX35*'Makro i swap'!RHV4","v":0},{"$f":"RHY35*'Makro i swap'!RHW4","v":0},{"$f":"RHZ35*'Makro i swap'!RHX4","v":0},{"$f":"RIA35*'Makro i swap'!RHY4","v":0},{"$f":"RIB35*'Makro i swap'!RHZ4","v":0},{"$f":"RIC35*'Makro i swap'!RIA4","v":0},{"$f":"RID35*'Makro i swap'!RIB4","v":0},{"$f":"RIE35*'Makro i swap'!RIC4","v":0},{"$f":"RIF35*'Makro i swap'!RID4","v":0},{"$f":"RIG35*'Makro i swap'!RIE4","v":0},{"$f":"RIH35*'Makro i swap'!RIF4","v":0},{"$f":"RII35*'Makro i swap'!RIG4","v":0},{"$f":"RIJ35*'Makro i swap'!RIH4","v":0},{"$f":"RIK35*'Makro i swap'!RII4","v":0},{"$f":"RIL35*'Makro i swap'!RIJ4","v":0},{"$f":"RIM35*'Makro i swap'!RIK4","v":0},{"$f":"RIN35*'Makro i swap'!RIL4","v":0},{"$f":"RIO35*'Makro i swap'!RIM4","v":0},{"$f":"RIP35*'Makro i swap'!RIN4","v":0},{"$f":"RIQ35*'Makro i swap'!RIO4","v":0},{"$f":"RIR35*'Makro i swap'!RIP4","v":0},{"$f":"RIS35*'Makro i swap'!RIQ4","v":0},{"$f":"RIT35*'Makro i swap'!RIR4","v":0},{"$f":"RIU35*'Makro i swap'!RIS4","v":0},{"$f":"RIV35*'Makro i swap'!RIT4","v":0},{"$f":"RIW35*'Makro i swap'!RIU4","v":0},{"$f":"RIX35*'Makro i swap'!RIV4","v":0},{"$f":"RIY35*'Makro i swap'!RIW4","v":0},{"$f":"RIZ35*'Makro i swap'!RIX4","v":0},{"$f":"RJA35*'Makro i swap'!RIY4","v":0},{"$f":"RJB35*'Makro i swap'!RIZ4","v":0},{"$f":"RJC35*'Makro i swap'!RJA4","v":0},{"$f":"RJD35*'Makro i swap'!RJB4","v":0},{"$f":"RJE35*'Makro i swap'!RJC4","v":0},{"$f":"RJF35*'Makro i swap'!RJD4","v":0},{"$f":"RJG35*'Makro i swap'!RJE4","v":0},{"$f":"RJH35*'Makro i swap'!RJF4","v":0},{"$f":"RJI35*'Makro i swap'!RJG4","v":0},{"$f":"RJJ35*'Makro i swap'!RJH4","v":0},{"$f":"RJK35*'Makro i swap'!RJI4","v":0},{"$f":"RJL35*'Makro i swap'!RJJ4","v":0},{"$f":"RJM35*'Makro i swap'!RJK4","v":0},{"$f":"RJN35*'Makro i swap'!RJL4","v":0},{"$f":"RJO35*'Makro i swap'!RJM4","v":0},{"$f":"RJP35*'Makro i swap'!RJN4","v":0},{"$f":"RJQ35*'Makro i swap'!RJO4","v":0},{"$f":"RJR35*'Makro i swap'!RJP4","v":0},{"$f":"RJS35*'Makro i swap'!RJQ4","v":0},{"$f":"RJT35*'Makro i swap'!RJR4","v":0},{"$f":"RJU35*'Makro i swap'!RJS4","v":0},{"$f":"RJV35*'Makro i swap'!RJT4","v":0},{"$f":"RJW35*'Makro i swap'!RJU4","v":0},{"$f":"RJX35*'Makro i swap'!RJV4","v":0},{"$f":"RJY35*'Makro i swap'!RJW4","v":0},{"$f":"RJZ35*'Makro i swap'!RJX4","v":0},{"$f":"RKA35*'Makro i swap'!RJY4","v":0},{"$f":"RKB35*'Makro i swap'!RJZ4","v":0},{"$f":"RKC35*'Makro i swap'!RKA4","v":0},{"$f":"RKD35*'Makro i swap'!RKB4","v":0},{"$f":"RKE35*'Makro i swap'!RKC4","v":0},{"$f":"RKF35*'Makro i swap'!RKD4","v":0},{"$f":"RKG35*'Makro i swap'!RKE4","v":0},{"$f":"RKH35*'Makro i swap'!RKF4","v":0},{"$f":"RKI35*'Makro i swap'!RKG4","v":0},{"$f":"RKJ35*'Makro i swap'!RKH4","v":0},{"$f":"RKK35*'Makro i swap'!RKI4","v":0},{"$f":"RKL35*'Makro i swap'!RKJ4","v":0},{"$f":"RKM35*'Makro i swap'!RKK4","v":0},{"$f":"RKN35*'Makro i swap'!RKL4","v":0},{"$f":"RKO35*'Makro i swap'!RKM4","v":0},{"$f":"RKP35*'Makro i swap'!RKN4","v":0},{"$f":"RKQ35*'Makro i swap'!RKO4","v":0},{"$f":"RKR35*'Makro i swap'!RKP4","v":0},{"$f":"RKS35*'Makro i swap'!RKQ4","v":0},{"$f":"RKT35*'Makro i swap'!RKR4","v":0},{"$f":"RKU35*'Makro i swap'!RKS4","v":0},{"$f":"RKV35*'Makro i swap'!RKT4","v":0},{"$f":"RKW35*'Makro i swap'!RKU4","v":0},{"$f":"RKX35*'Makro i swap'!RKV4","v":0},{"$f":"RKY35*'Makro i swap'!RKW4","v":0},{"$f":"RKZ35*'Makro i swap'!RKX4","v":0},{"$f":"RLA35*'Makro i swap'!RKY4","v":0},{"$f":"RLB35*'Makro i swap'!RKZ4","v":0},{"$f":"RLC35*'Makro i swap'!RLA4","v":0},{"$f":"RLD35*'Makro i swap'!RLB4","v":0},{"$f":"RLE35*'Makro i swap'!RLC4","v":0},{"$f":"RLF35*'Makro i swap'!RLD4","v":0},{"$f":"RLG35*'Makro i swap'!RLE4","v":0},{"$f":"RLH35*'Makro i swap'!RLF4","v":0},{"$f":"RLI35*'Makro i swap'!RLG4","v":0},{"$f":"RLJ35*'Makro i swap'!RLH4","v":0},{"$f":"RLK35*'Makro i swap'!RLI4","v":0},{"$f":"RLL35*'Makro i swap'!RLJ4","v":0},{"$f":"RLM35*'Makro i swap'!RLK4","v":0},{"$f":"RLN35*'Makro i swap'!RLL4","v":0},{"$f":"RLO35*'Makro i swap'!RLM4","v":0},{"$f":"RLP35*'Makro i swap'!RLN4","v":0},{"$f":"RLQ35*'Makro i swap'!RLO4","v":0},{"$f":"RLR35*'Makro i swap'!RLP4","v":0},{"$f":"RLS35*'Makro i swap'!RLQ4","v":0},{"$f":"RLT35*'Makro i swap'!RLR4","v":0},{"$f":"RLU35*'Makro i swap'!RLS4","v":0},{"$f":"RLV35*'Makro i swap'!RLT4","v":0},{"$f":"RLW35*'Makro i swap'!RLU4","v":0},{"$f":"RLX35*'Makro i swap'!RLV4","v":0},{"$f":"RLY35*'Makro i swap'!RLW4","v":0},{"$f":"RLZ35*'Makro i swap'!RLX4","v":0},{"$f":"RMA35*'Makro i swap'!RLY4","v":0},{"$f":"RMB35*'Makro i swap'!RLZ4","v":0},{"$f":"RMC35*'Makro i swap'!RMA4","v":0},{"$f":"RMD35*'Makro i swap'!RMB4","v":0},{"$f":"RME35*'Makro i swap'!RMC4","v":0},{"$f":"RMF35*'Makro i swap'!RMD4","v":0},{"$f":"RMG35*'Makro i swap'!RME4","v":0},{"$f":"RMH35*'Makro i swap'!RMF4","v":0},{"$f":"RMI35*'Makro i swap'!RMG4","v":0},{"$f":"RMJ35*'Makro i swap'!RMH4","v":0},{"$f":"RMK35*'Makro i swap'!RMI4","v":0},{"$f":"RML35*'Makro i swap'!RMJ4","v":0},{"$f":"RMM35*'Makro i swap'!RMK4","v":0},{"$f":"RMN35*'Makro i swap'!RML4","v":0},{"$f":"RMO35*'Makro i swap'!RMM4","v":0},{"$f":"RMP35*'Makro i swap'!RMN4","v":0},{"$f":"RMQ35*'Makro i swap'!RMO4","v":0},{"$f":"RMR35*'Makro i swap'!RMP4","v":0},{"$f":"RMS35*'Makro i swap'!RMQ4","v":0},{"$f":"RMT35*'Makro i swap'!RMR4","v":0},{"$f":"RMU35*'Makro i swap'!RMS4","v":0},{"$f":"RMV35*'Makro i swap'!RMT4","v":0},{"$f":"RMW35*'Makro i swap'!RMU4","v":0},{"$f":"RMX35*'Makro i swap'!RMV4","v":0},{"$f":"RMY35*'Makro i swap'!RMW4","v":0},{"$f":"RMZ35*'Makro i swap'!RMX4","v":0},{"$f":"RNA35*'Makro i swap'!RMY4","v":0},{"$f":"RNB35*'Makro i swap'!RMZ4","v":0},{"$f":"RNC35*'Makro i swap'!RNA4","v":0},{"$f":"RND35*'Makro i swap'!RNB4","v":0},{"$f":"RNE35*'Makro i swap'!RNC4","v":0},{"$f":"RNF35*'Makro i swap'!RND4","v":0},{"$f":"RNG35*'Makro i swap'!RNE4","v":0},{"$f":"RNH35*'Makro i swap'!RNF4","v":0},{"$f":"RNI35*'Makro i swap'!RNG4","v":0},{"$f":"RNJ35*'Makro i swap'!RNH4","v":0},{"$f":"RNK35*'Makro i swap'!RNI4","v":0},{"$f":"RNL35*'Makro i swap'!RNJ4","v":0},{"$f":"RNM35*'Makro i swap'!RNK4","v":0},{"$f":"RNN35*'Makro i swap'!RNL4","v":0},{"$f":"RNO35*'Makro i swap'!RNM4","v":0},{"$f":"RNP35*'Makro i swap'!RNN4","v":0},{"$f":"RNQ35*'Makro i swap'!RNO4","v":0},{"$f":"RNR35*'Makro i swap'!RNP4","v":0},{"$f":"RNS35*'Makro i swap'!RNQ4","v":0},{"$f":"RNT35*'Makro i swap'!RNR4","v":0},{"$f":"RNU35*'Makro i swap'!RNS4","v":0},{"$f":"RNV35*'Makro i swap'!RNT4","v":0},{"$f":"RNW35*'Makro i swap'!RNU4","v":0},{"$f":"RNX35*'Makro i swap'!RNV4","v":0},{"$f":"RNY35*'Makro i swap'!RNW4","v":0},{"$f":"RNZ35*'Makro i swap'!RNX4","v":0},{"$f":"ROA35*'Makro i swap'!RNY4","v":0},{"$f":"ROB35*'Makro i swap'!RNZ4","v":0},{"$f":"ROC35*'Makro i swap'!ROA4","v":0},{"$f":"ROD35*'Makro i swap'!ROB4","v":0},{"$f":"ROE35*'Makro i swap'!ROC4","v":0},{"$f":"ROF35*'Makro i swap'!ROD4","v":0},{"$f":"ROG35*'Makro i swap'!ROE4","v":0},{"$f":"ROH35*'Makro i swap'!ROF4","v":0},{"$f":"ROI35*'Makro i swap'!ROG4","v":0},{"$f":"ROJ35*'Makro i swap'!ROH4","v":0},{"$f":"ROK35*'Makro i swap'!ROI4","v":0},{"$f":"ROL35*'Makro i swap'!ROJ4","v":0},{"$f":"ROM35*'Makro i swap'!ROK4","v":0},{"$f":"RON35*'Makro i swap'!ROL4","v":0},{"$f":"ROO35*'Makro i swap'!ROM4","v":0},{"$f":"ROP35*'Makro i swap'!RON4","v":0},{"$f":"ROQ35*'Makro i swap'!ROO4","v":0},{"$f":"ROR35*'Makro i swap'!ROP4","v":0},{"$f":"ROS35*'Makro i swap'!ROQ4","v":0},{"$f":"ROT35*'Makro i swap'!ROR4","v":0},{"$f":"ROU35*'Makro i swap'!ROS4","v":0},{"$f":"ROV35*'Makro i swap'!ROT4","v":0},{"$f":"ROW35*'Makro i swap'!ROU4","v":0},{"$f":"ROX35*'Makro i swap'!ROV4","v":0},{"$f":"ROY35*'Makro i swap'!ROW4","v":0},{"$f":"ROZ35*'Makro i swap'!ROX4","v":0},{"$f":"RPA35*'Makro i swap'!ROY4","v":0},{"$f":"RPB35*'Makro i swap'!ROZ4","v":0},{"$f":"RPC35*'Makro i swap'!RPA4","v":0},{"$f":"RPD35*'Makro i swap'!RPB4","v":0},{"$f":"RPE35*'Makro i swap'!RPC4","v":0},{"$f":"RPF35*'Makro i swap'!RPD4","v":0},{"$f":"RPG35*'Makro i swap'!RPE4","v":0},{"$f":"RPH35*'Makro i swap'!RPF4","v":0},{"$f":"RPI35*'Makro i swap'!RPG4","v":0},{"$f":"RPJ35*'Makro i swap'!RPH4","v":0},{"$f":"RPK35*'Makro i swap'!RPI4","v":0},{"$f":"RPL35*'Makro i swap'!RPJ4","v":0},{"$f":"RPM35*'Makro i swap'!RPK4","v":0},{"$f":"RPN35*'Makro i swap'!RPL4","v":0},{"$f":"RPO35*'Makro i swap'!RPM4","v":0},{"$f":"RPP35*'Makro i swap'!RPN4","v":0},{"$f":"RPQ35*'Makro i swap'!RPO4","v":0},{"$f":"RPR35*'Makro i swap'!RPP4","v":0},{"$f":"RPS35*'Makro i swap'!RPQ4","v":0},{"$f":"RPT35*'Makro i swap'!RPR4","v":0},{"$f":"RPU35*'Makro i swap'!RPS4","v":0},{"$f":"RPV35*'Makro i swap'!RPT4","v":0},{"$f":"RPW35*'Makro i swap'!RPU4","v":0},{"$f":"RPX35*'Makro i swap'!RPV4","v":0},{"$f":"RPY35*'Makro i swap'!RPW4","v":0},{"$f":"RPZ35*'Makro i swap'!RPX4","v":0},{"$f":"RQA35*'Makro i swap'!RPY4","v":0},{"$f":"RQB35*'Makro i swap'!RPZ4","v":0},{"$f":"RQC35*'Makro i swap'!RQA4","v":0},{"$f":"RQD35*'Makro i swap'!RQB4","v":0},{"$f":"RQE35*'Makro i swap'!RQC4","v":0},{"$f":"RQF35*'Makro i swap'!RQD4","v":0},{"$f":"RQG35*'Makro i swap'!RQE4","v":0},{"$f":"RQH35*'Makro i swap'!RQF4","v":0},{"$f":"RQI35*'Makro i swap'!RQG4","v":0},{"$f":"RQJ35*'Makro i swap'!RQH4","v":0},{"$f":"RQK35*'Makro i swap'!RQI4","v":0},{"$f":"RQL35*'Makro i swap'!RQJ4","v":0},{"$f":"RQM35*'Makro i swap'!RQK4","v":0},{"$f":"RQN35*'Makro i swap'!RQL4","v":0},{"$f":"RQO35*'Makro i swap'!RQM4","v":0},{"$f":"RQP35*'Makro i swap'!RQN4","v":0},{"$f":"RQQ35*'Makro i swap'!RQO4","v":0},{"$f":"RQR35*'Makro i swap'!RQP4","v":0},{"$f":"RQS35*'Makro i swap'!RQQ4","v":0},{"$f":"RQT35*'Makro i swap'!RQR4","v":0},{"$f":"RQU35*'Makro i swap'!RQS4","v":0},{"$f":"RQV35*'Makro i swap'!RQT4","v":0},{"$f":"RQW35*'Makro i swap'!RQU4","v":0},{"$f":"RQX35*'Makro i swap'!RQV4","v":0},{"$f":"RQY35*'Makro i swap'!RQW4","v":0},{"$f":"RQZ35*'Makro i swap'!RQX4","v":0},{"$f":"RRA35*'Makro i swap'!RQY4","v":0},{"$f":"RRB35*'Makro i swap'!RQZ4","v":0},{"$f":"RRC35*'Makro i swap'!RRA4","v":0},{"$f":"RRD35*'Makro i swap'!RRB4","v":0},{"$f":"RRE35*'Makro i swap'!RRC4","v":0},{"$f":"RRF35*'Makro i swap'!RRD4","v":0},{"$f":"RRG35*'Makro i swap'!RRE4","v":0},{"$f":"RRH35*'Makro i swap'!RRF4","v":0},{"$f":"RRI35*'Makro i swap'!RRG4","v":0},{"$f":"RRJ35*'Makro i swap'!RRH4","v":0},{"$f":"RRK35*'Makro i swap'!RRI4","v":0},{"$f":"RRL35*'Makro i swap'!RRJ4","v":0},{"$f":"RRM35*'Makro i swap'!RRK4","v":0},{"$f":"RRN35*'Makro i swap'!RRL4","v":0},{"$f":"RRO35*'Makro i swap'!RRM4","v":0},{"$f":"RRP35*'Makro i swap'!RRN4","v":0},{"$f":"RRQ35*'Makro i swap'!RRO4","v":0},{"$f":"RRR35*'Makro i swap'!RRP4","v":0},{"$f":"RRS35*'Makro i swap'!RRQ4","v":0},{"$f":"RRT35*'Makro i swap'!RRR4","v":0},{"$f":"RRU35*'Makro i swap'!RRS4","v":0},{"$f":"RRV35*'Makro i swap'!RRT4","v":0},{"$f":"RRW35*'Makro i swap'!RRU4","v":0},{"$f":"RRX35*'Makro i swap'!RRV4","v":0},{"$f":"RRY35*'Makro i swap'!RRW4","v":0},{"$f":"RRZ35*'Makro i swap'!RRX4","v":0},{"$f":"RSA35*'Makro i swap'!RRY4","v":0},{"$f":"RSB35*'Makro i swap'!RRZ4","v":0},{"$f":"RSC35*'Makro i swap'!RSA4","v":0},{"$f":"RSD35*'Makro i swap'!RSB4","v":0},{"$f":"RSE35*'Makro i swap'!RSC4","v":0},{"$f":"RSF35*'Makro i swap'!RSD4","v":0},{"$f":"RSG35*'Makro i swap'!RSE4","v":0},{"$f":"RSH35*'Makro i swap'!RSF4","v":0},{"$f":"RSI35*'Makro i swap'!RSG4","v":0},{"$f":"RSJ35*'Makro i swap'!RSH4","v":0},{"$f":"RSK35*'Makro i swap'!RSI4","v":0},{"$f":"RSL35*'Makro i swap'!RSJ4","v":0},{"$f":"RSM35*'Makro i swap'!RSK4","v":0},{"$f":"RSN35*'Makro i swap'!RSL4","v":0},{"$f":"RSO35*'Makro i swap'!RSM4","v":0},{"$f":"RSP35*'Makro i swap'!RSN4","v":0},{"$f":"RSQ35*'Makro i swap'!RSO4","v":0},{"$f":"RSR35*'Makro i swap'!RSP4","v":0},{"$f":"RSS35*'Makro i swap'!RSQ4","v":0},{"$f":"RST35*'Makro i swap'!RSR4","v":0},{"$f":"RSU35*'Makro i swap'!RSS4","v":0},{"$f":"RSV35*'Makro i swap'!RST4","v":0},{"$f":"RSW35*'Makro i swap'!RSU4","v":0},{"$f":"RSX35*'Makro i swap'!RSV4","v":0},{"$f":"RSY35*'Makro i swap'!RSW4","v":0},{"$f":"RSZ35*'Makro i swap'!RSX4","v":0},{"$f":"RTA35*'Makro i swap'!RSY4","v":0},{"$f":"RTB35*'Makro i swap'!RSZ4","v":0},{"$f":"RTC35*'Makro i swap'!RTA4","v":0},{"$f":"RTD35*'Makro i swap'!RTB4","v":0},{"$f":"RTE35*'Makro i swap'!RTC4","v":0},{"$f":"RTF35*'Makro i swap'!RTD4","v":0},{"$f":"RTG35*'Makro i swap'!RTE4","v":0},{"$f":"RTH35*'Makro i swap'!RTF4","v":0},{"$f":"RTI35*'Makro i swap'!RTG4","v":0},{"$f":"RTJ35*'Makro i swap'!RTH4","v":0},{"$f":"RTK35*'Makro i swap'!RTI4","v":0},{"$f":"RTL35*'Makro i swap'!RTJ4","v":0},{"$f":"RTM35*'Makro i swap'!RTK4","v":0},{"$f":"RTN35*'Makro i swap'!RTL4","v":0},{"$f":"RTO35*'Makro i swap'!RTM4","v":0},{"$f":"RTP35*'Makro i swap'!RTN4","v":0},{"$f":"RTQ35*'Makro i swap'!RTO4","v":0},{"$f":"RTR35*'Makro i swap'!RTP4","v":0},{"$f":"RTS35*'Makro i swap'!RTQ4","v":0},{"$f":"RTT35*'Makro i swap'!RTR4","v":0},{"$f":"RTU35*'Makro i swap'!RTS4","v":0},{"$f":"RTV35*'Makro i swap'!RTT4","v":0},{"$f":"RTW35*'Makro i swap'!RTU4","v":0},{"$f":"RTX35*'Makro i swap'!RTV4","v":0},{"$f":"RTY35*'Makro i swap'!RTW4","v":0},{"$f":"RTZ35*'Makro i swap'!RTX4","v":0},{"$f":"RUA35*'Makro i swap'!RTY4","v":0},{"$f":"RUB35*'Makro i swap'!RTZ4","v":0},{"$f":"RUC35*'Makro i swap'!RUA4","v":0},{"$f":"RUD35*'Makro i swap'!RUB4","v":0},{"$f":"RUE35*'Makro i swap'!RUC4","v":0},{"$f":"RUF35*'Makro i swap'!RUD4","v":0},{"$f":"RUG35*'Makro i swap'!RUE4","v":0},{"$f":"RUH35*'Makro i swap'!RUF4","v":0},{"$f":"RUI35*'Makro i swap'!RUG4","v":0},{"$f":"RUJ35*'Makro i swap'!RUH4","v":0},{"$f":"RUK35*'Makro i swap'!RUI4","v":0},{"$f":"RUL35*'Makro i swap'!RUJ4","v":0},{"$f":"RUM35*'Makro i swap'!RUK4","v":0},{"$f":"RUN35*'Makro i swap'!RUL4","v":0},{"$f":"RUO35*'Makro i swap'!RUM4","v":0},{"$f":"RUP35*'Makro i swap'!RUN4","v":0},{"$f":"RUQ35*'Makro i swap'!RUO4","v":0},{"$f":"RUR35*'Makro i swap'!RUP4","v":0},{"$f":"RUS35*'Makro i swap'!RUQ4","v":0},{"$f":"RUT35*'Makro i swap'!RUR4","v":0},{"$f":"RUU35*'Makro i swap'!RUS4","v":0},{"$f":"RUV35*'Makro i swap'!RUT4","v":0},{"$f":"RUW35*'Makro i swap'!RUU4","v":0},{"$f":"RUX35*'Makro i swap'!RUV4","v":0},{"$f":"RUY35*'Makro i swap'!RUW4","v":0},{"$f":"RUZ35*'Makro i swap'!RUX4","v":0},{"$f":"RVA35*'Makro i swap'!RUY4","v":0},{"$f":"RVB35*'Makro i swap'!RUZ4","v":0},{"$f":"RVC35*'Makro i swap'!RVA4","v":0},{"$f":"RVD35*'Makro i swap'!RVB4","v":0},{"$f":"RVE35*'Makro i swap'!RVC4","v":0},{"$f":"RVF35*'Makro i swap'!RVD4","v":0},{"$f":"RVG35*'Makro i swap'!RVE4","v":0},{"$f":"RVH35*'Makro i swap'!RVF4","v":0},{"$f":"RVI35*'Makro i swap'!RVG4","v":0},{"$f":"RVJ35*'Makro i swap'!RVH4","v":0},{"$f":"RVK35*'Makro i swap'!RVI4","v":0},{"$f":"RVL35*'Makro i swap'!RVJ4","v":0},{"$f":"RVM35*'Makro i swap'!RVK4","v":0},{"$f":"RVN35*'Makro i swap'!RVL4","v":0},{"$f":"RVO35*'Makro i swap'!RVM4","v":0},{"$f":"RVP35*'Makro i swap'!RVN4","v":0},{"$f":"RVQ35*'Makro i swap'!RVO4","v":0},{"$f":"RVR35*'Makro i swap'!RVP4","v":0},{"$f":"RVS35*'Makro i swap'!RVQ4","v":0},{"$f":"RVT35*'Makro i swap'!RVR4","v":0},{"$f":"RVU35*'Makro i swap'!RVS4","v":0},{"$f":"RVV35*'Makro i swap'!RVT4","v":0},{"$f":"RVW35*'Makro i swap'!RVU4","v":0},{"$f":"RVX35*'Makro i swap'!RVV4","v":0},{"$f":"RVY35*'Makro i swap'!RVW4","v":0},{"$f":"RVZ35*'Makro i swap'!RVX4","v":0},{"$f":"RWA35*'Makro i swap'!RVY4","v":0},{"$f":"RWB35*'Makro i swap'!RVZ4","v":0},{"$f":"RWC35*'Makro i swap'!RWA4","v":0},{"$f":"RWD35*'Makro i swap'!RWB4","v":0},{"$f":"RWE35*'Makro i swap'!RWC4","v":0},{"$f":"RWF35*'Makro i swap'!RWD4","v":0},{"$f":"RWG35*'Makro i swap'!RWE4","v":0},{"$f":"RWH35*'Makro i swap'!RWF4","v":0},{"$f":"RWI35*'Makro i swap'!RWG4","v":0},{"$f":"RWJ35*'Makro i swap'!RWH4","v":0},{"$f":"RWK35*'Makro i swap'!RWI4","v":0},{"$f":"RWL35*'Makro i swap'!RWJ4","v":0},{"$f":"RWM35*'Makro i swap'!RWK4","v":0},{"$f":"RWN35*'Makro i swap'!RWL4","v":0},{"$f":"RWO35*'Makro i swap'!RWM4","v":0},{"$f":"RWP35*'Makro i swap'!RWN4","v":0},{"$f":"RWQ35*'Makro i swap'!RWO4","v":0},{"$f":"RWR35*'Makro i swap'!RWP4","v":0},{"$f":"RWS35*'Makro i swap'!RWQ4","v":0},{"$f":"RWT35*'Makro i swap'!RWR4","v":0},{"$f":"RWU35*'Makro i swap'!RWS4","v":0},{"$f":"RWV35*'Makro i swap'!RWT4","v":0},{"$f":"RWW35*'Makro i swap'!RWU4","v":0},{"$f":"RWX35*'Makro i swap'!RWV4","v":0},{"$f":"RWY35*'Makro i swap'!RWW4","v":0},{"$f":"RWZ35*'Makro i swap'!RWX4","v":0},{"$f":"RXA35*'Makro i swap'!RWY4","v":0},{"$f":"RXB35*'Makro i swap'!RWZ4","v":0},{"$f":"RXC35*'Makro i swap'!RXA4","v":0},{"$f":"RXD35*'Makro i swap'!RXB4","v":0},{"$f":"RXE35*'Makro i swap'!RXC4","v":0},{"$f":"RXF35*'Makro i swap'!RXD4","v":0},{"$f":"RXG35*'Makro i swap'!RXE4","v":0},{"$f":"RXH35*'Makro i swap'!RXF4","v":0},{"$f":"RXI35*'Makro i swap'!RXG4","v":0},{"$f":"RXJ35*'Makro i swap'!RXH4","v":0},{"$f":"RXK35*'Makro i swap'!RXI4","v":0},{"$f":"RXL35*'Makro i swap'!RXJ4","v":0},{"$f":"RXM35*'Makro i swap'!RXK4","v":0},{"$f":"RXN35*'Makro i swap'!RXL4","v":0},{"$f":"RXO35*'Makro i swap'!RXM4","v":0},{"$f":"RXP35*'Makro i swap'!RXN4","v":0},{"$f":"RXQ35*'Makro i swap'!RXO4","v":0},{"$f":"RXR35*'Makro i swap'!RXP4","v":0},{"$f":"RXS35*'Makro i swap'!RXQ4","v":0},{"$f":"RXT35*'Makro i swap'!RXR4","v":0},{"$f":"RXU35*'Makro i swap'!RXS4","v":0},{"$f":"RXV35*'Makro i swap'!RXT4","v":0},{"$f":"RXW35*'Makro i swap'!RXU4","v":0},{"$f":"RXX35*'Makro i swap'!RXV4","v":0},{"$f":"RXY35*'Makro i swap'!RXW4","v":0},{"$f":"RXZ35*'Makro i swap'!RXX4","v":0},{"$f":"RYA35*'Makro i swap'!RXY4","v":0},{"$f":"RYB35*'Makro i swap'!RXZ4","v":0},{"$f":"RYC35*'Makro i swap'!RYA4","v":0},{"$f":"RYD35*'Makro i swap'!RYB4","v":0},{"$f":"RYE35*'Makro i swap'!RYC4","v":0},{"$f":"RYF35*'Makro i swap'!RYD4","v":0},{"$f":"RYG35*'Makro i swap'!RYE4","v":0},{"$f":"RYH35*'Makro i swap'!RYF4","v":0},{"$f":"RYI35*'Makro i swap'!RYG4","v":0},{"$f":"RYJ35*'Makro i swap'!RYH4","v":0},{"$f":"RYK35*'Makro i swap'!RYI4","v":0},{"$f":"RYL35*'Makro i swap'!RYJ4","v":0},{"$f":"RYM35*'Makro i swap'!RYK4","v":0},{"$f":"RYN35*'Makro i swap'!RYL4","v":0},{"$f":"RYO35*'Makro i swap'!RYM4","v":0},{"$f":"RYP35*'Makro i swap'!RYN4","v":0},{"$f":"RYQ35*'Makro i swap'!RYO4","v":0},{"$f":"RYR35*'Makro i swap'!RYP4","v":0},{"$f":"RYS35*'Makro i swap'!RYQ4","v":0},{"$f":"RYT35*'Makro i swap'!RYR4","v":0},{"$f":"RYU35*'Makro i swap'!RYS4","v":0},{"$f":"RYV35*'Makro i swap'!RYT4","v":0},{"$f":"RYW35*'Makro i swap'!RYU4","v":0},{"$f":"RYX35*'Makro i swap'!RYV4","v":0},{"$f":"RYY35*'Makro i swap'!RYW4","v":0},{"$f":"RYZ35*'Makro i swap'!RYX4","v":0},{"$f":"RZA35*'Makro i swap'!RYY4","v":0},{"$f":"RZB35*'Makro i swap'!RYZ4","v":0},{"$f":"RZC35*'Makro i swap'!RZA4","v":0},{"$f":"RZD35*'Makro i swap'!RZB4","v":0},{"$f":"RZE35*'Makro i swap'!RZC4","v":0},{"$f":"RZF35*'Makro i swap'!RZD4","v":0},{"$f":"RZG35*'Makro i swap'!RZE4","v":0},{"$f":"RZH35*'Makro i swap'!RZF4","v":0},{"$f":"RZI35*'Makro i swap'!RZG4","v":0},{"$f":"RZJ35*'Makro i swap'!RZH4","v":0},{"$f":"RZK35*'Makro i swap'!RZI4","v":0},{"$f":"RZL35*'Makro i swap'!RZJ4","v":0},{"$f":"RZM35*'Makro i swap'!RZK4","v":0},{"$f":"RZN35*'Makro i swap'!RZL4","v":0},{"$f":"RZO35*'Makro i swap'!RZM4","v":0},{"$f":"RZP35*'Makro i swap'!RZN4","v":0},{"$f":"RZQ35*'Makro i swap'!RZO4","v":0},{"$f":"RZR35*'Makro i swap'!RZP4","v":0},{"$f":"RZS35*'Makro i swap'!RZQ4","v":0},{"$f":"RZT35*'Makro i swap'!RZR4","v":0},{"$f":"RZU35*'Makro i swap'!RZS4","v":0},{"$f":"RZV35*'Makro i swap'!RZT4","v":0},{"$f":"RZW35*'Makro i swap'!RZU4","v":0},{"$f":"RZX35*'Makro i swap'!RZV4","v":0},{"$f":"RZY35*'Makro i swap'!RZW4","v":0},{"$f":"RZZ35*'Makro i swap'!RZX4","v":0},{"$f":"SAA35*'Makro i swap'!RZY4","v":0},{"$f":"SAB35*'Makro i swap'!RZZ4","v":0},{"$f":"SAC35*'Makro i swap'!SAA4","v":0},{"$f":"SAD35*'Makro i swap'!SAB4","v":0},{"$f":"SAE35*'Makro i swap'!SAC4","v":0},{"$f":"SAF35*'Makro i swap'!SAD4","v":0},{"$f":"SAG35*'Makro i swap'!SAE4","v":0},{"$f":"SAH35*'Makro i swap'!SAF4","v":0},{"$f":"SAI35*'Makro i swap'!SAG4","v":0},{"$f":"SAJ35*'Makro i swap'!SAH4","v":0},{"$f":"SAK35*'Makro i swap'!SAI4","v":0},{"$f":"SAL35*'Makro i swap'!SAJ4","v":0},{"$f":"SAM35*'Makro i swap'!SAK4","v":0},{"$f":"SAN35*'Makro i swap'!SAL4","v":0},{"$f":"SAO35*'Makro i swap'!SAM4","v":0},{"$f":"SAP35*'Makro i swap'!SAN4","v":0},{"$f":"SAQ35*'Makro i swap'!SAO4","v":0},{"$f":"SAR35*'Makro i swap'!SAP4","v":0},{"$f":"SAS35*'Makro i swap'!SAQ4","v":0},{"$f":"SAT35*'Makro i swap'!SAR4","v":0},{"$f":"SAU35*'Makro i swap'!SAS4","v":0},{"$f":"SAV35*'Makro i swap'!SAT4","v":0},{"$f":"SAW35*'Makro i swap'!SAU4","v":0},{"$f":"SAX35*'Makro i swap'!SAV4","v":0},{"$f":"SAY35*'Makro i swap'!SAW4","v":0},{"$f":"SAZ35*'Makro i swap'!SAX4","v":0},{"$f":"SBA35*'Makro i swap'!SAY4","v":0},{"$f":"SBB35*'Makro i swap'!SAZ4","v":0},{"$f":"SBC35*'Makro i swap'!SBA4","v":0},{"$f":"SBD35*'Makro i swap'!SBB4","v":0},{"$f":"SBE35*'Makro i swap'!SBC4","v":0},{"$f":"SBF35*'Makro i swap'!SBD4","v":0},{"$f":"SBG35*'Makro i swap'!SBE4","v":0},{"$f":"SBH35*'Makro i swap'!SBF4","v":0},{"$f":"SBI35*'Makro i swap'!SBG4","v":0},{"$f":"SBJ35*'Makro i swap'!SBH4","v":0},{"$f":"SBK35*'Makro i swap'!SBI4","v":0},{"$f":"SBL35*'Makro i swap'!SBJ4","v":0},{"$f":"SBM35*'Makro i swap'!SBK4","v":0},{"$f":"SBN35*'Makro i swap'!SBL4","v":0},{"$f":"SBO35*'Makro i swap'!SBM4","v":0},{"$f":"SBP35*'Makro i swap'!SBN4","v":0},{"$f":"SBQ35*'Makro i swap'!SBO4","v":0},{"$f":"SBR35*'Makro i swap'!SBP4","v":0},{"$f":"SBS35*'Makro i swap'!SBQ4","v":0},{"$f":"SBT35*'Makro i swap'!SBR4","v":0},{"$f":"SBU35*'Makro i swap'!SBS4","v":0},{"$f":"SBV35*'Makro i swap'!SBT4","v":0},{"$f":"SBW35*'Makro i swap'!SBU4","v":0},{"$f":"SBX35*'Makro i swap'!SBV4","v":0},{"$f":"SBY35*'Makro i swap'!SBW4","v":0},{"$f":"SBZ35*'Makro i swap'!SBX4","v":0},{"$f":"SCA35*'Makro i swap'!SBY4","v":0},{"$f":"SCB35*'Makro i swap'!SBZ4","v":0},{"$f":"SCC35*'Makro i swap'!SCA4","v":0},{"$f":"SCD35*'Makro i swap'!SCB4","v":0},{"$f":"SCE35*'Makro i swap'!SCC4","v":0},{"$f":"SCF35*'Makro i swap'!SCD4","v":0},{"$f":"SCG35*'Makro i swap'!SCE4","v":0},{"$f":"SCH35*'Makro i swap'!SCF4","v":0},{"$f":"SCI35*'Makro i swap'!SCG4","v":0},{"$f":"SCJ35*'Makro i swap'!SCH4","v":0},{"$f":"SCK35*'Makro i swap'!SCI4","v":0},{"$f":"SCL35*'Makro i swap'!SCJ4","v":0},{"$f":"SCM35*'Makro i swap'!SCK4","v":0},{"$f":"SCN35*'Makro i swap'!SCL4","v":0},{"$f":"SCO35*'Makro i swap'!SCM4","v":0},{"$f":"SCP35*'Makro i swap'!SCN4","v":0},{"$f":"SCQ35*'Makro i swap'!SCO4","v":0},{"$f":"SCR35*'Makro i swap'!SCP4","v":0},{"$f":"SCS35*'Makro i swap'!SCQ4","v":0},{"$f":"SCT35*'Makro i swap'!SCR4","v":0},{"$f":"SCU35*'Makro i swap'!SCS4","v":0},{"$f":"SCV35*'Makro i swap'!SCT4","v":0},{"$f":"SCW35*'Makro i swap'!SCU4","v":0},{"$f":"SCX35*'Makro i swap'!SCV4","v":0},{"$f":"SCY35*'Makro i swap'!SCW4","v":0},{"$f":"SCZ35*'Makro i swap'!SCX4","v":0},{"$f":"SDA35*'Makro i swap'!SCY4","v":0},{"$f":"SDB35*'Makro i swap'!SCZ4","v":0},{"$f":"SDC35*'Makro i swap'!SDA4","v":0},{"$f":"SDD35*'Makro i swap'!SDB4","v":0},{"$f":"SDE35*'Makro i swap'!SDC4","v":0},{"$f":"SDF35*'Makro i swap'!SDD4","v":0},{"$f":"SDG35*'Makro i swap'!SDE4","v":0},{"$f":"SDH35*'Makro i swap'!SDF4","v":0},{"$f":"SDI35*'Makro i swap'!SDG4","v":0},{"$f":"SDJ35*'Makro i swap'!SDH4","v":0},{"$f":"SDK35*'Makro i swap'!SDI4","v":0},{"$f":"SDL35*'Makro i swap'!SDJ4","v":0},{"$f":"SDM35*'Makro i swap'!SDK4","v":0},{"$f":"SDN35*'Makro i swap'!SDL4","v":0},{"$f":"SDO35*'Makro i swap'!SDM4","v":0},{"$f":"SDP35*'Makro i swap'!SDN4","v":0},{"$f":"SDQ35*'Makro i swap'!SDO4","v":0},{"$f":"SDR35*'Makro i swap'!SDP4","v":0},{"$f":"SDS35*'Makro i swap'!SDQ4","v":0},{"$f":"SDT35*'Makro i swap'!SDR4","v":0},{"$f":"SDU35*'Makro i swap'!SDS4","v":0},{"$f":"SDV35*'Makro i swap'!SDT4","v":0},{"$f":"SDW35*'Makro i swap'!SDU4","v":0},{"$f":"SDX35*'Makro i swap'!SDV4","v":0},{"$f":"SDY35*'Makro i swap'!SDW4","v":0},{"$f":"SDZ35*'Makro i swap'!SDX4","v":0},{"$f":"SEA35*'Makro i swap'!SDY4","v":0},{"$f":"SEB35*'Makro i swap'!SDZ4","v":0},{"$f":"SEC35*'Makro i swap'!SEA4","v":0},{"$f":"SED35*'Makro i swap'!SEB4","v":0},{"$f":"SEE35*'Makro i swap'!SEC4","v":0},{"$f":"SEF35*'Makro i swap'!SED4","v":0},{"$f":"SEG35*'Makro i swap'!SEE4","v":0},{"$f":"SEH35*'Makro i swap'!SEF4","v":0},{"$f":"SEI35*'Makro i swap'!SEG4","v":0},{"$f":"SEJ35*'Makro i swap'!SEH4","v":0},{"$f":"SEK35*'Makro i swap'!SEI4","v":0},{"$f":"SEL35*'Makro i swap'!SEJ4","v":0},{"$f":"SEM35*'Makro i swap'!SEK4","v":0},{"$f":"SEN35*'Makro i swap'!SEL4","v":0},{"$f":"SEO35*'Makro i swap'!SEM4","v":0},{"$f":"SEP35*'Makro i swap'!SEN4","v":0},{"$f":"SEQ35*'Makro i swap'!SEO4","v":0},{"$f":"SER35*'Makro i swap'!SEP4","v":0},{"$f":"SES35*'Makro i swap'!SEQ4","v":0},{"$f":"SET35*'Makro i swap'!SER4","v":0},{"$f":"SEU35*'Makro i swap'!SES4","v":0},{"$f":"SEV35*'Makro i swap'!SET4","v":0},{"$f":"SEW35*'Makro i swap'!SEU4","v":0},{"$f":"SEX35*'Makro i swap'!SEV4","v":0},{"$f":"SEY35*'Makro i swap'!SEW4","v":0},{"$f":"SEZ35*'Makro i swap'!SEX4","v":0},{"$f":"SFA35*'Makro i swap'!SEY4","v":0},{"$f":"SFB35*'Makro i swap'!SEZ4","v":0},{"$f":"SFC35*'Makro i swap'!SFA4","v":0},{"$f":"SFD35*'Makro i swap'!SFB4","v":0},{"$f":"SFE35*'Makro i swap'!SFC4","v":0},{"$f":"SFF35*'Makro i swap'!SFD4","v":0},{"$f":"SFG35*'Makro i swap'!SFE4","v":0},{"$f":"SFH35*'Makro i swap'!SFF4","v":0},{"$f":"SFI35*'Makro i swap'!SFG4","v":0},{"$f":"SFJ35*'Makro i swap'!SFH4","v":0},{"$f":"SFK35*'Makro i swap'!SFI4","v":0},{"$f":"SFL35*'Makro i swap'!SFJ4","v":0},{"$f":"SFM35*'Makro i swap'!SFK4","v":0},{"$f":"SFN35*'Makro i swap'!SFL4","v":0},{"$f":"SFO35*'Makro i swap'!SFM4","v":0},{"$f":"SFP35*'Makro i swap'!SFN4","v":0},{"$f":"SFQ35*'Makro i swap'!SFO4","v":0},{"$f":"SFR35*'Makro i swap'!SFP4","v":0},{"$f":"SFS35*'Makro i swap'!SFQ4","v":0},{"$f":"SFT35*'Makro i swap'!SFR4","v":0},{"$f":"SFU35*'Makro i swap'!SFS4","v":0},{"$f":"SFV35*'Makro i swap'!SFT4","v":0},{"$f":"SFW35*'Makro i swap'!SFU4","v":0},{"$f":"SFX35*'Makro i swap'!SFV4","v":0},{"$f":"SFY35*'Makro i swap'!SFW4","v":0},{"$f":"SFZ35*'Makro i swap'!SFX4","v":0},{"$f":"SGA35*'Makro i swap'!SFY4","v":0},{"$f":"SGB35*'Makro i swap'!SFZ4","v":0},{"$f":"SGC35*'Makro i swap'!SGA4","v":0},{"$f":"SGD35*'Makro i swap'!SGB4","v":0},{"$f":"SGE35*'Makro i swap'!SGC4","v":0},{"$f":"SGF35*'Makro i swap'!SGD4","v":0},{"$f":"SGG35*'Makro i swap'!SGE4","v":0},{"$f":"SGH35*'Makro i swap'!SGF4","v":0},{"$f":"SGI35*'Makro i swap'!SGG4","v":0},{"$f":"SGJ35*'Makro i swap'!SGH4","v":0},{"$f":"SGK35*'Makro i swap'!SGI4","v":0},{"$f":"SGL35*'Makro i swap'!SGJ4","v":0},{"$f":"SGM35*'Makro i swap'!SGK4","v":0},{"$f":"SGN35*'Makro i swap'!SGL4","v":0},{"$f":"SGO35*'Makro i swap'!SGM4","v":0},{"$f":"SGP35*'Makro i swap'!SGN4","v":0},{"$f":"SGQ35*'Makro i swap'!SGO4","v":0},{"$f":"SGR35*'Makro i swap'!SGP4","v":0},{"$f":"SGS35*'Makro i swap'!SGQ4","v":0},{"$f":"SGT35*'Makro i swap'!SGR4","v":0},{"$f":"SGU35*'Makro i swap'!SGS4","v":0},{"$f":"SGV35*'Makro i swap'!SGT4","v":0},{"$f":"SGW35*'Makro i swap'!SGU4","v":0},{"$f":"SGX35*'Makro i swap'!SGV4","v":0},{"$f":"SGY35*'Makro i swap'!SGW4","v":0},{"$f":"SGZ35*'Makro i swap'!SGX4","v":0},{"$f":"SHA35*'Makro i swap'!SGY4","v":0},{"$f":"SHB35*'Makro i swap'!SGZ4","v":0},{"$f":"SHC35*'Makro i swap'!SHA4","v":0},{"$f":"SHD35*'Makro i swap'!SHB4","v":0},{"$f":"SHE35*'Makro i swap'!SHC4","v":0},{"$f":"SHF35*'Makro i swap'!SHD4","v":0},{"$f":"SHG35*'Makro i swap'!SHE4","v":0},{"$f":"SHH35*'Makro i swap'!SHF4","v":0},{"$f":"SHI35*'Makro i swap'!SHG4","v":0},{"$f":"SHJ35*'Makro i swap'!SHH4","v":0},{"$f":"SHK35*'Makro i swap'!SHI4","v":0},{"$f":"SHL35*'Makro i swap'!SHJ4","v":0},{"$f":"SHM35*'Makro i swap'!SHK4","v":0},{"$f":"SHN35*'Makro i swap'!SHL4","v":0},{"$f":"SHO35*'Makro i swap'!SHM4","v":0},{"$f":"SHP35*'Makro i swap'!SHN4","v":0},{"$f":"SHQ35*'Makro i swap'!SHO4","v":0},{"$f":"SHR35*'Makro i swap'!SHP4","v":0},{"$f":"SHS35*'Makro i swap'!SHQ4","v":0},{"$f":"SHT35*'Makro i swap'!SHR4","v":0},{"$f":"SHU35*'Makro i swap'!SHS4","v":0},{"$f":"SHV35*'Makro i swap'!SHT4","v":0},{"$f":"SHW35*'Makro i swap'!SHU4","v":0},{"$f":"SHX35*'Makro i swap'!SHV4","v":0},{"$f":"SHY35*'Makro i swap'!SHW4","v":0},{"$f":"SHZ35*'Makro i swap'!SHX4","v":0},{"$f":"SIA35*'Makro i swap'!SHY4","v":0},{"$f":"SIB35*'Makro i swap'!SHZ4","v":0},{"$f":"SIC35*'Makro i swap'!SIA4","v":0},{"$f":"SID35*'Makro i swap'!SIB4","v":0},{"$f":"SIE35*'Makro i swap'!SIC4","v":0},{"$f":"SIF35*'Makro i swap'!SID4","v":0},{"$f":"SIG35*'Makro i swap'!SIE4","v":0},{"$f":"SIH35*'Makro i swap'!SIF4","v":0},{"$f":"SII35*'Makro i swap'!SIG4","v":0},{"$f":"SIJ35*'Makro i swap'!SIH4","v":0},{"$f":"SIK35*'Makro i swap'!SII4","v":0},{"$f":"SIL35*'Makro i swap'!SIJ4","v":0},{"$f":"SIM35*'Makro i swap'!SIK4","v":0},{"$f":"SIN35*'Makro i swap'!SIL4","v":0},{"$f":"SIO35*'Makro i swap'!SIM4","v":0},{"$f":"SIP35*'Makro i swap'!SIN4","v":0},{"$f":"SIQ35*'Makro i swap'!SIO4","v":0},{"$f":"SIR35*'Makro i swap'!SIP4","v":0},{"$f":"SIS35*'Makro i swap'!SIQ4","v":0},{"$f":"SIT35*'Makro i swap'!SIR4","v":0},{"$f":"SIU35*'Makro i swap'!SIS4","v":0},{"$f":"SIV35*'Makro i swap'!SIT4","v":0},{"$f":"SIW35*'Makro i swap'!SIU4","v":0},{"$f":"SIX35*'Makro i swap'!SIV4","v":0},{"$f":"SIY35*'Makro i swap'!SIW4","v":0},{"$f":"SIZ35*'Makro i swap'!SIX4","v":0},{"$f":"SJA35*'Makro i swap'!SIY4","v":0},{"$f":"SJB35*'Makro i swap'!SIZ4","v":0},{"$f":"SJC35*'Makro i swap'!SJA4","v":0},{"$f":"SJD35*'Makro i swap'!SJB4","v":0},{"$f":"SJE35*'Makro i swap'!SJC4","v":0},{"$f":"SJF35*'Makro i swap'!SJD4","v":0},{"$f":"SJG35*'Makro i swap'!SJE4","v":0},{"$f":"SJH35*'Makro i swap'!SJF4","v":0},{"$f":"SJI35*'Makro i swap'!SJG4","v":0},{"$f":"SJJ35*'Makro i swap'!SJH4","v":0},{"$f":"SJK35*'Makro i swap'!SJI4","v":0},{"$f":"SJL35*'Makro i swap'!SJJ4","v":0},{"$f":"SJM35*'Makro i swap'!SJK4","v":0},{"$f":"SJN35*'Makro i swap'!SJL4","v":0},{"$f":"SJO35*'Makro i swap'!SJM4","v":0},{"$f":"SJP35*'Makro i swap'!SJN4","v":0},{"$f":"SJQ35*'Makro i swap'!SJO4","v":0},{"$f":"SJR35*'Makro i swap'!SJP4","v":0},{"$f":"SJS35*'Makro i swap'!SJQ4","v":0},{"$f":"SJT35*'Makro i swap'!SJR4","v":0},{"$f":"SJU35*'Makro i swap'!SJS4","v":0},{"$f":"SJV35*'Makro i swap'!SJT4","v":0},{"$f":"SJW35*'Makro i swap'!SJU4","v":0},{"$f":"SJX35*'Makro i swap'!SJV4","v":0},{"$f":"SJY35*'Makro i swap'!SJW4","v":0},{"$f":"SJZ35*'Makro i swap'!SJX4","v":0},{"$f":"SKA35*'Makro i swap'!SJY4","v":0},{"$f":"SKB35*'Makro i swap'!SJZ4","v":0},{"$f":"SKC35*'Makro i swap'!SKA4","v":0},{"$f":"SKD35*'Makro i swap'!SKB4","v":0},{"$f":"SKE35*'Makro i swap'!SKC4","v":0},{"$f":"SKF35*'Makro i swap'!SKD4","v":0},{"$f":"SKG35*'Makro i swap'!SKE4","v":0},{"$f":"SKH35*'Makro i swap'!SKF4","v":0},{"$f":"SKI35*'Makro i swap'!SKG4","v":0},{"$f":"SKJ35*'Makro i swap'!SKH4","v":0},{"$f":"SKK35*'Makro i swap'!SKI4","v":0},{"$f":"SKL35*'Makro i swap'!SKJ4","v":0},{"$f":"SKM35*'Makro i swap'!SKK4","v":0},{"$f":"SKN35*'Makro i swap'!SKL4","v":0},{"$f":"SKO35*'Makro i swap'!SKM4","v":0},{"$f":"SKP35*'Makro i swap'!SKN4","v":0},{"$f":"SKQ35*'Makro i swap'!SKO4","v":0},{"$f":"SKR35*'Makro i swap'!SKP4","v":0},{"$f":"SKS35*'Makro i swap'!SKQ4","v":0},{"$f":"SKT35*'Makro i swap'!SKR4","v":0},{"$f":"SKU35*'Makro i swap'!SKS4","v":0},{"$f":"SKV35*'Makro i swap'!SKT4","v":0},{"$f":"SKW35*'Makro i swap'!SKU4","v":0},{"$f":"SKX35*'Makro i swap'!SKV4","v":0},{"$f":"SKY35*'Makro i swap'!SKW4","v":0},{"$f":"SKZ35*'Makro i swap'!SKX4","v":0},{"$f":"SLA35*'Makro i swap'!SKY4","v":0},{"$f":"SLB35*'Makro i swap'!SKZ4","v":0},{"$f":"SLC35*'Makro i swap'!SLA4","v":0},{"$f":"SLD35*'Makro i swap'!SLB4","v":0},{"$f":"SLE35*'Makro i swap'!SLC4","v":0},{"$f":"SLF35*'Makro i swap'!SLD4","v":0},{"$f":"SLG35*'Makro i swap'!SLE4","v":0},{"$f":"SLH35*'Makro i swap'!SLF4","v":0},{"$f":"SLI35*'Makro i swap'!SLG4","v":0},{"$f":"SLJ35*'Makro i swap'!SLH4","v":0},{"$f":"SLK35*'Makro i swap'!SLI4","v":0},{"$f":"SLL35*'Makro i swap'!SLJ4","v":0},{"$f":"SLM35*'Makro i swap'!SLK4","v":0},{"$f":"SLN35*'Makro i swap'!SLL4","v":0},{"$f":"SLO35*'Makro i swap'!SLM4","v":0},{"$f":"SLP35*'Makro i swap'!SLN4","v":0},{"$f":"SLQ35*'Makro i swap'!SLO4","v":0},{"$f":"SLR35*'Makro i swap'!SLP4","v":0},{"$f":"SLS35*'Makro i swap'!SLQ4","v":0},{"$f":"SLT35*'Makro i swap'!SLR4","v":0},{"$f":"SLU35*'Makro i swap'!SLS4","v":0},{"$f":"SLV35*'Makro i swap'!SLT4","v":0},{"$f":"SLW35*'Makro i swap'!SLU4","v":0},{"$f":"SLX35*'Makro i swap'!SLV4","v":0},{"$f":"SLY35*'Makro i swap'!SLW4","v":0},{"$f":"SLZ35*'Makro i swap'!SLX4","v":0},{"$f":"SMA35*'Makro i swap'!SLY4","v":0},{"$f":"SMB35*'Makro i swap'!SLZ4","v":0},{"$f":"SMC35*'Makro i swap'!SMA4","v":0},{"$f":"SMD35*'Makro i swap'!SMB4","v":0},{"$f":"SME35*'Makro i swap'!SMC4","v":0},{"$f":"SMF35*'Makro i swap'!SMD4","v":0},{"$f":"SMG35*'Makro i swap'!SME4","v":0},{"$f":"SMH35*'Makro i swap'!SMF4","v":0},{"$f":"SMI35*'Makro i swap'!SMG4","v":0},{"$f":"SMJ35*'Makro i swap'!SMH4","v":0},{"$f":"SMK35*'Makro i swap'!SMI4","v":0},{"$f":"SML35*'Makro i swap'!SMJ4","v":0},{"$f":"SMM35*'Makro i swap'!SMK4","v":0},{"$f":"SMN35*'Makro i swap'!SML4","v":0},{"$f":"SMO35*'Makro i swap'!SMM4","v":0},{"$f":"SMP35*'Makro i swap'!SMN4","v":0},{"$f":"SMQ35*'Makro i swap'!SMO4","v":0},{"$f":"SMR35*'Makro i swap'!SMP4","v":0},{"$f":"SMS35*'Makro i swap'!SMQ4","v":0},{"$f":"SMT35*'Makro i swap'!SMR4","v":0},{"$f":"SMU35*'Makro i swap'!SMS4","v":0},{"$f":"SMV35*'Makro i swap'!SMT4","v":0},{"$f":"SMW35*'Makro i swap'!SMU4","v":0},{"$f":"SMX35*'Makro i swap'!SMV4","v":0},{"$f":"SMY35*'Makro i swap'!SMW4","v":0},{"$f":"SMZ35*'Makro i swap'!SMX4","v":0},{"$f":"SNA35*'Makro i swap'!SMY4","v":0},{"$f":"SNB35*'Makro i swap'!SMZ4","v":0},{"$f":"SNC35*'Makro i swap'!SNA4","v":0},{"$f":"SND35*'Makro i swap'!SNB4","v":0},{"$f":"SNE35*'Makro i swap'!SNC4","v":0},{"$f":"SNF35*'Makro i swap'!SND4","v":0},{"$f":"SNG35*'Makro i swap'!SNE4","v":0},{"$f":"SNH35*'Makro i swap'!SNF4","v":0},{"$f":"SNI35*'Makro i swap'!SNG4","v":0},{"$f":"SNJ35*'Makro i swap'!SNH4","v":0},{"$f":"SNK35*'Makro i swap'!SNI4","v":0},{"$f":"SNL35*'Makro i swap'!SNJ4","v":0},{"$f":"SNM35*'Makro i swap'!SNK4","v":0},{"$f":"SNN35*'Makro i swap'!SNL4","v":0},{"$f":"SNO35*'Makro i swap'!SNM4","v":0},{"$f":"SNP35*'Makro i swap'!SNN4","v":0},{"$f":"SNQ35*'Makro i swap'!SNO4","v":0},{"$f":"SNR35*'Makro i swap'!SNP4","v":0},{"$f":"SNS35*'Makro i swap'!SNQ4","v":0},{"$f":"SNT35*'Makro i swap'!SNR4","v":0},{"$f":"SNU35*'Makro i swap'!SNS4","v":0},{"$f":"SNV35*'Makro i swap'!SNT4","v":0},{"$f":"SNW35*'Makro i swap'!SNU4","v":0},{"$f":"SNX35*'Makro i swap'!SNV4","v":0},{"$f":"SNY35*'Makro i swap'!SNW4","v":0},{"$f":"SNZ35*'Makro i swap'!SNX4","v":0},{"$f":"SOA35*'Makro i swap'!SNY4","v":0},{"$f":"SOB35*'Makro i swap'!SNZ4","v":0},{"$f":"SOC35*'Makro i swap'!SOA4","v":0},{"$f":"SOD35*'Makro i swap'!SOB4","v":0},{"$f":"SOE35*'Makro i swap'!SOC4","v":0},{"$f":"SOF35*'Makro i swap'!SOD4","v":0},{"$f":"SOG35*'Makro i swap'!SOE4","v":0},{"$f":"SOH35*'Makro i swap'!SOF4","v":0},{"$f":"SOI35*'Makro i swap'!SOG4","v":0},{"$f":"SOJ35*'Makro i swap'!SOH4","v":0},{"$f":"SOK35*'Makro i swap'!SOI4","v":0},{"$f":"SOL35*'Makro i swap'!SOJ4","v":0},{"$f":"SOM35*'Makro i swap'!SOK4","v":0},{"$f":"SON35*'Makro i swap'!SOL4","v":0},{"$f":"SOO35*'Makro i swap'!SOM4","v":0},{"$f":"SOP35*'Makro i swap'!SON4","v":0},{"$f":"SOQ35*'Makro i swap'!SOO4","v":0},{"$f":"SOR35*'Makro i swap'!SOP4","v":0},{"$f":"SOS35*'Makro i swap'!SOQ4","v":0},{"$f":"SOT35*'Makro i swap'!SOR4","v":0},{"$f":"SOU35*'Makro i swap'!SOS4","v":0},{"$f":"SOV35*'Makro i swap'!SOT4","v":0},{"$f":"SOW35*'Makro i swap'!SOU4","v":0},{"$f":"SOX35*'Makro i swap'!SOV4","v":0},{"$f":"SOY35*'Makro i swap'!SOW4","v":0},{"$f":"SOZ35*'Makro i swap'!SOX4","v":0},{"$f":"SPA35*'Makro i swap'!SOY4","v":0},{"$f":"SPB35*'Makro i swap'!SOZ4","v":0},{"$f":"SPC35*'Makro i swap'!SPA4","v":0},{"$f":"SPD35*'Makro i swap'!SPB4","v":0},{"$f":"SPE35*'Makro i swap'!SPC4","v":0},{"$f":"SPF35*'Makro i swap'!SPD4","v":0},{"$f":"SPG35*'Makro i swap'!SPE4","v":0},{"$f":"SPH35*'Makro i swap'!SPF4","v":0},{"$f":"SPI35*'Makro i swap'!SPG4","v":0},{"$f":"SPJ35*'Makro i swap'!SPH4","v":0},{"$f":"SPK35*'Makro i swap'!SPI4","v":0},{"$f":"SPL35*'Makro i swap'!SPJ4","v":0},{"$f":"SPM35*'Makro i swap'!SPK4","v":0},{"$f":"SPN35*'Makro i swap'!SPL4","v":0},{"$f":"SPO35*'Makro i swap'!SPM4","v":0},{"$f":"SPP35*'Makro i swap'!SPN4","v":0},{"$f":"SPQ35*'Makro i swap'!SPO4","v":0},{"$f":"SPR35*'Makro i swap'!SPP4","v":0},{"$f":"SPS35*'Makro i swap'!SPQ4","v":0},{"$f":"SPT35*'Makro i swap'!SPR4","v":0},{"$f":"SPU35*'Makro i swap'!SPS4","v":0},{"$f":"SPV35*'Makro i swap'!SPT4","v":0},{"$f":"SPW35*'Makro i swap'!SPU4","v":0},{"$f":"SPX35*'Makro i swap'!SPV4","v":0},{"$f":"SPY35*'Makro i swap'!SPW4","v":0},{"$f":"SPZ35*'Makro i swap'!SPX4","v":0},{"$f":"SQA35*'Makro i swap'!SPY4","v":0},{"$f":"SQB35*'Makro i swap'!SPZ4","v":0},{"$f":"SQC35*'Makro i swap'!SQA4","v":0},{"$f":"SQD35*'Makro i swap'!SQB4","v":0},{"$f":"SQE35*'Makro i swap'!SQC4","v":0},{"$f":"SQF35*'Makro i swap'!SQD4","v":0},{"$f":"SQG35*'Makro i swap'!SQE4","v":0},{"$f":"SQH35*'Makro i swap'!SQF4","v":0},{"$f":"SQI35*'Makro i swap'!SQG4","v":0},{"$f":"SQJ35*'Makro i swap'!SQH4","v":0},{"$f":"SQK35*'Makro i swap'!SQI4","v":0},{"$f":"SQL35*'Makro i swap'!SQJ4","v":0},{"$f":"SQM35*'Makro i swap'!SQK4","v":0},{"$f":"SQN35*'Makro i swap'!SQL4","v":0},{"$f":"SQO35*'Makro i swap'!SQM4","v":0},{"$f":"SQP35*'Makro i swap'!SQN4","v":0},{"$f":"SQQ35*'Makro i swap'!SQO4","v":0},{"$f":"SQR35*'Makro i swap'!SQP4","v":0},{"$f":"SQS35*'Makro i swap'!SQQ4","v":0},{"$f":"SQT35*'Makro i swap'!SQR4","v":0},{"$f":"SQU35*'Makro i swap'!SQS4","v":0},{"$f":"SQV35*'Makro i swap'!SQT4","v":0},{"$f":"SQW35*'Makro i swap'!SQU4","v":0},{"$f":"SQX35*'Makro i swap'!SQV4","v":0},{"$f":"SQY35*'Makro i swap'!SQW4","v":0},{"$f":"SQZ35*'Makro i swap'!SQX4","v":0},{"$f":"SRA35*'Makro i swap'!SQY4","v":0},{"$f":"SRB35*'Makro i swap'!SQZ4","v":0},{"$f":"SRC35*'Makro i swap'!SRA4","v":0},{"$f":"SRD35*'Makro i swap'!SRB4","v":0},{"$f":"SRE35*'Makro i swap'!SRC4","v":0},{"$f":"SRF35*'Makro i swap'!SRD4","v":0},{"$f":"SRG35*'Makro i swap'!SRE4","v":0},{"$f":"SRH35*'Makro i swap'!SRF4","v":0},{"$f":"SRI35*'Makro i swap'!SRG4","v":0},{"$f":"SRJ35*'Makro i swap'!SRH4","v":0},{"$f":"SRK35*'Makro i swap'!SRI4","v":0},{"$f":"SRL35*'Makro i swap'!SRJ4","v":0},{"$f":"SRM35*'Makro i swap'!SRK4","v":0},{"$f":"SRN35*'Makro i swap'!SRL4","v":0},{"$f":"SRO35*'Makro i swap'!SRM4","v":0},{"$f":"SRP35*'Makro i swap'!SRN4","v":0},{"$f":"SRQ35*'Makro i swap'!SRO4","v":0},{"$f":"SRR35*'Makro i swap'!SRP4","v":0},{"$f":"SRS35*'Makro i swap'!SRQ4","v":0},{"$f":"SRT35*'Makro i swap'!SRR4","v":0},{"$f":"SRU35*'Makro i swap'!SRS4","v":0},{"$f":"SRV35*'Makro i swap'!SRT4","v":0},{"$f":"SRW35*'Makro i swap'!SRU4","v":0},{"$f":"SRX35*'Makro i swap'!SRV4","v":0},{"$f":"SRY35*'Makro i swap'!SRW4","v":0},{"$f":"SRZ35*'Makro i swap'!SRX4","v":0},{"$f":"SSA35*'Makro i swap'!SRY4","v":0},{"$f":"SSB35*'Makro i swap'!SRZ4","v":0},{"$f":"SSC35*'Makro i swap'!SSA4","v":0},{"$f":"SSD35*'Makro i swap'!SSB4","v":0},{"$f":"SSE35*'Makro i swap'!SSC4","v":0},{"$f":"SSF35*'Makro i swap'!SSD4","v":0},{"$f":"SSG35*'Makro i swap'!SSE4","v":0},{"$f":"SSH35*'Makro i swap'!SSF4","v":0},{"$f":"SSI35*'Makro i swap'!SSG4","v":0},{"$f":"SSJ35*'Makro i swap'!SSH4","v":0},{"$f":"SSK35*'Makro i swap'!SSI4","v":0},{"$f":"SSL35*'Makro i swap'!SSJ4","v":0},{"$f":"SSM35*'Makro i swap'!SSK4","v":0},{"$f":"SSN35*'Makro i swap'!SSL4","v":0},{"$f":"SSO35*'Makro i swap'!SSM4","v":0},{"$f":"SSP35*'Makro i swap'!SSN4","v":0},{"$f":"SSQ35*'Makro i swap'!SSO4","v":0},{"$f":"SSR35*'Makro i swap'!SSP4","v":0},{"$f":"SSS35*'Makro i swap'!SSQ4","v":0},{"$f":"SST35*'Makro i swap'!SSR4","v":0},{"$f":"SSU35*'Makro i swap'!SSS4","v":0},{"$f":"SSV35*'Makro i swap'!SST4","v":0},{"$f":"SSW35*'Makro i swap'!SSU4","v":0},{"$f":"SSX35*'Makro i swap'!SSV4","v":0},{"$f":"SSY35*'Makro i swap'!SSW4","v":0},{"$f":"SSZ35*'Makro i swap'!SSX4","v":0},{"$f":"STA35*'Makro i swap'!SSY4","v":0},{"$f":"STB35*'Makro i swap'!SSZ4","v":0},{"$f":"STC35*'Makro i swap'!STA4","v":0},{"$f":"STD35*'Makro i swap'!STB4","v":0},{"$f":"STE35*'Makro i swap'!STC4","v":0},{"$f":"STF35*'Makro i swap'!STD4","v":0},{"$f":"STG35*'Makro i swap'!STE4","v":0},{"$f":"STH35*'Makro i swap'!STF4","v":0},{"$f":"STI35*'Makro i swap'!STG4","v":0},{"$f":"STJ35*'Makro i swap'!STH4","v":0},{"$f":"STK35*'Makro i swap'!STI4","v":0},{"$f":"STL35*'Makro i swap'!STJ4","v":0},{"$f":"STM35*'Makro i swap'!STK4","v":0},{"$f":"STN35*'Makro i swap'!STL4","v":0},{"$f":"STO35*'Makro i swap'!STM4","v":0},{"$f":"STP35*'Makro i swap'!STN4","v":0},{"$f":"STQ35*'Makro i swap'!STO4","v":0},{"$f":"STR35*'Makro i swap'!STP4","v":0},{"$f":"STS35*'Makro i swap'!STQ4","v":0},{"$f":"STT35*'Makro i swap'!STR4","v":0},{"$f":"STU35*'Makro i swap'!STS4","v":0},{"$f":"STV35*'Makro i swap'!STT4","v":0},{"$f":"STW35*'Makro i swap'!STU4","v":0},{"$f":"STX35*'Makro i swap'!STV4","v":0},{"$f":"STY35*'Makro i swap'!STW4","v":0},{"$f":"STZ35*'Makro i swap'!STX4","v":0},{"$f":"SUA35*'Makro i swap'!STY4","v":0},{"$f":"SUB35*'Makro i swap'!STZ4","v":0},{"$f":"SUC35*'Makro i swap'!SUA4","v":0},{"$f":"SUD35*'Makro i swap'!SUB4","v":0},{"$f":"SUE35*'Makro i swap'!SUC4","v":0},{"$f":"SUF35*'Makro i swap'!SUD4","v":0},{"$f":"SUG35*'Makro i swap'!SUE4","v":0},{"$f":"SUH35*'Makro i swap'!SUF4","v":0},{"$f":"SUI35*'Makro i swap'!SUG4","v":0},{"$f":"SUJ35*'Makro i swap'!SUH4","v":0},{"$f":"SUK35*'Makro i swap'!SUI4","v":0},{"$f":"SUL35*'Makro i swap'!SUJ4","v":0},{"$f":"SUM35*'Makro i swap'!SUK4","v":0},{"$f":"SUN35*'Makro i swap'!SUL4","v":0},{"$f":"SUO35*'Makro i swap'!SUM4","v":0},{"$f":"SUP35*'Makro i swap'!SUN4","v":0},{"$f":"SUQ35*'Makro i swap'!SUO4","v":0},{"$f":"SUR35*'Makro i swap'!SUP4","v":0},{"$f":"SUS35*'Makro i swap'!SUQ4","v":0},{"$f":"SUT35*'Makro i swap'!SUR4","v":0},{"$f":"SUU35*'Makro i swap'!SUS4","v":0},{"$f":"SUV35*'Makro i swap'!SUT4","v":0},{"$f":"SUW35*'Makro i swap'!SUU4","v":0},{"$f":"SUX35*'Makro i swap'!SUV4","v":0},{"$f":"SUY35*'Makro i swap'!SUW4","v":0},{"$f":"SUZ35*'Makro i swap'!SUX4","v":0},{"$f":"SVA35*'Makro i swap'!SUY4","v":0},{"$f":"SVB35*'Makro i swap'!SUZ4","v":0},{"$f":"SVC35*'Makro i swap'!SVA4","v":0},{"$f":"SVD35*'Makro i swap'!SVB4","v":0},{"$f":"SVE35*'Makro i swap'!SVC4","v":0},{"$f":"SVF35*'Makro i swap'!SVD4","v":0},{"$f":"SVG35*'Makro i swap'!SVE4","v":0},{"$f":"SVH35*'Makro i swap'!SVF4","v":0},{"$f":"SVI35*'Makro i swap'!SVG4","v":0},{"$f":"SVJ35*'Makro i swap'!SVH4","v":0},{"$f":"SVK35*'Makro i swap'!SVI4","v":0},{"$f":"SVL35*'Makro i swap'!SVJ4","v":0},{"$f":"SVM35*'Makro i swap'!SVK4","v":0},{"$f":"SVN35*'Makro i swap'!SVL4","v":0},{"$f":"SVO35*'Makro i swap'!SVM4","v":0},{"$f":"SVP35*'Makro i swap'!SVN4","v":0},{"$f":"SVQ35*'Makro i swap'!SVO4","v":0},{"$f":"SVR35*'Makro i swap'!SVP4","v":0},{"$f":"SVS35*'Makro i swap'!SVQ4","v":0},{"$f":"SVT35*'Makro i swap'!SVR4","v":0},{"$f":"SVU35*'Makro i swap'!SVS4","v":0},{"$f":"SVV35*'Makro i swap'!SVT4","v":0},{"$f":"SVW35*'Makro i swap'!SVU4","v":0},{"$f":"SVX35*'Makro i swap'!SVV4","v":0},{"$f":"SVY35*'Makro i swap'!SVW4","v":0},{"$f":"SVZ35*'Makro i swap'!SVX4","v":0},{"$f":"SWA35*'Makro i swap'!SVY4","v":0},{"$f":"SWB35*'Makro i swap'!SVZ4","v":0},{"$f":"SWC35*'Makro i swap'!SWA4","v":0},{"$f":"SWD35*'Makro i swap'!SWB4","v":0},{"$f":"SWE35*'Makro i swap'!SWC4","v":0},{"$f":"SWF35*'Makro i swap'!SWD4","v":0},{"$f":"SWG35*'Makro i swap'!SWE4","v":0},{"$f":"SWH35*'Makro i swap'!SWF4","v":0},{"$f":"SWI35*'Makro i swap'!SWG4","v":0},{"$f":"SWJ35*'Makro i swap'!SWH4","v":0},{"$f":"SWK35*'Makro i swap'!SWI4","v":0},{"$f":"SWL35*'Makro i swap'!SWJ4","v":0},{"$f":"SWM35*'Makro i swap'!SWK4","v":0},{"$f":"SWN35*'Makro i swap'!SWL4","v":0},{"$f":"SWO35*'Makro i swap'!SWM4","v":0},{"$f":"SWP35*'Makro i swap'!SWN4","v":0},{"$f":"SWQ35*'Makro i swap'!SWO4","v":0},{"$f":"SWR35*'Makro i swap'!SWP4","v":0},{"$f":"SWS35*'Makro i swap'!SWQ4","v":0},{"$f":"SWT35*'Makro i swap'!SWR4","v":0},{"$f":"SWU35*'Makro i swap'!SWS4","v":0},{"$f":"SWV35*'Makro i swap'!SWT4","v":0},{"$f":"SWW35*'Makro i swap'!SWU4","v":0},{"$f":"SWX35*'Makro i swap'!SWV4","v":0},{"$f":"SWY35*'Makro i swap'!SWW4","v":0},{"$f":"SWZ35*'Makro i swap'!SWX4","v":0},{"$f":"SXA35*'Makro i swap'!SWY4","v":0},{"$f":"SXB35*'Makro i swap'!SWZ4","v":0},{"$f":"SXC35*'Makro i swap'!SXA4","v":0},{"$f":"SXD35*'Makro i swap'!SXB4","v":0},{"$f":"SXE35*'Makro i swap'!SXC4","v":0},{"$f":"SXF35*'Makro i swap'!SXD4","v":0},{"$f":"SXG35*'Makro i swap'!SXE4","v":0},{"$f":"SXH35*'Makro i swap'!SXF4","v":0},{"$f":"SXI35*'Makro i swap'!SXG4","v":0},{"$f":"SXJ35*'Makro i swap'!SXH4","v":0},{"$f":"SXK35*'Makro i swap'!SXI4","v":0},{"$f":"SXL35*'Makro i swap'!SXJ4","v":0},{"$f":"SXM35*'Makro i swap'!SXK4","v":0},{"$f":"SXN35*'Makro i swap'!SXL4","v":0},{"$f":"SXO35*'Makro i swap'!SXM4","v":0},{"$f":"SXP35*'Makro i swap'!SXN4","v":0},{"$f":"SXQ35*'Makro i swap'!SXO4","v":0},{"$f":"SXR35*'Makro i swap'!SXP4","v":0},{"$f":"SXS35*'Makro i swap'!SXQ4","v":0},{"$f":"SXT35*'Makro i swap'!SXR4","v":0},{"$f":"SXU35*'Makro i swap'!SXS4","v":0},{"$f":"SXV35*'Makro i swap'!SXT4","v":0},{"$f":"SXW35*'Makro i swap'!SXU4","v":0},{"$f":"SXX35*'Makro i swap'!SXV4","v":0},{"$f":"SXY35*'Makro i swap'!SXW4","v":0},{"$f":"SXZ35*'Makro i swap'!SXX4","v":0},{"$f":"SYA35*'Makro i swap'!SXY4","v":0},{"$f":"SYB35*'Makro i swap'!SXZ4","v":0},{"$f":"SYC35*'Makro i swap'!SYA4","v":0},{"$f":"SYD35*'Makro i swap'!SYB4","v":0},{"$f":"SYE35*'Makro i swap'!SYC4","v":0},{"$f":"SYF35*'Makro i swap'!SYD4","v":0},{"$f":"SYG35*'Makro i swap'!SYE4","v":0},{"$f":"SYH35*'Makro i swap'!SYF4","v":0},{"$f":"SYI35*'Makro i swap'!SYG4","v":0},{"$f":"SYJ35*'Makro i swap'!SYH4","v":0},{"$f":"SYK35*'Makro i swap'!SYI4","v":0},{"$f":"SYL35*'Makro i swap'!SYJ4","v":0},{"$f":"SYM35*'Makro i swap'!SYK4","v":0},{"$f":"SYN35*'Makro i swap'!SYL4","v":0},{"$f":"SYO35*'Makro i swap'!SYM4","v":0},{"$f":"SYP35*'Makro i swap'!SYN4","v":0},{"$f":"SYQ35*'Makro i swap'!SYO4","v":0},{"$f":"SYR35*'Makro i swap'!SYP4","v":0},{"$f":"SYS35*'Makro i swap'!SYQ4","v":0},{"$f":"SYT35*'Makro i swap'!SYR4","v":0},{"$f":"SYU35*'Makro i swap'!SYS4","v":0},{"$f":"SYV35*'Makro i swap'!SYT4","v":0},{"$f":"SYW35*'Makro i swap'!SYU4","v":0},{"$f":"SYX35*'Makro i swap'!SYV4","v":0},{"$f":"SYY35*'Makro i swap'!SYW4","v":0},{"$f":"SYZ35*'Makro i swap'!SYX4","v":0},{"$f":"SZA35*'Makro i swap'!SYY4","v":0},{"$f":"SZB35*'Makro i swap'!SYZ4","v":0},{"$f":"SZC35*'Makro i swap'!SZA4","v":0},{"$f":"SZD35*'Makro i swap'!SZB4","v":0},{"$f":"SZE35*'Makro i swap'!SZC4","v":0},{"$f":"SZF35*'Makro i swap'!SZD4","v":0},{"$f":"SZG35*'Makro i swap'!SZE4","v":0},{"$f":"SZH35*'Makro i swap'!SZF4","v":0},{"$f":"SZI35*'Makro i swap'!SZG4","v":0},{"$f":"SZJ35*'Makro i swap'!SZH4","v":0},{"$f":"SZK35*'Makro i swap'!SZI4","v":0},{"$f":"SZL35*'Makro i swap'!SZJ4","v":0},{"$f":"SZM35*'Makro i swap'!SZK4","v":0},{"$f":"SZN35*'Makro i swap'!SZL4","v":0},{"$f":"SZO35*'Makro i swap'!SZM4","v":0},{"$f":"SZP35*'Makro i swap'!SZN4","v":0},{"$f":"SZQ35*'Makro i swap'!SZO4","v":0},{"$f":"SZR35*'Makro i swap'!SZP4","v":0},{"$f":"SZS35*'Makro i swap'!SZQ4","v":0},{"$f":"SZT35*'Makro i swap'!SZR4","v":0},{"$f":"SZU35*'Makro i swap'!SZS4","v":0},{"$f":"SZV35*'Makro i swap'!SZT4","v":0},{"$f":"SZW35*'Makro i swap'!SZU4","v":0},{"$f":"SZX35*'Makro i swap'!SZV4","v":0},{"$f":"SZY35*'Makro i swap'!SZW4","v":0},{"$f":"SZZ35*'Makro i swap'!SZX4","v":0},{"$f":"TAA35*'Makro i swap'!SZY4","v":0},{"$f":"TAB35*'Makro i swap'!SZZ4","v":0},{"$f":"TAC35*'Makro i swap'!TAA4","v":0},{"$f":"TAD35*'Makro i swap'!TAB4","v":0},{"$f":"TAE35*'Makro i swap'!TAC4","v":0},{"$f":"TAF35*'Makro i swap'!TAD4","v":0},{"$f":"TAG35*'Makro i swap'!TAE4","v":0},{"$f":"TAH35*'Makro i swap'!TAF4","v":0},{"$f":"TAI35*'Makro i swap'!TAG4","v":0},{"$f":"TAJ35*'Makro i swap'!TAH4","v":0},{"$f":"TAK35*'Makro i swap'!TAI4","v":0},{"$f":"TAL35*'Makro i swap'!TAJ4","v":0},{"$f":"TAM35*'Makro i swap'!TAK4","v":0},{"$f":"TAN35*'Makro i swap'!TAL4","v":0},{"$f":"TAO35*'Makro i swap'!TAM4","v":0},{"$f":"TAP35*'Makro i swap'!TAN4","v":0},{"$f":"TAQ35*'Makro i swap'!TAO4","v":0},{"$f":"TAR35*'Makro i swap'!TAP4","v":0},{"$f":"TAS35*'Makro i swap'!TAQ4","v":0},{"$f":"TAT35*'Makro i swap'!TAR4","v":0},{"$f":"TAU35*'Makro i swap'!TAS4","v":0},{"$f":"TAV35*'Makro i swap'!TAT4","v":0},{"$f":"TAW35*'Makro i swap'!TAU4","v":0},{"$f":"TAX35*'Makro i swap'!TAV4","v":0},{"$f":"TAY35*'Makro i swap'!TAW4","v":0},{"$f":"TAZ35*'Makro i swap'!TAX4","v":0},{"$f":"TBA35*'Makro i swap'!TAY4","v":0},{"$f":"TBB35*'Makro i swap'!TAZ4","v":0},{"$f":"TBC35*'Makro i swap'!TBA4","v":0},{"$f":"TBD35*'Makro i swap'!TBB4","v":0},{"$f":"TBE35*'Makro i swap'!TBC4","v":0},{"$f":"TBF35*'Makro i swap'!TBD4","v":0},{"$f":"TBG35*'Makro i swap'!TBE4","v":0},{"$f":"TBH35*'Makro i swap'!TBF4","v":0},{"$f":"TBI35*'Makro i swap'!TBG4","v":0},{"$f":"TBJ35*'Makro i swap'!TBH4","v":0},{"$f":"TBK35*'Makro i swap'!TBI4","v":0},{"$f":"TBL35*'Makro i swap'!TBJ4","v":0},{"$f":"TBM35*'Makro i swap'!TBK4","v":0},{"$f":"TBN35*'Makro i swap'!TBL4","v":0},{"$f":"TBO35*'Makro i swap'!TBM4","v":0},{"$f":"TBP35*'Makro i swap'!TBN4","v":0},{"$f":"TBQ35*'Makro i swap'!TBO4","v":0},{"$f":"TBR35*'Makro i swap'!TBP4","v":0},{"$f":"TBS35*'Makro i swap'!TBQ4","v":0},{"$f":"TBT35*'Makro i swap'!TBR4","v":0},{"$f":"TBU35*'Makro i swap'!TBS4","v":0},{"$f":"TBV35*'Makro i swap'!TBT4","v":0},{"$f":"TBW35*'Makro i swap'!TBU4","v":0},{"$f":"TBX35*'Makro i swap'!TBV4","v":0},{"$f":"TBY35*'Makro i swap'!TBW4","v":0},{"$f":"TBZ35*'Makro i swap'!TBX4","v":0},{"$f":"TCA35*'Makro i swap'!TBY4","v":0},{"$f":"TCB35*'Makro i swap'!TBZ4","v":0},{"$f":"TCC35*'Makro i swap'!TCA4","v":0},{"$f":"TCD35*'Makro i swap'!TCB4","v":0},{"$f":"TCE35*'Makro i swap'!TCC4","v":0},{"$f":"TCF35*'Makro i swap'!TCD4","v":0},{"$f":"TCG35*'Makro i swap'!TCE4","v":0},{"$f":"TCH35*'Makro i swap'!TCF4","v":0},{"$f":"TCI35*'Makro i swap'!TCG4","v":0},{"$f":"TCJ35*'Makro i swap'!TCH4","v":0},{"$f":"TCK35*'Makro i swap'!TCI4","v":0},{"$f":"TCL35*'Makro i swap'!TCJ4","v":0},{"$f":"TCM35*'Makro i swap'!TCK4","v":0},{"$f":"TCN35*'Makro i swap'!TCL4","v":0},{"$f":"TCO35*'Makro i swap'!TCM4","v":0},{"$f":"TCP35*'Makro i swap'!TCN4","v":0},{"$f":"TCQ35*'Makro i swap'!TCO4","v":0},{"$f":"TCR35*'Makro i swap'!TCP4","v":0},{"$f":"TCS35*'Makro i swap'!TCQ4","v":0},{"$f":"TCT35*'Makro i swap'!TCR4","v":0},{"$f":"TCU35*'Makro i swap'!TCS4","v":0},{"$f":"TCV35*'Makro i swap'!TCT4","v":0},{"$f":"TCW35*'Makro i swap'!TCU4","v":0},{"$f":"TCX35*'Makro i swap'!TCV4","v":0},{"$f":"TCY35*'Makro i swap'!TCW4","v":0},{"$f":"TCZ35*'Makro i swap'!TCX4","v":0},{"$f":"TDA35*'Makro i swap'!TCY4","v":0},{"$f":"TDB35*'Makro i swap'!TCZ4","v":0},{"$f":"TDC35*'Makro i swap'!TDA4","v":0},{"$f":"TDD35*'Makro i swap'!TDB4","v":0},{"$f":"TDE35*'Makro i swap'!TDC4","v":0},{"$f":"TDF35*'Makro i swap'!TDD4","v":0},{"$f":"TDG35*'Makro i swap'!TDE4","v":0},{"$f":"TDH35*'Makro i swap'!TDF4","v":0},{"$f":"TDI35*'Makro i swap'!TDG4","v":0},{"$f":"TDJ35*'Makro i swap'!TDH4","v":0},{"$f":"TDK35*'Makro i swap'!TDI4","v":0},{"$f":"TDL35*'Makro i swap'!TDJ4","v":0},{"$f":"TDM35*'Makro i swap'!TDK4","v":0},{"$f":"TDN35*'Makro i swap'!TDL4","v":0},{"$f":"TDO35*'Makro i swap'!TDM4","v":0},{"$f":"TDP35*'Makro i swap'!TDN4","v":0},{"$f":"TDQ35*'Makro i swap'!TDO4","v":0},{"$f":"TDR35*'Makro i swap'!TDP4","v":0},{"$f":"TDS35*'Makro i swap'!TDQ4","v":0},{"$f":"TDT35*'Makro i swap'!TDR4","v":0},{"$f":"TDU35*'Makro i swap'!TDS4","v":0},{"$f":"TDV35*'Makro i swap'!TDT4","v":0},{"$f":"TDW35*'Makro i swap'!TDU4","v":0},{"$f":"TDX35*'Makro i swap'!TDV4","v":0},{"$f":"TDY35*'Makro i swap'!TDW4","v":0},{"$f":"TDZ35*'Makro i swap'!TDX4","v":0},{"$f":"TEA35*'Makro i swap'!TDY4","v":0},{"$f":"TEB35*'Makro i swap'!TDZ4","v":0},{"$f":"TEC35*'Makro i swap'!TEA4","v":0},{"$f":"TED35*'Makro i swap'!TEB4","v":0},{"$f":"TEE35*'Makro i swap'!TEC4","v":0},{"$f":"TEF35*'Makro i swap'!TED4","v":0},{"$f":"TEG35*'Makro i swap'!TEE4","v":0},{"$f":"TEH35*'Makro i swap'!TEF4","v":0},{"$f":"TEI35*'Makro i swap'!TEG4","v":0},{"$f":"TEJ35*'Makro i swap'!TEH4","v":0},{"$f":"TEK35*'Makro i swap'!TEI4","v":0},{"$f":"TEL35*'Makro i swap'!TEJ4","v":0},{"$f":"TEM35*'Makro i swap'!TEK4","v":0},{"$f":"TEN35*'Makro i swap'!TEL4","v":0},{"$f":"TEO35*'Makro i swap'!TEM4","v":0},{"$f":"TEP35*'Makro i swap'!TEN4","v":0},{"$f":"TEQ35*'Makro i swap'!TEO4","v":0},{"$f":"TER35*'Makro i swap'!TEP4","v":0},{"$f":"TES35*'Makro i swap'!TEQ4","v":0},{"$f":"TET35*'Makro i swap'!TER4","v":0},{"$f":"TEU35*'Makro i swap'!TES4","v":0},{"$f":"TEV35*'Makro i swap'!TET4","v":0},{"$f":"TEW35*'Makro i swap'!TEU4","v":0},{"$f":"TEX35*'Makro i swap'!TEV4","v":0},{"$f":"TEY35*'Makro i swap'!TEW4","v":0},{"$f":"TEZ35*'Makro i swap'!TEX4","v":0},{"$f":"TFA35*'Makro i swap'!TEY4","v":0},{"$f":"TFB35*'Makro i swap'!TEZ4","v":0},{"$f":"TFC35*'Makro i swap'!TFA4","v":0},{"$f":"TFD35*'Makro i swap'!TFB4","v":0},{"$f":"TFE35*'Makro i swap'!TFC4","v":0},{"$f":"TFF35*'Makro i swap'!TFD4","v":0},{"$f":"TFG35*'Makro i swap'!TFE4","v":0},{"$f":"TFH35*'Makro i swap'!TFF4","v":0},{"$f":"TFI35*'Makro i swap'!TFG4","v":0},{"$f":"TFJ35*'Makro i swap'!TFH4","v":0},{"$f":"TFK35*'Makro i swap'!TFI4","v":0},{"$f":"TFL35*'Makro i swap'!TFJ4","v":0},{"$f":"TFM35*'Makro i swap'!TFK4","v":0},{"$f":"TFN35*'Makro i swap'!TFL4","v":0},{"$f":"TFO35*'Makro i swap'!TFM4","v":0},{"$f":"TFP35*'Makro i swap'!TFN4","v":0},{"$f":"TFQ35*'Makro i swap'!TFO4","v":0},{"$f":"TFR35*'Makro i swap'!TFP4","v":0},{"$f":"TFS35*'Makro i swap'!TFQ4","v":0},{"$f":"TFT35*'Makro i swap'!TFR4","v":0},{"$f":"TFU35*'Makro i swap'!TFS4","v":0},{"$f":"TFV35*'Makro i swap'!TFT4","v":0},{"$f":"TFW35*'Makro i swap'!TFU4","v":0},{"$f":"TFX35*'Makro i swap'!TFV4","v":0},{"$f":"TFY35*'Makro i swap'!TFW4","v":0},{"$f":"TFZ35*'Makro i swap'!TFX4","v":0},{"$f":"TGA35*'Makro i swap'!TFY4","v":0},{"$f":"TGB35*'Makro i swap'!TFZ4","v":0},{"$f":"TGC35*'Makro i swap'!TGA4","v":0},{"$f":"TGD35*'Makro i swap'!TGB4","v":0},{"$f":"TGE35*'Makro i swap'!TGC4","v":0},{"$f":"TGF35*'Makro i swap'!TGD4","v":0},{"$f":"TGG35*'Makro i swap'!TGE4","v":0},{"$f":"TGH35*'Makro i swap'!TGF4","v":0},{"$f":"TGI35*'Makro i swap'!TGG4","v":0},{"$f":"TGJ35*'Makro i swap'!TGH4","v":0},{"$f":"TGK35*'Makro i swap'!TGI4","v":0},{"$f":"TGL35*'Makro i swap'!TGJ4","v":0},{"$f":"TGM35*'Makro i swap'!TGK4","v":0},{"$f":"TGN35*'Makro i swap'!TGL4","v":0},{"$f":"TGO35*'Makro i swap'!TGM4","v":0},{"$f":"TGP35*'Makro i swap'!TGN4","v":0},{"$f":"TGQ35*'Makro i swap'!TGO4","v":0},{"$f":"TGR35*'Makro i swap'!TGP4","v":0},{"$f":"TGS35*'Makro i swap'!TGQ4","v":0},{"$f":"TGT35*'Makro i swap'!TGR4","v":0},{"$f":"TGU35*'Makro i swap'!TGS4","v":0},{"$f":"TGV35*'Makro i swap'!TGT4","v":0},{"$f":"TGW35*'Makro i swap'!TGU4","v":0},{"$f":"TGX35*'Makro i swap'!TGV4","v":0},{"$f":"TGY35*'Makro i swap'!TGW4","v":0},{"$f":"TGZ35*'Makro i swap'!TGX4","v":0},{"$f":"THA35*'Makro i swap'!TGY4","v":0},{"$f":"THB35*'Makro i swap'!TGZ4","v":0},{"$f":"THC35*'Makro i swap'!THA4","v":0},{"$f":"THD35*'Makro i swap'!THB4","v":0},{"$f":"THE35*'Makro i swap'!THC4","v":0},{"$f":"THF35*'Makro i swap'!THD4","v":0},{"$f":"THG35*'Makro i swap'!THE4","v":0},{"$f":"THH35*'Makro i swap'!THF4","v":0},{"$f":"THI35*'Makro i swap'!THG4","v":0},{"$f":"THJ35*'Makro i swap'!THH4","v":0},{"$f":"THK35*'Makro i swap'!THI4","v":0},{"$f":"THL35*'Makro i swap'!THJ4","v":0},{"$f":"THM35*'Makro i swap'!THK4","v":0},{"$f":"THN35*'Makro i swap'!THL4","v":0},{"$f":"THO35*'Makro i swap'!THM4","v":0},{"$f":"THP35*'Makro i swap'!THN4","v":0},{"$f":"THQ35*'Makro i swap'!THO4","v":0},{"$f":"THR35*'Makro i swap'!THP4","v":0},{"$f":"THS35*'Makro i swap'!THQ4","v":0},{"$f":"THT35*'Makro i swap'!THR4","v":0},{"$f":"THU35*'Makro i swap'!THS4","v":0},{"$f":"THV35*'Makro i swap'!THT4","v":0},{"$f":"THW35*'Makro i swap'!THU4","v":0},{"$f":"THX35*'Makro i swap'!THV4","v":0},{"$f":"THY35*'Makro i swap'!THW4","v":0},{"$f":"THZ35*'Makro i swap'!THX4","v":0},{"$f":"TIA35*'Makro i swap'!THY4","v":0},{"$f":"TIB35*'Makro i swap'!THZ4","v":0},{"$f":"TIC35*'Makro i swap'!TIA4","v":0},{"$f":"TID35*'Makro i swap'!TIB4","v":0},{"$f":"TIE35*'Makro i swap'!TIC4","v":0},{"$f":"TIF35*'Makro i swap'!TID4","v":0},{"$f":"TIG35*'Makro i swap'!TIE4","v":0},{"$f":"TIH35*'Makro i swap'!TIF4","v":0},{"$f":"TII35*'Makro i swap'!TIG4","v":0},{"$f":"TIJ35*'Makro i swap'!TIH4","v":0},{"$f":"TIK35*'Makro i swap'!TII4","v":0},{"$f":"TIL35*'Makro i swap'!TIJ4","v":0},{"$f":"TIM35*'Makro i swap'!TIK4","v":0},{"$f":"TIN35*'Makro i swap'!TIL4","v":0},{"$f":"TIO35*'Makro i swap'!TIM4","v":0},{"$f":"TIP35*'Makro i swap'!TIN4","v":0},{"$f":"TIQ35*'Makro i swap'!TIO4","v":0},{"$f":"TIR35*'Makro i swap'!TIP4","v":0},{"$f":"TIS35*'Makro i swap'!TIQ4","v":0},{"$f":"TIT35*'Makro i swap'!TIR4","v":0},{"$f":"TIU35*'Makro i swap'!TIS4","v":0},{"$f":"TIV35*'Makro i swap'!TIT4","v":0},{"$f":"TIW35*'Makro i swap'!TIU4","v":0},{"$f":"TIX35*'Makro i swap'!TIV4","v":0},{"$f":"TIY35*'Makro i swap'!TIW4","v":0},{"$f":"TIZ35*'Makro i swap'!TIX4","v":0},{"$f":"TJA35*'Makro i swap'!TIY4","v":0},{"$f":"TJB35*'Makro i swap'!TIZ4","v":0},{"$f":"TJC35*'Makro i swap'!TJA4","v":0},{"$f":"TJD35*'Makro i swap'!TJB4","v":0},{"$f":"TJE35*'Makro i swap'!TJC4","v":0},{"$f":"TJF35*'Makro i swap'!TJD4","v":0},{"$f":"TJG35*'Makro i swap'!TJE4","v":0},{"$f":"TJH35*'Makro i swap'!TJF4","v":0},{"$f":"TJI35*'Makro i swap'!TJG4","v":0},{"$f":"TJJ35*'Makro i swap'!TJH4","v":0},{"$f":"TJK35*'Makro i swap'!TJI4","v":0},{"$f":"TJL35*'Makro i swap'!TJJ4","v":0},{"$f":"TJM35*'Makro i swap'!TJK4","v":0},{"$f":"TJN35*'Makro i swap'!TJL4","v":0},{"$f":"TJO35*'Makro i swap'!TJM4","v":0},{"$f":"TJP35*'Makro i swap'!TJN4","v":0},{"$f":"TJQ35*'Makro i swap'!TJO4","v":0},{"$f":"TJR35*'Makro i swap'!TJP4","v":0},{"$f":"TJS35*'Makro i swap'!TJQ4","v":0},{"$f":"TJT35*'Makro i swap'!TJR4","v":0},{"$f":"TJU35*'Makro i swap'!TJS4","v":0},{"$f":"TJV35*'Makro i swap'!TJT4","v":0},{"$f":"TJW35*'Makro i swap'!TJU4","v":0},{"$f":"TJX35*'Makro i swap'!TJV4","v":0},{"$f":"TJY35*'Makro i swap'!TJW4","v":0},{"$f":"TJZ35*'Makro i swap'!TJX4","v":0},{"$f":"TKA35*'Makro i swap'!TJY4","v":0},{"$f":"TKB35*'Makro i swap'!TJZ4","v":0},{"$f":"TKC35*'Makro i swap'!TKA4","v":0},{"$f":"TKD35*'Makro i swap'!TKB4","v":0},{"$f":"TKE35*'Makro i swap'!TKC4","v":0},{"$f":"TKF35*'Makro i swap'!TKD4","v":0},{"$f":"TKG35*'Makro i swap'!TKE4","v":0},{"$f":"TKH35*'Makro i swap'!TKF4","v":0},{"$f":"TKI35*'Makro i swap'!TKG4","v":0},{"$f":"TKJ35*'Makro i swap'!TKH4","v":0},{"$f":"TKK35*'Makro i swap'!TKI4","v":0},{"$f":"TKL35*'Makro i swap'!TKJ4","v":0},{"$f":"TKM35*'Makro i swap'!TKK4","v":0},{"$f":"TKN35*'Makro i swap'!TKL4","v":0},{"$f":"TKO35*'Makro i swap'!TKM4","v":0},{"$f":"TKP35*'Makro i swap'!TKN4","v":0},{"$f":"TKQ35*'Makro i swap'!TKO4","v":0},{"$f":"TKR35*'Makro i swap'!TKP4","v":0},{"$f":"TKS35*'Makro i swap'!TKQ4","v":0},{"$f":"TKT35*'Makro i swap'!TKR4","v":0},{"$f":"TKU35*'Makro i swap'!TKS4","v":0},{"$f":"TKV35*'Makro i swap'!TKT4","v":0},{"$f":"TKW35*'Makro i swap'!TKU4","v":0},{"$f":"TKX35*'Makro i swap'!TKV4","v":0},{"$f":"TKY35*'Makro i swap'!TKW4","v":0},{"$f":"TKZ35*'Makro i swap'!TKX4","v":0},{"$f":"TLA35*'Makro i swap'!TKY4","v":0},{"$f":"TLB35*'Makro i swap'!TKZ4","v":0},{"$f":"TLC35*'Makro i swap'!TLA4","v":0},{"$f":"TLD35*'Makro i swap'!TLB4","v":0},{"$f":"TLE35*'Makro i swap'!TLC4","v":0},{"$f":"TLF35*'Makro i swap'!TLD4","v":0},{"$f":"TLG35*'Makro i swap'!TLE4","v":0},{"$f":"TLH35*'Makro i swap'!TLF4","v":0},{"$f":"TLI35*'Makro i swap'!TLG4","v":0},{"$f":"TLJ35*'Makro i swap'!TLH4","v":0},{"$f":"TLK35*'Makro i swap'!TLI4","v":0},{"$f":"TLL35*'Makro i swap'!TLJ4","v":0},{"$f":"TLM35*'Makro i swap'!TLK4","v":0},{"$f":"TLN35*'Makro i swap'!TLL4","v":0},{"$f":"TLO35*'Makro i swap'!TLM4","v":0},{"$f":"TLP35*'Makro i swap'!TLN4","v":0},{"$f":"TLQ35*'Makro i swap'!TLO4","v":0},{"$f":"TLR35*'Makro i swap'!TLP4","v":0},{"$f":"TLS35*'Makro i swap'!TLQ4","v":0},{"$f":"TLT35*'Makro i swap'!TLR4","v":0},{"$f":"TLU35*'Makro i swap'!TLS4","v":0},{"$f":"TLV35*'Makro i swap'!TLT4","v":0},{"$f":"TLW35*'Makro i swap'!TLU4","v":0},{"$f":"TLX35*'Makro i swap'!TLV4","v":0},{"$f":"TLY35*'Makro i swap'!TLW4","v":0},{"$f":"TLZ35*'Makro i swap'!TLX4","v":0},{"$f":"TMA35*'Makro i swap'!TLY4","v":0},{"$f":"TMB35*'Makro i swap'!TLZ4","v":0},{"$f":"TMC35*'Makro i swap'!TMA4","v":0},{"$f":"TMD35*'Makro i swap'!TMB4","v":0},{"$f":"TME35*'Makro i swap'!TMC4","v":0},{"$f":"TMF35*'Makro i swap'!TMD4","v":0},{"$f":"TMG35*'Makro i swap'!TME4","v":0},{"$f":"TMH35*'Makro i swap'!TMF4","v":0},{"$f":"TMI35*'Makro i swap'!TMG4","v":0},{"$f":"TMJ35*'Makro i swap'!TMH4","v":0},{"$f":"TMK35*'Makro i swap'!TMI4","v":0},{"$f":"TML35*'Makro i swap'!TMJ4","v":0},{"$f":"TMM35*'Makro i swap'!TMK4","v":0},{"$f":"TMN35*'Makro i swap'!TML4","v":0},{"$f":"TMO35*'Makro i swap'!TMM4","v":0},{"$f":"TMP35*'Makro i swap'!TMN4","v":0},{"$f":"TMQ35*'Makro i swap'!TMO4","v":0},{"$f":"TMR35*'Makro i swap'!TMP4","v":0},{"$f":"TMS35*'Makro i swap'!TMQ4","v":0},{"$f":"TMT35*'Makro i swap'!TMR4","v":0},{"$f":"TMU35*'Makro i swap'!TMS4","v":0},{"$f":"TMV35*'Makro i swap'!TMT4","v":0},{"$f":"TMW35*'Makro i swap'!TMU4","v":0},{"$f":"TMX35*'Makro i swap'!TMV4","v":0},{"$f":"TMY35*'Makro i swap'!TMW4","v":0},{"$f":"TMZ35*'Makro i swap'!TMX4","v":0},{"$f":"TNA35*'Makro i swap'!TMY4","v":0},{"$f":"TNB35*'Makro i swap'!TMZ4","v":0},{"$f":"TNC35*'Makro i swap'!TNA4","v":0},{"$f":"TND35*'Makro i swap'!TNB4","v":0},{"$f":"TNE35*'Makro i swap'!TNC4","v":0},{"$f":"TNF35*'Makro i swap'!TND4","v":0},{"$f":"TNG35*'Makro i swap'!TNE4","v":0},{"$f":"TNH35*'Makro i swap'!TNF4","v":0},{"$f":"TNI35*'Makro i swap'!TNG4","v":0},{"$f":"TNJ35*'Makro i swap'!TNH4","v":0},{"$f":"TNK35*'Makro i swap'!TNI4","v":0},{"$f":"TNL35*'Makro i swap'!TNJ4","v":0},{"$f":"TNM35*'Makro i swap'!TNK4","v":0},{"$f":"TNN35*'Makro i swap'!TNL4","v":0},{"$f":"TNO35*'Makro i swap'!TNM4","v":0},{"$f":"TNP35*'Makro i swap'!TNN4","v":0},{"$f":"TNQ35*'Makro i swap'!TNO4","v":0},{"$f":"TNR35*'Makro i swap'!TNP4","v":0},{"$f":"TNS35*'Makro i swap'!TNQ4","v":0},{"$f":"TNT35*'Makro i swap'!TNR4","v":0},{"$f":"TNU35*'Makro i swap'!TNS4","v":0},{"$f":"TNV35*'Makro i swap'!TNT4","v":0},{"$f":"TNW35*'Makro i swap'!TNU4","v":0},{"$f":"TNX35*'Makro i swap'!TNV4","v":0},{"$f":"TNY35*'Makro i swap'!TNW4","v":0},{"$f":"TNZ35*'Makro i swap'!TNX4","v":0},{"$f":"TOA35*'Makro i swap'!TNY4","v":0},{"$f":"TOB35*'Makro i swap'!TNZ4","v":0},{"$f":"TOC35*'Makro i swap'!TOA4","v":0},{"$f":"TOD35*'Makro i swap'!TOB4","v":0},{"$f":"TOE35*'Makro i swap'!TOC4","v":0},{"$f":"TOF35*'Makro i swap'!TOD4","v":0},{"$f":"TOG35*'Makro i swap'!TOE4","v":0},{"$f":"TOH35*'Makro i swap'!TOF4","v":0},{"$f":"TOI35*'Makro i swap'!TOG4","v":0},{"$f":"TOJ35*'Makro i swap'!TOH4","v":0},{"$f":"TOK35*'Makro i swap'!TOI4","v":0},{"$f":"TOL35*'Makro i swap'!TOJ4","v":0},{"$f":"TOM35*'Makro i swap'!TOK4","v":0},{"$f":"TON35*'Makro i swap'!TOL4","v":0},{"$f":"TOO35*'Makro i swap'!TOM4","v":0},{"$f":"TOP35*'Makro i swap'!TON4","v":0},{"$f":"TOQ35*'Makro i swap'!TOO4","v":0},{"$f":"TOR35*'Makro i swap'!TOP4","v":0},{"$f":"TOS35*'Makro i swap'!TOQ4","v":0},{"$f":"TOT35*'Makro i swap'!TOR4","v":0},{"$f":"TOU35*'Makro i swap'!TOS4","v":0},{"$f":"TOV35*'Makro i swap'!TOT4","v":0},{"$f":"TOW35*'Makro i swap'!TOU4","v":0},{"$f":"TOX35*'Makro i swap'!TOV4","v":0},{"$f":"TOY35*'Makro i swap'!TOW4","v":0},{"$f":"TOZ35*'Makro i swap'!TOX4","v":0},{"$f":"TPA35*'Makro i swap'!TOY4","v":0},{"$f":"TPB35*'Makro i swap'!TOZ4","v":0},{"$f":"TPC35*'Makro i swap'!TPA4","v":0},{"$f":"TPD35*'Makro i swap'!TPB4","v":0},{"$f":"TPE35*'Makro i swap'!TPC4","v":0},{"$f":"TPF35*'Makro i swap'!TPD4","v":0},{"$f":"TPG35*'Makro i swap'!TPE4","v":0},{"$f":"TPH35*'Makro i swap'!TPF4","v":0},{"$f":"TPI35*'Makro i swap'!TPG4","v":0},{"$f":"TPJ35*'Makro i swap'!TPH4","v":0},{"$f":"TPK35*'Makro i swap'!TPI4","v":0},{"$f":"TPL35*'Makro i swap'!TPJ4","v":0},{"$f":"TPM35*'Makro i swap'!TPK4","v":0},{"$f":"TPN35*'Makro i swap'!TPL4","v":0},{"$f":"TPO35*'Makro i swap'!TPM4","v":0},{"$f":"TPP35*'Makro i swap'!TPN4","v":0},{"$f":"TPQ35*'Makro i swap'!TPO4","v":0},{"$f":"TPR35*'Makro i swap'!TPP4","v":0},{"$f":"TPS35*'Makro i swap'!TPQ4","v":0},{"$f":"TPT35*'Makro i swap'!TPR4","v":0},{"$f":"TPU35*'Makro i swap'!TPS4","v":0},{"$f":"TPV35*'Makro i swap'!TPT4","v":0},{"$f":"TPW35*'Makro i swap'!TPU4","v":0},{"$f":"TPX35*'Makro i swap'!TPV4","v":0},{"$f":"TPY35*'Makro i swap'!TPW4","v":0},{"$f":"TPZ35*'Makro i swap'!TPX4","v":0},{"$f":"TQA35*'Makro i swap'!TPY4","v":0},{"$f":"TQB35*'Makro i swap'!TPZ4","v":0},{"$f":"TQC35*'Makro i swap'!TQA4","v":0},{"$f":"TQD35*'Makro i swap'!TQB4","v":0},{"$f":"TQE35*'Makro i swap'!TQC4","v":0},{"$f":"TQF35*'Makro i swap'!TQD4","v":0},{"$f":"TQG35*'Makro i swap'!TQE4","v":0},{"$f":"TQH35*'Makro i swap'!TQF4","v":0},{"$f":"TQI35*'Makro i swap'!TQG4","v":0},{"$f":"TQJ35*'Makro i swap'!TQH4","v":0},{"$f":"TQK35*'Makro i swap'!TQI4","v":0},{"$f":"TQL35*'Makro i swap'!TQJ4","v":0},{"$f":"TQM35*'Makro i swap'!TQK4","v":0},{"$f":"TQN35*'Makro i swap'!TQL4","v":0},{"$f":"TQO35*'Makro i swap'!TQM4","v":0},{"$f":"TQP35*'Makro i swap'!TQN4","v":0},{"$f":"TQQ35*'Makro i swap'!TQO4","v":0},{"$f":"TQR35*'Makro i swap'!TQP4","v":0},{"$f":"TQS35*'Makro i swap'!TQQ4","v":0},{"$f":"TQT35*'Makro i swap'!TQR4","v":0},{"$f":"TQU35*'Makro i swap'!TQS4","v":0},{"$f":"TQV35*'Makro i swap'!TQT4","v":0},{"$f":"TQW35*'Makro i swap'!TQU4","v":0},{"$f":"TQX35*'Makro i swap'!TQV4","v":0},{"$f":"TQY35*'Makro i swap'!TQW4","v":0},{"$f":"TQZ35*'Makro i swap'!TQX4","v":0},{"$f":"TRA35*'Makro i swap'!TQY4","v":0},{"$f":"TRB35*'Makro i swap'!TQZ4","v":0},{"$f":"TRC35*'Makro i swap'!TRA4","v":0},{"$f":"TRD35*'Makro i swap'!TRB4","v":0},{"$f":"TRE35*'Makro i swap'!TRC4","v":0},{"$f":"TRF35*'Makro i swap'!TRD4","v":0},{"$f":"TRG35*'Makro i swap'!TRE4","v":0},{"$f":"TRH35*'Makro i swap'!TRF4","v":0},{"$f":"TRI35*'Makro i swap'!TRG4","v":0},{"$f":"TRJ35*'Makro i swap'!TRH4","v":0},{"$f":"TRK35*'Makro i swap'!TRI4","v":0},{"$f":"TRL35*'Makro i swap'!TRJ4","v":0},{"$f":"TRM35*'Makro i swap'!TRK4","v":0},{"$f":"TRN35*'Makro i swap'!TRL4","v":0},{"$f":"TRO35*'Makro i swap'!TRM4","v":0},{"$f":"TRP35*'Makro i swap'!TRN4","v":0},{"$f":"TRQ35*'Makro i swap'!TRO4","v":0},{"$f":"TRR35*'Makro i swap'!TRP4","v":0},{"$f":"TRS35*'Makro i swap'!TRQ4","v":0},{"$f":"TRT35*'Makro i swap'!TRR4","v":0},{"$f":"TRU35*'Makro i swap'!TRS4","v":0},{"$f":"TRV35*'Makro i swap'!TRT4","v":0},{"$f":"TRW35*'Makro i swap'!TRU4","v":0},{"$f":"TRX35*'Makro i swap'!TRV4","v":0},{"$f":"TRY35*'Makro i swap'!TRW4","v":0},{"$f":"TRZ35*'Makro i swap'!TRX4","v":0},{"$f":"TSA35*'Makro i swap'!TRY4","v":0},{"$f":"TSB35*'Makro i swap'!TRZ4","v":0},{"$f":"TSC35*'Makro i swap'!TSA4","v":0},{"$f":"TSD35*'Makro i swap'!TSB4","v":0},{"$f":"TSE35*'Makro i swap'!TSC4","v":0},{"$f":"TSF35*'Makro i swap'!TSD4","v":0},{"$f":"TSG35*'Makro i swap'!TSE4","v":0},{"$f":"TSH35*'Makro i swap'!TSF4","v":0},{"$f":"TSI35*'Makro i swap'!TSG4","v":0},{"$f":"TSJ35*'Makro i swap'!TSH4","v":0},{"$f":"TSK35*'Makro i swap'!TSI4","v":0},{"$f":"TSL35*'Makro i swap'!TSJ4","v":0},{"$f":"TSM35*'Makro i swap'!TSK4","v":0},{"$f":"TSN35*'Makro i swap'!TSL4","v":0},{"$f":"TSO35*'Makro i swap'!TSM4","v":0},{"$f":"TSP35*'Makro i swap'!TSN4","v":0},{"$f":"TSQ35*'Makro i swap'!TSO4","v":0},{"$f":"TSR35*'Makro i swap'!TSP4","v":0},{"$f":"TSS35*'Makro i swap'!TSQ4","v":0},{"$f":"TST35*'Makro i swap'!TSR4","v":0},{"$f":"TSU35*'Makro i swap'!TSS4","v":0},{"$f":"TSV35*'Makro i swap'!TST4","v":0},{"$f":"TSW35*'Makro i swap'!TSU4","v":0},{"$f":"TSX35*'Makro i swap'!TSV4","v":0},{"$f":"TSY35*'Makro i swap'!TSW4","v":0},{"$f":"TSZ35*'Makro i swap'!TSX4","v":0},{"$f":"TTA35*'Makro i swap'!TSY4","v":0},{"$f":"TTB35*'Makro i swap'!TSZ4","v":0},{"$f":"TTC35*'Makro i swap'!TTA4","v":0},{"$f":"TTD35*'Makro i swap'!TTB4","v":0},{"$f":"TTE35*'Makro i swap'!TTC4","v":0},{"$f":"TTF35*'Makro i swap'!TTD4","v":0},{"$f":"TTG35*'Makro i swap'!TTE4","v":0},{"$f":"TTH35*'Makro i swap'!TTF4","v":0},{"$f":"TTI35*'Makro i swap'!TTG4","v":0},{"$f":"TTJ35*'Makro i swap'!TTH4","v":0},{"$f":"TTK35*'Makro i swap'!TTI4","v":0},{"$f":"TTL35*'Makro i swap'!TTJ4","v":0},{"$f":"TTM35*'Makro i swap'!TTK4","v":0},{"$f":"TTN35*'Makro i swap'!TTL4","v":0},{"$f":"TTO35*'Makro i swap'!TTM4","v":0},{"$f":"TTP35*'Makro i swap'!TTN4","v":0},{"$f":"TTQ35*'Makro i swap'!TTO4","v":0},{"$f":"TTR35*'Makro i swap'!TTP4","v":0},{"$f":"TTS35*'Makro i swap'!TTQ4","v":0},{"$f":"TTT35*'Makro i swap'!TTR4","v":0},{"$f":"TTU35*'Makro i swap'!TTS4","v":0},{"$f":"TTV35*'Makro i swap'!TTT4","v":0},{"$f":"TTW35*'Makro i swap'!TTU4","v":0},{"$f":"TTX35*'Makro i swap'!TTV4","v":0},{"$f":"TTY35*'Makro i swap'!TTW4","v":0},{"$f":"TTZ35*'Makro i swap'!TTX4","v":0},{"$f":"TUA35*'Makro i swap'!TTY4","v":0},{"$f":"TUB35*'Makro i swap'!TTZ4","v":0},{"$f":"TUC35*'Makro i swap'!TUA4","v":0},{"$f":"TUD35*'Makro i swap'!TUB4","v":0},{"$f":"TUE35*'Makro i swap'!TUC4","v":0},{"$f":"TUF35*'Makro i swap'!TUD4","v":0},{"$f":"TUG35*'Makro i swap'!TUE4","v":0},{"$f":"TUH35*'Makro i swap'!TUF4","v":0},{"$f":"TUI35*'Makro i swap'!TUG4","v":0},{"$f":"TUJ35*'Makro i swap'!TUH4","v":0},{"$f":"TUK35*'Makro i swap'!TUI4","v":0},{"$f":"TUL35*'Makro i swap'!TUJ4","v":0},{"$f":"TUM35*'Makro i swap'!TUK4","v":0},{"$f":"TUN35*'Makro i swap'!TUL4","v":0},{"$f":"TUO35*'Makro i swap'!TUM4","v":0},{"$f":"TUP35*'Makro i swap'!TUN4","v":0},{"$f":"TUQ35*'Makro i swap'!TUO4","v":0},{"$f":"TUR35*'Makro i swap'!TUP4","v":0},{"$f":"TUS35*'Makro i swap'!TUQ4","v":0},{"$f":"TUT35*'Makro i swap'!TUR4","v":0},{"$f":"TUU35*'Makro i swap'!TUS4","v":0},{"$f":"TUV35*'Makro i swap'!TUT4","v":0},{"$f":"TUW35*'Makro i swap'!TUU4","v":0},{"$f":"TUX35*'Makro i swap'!TUV4","v":0},{"$f":"TUY35*'Makro i swap'!TUW4","v":0},{"$f":"TUZ35*'Makro i swap'!TUX4","v":0},{"$f":"TVA35*'Makro i swap'!TUY4","v":0},{"$f":"TVB35*'Makro i swap'!TUZ4","v":0},{"$f":"TVC35*'Makro i swap'!TVA4","v":0},{"$f":"TVD35*'Makro i swap'!TVB4","v":0},{"$f":"TVE35*'Makro i swap'!TVC4","v":0},{"$f":"TVF35*'Makro i swap'!TVD4","v":0},{"$f":"TVG35*'Makro i swap'!TVE4","v":0},{"$f":"TVH35*'Makro i swap'!TVF4","v":0},{"$f":"TVI35*'Makro i swap'!TVG4","v":0},{"$f":"TVJ35*'Makro i swap'!TVH4","v":0},{"$f":"TVK35*'Makro i swap'!TVI4","v":0},{"$f":"TVL35*'Makro i swap'!TVJ4","v":0},{"$f":"TVM35*'Makro i swap'!TVK4","v":0},{"$f":"TVN35*'Makro i swap'!TVL4","v":0},{"$f":"TVO35*'Makro i swap'!TVM4","v":0},{"$f":"TVP35*'Makro i swap'!TVN4","v":0},{"$f":"TVQ35*'Makro i swap'!TVO4","v":0},{"$f":"TVR35*'Makro i swap'!TVP4","v":0},{"$f":"TVS35*'Makro i swap'!TVQ4","v":0},{"$f":"TVT35*'Makro i swap'!TVR4","v":0},{"$f":"TVU35*'Makro i swap'!TVS4","v":0},{"$f":"TVV35*'Makro i swap'!TVT4","v":0},{"$f":"TVW35*'Makro i swap'!TVU4","v":0},{"$f":"TVX35*'Makro i swap'!TVV4","v":0},{"$f":"TVY35*'Makro i swap'!TVW4","v":0},{"$f":"TVZ35*'Makro i swap'!TVX4","v":0},{"$f":"TWA35*'Makro i swap'!TVY4","v":0},{"$f":"TWB35*'Makro i swap'!TVZ4","v":0},{"$f":"TWC35*'Makro i swap'!TWA4","v":0},{"$f":"TWD35*'Makro i swap'!TWB4","v":0},{"$f":"TWE35*'Makro i swap'!TWC4","v":0},{"$f":"TWF35*'Makro i swap'!TWD4","v":0},{"$f":"TWG35*'Makro i swap'!TWE4","v":0},{"$f":"TWH35*'Makro i swap'!TWF4","v":0},{"$f":"TWI35*'Makro i swap'!TWG4","v":0},{"$f":"TWJ35*'Makro i swap'!TWH4","v":0},{"$f":"TWK35*'Makro i swap'!TWI4","v":0},{"$f":"TWL35*'Makro i swap'!TWJ4","v":0},{"$f":"TWM35*'Makro i swap'!TWK4","v":0},{"$f":"TWN35*'Makro i swap'!TWL4","v":0},{"$f":"TWO35*'Makro i swap'!TWM4","v":0},{"$f":"TWP35*'Makro i swap'!TWN4","v":0},{"$f":"TWQ35*'Makro i swap'!TWO4","v":0},{"$f":"TWR35*'Makro i swap'!TWP4","v":0},{"$f":"TWS35*'Makro i swap'!TWQ4","v":0},{"$f":"TWT35*'Makro i swap'!TWR4","v":0},{"$f":"TWU35*'Makro i swap'!TWS4","v":0},{"$f":"TWV35*'Makro i swap'!TWT4","v":0},{"$f":"TWW35*'Makro i swap'!TWU4","v":0},{"$f":"TWX35*'Makro i swap'!TWV4","v":0},{"$f":"TWY35*'Makro i swap'!TWW4","v":0},{"$f":"TWZ35*'Makro i swap'!TWX4","v":0},{"$f":"TXA35*'Makro i swap'!TWY4","v":0},{"$f":"TXB35*'Makro i swap'!TWZ4","v":0},{"$f":"TXC35*'Makro i swap'!TXA4","v":0},{"$f":"TXD35*'Makro i swap'!TXB4","v":0},{"$f":"TXE35*'Makro i swap'!TXC4","v":0},{"$f":"TXF35*'Makro i swap'!TXD4","v":0},{"$f":"TXG35*'Makro i swap'!TXE4","v":0},{"$f":"TXH35*'Makro i swap'!TXF4","v":0},{"$f":"TXI35*'Makro i swap'!TXG4","v":0},{"$f":"TXJ35*'Makro i swap'!TXH4","v":0},{"$f":"TXK35*'Makro i swap'!TXI4","v":0},{"$f":"TXL35*'Makro i swap'!TXJ4","v":0},{"$f":"TXM35*'Makro i swap'!TXK4","v":0},{"$f":"TXN35*'Makro i swap'!TXL4","v":0},{"$f":"TXO35*'Makro i swap'!TXM4","v":0},{"$f":"TXP35*'Makro i swap'!TXN4","v":0},{"$f":"TXQ35*'Makro i swap'!TXO4","v":0},{"$f":"TXR35*'Makro i swap'!TXP4","v":0},{"$f":"TXS35*'Makro i swap'!TXQ4","v":0},{"$f":"TXT35*'Makro i swap'!TXR4","v":0},{"$f":"TXU35*'Makro i swap'!TXS4","v":0},{"$f":"TXV35*'Makro i swap'!TXT4","v":0},{"$f":"TXW35*'Makro i swap'!TXU4","v":0},{"$f":"TXX35*'Makro i swap'!TXV4","v":0},{"$f":"TXY35*'Makro i swap'!TXW4","v":0},{"$f":"TXZ35*'Makro i swap'!TXX4","v":0},{"$f":"TYA35*'Makro i swap'!TXY4","v":0},{"$f":"TYB35*'Makro i swap'!TXZ4","v":0},{"$f":"TYC35*'Makro i swap'!TYA4","v":0},{"$f":"TYD35*'Makro i swap'!TYB4","v":0},{"$f":"TYE35*'Makro i swap'!TYC4","v":0},{"$f":"TYF35*'Makro i swap'!TYD4","v":0},{"$f":"TYG35*'Makro i swap'!TYE4","v":0},{"$f":"TYH35*'Makro i swap'!TYF4","v":0},{"$f":"TYI35*'Makro i swap'!TYG4","v":0},{"$f":"TYJ35*'Makro i swap'!TYH4","v":0},{"$f":"TYK35*'Makro i swap'!TYI4","v":0},{"$f":"TYL35*'Makro i swap'!TYJ4","v":0},{"$f":"TYM35*'Makro i swap'!TYK4","v":0},{"$f":"TYN35*'Makro i swap'!TYL4","v":0},{"$f":"TYO35*'Makro i swap'!TYM4","v":0},{"$f":"TYP35*'Makro i swap'!TYN4","v":0},{"$f":"TYQ35*'Makro i swap'!TYO4","v":0},{"$f":"TYR35*'Makro i swap'!TYP4","v":0},{"$f":"TYS35*'Makro i swap'!TYQ4","v":0},{"$f":"TYT35*'Makro i swap'!TYR4","v":0},{"$f":"TYU35*'Makro i swap'!TYS4","v":0},{"$f":"TYV35*'Makro i swap'!TYT4","v":0},{"$f":"TYW35*'Makro i swap'!TYU4","v":0},{"$f":"TYX35*'Makro i swap'!TYV4","v":0},{"$f":"TYY35*'Makro i swap'!TYW4","v":0},{"$f":"TYZ35*'Makro i swap'!TYX4","v":0},{"$f":"TZA35*'Makro i swap'!TYY4","v":0},{"$f":"TZB35*'Makro i swap'!TYZ4","v":0},{"$f":"TZC35*'Makro i swap'!TZA4","v":0},{"$f":"TZD35*'Makro i swap'!TZB4","v":0},{"$f":"TZE35*'Makro i swap'!TZC4","v":0},{"$f":"TZF35*'Makro i swap'!TZD4","v":0},{"$f":"TZG35*'Makro i swap'!TZE4","v":0},{"$f":"TZH35*'Makro i swap'!TZF4","v":0},{"$f":"TZI35*'Makro i swap'!TZG4","v":0},{"$f":"TZJ35*'Makro i swap'!TZH4","v":0},{"$f":"TZK35*'Makro i swap'!TZI4","v":0},{"$f":"TZL35*'Makro i swap'!TZJ4","v":0},{"$f":"TZM35*'Makro i swap'!TZK4","v":0},{"$f":"TZN35*'Makro i swap'!TZL4","v":0},{"$f":"TZO35*'Makro i swap'!TZM4","v":0},{"$f":"TZP35*'Makro i swap'!TZN4","v":0},{"$f":"TZQ35*'Makro i swap'!TZO4","v":0},{"$f":"TZR35*'Makro i swap'!TZP4","v":0},{"$f":"TZS35*'Makro i swap'!TZQ4","v":0},{"$f":"TZT35*'Makro i swap'!TZR4","v":0},{"$f":"TZU35*'Makro i swap'!TZS4","v":0},{"$f":"TZV35*'Makro i swap'!TZT4","v":0},{"$f":"TZW35*'Makro i swap'!TZU4","v":0},{"$f":"TZX35*'Makro i swap'!TZV4","v":0},{"$f":"TZY35*'Makro i swap'!TZW4","v":0},{"$f":"TZZ35*'Makro i swap'!TZX4","v":0},{"$f":"UAA35*'Makro i swap'!TZY4","v":0},{"$f":"UAB35*'Makro i swap'!TZZ4","v":0},{"$f":"UAC35*'Makro i swap'!UAA4","v":0},{"$f":"UAD35*'Makro i swap'!UAB4","v":0},{"$f":"UAE35*'Makro i swap'!UAC4","v":0},{"$f":"UAF35*'Makro i swap'!UAD4","v":0},{"$f":"UAG35*'Makro i swap'!UAE4","v":0},{"$f":"UAH35*'Makro i swap'!UAF4","v":0},{"$f":"UAI35*'Makro i swap'!UAG4","v":0},{"$f":"UAJ35*'Makro i swap'!UAH4","v":0},{"$f":"UAK35*'Makro i swap'!UAI4","v":0},{"$f":"UAL35*'Makro i swap'!UAJ4","v":0},{"$f":"UAM35*'Makro i swap'!UAK4","v":0},{"$f":"UAN35*'Makro i swap'!UAL4","v":0},{"$f":"UAO35*'Makro i swap'!UAM4","v":0},{"$f":"UAP35*'Makro i swap'!UAN4","v":0},{"$f":"UAQ35*'Makro i swap'!UAO4","v":0},{"$f":"UAR35*'Makro i swap'!UAP4","v":0},{"$f":"UAS35*'Makro i swap'!UAQ4","v":0},{"$f":"UAT35*'Makro i swap'!UAR4","v":0},{"$f":"UAU35*'Makro i swap'!UAS4","v":0},{"$f":"UAV35*'Makro i swap'!UAT4","v":0},{"$f":"UAW35*'Makro i swap'!UAU4","v":0},{"$f":"UAX35*'Makro i swap'!UAV4","v":0},{"$f":"UAY35*'Makro i swap'!UAW4","v":0},{"$f":"UAZ35*'Makro i swap'!UAX4","v":0},{"$f":"UBA35*'Makro i swap'!UAY4","v":0},{"$f":"UBB35*'Makro i swap'!UAZ4","v":0},{"$f":"UBC35*'Makro i swap'!UBA4","v":0},{"$f":"UBD35*'Makro i swap'!UBB4","v":0},{"$f":"UBE35*'Makro i swap'!UBC4","v":0},{"$f":"UBF35*'Makro i swap'!UBD4","v":0},{"$f":"UBG35*'Makro i swap'!UBE4","v":0},{"$f":"UBH35*'Makro i swap'!UBF4","v":0},{"$f":"UBI35*'Makro i swap'!UBG4","v":0},{"$f":"UBJ35*'Makro i swap'!UBH4","v":0},{"$f":"UBK35*'Makro i swap'!UBI4","v":0},{"$f":"UBL35*'Makro i swap'!UBJ4","v":0},{"$f":"UBM35*'Makro i swap'!UBK4","v":0},{"$f":"UBN35*'Makro i swap'!UBL4","v":0},{"$f":"UBO35*'Makro i swap'!UBM4","v":0},{"$f":"UBP35*'Makro i swap'!UBN4","v":0},{"$f":"UBQ35*'Makro i swap'!UBO4","v":0},{"$f":"UBR35*'Makro i swap'!UBP4","v":0},{"$f":"UBS35*'Makro i swap'!UBQ4","v":0},{"$f":"UBT35*'Makro i swap'!UBR4","v":0},{"$f":"UBU35*'Makro i swap'!UBS4","v":0},{"$f":"UBV35*'Makro i swap'!UBT4","v":0},{"$f":"UBW35*'Makro i swap'!UBU4","v":0},{"$f":"UBX35*'Makro i swap'!UBV4","v":0},{"$f":"UBY35*'Makro i swap'!UBW4","v":0},{"$f":"UBZ35*'Makro i swap'!UBX4","v":0},{"$f":"UCA35*'Makro i swap'!UBY4","v":0},{"$f":"UCB35*'Makro i swap'!UBZ4","v":0},{"$f":"UCC35*'Makro i swap'!UCA4","v":0},{"$f":"UCD35*'Makro i swap'!UCB4","v":0},{"$f":"UCE35*'Makro i swap'!UCC4","v":0},{"$f":"UCF35*'Makro i swap'!UCD4","v":0},{"$f":"UCG35*'Makro i swap'!UCE4","v":0},{"$f":"UCH35*'Makro i swap'!UCF4","v":0},{"$f":"UCI35*'Makro i swap'!UCG4","v":0},{"$f":"UCJ35*'Makro i swap'!UCH4","v":0},{"$f":"UCK35*'Makro i swap'!UCI4","v":0},{"$f":"UCL35*'Makro i swap'!UCJ4","v":0},{"$f":"UCM35*'Makro i swap'!UCK4","v":0},{"$f":"UCN35*'Makro i swap'!UCL4","v":0},{"$f":"UCO35*'Makro i swap'!UCM4","v":0},{"$f":"UCP35*'Makro i swap'!UCN4","v":0},{"$f":"UCQ35*'Makro i swap'!UCO4","v":0},{"$f":"UCR35*'Makro i swap'!UCP4","v":0},{"$f":"UCS35*'Makro i swap'!UCQ4","v":0},{"$f":"UCT35*'Makro i swap'!UCR4","v":0},{"$f":"UCU35*'Makro i swap'!UCS4","v":0},{"$f":"UCV35*'Makro i swap'!UCT4","v":0},{"$f":"UCW35*'Makro i swap'!UCU4","v":0},{"$f":"UCX35*'Makro i swap'!UCV4","v":0},{"$f":"UCY35*'Makro i swap'!UCW4","v":0},{"$f":"UCZ35*'Makro i swap'!UCX4","v":0},{"$f":"UDA35*'Makro i swap'!UCY4","v":0},{"$f":"UDB35*'Makro i swap'!UCZ4","v":0},{"$f":"UDC35*'Makro i swap'!UDA4","v":0},{"$f":"UDD35*'Makro i swap'!UDB4","v":0},{"$f":"UDE35*'Makro i swap'!UDC4","v":0},{"$f":"UDF35*'Makro i swap'!UDD4","v":0},{"$f":"UDG35*'Makro i swap'!UDE4","v":0},{"$f":"UDH35*'Makro i swap'!UDF4","v":0},{"$f":"UDI35*'Makro i swap'!UDG4","v":0},{"$f":"UDJ35*'Makro i swap'!UDH4","v":0},{"$f":"UDK35*'Makro i swap'!UDI4","v":0},{"$f":"UDL35*'Makro i swap'!UDJ4","v":0},{"$f":"UDM35*'Makro i swap'!UDK4","v":0},{"$f":"UDN35*'Makro i swap'!UDL4","v":0},{"$f":"UDO35*'Makro i swap'!UDM4","v":0},{"$f":"UDP35*'Makro i swap'!UDN4","v":0},{"$f":"UDQ35*'Makro i swap'!UDO4","v":0},{"$f":"UDR35*'Makro i swap'!UDP4","v":0},{"$f":"UDS35*'Makro i swap'!UDQ4","v":0},{"$f":"UDT35*'Makro i swap'!UDR4","v":0},{"$f":"UDU35*'Makro i swap'!UDS4","v":0},{"$f":"UDV35*'Makro i swap'!UDT4","v":0},{"$f":"UDW35*'Makro i swap'!UDU4","v":0},{"$f":"UDX35*'Makro i swap'!UDV4","v":0},{"$f":"UDY35*'Makro i swap'!UDW4","v":0},{"$f":"UDZ35*'Makro i swap'!UDX4","v":0},{"$f":"UEA35*'Makro i swap'!UDY4","v":0},{"$f":"UEB35*'Makro i swap'!UDZ4","v":0},{"$f":"UEC35*'Makro i swap'!UEA4","v":0},{"$f":"UED35*'Makro i swap'!UEB4","v":0},{"$f":"UEE35*'Makro i swap'!UEC4","v":0},{"$f":"UEF35*'Makro i swap'!UED4","v":0},{"$f":"UEG35*'Makro i swap'!UEE4","v":0},{"$f":"UEH35*'Makro i swap'!UEF4","v":0},{"$f":"UEI35*'Makro i swap'!UEG4","v":0},{"$f":"UEJ35*'Makro i swap'!UEH4","v":0},{"$f":"UEK35*'Makro i swap'!UEI4","v":0},{"$f":"UEL35*'Makro i swap'!UEJ4","v":0},{"$f":"UEM35*'Makro i swap'!UEK4","v":0},{"$f":"UEN35*'Makro i swap'!UEL4","v":0},{"$f":"UEO35*'Makro i swap'!UEM4","v":0},{"$f":"UEP35*'Makro i swap'!UEN4","v":0},{"$f":"UEQ35*'Makro i swap'!UEO4","v":0},{"$f":"UER35*'Makro i swap'!UEP4","v":0},{"$f":"UES35*'Makro i swap'!UEQ4","v":0},{"$f":"UET35*'Makro i swap'!UER4","v":0},{"$f":"UEU35*'Makro i swap'!UES4","v":0},{"$f":"UEV35*'Makro i swap'!UET4","v":0},{"$f":"UEW35*'Makro i swap'!UEU4","v":0},{"$f":"UEX35*'Makro i swap'!UEV4","v":0},{"$f":"UEY35*'Makro i swap'!UEW4","v":0},{"$f":"UEZ35*'Makro i swap'!UEX4","v":0},{"$f":"UFA35*'Makro i swap'!UEY4","v":0},{"$f":"UFB35*'Makro i swap'!UEZ4","v":0},{"$f":"UFC35*'Makro i swap'!UFA4","v":0},{"$f":"UFD35*'Makro i swap'!UFB4","v":0},{"$f":"UFE35*'Makro i swap'!UFC4","v":0},{"$f":"UFF35*'Makro i swap'!UFD4","v":0},{"$f":"UFG35*'Makro i swap'!UFE4","v":0},{"$f":"UFH35*'Makro i swap'!UFF4","v":0},{"$f":"UFI35*'Makro i swap'!UFG4","v":0},{"$f":"UFJ35*'Makro i swap'!UFH4","v":0},{"$f":"UFK35*'Makro i swap'!UFI4","v":0},{"$f":"UFL35*'Makro i swap'!UFJ4","v":0},{"$f":"UFM35*'Makro i swap'!UFK4","v":0},{"$f":"UFN35*'Makro i swap'!UFL4","v":0},{"$f":"UFO35*'Makro i swap'!UFM4","v":0},{"$f":"UFP35*'Makro i swap'!UFN4","v":0},{"$f":"UFQ35*'Makro i swap'!UFO4","v":0},{"$f":"UFR35*'Makro i swap'!UFP4","v":0},{"$f":"UFS35*'Makro i swap'!UFQ4","v":0},{"$f":"UFT35*'Makro i swap'!UFR4","v":0},{"$f":"UFU35*'Makro i swap'!UFS4","v":0},{"$f":"UFV35*'Makro i swap'!UFT4","v":0},{"$f":"UFW35*'Makro i swap'!UFU4","v":0},{"$f":"UFX35*'Makro i swap'!UFV4","v":0},{"$f":"UFY35*'Makro i swap'!UFW4","v":0},{"$f":"UFZ35*'Makro i swap'!UFX4","v":0},{"$f":"UGA35*'Makro i swap'!UFY4","v":0},{"$f":"UGB35*'Makro i swap'!UFZ4","v":0},{"$f":"UGC35*'Makro i swap'!UGA4","v":0},{"$f":"UGD35*'Makro i swap'!UGB4","v":0},{"$f":"UGE35*'Makro i swap'!UGC4","v":0},{"$f":"UGF35*'Makro i swap'!UGD4","v":0},{"$f":"UGG35*'Makro i swap'!UGE4","v":0},{"$f":"UGH35*'Makro i swap'!UGF4","v":0},{"$f":"UGI35*'Makro i swap'!UGG4","v":0},{"$f":"UGJ35*'Makro i swap'!UGH4","v":0},{"$f":"UGK35*'Makro i swap'!UGI4","v":0},{"$f":"UGL35*'Makro i swap'!UGJ4","v":0},{"$f":"UGM35*'Makro i swap'!UGK4","v":0},{"$f":"UGN35*'Makro i swap'!UGL4","v":0},{"$f":"UGO35*'Makro i swap'!UGM4","v":0},{"$f":"UGP35*'Makro i swap'!UGN4","v":0},{"$f":"UGQ35*'Makro i swap'!UGO4","v":0},{"$f":"UGR35*'Makro i swap'!UGP4","v":0},{"$f":"UGS35*'Makro i swap'!UGQ4","v":0},{"$f":"UGT35*'Makro i swap'!UGR4","v":0},{"$f":"UGU35*'Makro i swap'!UGS4","v":0},{"$f":"UGV35*'Makro i swap'!UGT4","v":0},{"$f":"UGW35*'Makro i swap'!UGU4","v":0},{"$f":"UGX35*'Makro i swap'!UGV4","v":0},{"$f":"UGY35*'Makro i swap'!UGW4","v":0},{"$f":"UGZ35*'Makro i swap'!UGX4","v":0},{"$f":"UHA35*'Makro i swap'!UGY4","v":0},{"$f":"UHB35*'Makro i swap'!UGZ4","v":0},{"$f":"UHC35*'Makro i swap'!UHA4","v":0},{"$f":"UHD35*'Makro i swap'!UHB4","v":0},{"$f":"UHE35*'Makro i swap'!UHC4","v":0},{"$f":"UHF35*'Makro i swap'!UHD4","v":0},{"$f":"UHG35*'Makro i swap'!UHE4","v":0},{"$f":"UHH35*'Makro i swap'!UHF4","v":0},{"$f":"UHI35*'Makro i swap'!UHG4","v":0},{"$f":"UHJ35*'Makro i swap'!UHH4","v":0},{"$f":"UHK35*'Makro i swap'!UHI4","v":0},{"$f":"UHL35*'Makro i swap'!UHJ4","v":0},{"$f":"UHM35*'Makro i swap'!UHK4","v":0},{"$f":"UHN35*'Makro i swap'!UHL4","v":0},{"$f":"UHO35*'Makro i swap'!UHM4","v":0},{"$f":"UHP35*'Makro i swap'!UHN4","v":0},{"$f":"UHQ35*'Makro i swap'!UHO4","v":0},{"$f":"UHR35*'Makro i swap'!UHP4","v":0},{"$f":"UHS35*'Makro i swap'!UHQ4","v":0},{"$f":"UHT35*'Makro i swap'!UHR4","v":0},{"$f":"UHU35*'Makro i swap'!UHS4","v":0},{"$f":"UHV35*'Makro i swap'!UHT4","v":0},{"$f":"UHW35*'Makro i swap'!UHU4","v":0},{"$f":"UHX35*'Makro i swap'!UHV4","v":0},{"$f":"UHY35*'Makro i swap'!UHW4","v":0},{"$f":"UHZ35*'Makro i swap'!UHX4","v":0},{"$f":"UIA35*'Makro i swap'!UHY4","v":0},{"$f":"UIB35*'Makro i swap'!UHZ4","v":0},{"$f":"UIC35*'Makro i swap'!UIA4","v":0},{"$f":"UID35*'Makro i swap'!UIB4","v":0},{"$f":"UIE35*'Makro i swap'!UIC4","v":0},{"$f":"UIF35*'Makro i swap'!UID4","v":0},{"$f":"UIG35*'Makro i swap'!UIE4","v":0},{"$f":"UIH35*'Makro i swap'!UIF4","v":0},{"$f":"UII35*'Makro i swap'!UIG4","v":0},{"$f":"UIJ35*'Makro i swap'!UIH4","v":0},{"$f":"UIK35*'Makro i swap'!UII4","v":0},{"$f":"UIL35*'Makro i swap'!UIJ4","v":0},{"$f":"UIM35*'Makro i swap'!UIK4","v":0},{"$f":"UIN35*'Makro i swap'!UIL4","v":0},{"$f":"UIO35*'Makro i swap'!UIM4","v":0},{"$f":"UIP35*'Makro i swap'!UIN4","v":0},{"$f":"UIQ35*'Makro i swap'!UIO4","v":0},{"$f":"UIR35*'Makro i swap'!UIP4","v":0},{"$f":"UIS35*'Makro i swap'!UIQ4","v":0},{"$f":"UIT35*'Makro i swap'!UIR4","v":0},{"$f":"UIU35*'Makro i swap'!UIS4","v":0},{"$f":"UIV35*'Makro i swap'!UIT4","v":0},{"$f":"UIW35*'Makro i swap'!UIU4","v":0},{"$f":"UIX35*'Makro i swap'!UIV4","v":0},{"$f":"UIY35*'Makro i swap'!UIW4","v":0},{"$f":"UIZ35*'Makro i swap'!UIX4","v":0},{"$f":"UJA35*'Makro i swap'!UIY4","v":0},{"$f":"UJB35*'Makro i swap'!UIZ4","v":0},{"$f":"UJC35*'Makro i swap'!UJA4","v":0},{"$f":"UJD35*'Makro i swap'!UJB4","v":0},{"$f":"UJE35*'Makro i swap'!UJC4","v":0},{"$f":"UJF35*'Makro i swap'!UJD4","v":0},{"$f":"UJG35*'Makro i swap'!UJE4","v":0},{"$f":"UJH35*'Makro i swap'!UJF4","v":0},{"$f":"UJI35*'Makro i swap'!UJG4","v":0},{"$f":"UJJ35*'Makro i swap'!UJH4","v":0},{"$f":"UJK35*'Makro i swap'!UJI4","v":0},{"$f":"UJL35*'Makro i swap'!UJJ4","v":0},{"$f":"UJM35*'Makro i swap'!UJK4","v":0},{"$f":"UJN35*'Makro i swap'!UJL4","v":0},{"$f":"UJO35*'Makro i swap'!UJM4","v":0},{"$f":"UJP35*'Makro i swap'!UJN4","v":0},{"$f":"UJQ35*'Makro i swap'!UJO4","v":0},{"$f":"UJR35*'Makro i swap'!UJP4","v":0},{"$f":"UJS35*'Makro i swap'!UJQ4","v":0},{"$f":"UJT35*'Makro i swap'!UJR4","v":0},{"$f":"UJU35*'Makro i swap'!UJS4","v":0},{"$f":"UJV35*'Makro i swap'!UJT4","v":0},{"$f":"UJW35*'Makro i swap'!UJU4","v":0},{"$f":"UJX35*'Makro i swap'!UJV4","v":0},{"$f":"UJY35*'Makro i swap'!UJW4","v":0},{"$f":"UJZ35*'Makro i swap'!UJX4","v":0},{"$f":"UKA35*'Makro i swap'!UJY4","v":0},{"$f":"UKB35*'Makro i swap'!UJZ4","v":0},{"$f":"UKC35*'Makro i swap'!UKA4","v":0},{"$f":"UKD35*'Makro i swap'!UKB4","v":0},{"$f":"UKE35*'Makro i swap'!UKC4","v":0},{"$f":"UKF35*'Makro i swap'!UKD4","v":0},{"$f":"UKG35*'Makro i swap'!UKE4","v":0},{"$f":"UKH35*'Makro i swap'!UKF4","v":0},{"$f":"UKI35*'Makro i swap'!UKG4","v":0},{"$f":"UKJ35*'Makro i swap'!UKH4","v":0},{"$f":"UKK35*'Makro i swap'!UKI4","v":0},{"$f":"UKL35*'Makro i swap'!UKJ4","v":0},{"$f":"UKM35*'Makro i swap'!UKK4","v":0},{"$f":"UKN35*'Makro i swap'!UKL4","v":0},{"$f":"UKO35*'Makro i swap'!UKM4","v":0},{"$f":"UKP35*'Makro i swap'!UKN4","v":0},{"$f":"UKQ35*'Makro i swap'!UKO4","v":0},{"$f":"UKR35*'Makro i swap'!UKP4","v":0},{"$f":"UKS35*'Makro i swap'!UKQ4","v":0},{"$f":"UKT35*'Makro i swap'!UKR4","v":0},{"$f":"UKU35*'Makro i swap'!UKS4","v":0},{"$f":"UKV35*'Makro i swap'!UKT4","v":0},{"$f":"UKW35*'Makro i swap'!UKU4","v":0},{"$f":"UKX35*'Makro i swap'!UKV4","v":0},{"$f":"UKY35*'Makro i swap'!UKW4","v":0},{"$f":"UKZ35*'Makro i swap'!UKX4","v":0},{"$f":"ULA35*'Makro i swap'!UKY4","v":0},{"$f":"ULB35*'Makro i swap'!UKZ4","v":0},{"$f":"ULC35*'Makro i swap'!ULA4","v":0},{"$f":"ULD35*'Makro i swap'!ULB4","v":0},{"$f":"ULE35*'Makro i swap'!ULC4","v":0},{"$f":"ULF35*'Makro i swap'!ULD4","v":0},{"$f":"ULG35*'Makro i swap'!ULE4","v":0},{"$f":"ULH35*'Makro i swap'!ULF4","v":0},{"$f":"ULI35*'Makro i swap'!ULG4","v":0},{"$f":"ULJ35*'Makro i swap'!ULH4","v":0},{"$f":"ULK35*'Makro i swap'!ULI4","v":0},{"$f":"ULL35*'Makro i swap'!ULJ4","v":0},{"$f":"ULM35*'Makro i swap'!ULK4","v":0},{"$f":"ULN35*'Makro i swap'!ULL4","v":0},{"$f":"ULO35*'Makro i swap'!ULM4","v":0},{"$f":"ULP35*'Makro i swap'!ULN4","v":0},{"$f":"ULQ35*'Makro i swap'!ULO4","v":0},{"$f":"ULR35*'Makro i swap'!ULP4","v":0},{"$f":"ULS35*'Makro i swap'!ULQ4","v":0},{"$f":"ULT35*'Makro i swap'!ULR4","v":0},{"$f":"ULU35*'Makro i swap'!ULS4","v":0},{"$f":"ULV35*'Makro i swap'!ULT4","v":0},{"$f":"ULW35*'Makro i swap'!ULU4","v":0},{"$f":"ULX35*'Makro i swap'!ULV4","v":0},{"$f":"ULY35*'Makro i swap'!ULW4","v":0},{"$f":"ULZ35*'Makro i swap'!ULX4","v":0},{"$f":"UMA35*'Makro i swap'!ULY4","v":0},{"$f":"UMB35*'Makro i swap'!ULZ4","v":0},{"$f":"UMC35*'Makro i swap'!UMA4","v":0},{"$f":"UMD35*'Makro i swap'!UMB4","v":0},{"$f":"UME35*'Makro i swap'!UMC4","v":0},{"$f":"UMF35*'Makro i swap'!UMD4","v":0},{"$f":"UMG35*'Makro i swap'!UME4","v":0},{"$f":"UMH35*'Makro i swap'!UMF4","v":0},{"$f":"UMI35*'Makro i swap'!UMG4","v":0},{"$f":"UMJ35*'Makro i swap'!UMH4","v":0},{"$f":"UMK35*'Makro i swap'!UMI4","v":0},{"$f":"UML35*'Makro i swap'!UMJ4","v":0},{"$f":"UMM35*'Makro i swap'!UMK4","v":0},{"$f":"UMN35*'Makro i swap'!UML4","v":0},{"$f":"UMO35*'Makro i swap'!UMM4","v":0},{"$f":"UMP35*'Makro i swap'!UMN4","v":0},{"$f":"UMQ35*'Makro i swap'!UMO4","v":0},{"$f":"UMR35*'Makro i swap'!UMP4","v":0},{"$f":"UMS35*'Makro i swap'!UMQ4","v":0},{"$f":"UMT35*'Makro i swap'!UMR4","v":0},{"$f":"UMU35*'Makro i swap'!UMS4","v":0},{"$f":"UMV35*'Makro i swap'!UMT4","v":0},{"$f":"UMW35*'Makro i swap'!UMU4","v":0},{"$f":"UMX35*'Makro i swap'!UMV4","v":0},{"$f":"UMY35*'Makro i swap'!UMW4","v":0},{"$f":"UMZ35*'Makro i swap'!UMX4","v":0},{"$f":"UNA35*'Makro i swap'!UMY4","v":0},{"$f":"UNB35*'Makro i swap'!UMZ4","v":0},{"$f":"UNC35*'Makro i swap'!UNA4","v":0},{"$f":"UND35*'Makro i swap'!UNB4","v":0},{"$f":"UNE35*'Makro i swap'!UNC4","v":0},{"$f":"UNF35*'Makro i swap'!UND4","v":0},{"$f":"UNG35*'Makro i swap'!UNE4","v":0},{"$f":"UNH35*'Makro i swap'!UNF4","v":0},{"$f":"UNI35*'Makro i swap'!UNG4","v":0},{"$f":"UNJ35*'Makro i swap'!UNH4","v":0},{"$f":"UNK35*'Makro i swap'!UNI4","v":0},{"$f":"UNL35*'Makro i swap'!UNJ4","v":0},{"$f":"UNM35*'Makro i swap'!UNK4","v":0},{"$f":"UNN35*'Makro i swap'!UNL4","v":0},{"$f":"UNO35*'Makro i swap'!UNM4","v":0},{"$f":"UNP35*'Makro i swap'!UNN4","v":0},{"$f":"UNQ35*'Makro i swap'!UNO4","v":0},{"$f":"UNR35*'Makro i swap'!UNP4","v":0},{"$f":"UNS35*'Makro i swap'!UNQ4","v":0},{"$f":"UNT35*'Makro i swap'!UNR4","v":0},{"$f":"UNU35*'Makro i swap'!UNS4","v":0},{"$f":"UNV35*'Makro i swap'!UNT4","v":0},{"$f":"UNW35*'Makro i swap'!UNU4","v":0},{"$f":"UNX35*'Makro i swap'!UNV4","v":0},{"$f":"UNY35*'Makro i swap'!UNW4","v":0},{"$f":"UNZ35*'Makro i swap'!UNX4","v":0},{"$f":"UOA35*'Makro i swap'!UNY4","v":0},{"$f":"UOB35*'Makro i swap'!UNZ4","v":0},{"$f":"UOC35*'Makro i swap'!UOA4","v":0},{"$f":"UOD35*'Makro i swap'!UOB4","v":0},{"$f":"UOE35*'Makro i swap'!UOC4","v":0},{"$f":"UOF35*'Makro i swap'!UOD4","v":0},{"$f":"UOG35*'Makro i swap'!UOE4","v":0},{"$f":"UOH35*'Makro i swap'!UOF4","v":0},{"$f":"UOI35*'Makro i swap'!UOG4","v":0},{"$f":"UOJ35*'Makro i swap'!UOH4","v":0},{"$f":"UOK35*'Makro i swap'!UOI4","v":0},{"$f":"UOL35*'Makro i swap'!UOJ4","v":0},{"$f":"UOM35*'Makro i swap'!UOK4","v":0},{"$f":"UON35*'Makro i swap'!UOL4","v":0},{"$f":"UOO35*'Makro i swap'!UOM4","v":0},{"$f":"UOP35*'Makro i swap'!UON4","v":0},{"$f":"UOQ35*'Makro i swap'!UOO4","v":0},{"$f":"UOR35*'Makro i swap'!UOP4","v":0},{"$f":"UOS35*'Makro i swap'!UOQ4","v":0},{"$f":"UOT35*'Makro i swap'!UOR4","v":0},{"$f":"UOU35*'Makro i swap'!UOS4","v":0},{"$f":"UOV35*'Makro i swap'!UOT4","v":0},{"$f":"UOW35*'Makro i swap'!UOU4","v":0},{"$f":"UOX35*'Makro i swap'!UOV4","v":0},{"$f":"UOY35*'Makro i swap'!UOW4","v":0},{"$f":"UOZ35*'Makro i swap'!UOX4","v":0},{"$f":"UPA35*'Makro i swap'!UOY4","v":0},{"$f":"UPB35*'Makro i swap'!UOZ4","v":0},{"$f":"UPC35*'Makro i swap'!UPA4","v":0},{"$f":"UPD35*'Makro i swap'!UPB4","v":0},{"$f":"UPE35*'Makro i swap'!UPC4","v":0},{"$f":"UPF35*'Makro i swap'!UPD4","v":0},{"$f":"UPG35*'Makro i swap'!UPE4","v":0},{"$f":"UPH35*'Makro i swap'!UPF4","v":0},{"$f":"UPI35*'Makro i swap'!UPG4","v":0},{"$f":"UPJ35*'Makro i swap'!UPH4","v":0},{"$f":"UPK35*'Makro i swap'!UPI4","v":0},{"$f":"UPL35*'Makro i swap'!UPJ4","v":0},{"$f":"UPM35*'Makro i swap'!UPK4","v":0},{"$f":"UPN35*'Makro i swap'!UPL4","v":0},{"$f":"UPO35*'Makro i swap'!UPM4","v":0},{"$f":"UPP35*'Makro i swap'!UPN4","v":0},{"$f":"UPQ35*'Makro i swap'!UPO4","v":0},{"$f":"UPR35*'Makro i swap'!UPP4","v":0},{"$f":"UPS35*'Makro i swap'!UPQ4","v":0},{"$f":"UPT35*'Makro i swap'!UPR4","v":0},{"$f":"UPU35*'Makro i swap'!UPS4","v":0},{"$f":"UPV35*'Makro i swap'!UPT4","v":0},{"$f":"UPW35*'Makro i swap'!UPU4","v":0},{"$f":"UPX35*'Makro i swap'!UPV4","v":0},{"$f":"UPY35*'Makro i swap'!UPW4","v":0},{"$f":"UPZ35*'Makro i swap'!UPX4","v":0},{"$f":"UQA35*'Makro i swap'!UPY4","v":0},{"$f":"UQB35*'Makro i swap'!UPZ4","v":0},{"$f":"UQC35*'Makro i swap'!UQA4","v":0},{"$f":"UQD35*'Makro i swap'!UQB4","v":0},{"$f":"UQE35*'Makro i swap'!UQC4","v":0},{"$f":"UQF35*'Makro i swap'!UQD4","v":0},{"$f":"UQG35*'Makro i swap'!UQE4","v":0},{"$f":"UQH35*'Makro i swap'!UQF4","v":0},{"$f":"UQI35*'Makro i swap'!UQG4","v":0},{"$f":"UQJ35*'Makro i swap'!UQH4","v":0},{"$f":"UQK35*'Makro i swap'!UQI4","v":0},{"$f":"UQL35*'Makro i swap'!UQJ4","v":0},{"$f":"UQM35*'Makro i swap'!UQK4","v":0},{"$f":"UQN35*'Makro i swap'!UQL4","v":0},{"$f":"UQO35*'Makro i swap'!UQM4","v":0},{"$f":"UQP35*'Makro i swap'!UQN4","v":0},{"$f":"UQQ35*'Makro i swap'!UQO4","v":0},{"$f":"UQR35*'Makro i swap'!UQP4","v":0},{"$f":"UQS35*'Makro i swap'!UQQ4","v":0},{"$f":"UQT35*'Makro i swap'!UQR4","v":0},{"$f":"UQU35*'Makro i swap'!UQS4","v":0},{"$f":"UQV35*'Makro i swap'!UQT4","v":0},{"$f":"UQW35*'Makro i swap'!UQU4","v":0},{"$f":"UQX35*'Makro i swap'!UQV4","v":0},{"$f":"UQY35*'Makro i swap'!UQW4","v":0},{"$f":"UQZ35*'Makro i swap'!UQX4","v":0},{"$f":"URA35*'Makro i swap'!UQY4","v":0},{"$f":"URB35*'Makro i swap'!UQZ4","v":0},{"$f":"URC35*'Makro i swap'!URA4","v":0},{"$f":"URD35*'Makro i swap'!URB4","v":0},{"$f":"URE35*'Makro i swap'!URC4","v":0},{"$f":"URF35*'Makro i swap'!URD4","v":0},{"$f":"URG35*'Makro i swap'!URE4","v":0},{"$f":"URH35*'Makro i swap'!URF4","v":0},{"$f":"URI35*'Makro i swap'!URG4","v":0},{"$f":"URJ35*'Makro i swap'!URH4","v":0},{"$f":"URK35*'Makro i swap'!URI4","v":0},{"$f":"URL35*'Makro i swap'!URJ4","v":0},{"$f":"URM35*'Makro i swap'!URK4","v":0},{"$f":"URN35*'Makro i swap'!URL4","v":0},{"$f":"URO35*'Makro i swap'!URM4","v":0},{"$f":"URP35*'Makro i swap'!URN4","v":0},{"$f":"URQ35*'Makro i swap'!URO4","v":0},{"$f":"URR35*'Makro i swap'!URP4","v":0},{"$f":"URS35*'Makro i swap'!URQ4","v":0},{"$f":"URT35*'Makro i swap'!URR4","v":0},{"$f":"URU35*'Makro i swap'!URS4","v":0},{"$f":"URV35*'Makro i swap'!URT4","v":0},{"$f":"URW35*'Makro i swap'!URU4","v":0},{"$f":"URX35*'Makro i swap'!URV4","v":0},{"$f":"URY35*'Makro i swap'!URW4","v":0},{"$f":"URZ35*'Makro i swap'!URX4","v":0},{"$f":"USA35*'Makro i swap'!URY4","v":0},{"$f":"USB35*'Makro i swap'!URZ4","v":0},{"$f":"USC35*'Makro i swap'!USA4","v":0},{"$f":"USD35*'Makro i swap'!USB4","v":0},{"$f":"USE35*'Makro i swap'!USC4","v":0},{"$f":"USF35*'Makro i swap'!USD4","v":0},{"$f":"USG35*'Makro i swap'!USE4","v":0},{"$f":"USH35*'Makro i swap'!USF4","v":0},{"$f":"USI35*'Makro i swap'!USG4","v":0},{"$f":"USJ35*'Makro i swap'!USH4","v":0},{"$f":"USK35*'Makro i swap'!USI4","v":0},{"$f":"USL35*'Makro i swap'!USJ4","v":0},{"$f":"USM35*'Makro i swap'!USK4","v":0},{"$f":"USN35*'Makro i swap'!USL4","v":0},{"$f":"USO35*'Makro i swap'!USM4","v":0},{"$f":"USP35*'Makro i swap'!USN4","v":0},{"$f":"USQ35*'Makro i swap'!USO4","v":0},{"$f":"USR35*'Makro i swap'!USP4","v":0},{"$f":"USS35*'Makro i swap'!USQ4","v":0},{"$f":"UST35*'Makro i swap'!USR4","v":0},{"$f":"USU35*'Makro i swap'!USS4","v":0},{"$f":"USV35*'Makro i swap'!UST4","v":0},{"$f":"USW35*'Makro i swap'!USU4","v":0},{"$f":"USX35*'Makro i swap'!USV4","v":0},{"$f":"USY35*'Makro i swap'!USW4","v":0},{"$f":"USZ35*'Makro i swap'!USX4","v":0},{"$f":"UTA35*'Makro i swap'!USY4","v":0},{"$f":"UTB35*'Makro i swap'!USZ4","v":0},{"$f":"UTC35*'Makro i swap'!UTA4","v":0},{"$f":"UTD35*'Makro i swap'!UTB4","v":0},{"$f":"UTE35*'Makro i swap'!UTC4","v":0},{"$f":"UTF35*'Makro i swap'!UTD4","v":0},{"$f":"UTG35*'Makro i swap'!UTE4","v":0},{"$f":"UTH35*'Makro i swap'!UTF4","v":0},{"$f":"UTI35*'Makro i swap'!UTG4","v":0},{"$f":"UTJ35*'Makro i swap'!UTH4","v":0},{"$f":"UTK35*'Makro i swap'!UTI4","v":0},{"$f":"UTL35*'Makro i swap'!UTJ4","v":0},{"$f":"UTM35*'Makro i swap'!UTK4","v":0},{"$f":"UTN35*'Makro i swap'!UTL4","v":0},{"$f":"UTO35*'Makro i swap'!UTM4","v":0},{"$f":"UTP35*'Makro i swap'!UTN4","v":0},{"$f":"UTQ35*'Makro i swap'!UTO4","v":0},{"$f":"UTR35*'Makro i swap'!UTP4","v":0},{"$f":"UTS35*'Makro i swap'!UTQ4","v":0},{"$f":"UTT35*'Makro i swap'!UTR4","v":0},{"$f":"UTU35*'Makro i swap'!UTS4","v":0},{"$f":"UTV35*'Makro i swap'!UTT4","v":0},{"$f":"UTW35*'Makro i swap'!UTU4","v":0},{"$f":"UTX35*'Makro i swap'!UTV4","v":0},{"$f":"UTY35*'Makro i swap'!UTW4","v":0},{"$f":"UTZ35*'Makro i swap'!UTX4","v":0},{"$f":"UUA35*'Makro i swap'!UTY4","v":0},{"$f":"UUB35*'Makro i swap'!UTZ4","v":0},{"$f":"UUC35*'Makro i swap'!UUA4","v":0},{"$f":"UUD35*'Makro i swap'!UUB4","v":0},{"$f":"UUE35*'Makro i swap'!UUC4","v":0},{"$f":"UUF35*'Makro i swap'!UUD4","v":0},{"$f":"UUG35*'Makro i swap'!UUE4","v":0},{"$f":"UUH35*'Makro i swap'!UUF4","v":0},{"$f":"UUI35*'Makro i swap'!UUG4","v":0},{"$f":"UUJ35*'Makro i swap'!UUH4","v":0},{"$f":"UUK35*'Makro i swap'!UUI4","v":0},{"$f":"UUL35*'Makro i swap'!UUJ4","v":0},{"$f":"UUM35*'Makro i swap'!UUK4","v":0},{"$f":"UUN35*'Makro i swap'!UUL4","v":0},{"$f":"UUO35*'Makro i swap'!UUM4","v":0},{"$f":"UUP35*'Makro i swap'!UUN4","v":0},{"$f":"UUQ35*'Makro i swap'!UUO4","v":0},{"$f":"UUR35*'Makro i swap'!UUP4","v":0},{"$f":"UUS35*'Makro i swap'!UUQ4","v":0},{"$f":"UUT35*'Makro i swap'!UUR4","v":0},{"$f":"UUU35*'Makro i swap'!UUS4","v":0},{"$f":"UUV35*'Makro i swap'!UUT4","v":0},{"$f":"UUW35*'Makro i swap'!UUU4","v":0},{"$f":"UUX35*'Makro i swap'!UUV4","v":0},{"$f":"UUY35*'Makro i swap'!UUW4","v":0},{"$f":"UUZ35*'Makro i swap'!UUX4","v":0},{"$f":"UVA35*'Makro i swap'!UUY4","v":0},{"$f":"UVB35*'Makro i swap'!UUZ4","v":0},{"$f":"UVC35*'Makro i swap'!UVA4","v":0},{"$f":"UVD35*'Makro i swap'!UVB4","v":0},{"$f":"UVE35*'Makro i swap'!UVC4","v":0},{"$f":"UVF35*'Makro i swap'!UVD4","v":0},{"$f":"UVG35*'Makro i swap'!UVE4","v":0},{"$f":"UVH35*'Makro i swap'!UVF4","v":0},{"$f":"UVI35*'Makro i swap'!UVG4","v":0},{"$f":"UVJ35*'Makro i swap'!UVH4","v":0},{"$f":"UVK35*'Makro i swap'!UVI4","v":0},{"$f":"UVL35*'Makro i swap'!UVJ4","v":0},{"$f":"UVM35*'Makro i swap'!UVK4","v":0},{"$f":"UVN35*'Makro i swap'!UVL4","v":0},{"$f":"UVO35*'Makro i swap'!UVM4","v":0},{"$f":"UVP35*'Makro i swap'!UVN4","v":0},{"$f":"UVQ35*'Makro i swap'!UVO4","v":0},{"$f":"UVR35*'Makro i swap'!UVP4","v":0},{"$f":"UVS35*'Makro i swap'!UVQ4","v":0},{"$f":"UVT35*'Makro i swap'!UVR4","v":0},{"$f":"UVU35*'Makro i swap'!UVS4","v":0},{"$f":"UVV35*'Makro i swap'!UVT4","v":0},{"$f":"UVW35*'Makro i swap'!UVU4","v":0},{"$f":"UVX35*'Makro i swap'!UVV4","v":0},{"$f":"UVY35*'Makro i swap'!UVW4","v":0},{"$f":"UVZ35*'Makro i swap'!UVX4","v":0},{"$f":"UWA35*'Makro i swap'!UVY4","v":0},{"$f":"UWB35*'Makro i swap'!UVZ4","v":0},{"$f":"UWC35*'Makro i swap'!UWA4","v":0},{"$f":"UWD35*'Makro i swap'!UWB4","v":0},{"$f":"UWE35*'Makro i swap'!UWC4","v":0},{"$f":"UWF35*'Makro i swap'!UWD4","v":0},{"$f":"UWG35*'Makro i swap'!UWE4","v":0},{"$f":"UWH35*'Makro i swap'!UWF4","v":0},{"$f":"UWI35*'Makro i swap'!UWG4","v":0},{"$f":"UWJ35*'Makro i swap'!UWH4","v":0},{"$f":"UWK35*'Makro i swap'!UWI4","v":0},{"$f":"UWL35*'Makro i swap'!UWJ4","v":0},{"$f":"UWM35*'Makro i swap'!UWK4","v":0},{"$f":"UWN35*'Makro i swap'!UWL4","v":0},{"$f":"UWO35*'Makro i swap'!UWM4","v":0},{"$f":"UWP35*'Makro i swap'!UWN4","v":0},{"$f":"UWQ35*'Makro i swap'!UWO4","v":0},{"$f":"UWR35*'Makro i swap'!UWP4","v":0},{"$f":"UWS35*'Makro i swap'!UWQ4","v":0},{"$f":"UWT35*'Makro i swap'!UWR4","v":0},{"$f":"UWU35*'Makro i swap'!UWS4","v":0},{"$f":"UWV35*'Makro i swap'!UWT4","v":0},{"$f":"UWW35*'Makro i swap'!UWU4","v":0},{"$f":"UWX35*'Makro i swap'!UWV4","v":0},{"$f":"UWY35*'Makro i swap'!UWW4","v":0},{"$f":"UWZ35*'Makro i swap'!UWX4","v":0},{"$f":"UXA35*'Makro i swap'!UWY4","v":0},{"$f":"UXB35*'Makro i swap'!UWZ4","v":0},{"$f":"UXC35*'Makro i swap'!UXA4","v":0},{"$f":"UXD35*'Makro i swap'!UXB4","v":0},{"$f":"UXE35*'Makro i swap'!UXC4","v":0},{"$f":"UXF35*'Makro i swap'!UXD4","v":0},{"$f":"UXG35*'Makro i swap'!UXE4","v":0},{"$f":"UXH35*'Makro i swap'!UXF4","v":0},{"$f":"UXI35*'Makro i swap'!UXG4","v":0},{"$f":"UXJ35*'Makro i swap'!UXH4","v":0},{"$f":"UXK35*'Makro i swap'!UXI4","v":0},{"$f":"UXL35*'Makro i swap'!UXJ4","v":0},{"$f":"UXM35*'Makro i swap'!UXK4","v":0},{"$f":"UXN35*'Makro i swap'!UXL4","v":0},{"$f":"UXO35*'Makro i swap'!UXM4","v":0},{"$f":"UXP35*'Makro i swap'!UXN4","v":0},{"$f":"UXQ35*'Makro i swap'!UXO4","v":0},{"$f":"UXR35*'Makro i swap'!UXP4","v":0},{"$f":"UXS35*'Makro i swap'!UXQ4","v":0},{"$f":"UXT35*'Makro i swap'!UXR4","v":0},{"$f":"UXU35*'Makro i swap'!UXS4","v":0},{"$f":"UXV35*'Makro i swap'!UXT4","v":0},{"$f":"UXW35*'Makro i swap'!UXU4","v":0},{"$f":"UXX35*'Makro i swap'!UXV4","v":0},{"$f":"UXY35*'Makro i swap'!UXW4","v":0},{"$f":"UXZ35*'Makro i swap'!UXX4","v":0},{"$f":"UYA35*'Makro i swap'!UXY4","v":0},{"$f":"UYB35*'Makro i swap'!UXZ4","v":0},{"$f":"UYC35*'Makro i swap'!UYA4","v":0},{"$f":"UYD35*'Makro i swap'!UYB4","v":0},{"$f":"UYE35*'Makro i swap'!UYC4","v":0},{"$f":"UYF35*'Makro i swap'!UYD4","v":0},{"$f":"UYG35*'Makro i swap'!UYE4","v":0},{"$f":"UYH35*'Makro i swap'!UYF4","v":0},{"$f":"UYI35*'Makro i swap'!UYG4","v":0},{"$f":"UYJ35*'Makro i swap'!UYH4","v":0},{"$f":"UYK35*'Makro i swap'!UYI4","v":0},{"$f":"UYL35*'Makro i swap'!UYJ4","v":0},{"$f":"UYM35*'Makro i swap'!UYK4","v":0},{"$f":"UYN35*'Makro i swap'!UYL4","v":0},{"$f":"UYO35*'Makro i swap'!UYM4","v":0},{"$f":"UYP35*'Makro i swap'!UYN4","v":0},{"$f":"UYQ35*'Makro i swap'!UYO4","v":0},{"$f":"UYR35*'Makro i swap'!UYP4","v":0},{"$f":"UYS35*'Makro i swap'!UYQ4","v":0},{"$f":"UYT35*'Makro i swap'!UYR4","v":0},{"$f":"UYU35*'Makro i swap'!UYS4","v":0},{"$f":"UYV35*'Makro i swap'!UYT4","v":0},{"$f":"UYW35*'Makro i swap'!UYU4","v":0},{"$f":"UYX35*'Makro i swap'!UYV4","v":0},{"$f":"UYY35*'Makro i swap'!UYW4","v":0},{"$f":"UYZ35*'Makro i swap'!UYX4","v":0},{"$f":"UZA35*'Makro i swap'!UYY4","v":0},{"$f":"UZB35*'Makro i swap'!UYZ4","v":0},{"$f":"UZC35*'Makro i swap'!UZA4","v":0},{"$f":"UZD35*'Makro i swap'!UZB4","v":0},{"$f":"UZE35*'Makro i swap'!UZC4","v":0},{"$f":"UZF35*'Makro i swap'!UZD4","v":0},{"$f":"UZG35*'Makro i swap'!UZE4","v":0},{"$f":"UZH35*'Makro i swap'!UZF4","v":0},{"$f":"UZI35*'Makro i swap'!UZG4","v":0},{"$f":"UZJ35*'Makro i swap'!UZH4","v":0},{"$f":"UZK35*'Makro i swap'!UZI4","v":0},{"$f":"UZL35*'Makro i swap'!UZJ4","v":0},{"$f":"UZM35*'Makro i swap'!UZK4","v":0},{"$f":"UZN35*'Makro i swap'!UZL4","v":0},{"$f":"UZO35*'Makro i swap'!UZM4","v":0},{"$f":"UZP35*'Makro i swap'!UZN4","v":0},{"$f":"UZQ35*'Makro i swap'!UZO4","v":0},{"$f":"UZR35*'Makro i swap'!UZP4","v":0},{"$f":"UZS35*'Makro i swap'!UZQ4","v":0},{"$f":"UZT35*'Makro i swap'!UZR4","v":0},{"$f":"UZU35*'Makro i swap'!UZS4","v":0},{"$f":"UZV35*'Makro i swap'!UZT4","v":0},{"$f":"UZW35*'Makro i swap'!UZU4","v":0},{"$f":"UZX35*'Makro i swap'!UZV4","v":0},{"$f":"UZY35*'Makro i swap'!UZW4","v":0},{"$f":"UZZ35*'Makro i swap'!UZX4","v":0},{"$f":"VAA35*'Makro i swap'!UZY4","v":0},{"$f":"VAB35*'Makro i swap'!UZZ4","v":0},{"$f":"VAC35*'Makro i swap'!VAA4","v":0},{"$f":"VAD35*'Makro i swap'!VAB4","v":0},{"$f":"VAE35*'Makro i swap'!VAC4","v":0},{"$f":"VAF35*'Makro i swap'!VAD4","v":0},{"$f":"VAG35*'Makro i swap'!VAE4","v":0},{"$f":"VAH35*'Makro i swap'!VAF4","v":0},{"$f":"VAI35*'Makro i swap'!VAG4","v":0},{"$f":"VAJ35*'Makro i swap'!VAH4","v":0},{"$f":"VAK35*'Makro i swap'!VAI4","v":0},{"$f":"VAL35*'Makro i swap'!VAJ4","v":0},{"$f":"VAM35*'Makro i swap'!VAK4","v":0},{"$f":"VAN35*'Makro i swap'!VAL4","v":0},{"$f":"VAO35*'Makro i swap'!VAM4","v":0},{"$f":"VAP35*'Makro i swap'!VAN4","v":0},{"$f":"VAQ35*'Makro i swap'!VAO4","v":0},{"$f":"VAR35*'Makro i swap'!VAP4","v":0},{"$f":"VAS35*'Makro i swap'!VAQ4","v":0},{"$f":"VAT35*'Makro i swap'!VAR4","v":0},{"$f":"VAU35*'Makro i swap'!VAS4","v":0},{"$f":"VAV35*'Makro i swap'!VAT4","v":0},{"$f":"VAW35*'Makro i swap'!VAU4","v":0},{"$f":"VAX35*'Makro i swap'!VAV4","v":0},{"$f":"VAY35*'Makro i swap'!VAW4","v":0},{"$f":"VAZ35*'Makro i swap'!VAX4","v":0},{"$f":"VBA35*'Makro i swap'!VAY4","v":0},{"$f":"VBB35*'Makro i swap'!VAZ4","v":0},{"$f":"VBC35*'Makro i swap'!VBA4","v":0},{"$f":"VBD35*'Makro i swap'!VBB4","v":0},{"$f":"VBE35*'Makro i swap'!VBC4","v":0},{"$f":"VBF35*'Makro i swap'!VBD4","v":0},{"$f":"VBG35*'Makro i swap'!VBE4","v":0},{"$f":"VBH35*'Makro i swap'!VBF4","v":0},{"$f":"VBI35*'Makro i swap'!VBG4","v":0},{"$f":"VBJ35*'Makro i swap'!VBH4","v":0},{"$f":"VBK35*'Makro i swap'!VBI4","v":0},{"$f":"VBL35*'Makro i swap'!VBJ4","v":0},{"$f":"VBM35*'Makro i swap'!VBK4","v":0},{"$f":"VBN35*'Makro i swap'!VBL4","v":0},{"$f":"VBO35*'Makro i swap'!VBM4","v":0},{"$f":"VBP35*'Makro i swap'!VBN4","v":0},{"$f":"VBQ35*'Makro i swap'!VBO4","v":0},{"$f":"VBR35*'Makro i swap'!VBP4","v":0},{"$f":"VBS35*'Makro i swap'!VBQ4","v":0},{"$f":"VBT35*'Makro i swap'!VBR4","v":0},{"$f":"VBU35*'Makro i swap'!VBS4","v":0},{"$f":"VBV35*'Makro i swap'!VBT4","v":0},{"$f":"VBW35*'Makro i swap'!VBU4","v":0},{"$f":"VBX35*'Makro i swap'!VBV4","v":0},{"$f":"VBY35*'Makro i swap'!VBW4","v":0},{"$f":"VBZ35*'Makro i swap'!VBX4","v":0},{"$f":"VCA35*'Makro i swap'!VBY4","v":0},{"$f":"VCB35*'Makro i swap'!VBZ4","v":0},{"$f":"VCC35*'Makro i swap'!VCA4","v":0},{"$f":"VCD35*'Makro i swap'!VCB4","v":0},{"$f":"VCE35*'Makro i swap'!VCC4","v":0},{"$f":"VCF35*'Makro i swap'!VCD4","v":0},{"$f":"VCG35*'Makro i swap'!VCE4","v":0},{"$f":"VCH35*'Makro i swap'!VCF4","v":0},{"$f":"VCI35*'Makro i swap'!VCG4","v":0},{"$f":"VCJ35*'Makro i swap'!VCH4","v":0},{"$f":"VCK35*'Makro i swap'!VCI4","v":0},{"$f":"VCL35*'Makro i swap'!VCJ4","v":0},{"$f":"VCM35*'Makro i swap'!VCK4","v":0},{"$f":"VCN35*'Makro i swap'!VCL4","v":0},{"$f":"VCO35*'Makro i swap'!VCM4","v":0},{"$f":"VCP35*'Makro i swap'!VCN4","v":0},{"$f":"VCQ35*'Makro i swap'!VCO4","v":0},{"$f":"VCR35*'Makro i swap'!VCP4","v":0},{"$f":"VCS35*'Makro i swap'!VCQ4","v":0},{"$f":"VCT35*'Makro i swap'!VCR4","v":0},{"$f":"VCU35*'Makro i swap'!VCS4","v":0},{"$f":"VCV35*'Makro i swap'!VCT4","v":0},{"$f":"VCW35*'Makro i swap'!VCU4","v":0},{"$f":"VCX35*'Makro i swap'!VCV4","v":0},{"$f":"VCY35*'Makro i swap'!VCW4","v":0},{"$f":"VCZ35*'Makro i swap'!VCX4","v":0},{"$f":"VDA35*'Makro i swap'!VCY4","v":0},{"$f":"VDB35*'Makro i swap'!VCZ4","v":0},{"$f":"VDC35*'Makro i swap'!VDA4","v":0},{"$f":"VDD35*'Makro i swap'!VDB4","v":0},{"$f":"VDE35*'Makro i swap'!VDC4","v":0},{"$f":"VDF35*'Makro i swap'!VDD4","v":0},{"$f":"VDG35*'Makro i swap'!VDE4","v":0},{"$f":"VDH35*'Makro i swap'!VDF4","v":0},{"$f":"VDI35*'Makro i swap'!VDG4","v":0},{"$f":"VDJ35*'Makro i swap'!VDH4","v":0},{"$f":"VDK35*'Makro i swap'!VDI4","v":0},{"$f":"VDL35*'Makro i swap'!VDJ4","v":0},{"$f":"VDM35*'Makro i swap'!VDK4","v":0},{"$f":"VDN35*'Makro i swap'!VDL4","v":0},{"$f":"VDO35*'Makro i swap'!VDM4","v":0},{"$f":"VDP35*'Makro i swap'!VDN4","v":0},{"$f":"VDQ35*'Makro i swap'!VDO4","v":0},{"$f":"VDR35*'Makro i swap'!VDP4","v":0},{"$f":"VDS35*'Makro i swap'!VDQ4","v":0},{"$f":"VDT35*'Makro i swap'!VDR4","v":0},{"$f":"VDU35*'Makro i swap'!VDS4","v":0},{"$f":"VDV35*'Makro i swap'!VDT4","v":0},{"$f":"VDW35*'Makro i swap'!VDU4","v":0},{"$f":"VDX35*'Makro i swap'!VDV4","v":0},{"$f":"VDY35*'Makro i swap'!VDW4","v":0},{"$f":"VDZ35*'Makro i swap'!VDX4","v":0},{"$f":"VEA35*'Makro i swap'!VDY4","v":0},{"$f":"VEB35*'Makro i swap'!VDZ4","v":0},{"$f":"VEC35*'Makro i swap'!VEA4","v":0},{"$f":"VED35*'Makro i swap'!VEB4","v":0},{"$f":"VEE35*'Makro i swap'!VEC4","v":0},{"$f":"VEF35*'Makro i swap'!VED4","v":0},{"$f":"VEG35*'Makro i swap'!VEE4","v":0},{"$f":"VEH35*'Makro i swap'!VEF4","v":0},{"$f":"VEI35*'Makro i swap'!VEG4","v":0},{"$f":"VEJ35*'Makro i swap'!VEH4","v":0},{"$f":"VEK35*'Makro i swap'!VEI4","v":0},{"$f":"VEL35*'Makro i swap'!VEJ4","v":0},{"$f":"VEM35*'Makro i swap'!VEK4","v":0},{"$f":"VEN35*'Makro i swap'!VEL4","v":0},{"$f":"VEO35*'Makro i swap'!VEM4","v":0},{"$f":"VEP35*'Makro i swap'!VEN4","v":0},{"$f":"VEQ35*'Makro i swap'!VEO4","v":0},{"$f":"VER35*'Makro i swap'!VEP4","v":0},{"$f":"VES35*'Makro i swap'!VEQ4","v":0},{"$f":"VET35*'Makro i swap'!VER4","v":0},{"$f":"VEU35*'Makro i swap'!VES4","v":0},{"$f":"VEV35*'Makro i swap'!VET4","v":0},{"$f":"VEW35*'Makro i swap'!VEU4","v":0},{"$f":"VEX35*'Makro i swap'!VEV4","v":0},{"$f":"VEY35*'Makro i swap'!VEW4","v":0},{"$f":"VEZ35*'Makro i swap'!VEX4","v":0},{"$f":"VFA35*'Makro i swap'!VEY4","v":0},{"$f":"VFB35*'Makro i swap'!VEZ4","v":0},{"$f":"VFC35*'Makro i swap'!VFA4","v":0},{"$f":"VFD35*'Makro i swap'!VFB4","v":0},{"$f":"VFE35*'Makro i swap'!VFC4","v":0},{"$f":"VFF35*'Makro i swap'!VFD4","v":0},{"$f":"VFG35*'Makro i swap'!VFE4","v":0},{"$f":"VFH35*'Makro i swap'!VFF4","v":0},{"$f":"VFI35*'Makro i swap'!VFG4","v":0},{"$f":"VFJ35*'Makro i swap'!VFH4","v":0},{"$f":"VFK35*'Makro i swap'!VFI4","v":0},{"$f":"VFL35*'Makro i swap'!VFJ4","v":0},{"$f":"VFM35*'Makro i swap'!VFK4","v":0},{"$f":"VFN35*'Makro i swap'!VFL4","v":0},{"$f":"VFO35*'Makro i swap'!VFM4","v":0},{"$f":"VFP35*'Makro i swap'!VFN4","v":0},{"$f":"VFQ35*'Makro i swap'!VFO4","v":0},{"$f":"VFR35*'Makro i swap'!VFP4","v":0},{"$f":"VFS35*'Makro i swap'!VFQ4","v":0},{"$f":"VFT35*'Makro i swap'!VFR4","v":0},{"$f":"VFU35*'Makro i swap'!VFS4","v":0},{"$f":"VFV35*'Makro i swap'!VFT4","v":0},{"$f":"VFW35*'Makro i swap'!VFU4","v":0},{"$f":"VFX35*'Makro i swap'!VFV4","v":0},{"$f":"VFY35*'Makro i swap'!VFW4","v":0},{"$f":"VFZ35*'Makro i swap'!VFX4","v":0},{"$f":"VGA35*'Makro i swap'!VFY4","v":0},{"$f":"VGB35*'Makro i swap'!VFZ4","v":0},{"$f":"VGC35*'Makro i swap'!VGA4","v":0},{"$f":"VGD35*'Makro i swap'!VGB4","v":0},{"$f":"VGE35*'Makro i swap'!VGC4","v":0},{"$f":"VGF35*'Makro i swap'!VGD4","v":0},{"$f":"VGG35*'Makro i swap'!VGE4","v":0},{"$f":"VGH35*'Makro i swap'!VGF4","v":0},{"$f":"VGI35*'Makro i swap'!VGG4","v":0},{"$f":"VGJ35*'Makro i swap'!VGH4","v":0},{"$f":"VGK35*'Makro i swap'!VGI4","v":0},{"$f":"VGL35*'Makro i swap'!VGJ4","v":0},{"$f":"VGM35*'Makro i swap'!VGK4","v":0},{"$f":"VGN35*'Makro i swap'!VGL4","v":0},{"$f":"VGO35*'Makro i swap'!VGM4","v":0},{"$f":"VGP35*'Makro i swap'!VGN4","v":0},{"$f":"VGQ35*'Makro i swap'!VGO4","v":0},{"$f":"VGR35*'Makro i swap'!VGP4","v":0},{"$f":"VGS35*'Makro i swap'!VGQ4","v":0},{"$f":"VGT35*'Makro i swap'!VGR4","v":0},{"$f":"VGU35*'Makro i swap'!VGS4","v":0},{"$f":"VGV35*'Makro i swap'!VGT4","v":0},{"$f":"VGW35*'Makro i swap'!VGU4","v":0},{"$f":"VGX35*'Makro i swap'!VGV4","v":0},{"$f":"VGY35*'Makro i swap'!VGW4","v":0},{"$f":"VGZ35*'Makro i swap'!VGX4","v":0},{"$f":"VHA35*'Makro i swap'!VGY4","v":0},{"$f":"VHB35*'Makro i swap'!VGZ4","v":0},{"$f":"VHC35*'Makro i swap'!VHA4","v":0},{"$f":"VHD35*'Makro i swap'!VHB4","v":0},{"$f":"VHE35*'Makro i swap'!VHC4","v":0},{"$f":"VHF35*'Makro i swap'!VHD4","v":0},{"$f":"VHG35*'Makro i swap'!VHE4","v":0},{"$f":"VHH35*'Makro i swap'!VHF4","v":0},{"$f":"VHI35*'Makro i swap'!VHG4","v":0},{"$f":"VHJ35*'Makro i swap'!VHH4","v":0},{"$f":"VHK35*'Makro i swap'!VHI4","v":0},{"$f":"VHL35*'Makro i swap'!VHJ4","v":0},{"$f":"VHM35*'Makro i swap'!VHK4","v":0},{"$f":"VHN35*'Makro i swap'!VHL4","v":0},{"$f":"VHO35*'Makro i swap'!VHM4","v":0},{"$f":"VHP35*'Makro i swap'!VHN4","v":0},{"$f":"VHQ35*'Makro i swap'!VHO4","v":0},{"$f":"VHR35*'Makro i swap'!VHP4","v":0},{"$f":"VHS35*'Makro i swap'!VHQ4","v":0},{"$f":"VHT35*'Makro i swap'!VHR4","v":0},{"$f":"VHU35*'Makro i swap'!VHS4","v":0},{"$f":"VHV35*'Makro i swap'!VHT4","v":0},{"$f":"VHW35*'Makro i swap'!VHU4","v":0},{"$f":"VHX35*'Makro i swap'!VHV4","v":0},{"$f":"VHY35*'Makro i swap'!VHW4","v":0},{"$f":"VHZ35*'Makro i swap'!VHX4","v":0},{"$f":"VIA35*'Makro i swap'!VHY4","v":0},{"$f":"VIB35*'Makro i swap'!VHZ4","v":0},{"$f":"VIC35*'Makro i swap'!VIA4","v":0},{"$f":"VID35*'Makro i swap'!VIB4","v":0},{"$f":"VIE35*'Makro i swap'!VIC4","v":0},{"$f":"VIF35*'Makro i swap'!VID4","v":0},{"$f":"VIG35*'Makro i swap'!VIE4","v":0},{"$f":"VIH35*'Makro i swap'!VIF4","v":0},{"$f":"VII35*'Makro i swap'!VIG4","v":0},{"$f":"VIJ35*'Makro i swap'!VIH4","v":0},{"$f":"VIK35*'Makro i swap'!VII4","v":0},{"$f":"VIL35*'Makro i swap'!VIJ4","v":0},{"$f":"VIM35*'Makro i swap'!VIK4","v":0},{"$f":"VIN35*'Makro i swap'!VIL4","v":0},{"$f":"VIO35*'Makro i swap'!VIM4","v":0},{"$f":"VIP35*'Makro i swap'!VIN4","v":0},{"$f":"VIQ35*'Makro i swap'!VIO4","v":0},{"$f":"VIR35*'Makro i swap'!VIP4","v":0},{"$f":"VIS35*'Makro i swap'!VIQ4","v":0},{"$f":"VIT35*'Makro i swap'!VIR4","v":0},{"$f":"VIU35*'Makro i swap'!VIS4","v":0},{"$f":"VIV35*'Makro i swap'!VIT4","v":0},{"$f":"VIW35*'Makro i swap'!VIU4","v":0},{"$f":"VIX35*'Makro i swap'!VIV4","v":0},{"$f":"VIY35*'Makro i swap'!VIW4","v":0},{"$f":"VIZ35*'Makro i swap'!VIX4","v":0},{"$f":"VJA35*'Makro i swap'!VIY4","v":0},{"$f":"VJB35*'Makro i swap'!VIZ4","v":0},{"$f":"VJC35*'Makro i swap'!VJA4","v":0},{"$f":"VJD35*'Makro i swap'!VJB4","v":0},{"$f":"VJE35*'Makro i swap'!VJC4","v":0},{"$f":"VJF35*'Makro i swap'!VJD4","v":0},{"$f":"VJG35*'Makro i swap'!VJE4","v":0},{"$f":"VJH35*'Makro i swap'!VJF4","v":0},{"$f":"VJI35*'Makro i swap'!VJG4","v":0},{"$f":"VJJ35*'Makro i swap'!VJH4","v":0},{"$f":"VJK35*'Makro i swap'!VJI4","v":0},{"$f":"VJL35*'Makro i swap'!VJJ4","v":0},{"$f":"VJM35*'Makro i swap'!VJK4","v":0},{"$f":"VJN35*'Makro i swap'!VJL4","v":0},{"$f":"VJO35*'Makro i swap'!VJM4","v":0},{"$f":"VJP35*'Makro i swap'!VJN4","v":0},{"$f":"VJQ35*'Makro i swap'!VJO4","v":0},{"$f":"VJR35*'Makro i swap'!VJP4","v":0},{"$f":"VJS35*'Makro i swap'!VJQ4","v":0},{"$f":"VJT35*'Makro i swap'!VJR4","v":0},{"$f":"VJU35*'Makro i swap'!VJS4","v":0},{"$f":"VJV35*'Makro i swap'!VJT4","v":0},{"$f":"VJW35*'Makro i swap'!VJU4","v":0},{"$f":"VJX35*'Makro i swap'!VJV4","v":0},{"$f":"VJY35*'Makro i swap'!VJW4","v":0},{"$f":"VJZ35*'Makro i swap'!VJX4","v":0},{"$f":"VKA35*'Makro i swap'!VJY4","v":0},{"$f":"VKB35*'Makro i swap'!VJZ4","v":0},{"$f":"VKC35*'Makro i swap'!VKA4","v":0},{"$f":"VKD35*'Makro i swap'!VKB4","v":0},{"$f":"VKE35*'Makro i swap'!VKC4","v":0},{"$f":"VKF35*'Makro i swap'!VKD4","v":0},{"$f":"VKG35*'Makro i swap'!VKE4","v":0},{"$f":"VKH35*'Makro i swap'!VKF4","v":0},{"$f":"VKI35*'Makro i swap'!VKG4","v":0},{"$f":"VKJ35*'Makro i swap'!VKH4","v":0},{"$f":"VKK35*'Makro i swap'!VKI4","v":0},{"$f":"VKL35*'Makro i swap'!VKJ4","v":0},{"$f":"VKM35*'Makro i swap'!VKK4","v":0},{"$f":"VKN35*'Makro i swap'!VKL4","v":0},{"$f":"VKO35*'Makro i swap'!VKM4","v":0},{"$f":"VKP35*'Makro i swap'!VKN4","v":0},{"$f":"VKQ35*'Makro i swap'!VKO4","v":0},{"$f":"VKR35*'Makro i swap'!VKP4","v":0},{"$f":"VKS35*'Makro i swap'!VKQ4","v":0},{"$f":"VKT35*'Makro i swap'!VKR4","v":0},{"$f":"VKU35*'Makro i swap'!VKS4","v":0},{"$f":"VKV35*'Makro i swap'!VKT4","v":0},{"$f":"VKW35*'Makro i swap'!VKU4","v":0},{"$f":"VKX35*'Makro i swap'!VKV4","v":0},{"$f":"VKY35*'Makro i swap'!VKW4","v":0},{"$f":"VKZ35*'Makro i swap'!VKX4","v":0},{"$f":"VLA35*'Makro i swap'!VKY4","v":0},{"$f":"VLB35*'Makro i swap'!VKZ4","v":0},{"$f":"VLC35*'Makro i swap'!VLA4","v":0},{"$f":"VLD35*'Makro i swap'!VLB4","v":0},{"$f":"VLE35*'Makro i swap'!VLC4","v":0},{"$f":"VLF35*'Makro i swap'!VLD4","v":0},{"$f":"VLG35*'Makro i swap'!VLE4","v":0},{"$f":"VLH35*'Makro i swap'!VLF4","v":0},{"$f":"VLI35*'Makro i swap'!VLG4","v":0},{"$f":"VLJ35*'Makro i swap'!VLH4","v":0},{"$f":"VLK35*'Makro i swap'!VLI4","v":0},{"$f":"VLL35*'Makro i swap'!VLJ4","v":0},{"$f":"VLM35*'Makro i swap'!VLK4","v":0},{"$f":"VLN35*'Makro i swap'!VLL4","v":0},{"$f":"VLO35*'Makro i swap'!VLM4","v":0},{"$f":"VLP35*'Makro i swap'!VLN4","v":0},{"$f":"VLQ35*'Makro i swap'!VLO4","v":0},{"$f":"VLR35*'Makro i swap'!VLP4","v":0},{"$f":"VLS35*'Makro i swap'!VLQ4","v":0},{"$f":"VLT35*'Makro i swap'!VLR4","v":0},{"$f":"VLU35*'Makro i swap'!VLS4","v":0},{"$f":"VLV35*'Makro i swap'!VLT4","v":0},{"$f":"VLW35*'Makro i swap'!VLU4","v":0},{"$f":"VLX35*'Makro i swap'!VLV4","v":0},{"$f":"VLY35*'Makro i swap'!VLW4","v":0},{"$f":"VLZ35*'Makro i swap'!VLX4","v":0},{"$f":"VMA35*'Makro i swap'!VLY4","v":0},{"$f":"VMB35*'Makro i swap'!VLZ4","v":0},{"$f":"VMC35*'Makro i swap'!VMA4","v":0},{"$f":"VMD35*'Makro i swap'!VMB4","v":0},{"$f":"VME35*'Makro i swap'!VMC4","v":0},{"$f":"VMF35*'Makro i swap'!VMD4","v":0},{"$f":"VMG35*'Makro i swap'!VME4","v":0},{"$f":"VMH35*'Makro i swap'!VMF4","v":0},{"$f":"VMI35*'Makro i swap'!VMG4","v":0},{"$f":"VMJ35*'Makro i swap'!VMH4","v":0},{"$f":"VMK35*'Makro i swap'!VMI4","v":0},{"$f":"VML35*'Makro i swap'!VMJ4","v":0},{"$f":"VMM35*'Makro i swap'!VMK4","v":0},{"$f":"VMN35*'Makro i swap'!VML4","v":0},{"$f":"VMO35*'Makro i swap'!VMM4","v":0},{"$f":"VMP35*'Makro i swap'!VMN4","v":0},{"$f":"VMQ35*'Makro i swap'!VMO4","v":0},{"$f":"VMR35*'Makro i swap'!VMP4","v":0},{"$f":"VMS35*'Makro i swap'!VMQ4","v":0},{"$f":"VMT35*'Makro i swap'!VMR4","v":0},{"$f":"VMU35*'Makro i swap'!VMS4","v":0},{"$f":"VMV35*'Makro i swap'!VMT4","v":0},{"$f":"VMW35*'Makro i swap'!VMU4","v":0},{"$f":"VMX35*'Makro i swap'!VMV4","v":0},{"$f":"VMY35*'Makro i swap'!VMW4","v":0},{"$f":"VMZ35*'Makro i swap'!VMX4","v":0},{"$f":"VNA35*'Makro i swap'!VMY4","v":0},{"$f":"VNB35*'Makro i swap'!VMZ4","v":0},{"$f":"VNC35*'Makro i swap'!VNA4","v":0},{"$f":"VND35*'Makro i swap'!VNB4","v":0},{"$f":"VNE35*'Makro i swap'!VNC4","v":0},{"$f":"VNF35*'Makro i swap'!VND4","v":0},{"$f":"VNG35*'Makro i swap'!VNE4","v":0},{"$f":"VNH35*'Makro i swap'!VNF4","v":0},{"$f":"VNI35*'Makro i swap'!VNG4","v":0},{"$f":"VNJ35*'Makro i swap'!VNH4","v":0},{"$f":"VNK35*'Makro i swap'!VNI4","v":0},{"$f":"VNL35*'Makro i swap'!VNJ4","v":0},{"$f":"VNM35*'Makro i swap'!VNK4","v":0},{"$f":"VNN35*'Makro i swap'!VNL4","v":0},{"$f":"VNO35*'Makro i swap'!VNM4","v":0},{"$f":"VNP35*'Makro i swap'!VNN4","v":0},{"$f":"VNQ35*'Makro i swap'!VNO4","v":0},{"$f":"VNR35*'Makro i swap'!VNP4","v":0},{"$f":"VNS35*'Makro i swap'!VNQ4","v":0},{"$f":"VNT35*'Makro i swap'!VNR4","v":0},{"$f":"VNU35*'Makro i swap'!VNS4","v":0},{"$f":"VNV35*'Makro i swap'!VNT4","v":0},{"$f":"VNW35*'Makro i swap'!VNU4","v":0},{"$f":"VNX35*'Makro i swap'!VNV4","v":0},{"$f":"VNY35*'Makro i swap'!VNW4","v":0},{"$f":"VNZ35*'Makro i swap'!VNX4","v":0},{"$f":"VOA35*'Makro i swap'!VNY4","v":0},{"$f":"VOB35*'Makro i swap'!VNZ4","v":0},{"$f":"VOC35*'Makro i swap'!VOA4","v":0},{"$f":"VOD35*'Makro i swap'!VOB4","v":0},{"$f":"VOE35*'Makro i swap'!VOC4","v":0},{"$f":"VOF35*'Makro i swap'!VOD4","v":0},{"$f":"VOG35*'Makro i swap'!VOE4","v":0},{"$f":"VOH35*'Makro i swap'!VOF4","v":0},{"$f":"VOI35*'Makro i swap'!VOG4","v":0},{"$f":"VOJ35*'Makro i swap'!VOH4","v":0},{"$f":"VOK35*'Makro i swap'!VOI4","v":0},{"$f":"VOL35*'Makro i swap'!VOJ4","v":0},{"$f":"VOM35*'Makro i swap'!VOK4","v":0},{"$f":"VON35*'Makro i swap'!VOL4","v":0},{"$f":"VOO35*'Makro i swap'!VOM4","v":0},{"$f":"VOP35*'Makro i swap'!VON4","v":0},{"$f":"VOQ35*'Makro i swap'!VOO4","v":0},{"$f":"VOR35*'Makro i swap'!VOP4","v":0},{"$f":"VOS35*'Makro i swap'!VOQ4","v":0},{"$f":"VOT35*'Makro i swap'!VOR4","v":0},{"$f":"VOU35*'Makro i swap'!VOS4","v":0},{"$f":"VOV35*'Makro i swap'!VOT4","v":0},{"$f":"VOW35*'Makro i swap'!VOU4","v":0},{"$f":"VOX35*'Makro i swap'!VOV4","v":0},{"$f":"VOY35*'Makro i swap'!VOW4","v":0},{"$f":"VOZ35*'Makro i swap'!VOX4","v":0},{"$f":"VPA35*'Makro i swap'!VOY4","v":0},{"$f":"VPB35*'Makro i swap'!VOZ4","v":0},{"$f":"VPC35*'Makro i swap'!VPA4","v":0},{"$f":"VPD35*'Makro i swap'!VPB4","v":0},{"$f":"VPE35*'Makro i swap'!VPC4","v":0},{"$f":"VPF35*'Makro i swap'!VPD4","v":0},{"$f":"VPG35*'Makro i swap'!VPE4","v":0},{"$f":"VPH35*'Makro i swap'!VPF4","v":0},{"$f":"VPI35*'Makro i swap'!VPG4","v":0},{"$f":"VPJ35*'Makro i swap'!VPH4","v":0},{"$f":"VPK35*'Makro i swap'!VPI4","v":0},{"$f":"VPL35*'Makro i swap'!VPJ4","v":0},{"$f":"VPM35*'Makro i swap'!VPK4","v":0},{"$f":"VPN35*'Makro i swap'!VPL4","v":0},{"$f":"VPO35*'Makro i swap'!VPM4","v":0},{"$f":"VPP35*'Makro i swap'!VPN4","v":0},{"$f":"VPQ35*'Makro i swap'!VPO4","v":0},{"$f":"VPR35*'Makro i swap'!VPP4","v":0},{"$f":"VPS35*'Makro i swap'!VPQ4","v":0},{"$f":"VPT35*'Makro i swap'!VPR4","v":0},{"$f":"VPU35*'Makro i swap'!VPS4","v":0},{"$f":"VPV35*'Makro i swap'!VPT4","v":0},{"$f":"VPW35*'Makro i swap'!VPU4","v":0},{"$f":"VPX35*'Makro i swap'!VPV4","v":0},{"$f":"VPY35*'Makro i swap'!VPW4","v":0},{"$f":"VPZ35*'Makro i swap'!VPX4","v":0},{"$f":"VQA35*'Makro i swap'!VPY4","v":0},{"$f":"VQB35*'Makro i swap'!VPZ4","v":0},{"$f":"VQC35*'Makro i swap'!VQA4","v":0},{"$f":"VQD35*'Makro i swap'!VQB4","v":0},{"$f":"VQE35*'Makro i swap'!VQC4","v":0},{"$f":"VQF35*'Makro i swap'!VQD4","v":0},{"$f":"VQG35*'Makro i swap'!VQE4","v":0},{"$f":"VQH35*'Makro i swap'!VQF4","v":0},{"$f":"VQI35*'Makro i swap'!VQG4","v":0},{"$f":"VQJ35*'Makro i swap'!VQH4","v":0},{"$f":"VQK35*'Makro i swap'!VQI4","v":0},{"$f":"VQL35*'Makro i swap'!VQJ4","v":0},{"$f":"VQM35*'Makro i swap'!VQK4","v":0},{"$f":"VQN35*'Makro i swap'!VQL4","v":0},{"$f":"VQO35*'Makro i swap'!VQM4","v":0},{"$f":"VQP35*'Makro i swap'!VQN4","v":0},{"$f":"VQQ35*'Makro i swap'!VQO4","v":0},{"$f":"VQR35*'Makro i swap'!VQP4","v":0},{"$f":"VQS35*'Makro i swap'!VQQ4","v":0},{"$f":"VQT35*'Makro i swap'!VQR4","v":0},{"$f":"VQU35*'Makro i swap'!VQS4","v":0},{"$f":"VQV35*'Makro i swap'!VQT4","v":0},{"$f":"VQW35*'Makro i swap'!VQU4","v":0},{"$f":"VQX35*'Makro i swap'!VQV4","v":0},{"$f":"VQY35*'Makro i swap'!VQW4","v":0},{"$f":"VQZ35*'Makro i swap'!VQX4","v":0},{"$f":"VRA35*'Makro i swap'!VQY4","v":0},{"$f":"VRB35*'Makro i swap'!VQZ4","v":0},{"$f":"VRC35*'Makro i swap'!VRA4","v":0},{"$f":"VRD35*'Makro i swap'!VRB4","v":0},{"$f":"VRE35*'Makro i swap'!VRC4","v":0},{"$f":"VRF35*'Makro i swap'!VRD4","v":0},{"$f":"VRG35*'Makro i swap'!VRE4","v":0},{"$f":"VRH35*'Makro i swap'!VRF4","v":0},{"$f":"VRI35*'Makro i swap'!VRG4","v":0},{"$f":"VRJ35*'Makro i swap'!VRH4","v":0},{"$f":"VRK35*'Makro i swap'!VRI4","v":0},{"$f":"VRL35*'Makro i swap'!VRJ4","v":0},{"$f":"VRM35*'Makro i swap'!VRK4","v":0},{"$f":"VRN35*'Makro i swap'!VRL4","v":0},{"$f":"VRO35*'Makro i swap'!VRM4","v":0},{"$f":"VRP35*'Makro i swap'!VRN4","v":0},{"$f":"VRQ35*'Makro i swap'!VRO4","v":0},{"$f":"VRR35*'Makro i swap'!VRP4","v":0},{"$f":"VRS35*'Makro i swap'!VRQ4","v":0},{"$f":"VRT35*'Makro i swap'!VRR4","v":0},{"$f":"VRU35*'Makro i swap'!VRS4","v":0},{"$f":"VRV35*'Makro i swap'!VRT4","v":0},{"$f":"VRW35*'Makro i swap'!VRU4","v":0},{"$f":"VRX35*'Makro i swap'!VRV4","v":0},{"$f":"VRY35*'Makro i swap'!VRW4","v":0},{"$f":"VRZ35*'Makro i swap'!VRX4","v":0},{"$f":"VSA35*'Makro i swap'!VRY4","v":0},{"$f":"VSB35*'Makro i swap'!VRZ4","v":0},{"$f":"VSC35*'Makro i swap'!VSA4","v":0},{"$f":"VSD35*'Makro i swap'!VSB4","v":0},{"$f":"VSE35*'Makro i swap'!VSC4","v":0},{"$f":"VSF35*'Makro i swap'!VSD4","v":0},{"$f":"VSG35*'Makro i swap'!VSE4","v":0},{"$f":"VSH35*'Makro i swap'!VSF4","v":0},{"$f":"VSI35*'Makro i swap'!VSG4","v":0},{"$f":"VSJ35*'Makro i swap'!VSH4","v":0},{"$f":"VSK35*'Makro i swap'!VSI4","v":0},{"$f":"VSL35*'Makro i swap'!VSJ4","v":0},{"$f":"VSM35*'Makro i swap'!VSK4","v":0},{"$f":"VSN35*'Makro i swap'!VSL4","v":0},{"$f":"VSO35*'Makro i swap'!VSM4","v":0},{"$f":"VSP35*'Makro i swap'!VSN4","v":0},{"$f":"VSQ35*'Makro i swap'!VSO4","v":0},{"$f":"VSR35*'Makro i swap'!VSP4","v":0},{"$f":"VSS35*'Makro i swap'!VSQ4","v":0},{"$f":"VST35*'Makro i swap'!VSR4","v":0},{"$f":"VSU35*'Makro i swap'!VSS4","v":0},{"$f":"VSV35*'Makro i swap'!VST4","v":0},{"$f":"VSW35*'Makro i swap'!VSU4","v":0},{"$f":"VSX35*'Makro i swap'!VSV4","v":0},{"$f":"VSY35*'Makro i swap'!VSW4","v":0},{"$f":"VSZ35*'Makro i swap'!VSX4","v":0},{"$f":"VTA35*'Makro i swap'!VSY4","v":0},{"$f":"VTB35*'Makro i swap'!VSZ4","v":0},{"$f":"VTC35*'Makro i swap'!VTA4","v":0},{"$f":"VTD35*'Makro i swap'!VTB4","v":0},{"$f":"VTE35*'Makro i swap'!VTC4","v":0},{"$f":"VTF35*'Makro i swap'!VTD4","v":0},{"$f":"VTG35*'Makro i swap'!VTE4","v":0},{"$f":"VTH35*'Makro i swap'!VTF4","v":0},{"$f":"VTI35*'Makro i swap'!VTG4","v":0},{"$f":"VTJ35*'Makro i swap'!VTH4","v":0},{"$f":"VTK35*'Makro i swap'!VTI4","v":0},{"$f":"VTL35*'Makro i swap'!VTJ4","v":0},{"$f":"VTM35*'Makro i swap'!VTK4","v":0},{"$f":"VTN35*'Makro i swap'!VTL4","v":0},{"$f":"VTO35*'Makro i swap'!VTM4","v":0},{"$f":"VTP35*'Makro i swap'!VTN4","v":0},{"$f":"VTQ35*'Makro i swap'!VTO4","v":0},{"$f":"VTR35*'Makro i swap'!VTP4","v":0},{"$f":"VTS35*'Makro i swap'!VTQ4","v":0},{"$f":"VTT35*'Makro i swap'!VTR4","v":0},{"$f":"VTU35*'Makro i swap'!VTS4","v":0},{"$f":"VTV35*'Makro i swap'!VTT4","v":0},{"$f":"VTW35*'Makro i swap'!VTU4","v":0},{"$f":"VTX35*'Makro i swap'!VTV4","v":0},{"$f":"VTY35*'Makro i swap'!VTW4","v":0},{"$f":"VTZ35*'Makro i swap'!VTX4","v":0},{"$f":"VUA35*'Makro i swap'!VTY4","v":0},{"$f":"VUB35*'Makro i swap'!VTZ4","v":0},{"$f":"VUC35*'Makro i swap'!VUA4","v":0},{"$f":"VUD35*'Makro i swap'!VUB4","v":0},{"$f":"VUE35*'Makro i swap'!VUC4","v":0},{"$f":"VUF35*'Makro i swap'!VUD4","v":0},{"$f":"VUG35*'Makro i swap'!VUE4","v":0},{"$f":"VUH35*'Makro i swap'!VUF4","v":0},{"$f":"VUI35*'Makro i swap'!VUG4","v":0},{"$f":"VUJ35*'Makro i swap'!VUH4","v":0},{"$f":"VUK35*'Makro i swap'!VUI4","v":0},{"$f":"VUL35*'Makro i swap'!VUJ4","v":0},{"$f":"VUM35*'Makro i swap'!VUK4","v":0},{"$f":"VUN35*'Makro i swap'!VUL4","v":0},{"$f":"VUO35*'Makro i swap'!VUM4","v":0},{"$f":"VUP35*'Makro i swap'!VUN4","v":0},{"$f":"VUQ35*'Makro i swap'!VUO4","v":0},{"$f":"VUR35*'Makro i swap'!VUP4","v":0},{"$f":"VUS35*'Makro i swap'!VUQ4","v":0},{"$f":"VUT35*'Makro i swap'!VUR4","v":0},{"$f":"VUU35*'Makro i swap'!VUS4","v":0},{"$f":"VUV35*'Makro i swap'!VUT4","v":0},{"$f":"VUW35*'Makro i swap'!VUU4","v":0},{"$f":"VUX35*'Makro i swap'!VUV4","v":0},{"$f":"VUY35*'Makro i swap'!VUW4","v":0},{"$f":"VUZ35*'Makro i swap'!VUX4","v":0},{"$f":"VVA35*'Makro i swap'!VUY4","v":0},{"$f":"VVB35*'Makro i swap'!VUZ4","v":0},{"$f":"VVC35*'Makro i swap'!VVA4","v":0},{"$f":"VVD35*'Makro i swap'!VVB4","v":0},{"$f":"VVE35*'Makro i swap'!VVC4","v":0},{"$f":"VVF35*'Makro i swap'!VVD4","v":0},{"$f":"VVG35*'Makro i swap'!VVE4","v":0},{"$f":"VVH35*'Makro i swap'!VVF4","v":0},{"$f":"VVI35*'Makro i swap'!VVG4","v":0},{"$f":"VVJ35*'Makro i swap'!VVH4","v":0},{"$f":"VVK35*'Makro i swap'!VVI4","v":0},{"$f":"VVL35*'Makro i swap'!VVJ4","v":0},{"$f":"VVM35*'Makro i swap'!VVK4","v":0},{"$f":"VVN35*'Makro i swap'!VVL4","v":0},{"$f":"VVO35*'Makro i swap'!VVM4","v":0},{"$f":"VVP35*'Makro i swap'!VVN4","v":0},{"$f":"VVQ35*'Makro i swap'!VVO4","v":0},{"$f":"VVR35*'Makro i swap'!VVP4","v":0},{"$f":"VVS35*'Makro i swap'!VVQ4","v":0},{"$f":"VVT35*'Makro i swap'!VVR4","v":0},{"$f":"VVU35*'Makro i swap'!VVS4","v":0},{"$f":"VVV35*'Makro i swap'!VVT4","v":0},{"$f":"VVW35*'Makro i swap'!VVU4","v":0},{"$f":"VVX35*'Makro i swap'!VVV4","v":0},{"$f":"VVY35*'Makro i swap'!VVW4","v":0},{"$f":"VVZ35*'Makro i swap'!VVX4","v":0},{"$f":"VWA35*'Makro i swap'!VVY4","v":0},{"$f":"VWB35*'Makro i swap'!VVZ4","v":0},{"$f":"VWC35*'Makro i swap'!VWA4","v":0},{"$f":"VWD35*'Makro i swap'!VWB4","v":0},{"$f":"VWE35*'Makro i swap'!VWC4","v":0},{"$f":"VWF35*'Makro i swap'!VWD4","v":0},{"$f":"VWG35*'Makro i swap'!VWE4","v":0},{"$f":"VWH35*'Makro i swap'!VWF4","v":0},{"$f":"VWI35*'Makro i swap'!VWG4","v":0},{"$f":"VWJ35*'Makro i swap'!VWH4","v":0},{"$f":"VWK35*'Makro i swap'!VWI4","v":0},{"$f":"VWL35*'Makro i swap'!VWJ4","v":0},{"$f":"VWM35*'Makro i swap'!VWK4","v":0},{"$f":"VWN35*'Makro i swap'!VWL4","v":0},{"$f":"VWO35*'Makro i swap'!VWM4","v":0},{"$f":"VWP35*'Makro i swap'!VWN4","v":0},{"$f":"VWQ35*'Makro i swap'!VWO4","v":0},{"$f":"VWR35*'Makro i swap'!VWP4","v":0},{"$f":"VWS35*'Makro i swap'!VWQ4","v":0},{"$f":"VWT35*'Makro i swap'!VWR4","v":0},{"$f":"VWU35*'Makro i swap'!VWS4","v":0},{"$f":"VWV35*'Makro i swap'!VWT4","v":0},{"$f":"VWW35*'Makro i swap'!VWU4","v":0},{"$f":"VWX35*'Makro i swap'!VWV4","v":0},{"$f":"VWY35*'Makro i swap'!VWW4","v":0},{"$f":"VWZ35*'Makro i swap'!VWX4","v":0},{"$f":"VXA35*'Makro i swap'!VWY4","v":0},{"$f":"VXB35*'Makro i swap'!VWZ4","v":0},{"$f":"VXC35*'Makro i swap'!VXA4","v":0},{"$f":"VXD35*'Makro i swap'!VXB4","v":0},{"$f":"VXE35*'Makro i swap'!VXC4","v":0},{"$f":"VXF35*'Makro i swap'!VXD4","v":0},{"$f":"VXG35*'Makro i swap'!VXE4","v":0},{"$f":"VXH35*'Makro i swap'!VXF4","v":0},{"$f":"VXI35*'Makro i swap'!VXG4","v":0},{"$f":"VXJ35*'Makro i swap'!VXH4","v":0},{"$f":"VXK35*'Makro i swap'!VXI4","v":0},{"$f":"VXL35*'Makro i swap'!VXJ4","v":0},{"$f":"VXM35*'Makro i swap'!VXK4","v":0},{"$f":"VXN35*'Makro i swap'!VXL4","v":0},{"$f":"VXO35*'Makro i swap'!VXM4","v":0},{"$f":"VXP35*'Makro i swap'!VXN4","v":0},{"$f":"VXQ35*'Makro i swap'!VXO4","v":0},{"$f":"VXR35*'Makro i swap'!VXP4","v":0},{"$f":"VXS35*'Makro i swap'!VXQ4","v":0},{"$f":"VXT35*'Makro i swap'!VXR4","v":0},{"$f":"VXU35*'Makro i swap'!VXS4","v":0},{"$f":"VXV35*'Makro i swap'!VXT4","v":0},{"$f":"VXW35*'Makro i swap'!VXU4","v":0},{"$f":"VXX35*'Makro i swap'!VXV4","v":0},{"$f":"VXY35*'Makro i swap'!VXW4","v":0},{"$f":"VXZ35*'Makro i swap'!VXX4","v":0},{"$f":"VYA35*'Makro i swap'!VXY4","v":0},{"$f":"VYB35*'Makro i swap'!VXZ4","v":0},{"$f":"VYC35*'Makro i swap'!VYA4","v":0},{"$f":"VYD35*'Makro i swap'!VYB4","v":0},{"$f":"VYE35*'Makro i swap'!VYC4","v":0},{"$f":"VYF35*'Makro i swap'!VYD4","v":0},{"$f":"VYG35*'Makro i swap'!VYE4","v":0},{"$f":"VYH35*'Makro i swap'!VYF4","v":0},{"$f":"VYI35*'Makro i swap'!VYG4","v":0},{"$f":"VYJ35*'Makro i swap'!VYH4","v":0},{"$f":"VYK35*'Makro i swap'!VYI4","v":0},{"$f":"VYL35*'Makro i swap'!VYJ4","v":0},{"$f":"VYM35*'Makro i swap'!VYK4","v":0},{"$f":"VYN35*'Makro i swap'!VYL4","v":0},{"$f":"VYO35*'Makro i swap'!VYM4","v":0},{"$f":"VYP35*'Makro i swap'!VYN4","v":0},{"$f":"VYQ35*'Makro i swap'!VYO4","v":0},{"$f":"VYR35*'Makro i swap'!VYP4","v":0},{"$f":"VYS35*'Makro i swap'!VYQ4","v":0},{"$f":"VYT35*'Makro i swap'!VYR4","v":0},{"$f":"VYU35*'Makro i swap'!VYS4","v":0},{"$f":"VYV35*'Makro i swap'!VYT4","v":0},{"$f":"VYW35*'Makro i swap'!VYU4","v":0},{"$f":"VYX35*'Makro i swap'!VYV4","v":0},{"$f":"VYY35*'Makro i swap'!VYW4","v":0},{"$f":"VYZ35*'Makro i swap'!VYX4","v":0},{"$f":"VZA35*'Makro i swap'!VYY4","v":0},{"$f":"VZB35*'Makro i swap'!VYZ4","v":0},{"$f":"VZC35*'Makro i swap'!VZA4","v":0},{"$f":"VZD35*'Makro i swap'!VZB4","v":0},{"$f":"VZE35*'Makro i swap'!VZC4","v":0},{"$f":"VZF35*'Makro i swap'!VZD4","v":0},{"$f":"VZG35*'Makro i swap'!VZE4","v":0},{"$f":"VZH35*'Makro i swap'!VZF4","v":0},{"$f":"VZI35*'Makro i swap'!VZG4","v":0},{"$f":"VZJ35*'Makro i swap'!VZH4","v":0},{"$f":"VZK35*'Makro i swap'!VZI4","v":0},{"$f":"VZL35*'Makro i swap'!VZJ4","v":0},{"$f":"VZM35*'Makro i swap'!VZK4","v":0},{"$f":"VZN35*'Makro i swap'!VZL4","v":0},{"$f":"VZO35*'Makro i swap'!VZM4","v":0},{"$f":"VZP35*'Makro i swap'!VZN4","v":0},{"$f":"VZQ35*'Makro i swap'!VZO4","v":0},{"$f":"VZR35*'Makro i swap'!VZP4","v":0},{"$f":"VZS35*'Makro i swap'!VZQ4","v":0},{"$f":"VZT35*'Makro i swap'!VZR4","v":0},{"$f":"VZU35*'Makro i swap'!VZS4","v":0},{"$f":"VZV35*'Makro i swap'!VZT4","v":0},{"$f":"VZW35*'Makro i swap'!VZU4","v":0},{"$f":"VZX35*'Makro i swap'!VZV4","v":0},{"$f":"VZY35*'Makro i swap'!VZW4","v":0},{"$f":"VZZ35*'Makro i swap'!VZX4","v":0},{"$f":"WAA35*'Makro i swap'!VZY4","v":0},{"$f":"WAB35*'Makro i swap'!VZZ4","v":0},{"$f":"WAC35*'Makro i swap'!WAA4","v":0},{"$f":"WAD35*'Makro i swap'!WAB4","v":0},{"$f":"WAE35*'Makro i swap'!WAC4","v":0},{"$f":"WAF35*'Makro i swap'!WAD4","v":0},{"$f":"WAG35*'Makro i swap'!WAE4","v":0},{"$f":"WAH35*'Makro i swap'!WAF4","v":0},{"$f":"WAI35*'Makro i swap'!WAG4","v":0},{"$f":"WAJ35*'Makro i swap'!WAH4","v":0},{"$f":"WAK35*'Makro i swap'!WAI4","v":0},{"$f":"WAL35*'Makro i swap'!WAJ4","v":0},{"$f":"WAM35*'Makro i swap'!WAK4","v":0},{"$f":"WAN35*'Makro i swap'!WAL4","v":0},{"$f":"WAO35*'Makro i swap'!WAM4","v":0},{"$f":"WAP35*'Makro i swap'!WAN4","v":0},{"$f":"WAQ35*'Makro i swap'!WAO4","v":0},{"$f":"WAR35*'Makro i swap'!WAP4","v":0},{"$f":"WAS35*'Makro i swap'!WAQ4","v":0},{"$f":"WAT35*'Makro i swap'!WAR4","v":0},{"$f":"WAU35*'Makro i swap'!WAS4","v":0},{"$f":"WAV35*'Makro i swap'!WAT4","v":0},{"$f":"WAW35*'Makro i swap'!WAU4","v":0},{"$f":"WAX35*'Makro i swap'!WAV4","v":0},{"$f":"WAY35*'Makro i swap'!WAW4","v":0},{"$f":"WAZ35*'Makro i swap'!WAX4","v":0},{"$f":"WBA35*'Makro i swap'!WAY4","v":0},{"$f":"WBB35*'Makro i swap'!WAZ4","v":0},{"$f":"WBC35*'Makro i swap'!WBA4","v":0},{"$f":"WBD35*'Makro i swap'!WBB4","v":0},{"$f":"WBE35*'Makro i swap'!WBC4","v":0},{"$f":"WBF35*'Makro i swap'!WBD4","v":0},{"$f":"WBG35*'Makro i swap'!WBE4","v":0},{"$f":"WBH35*'Makro i swap'!WBF4","v":0},{"$f":"WBI35*'Makro i swap'!WBG4","v":0},{"$f":"WBJ35*'Makro i swap'!WBH4","v":0},{"$f":"WBK35*'Makro i swap'!WBI4","v":0},{"$f":"WBL35*'Makro i swap'!WBJ4","v":0},{"$f":"WBM35*'Makro i swap'!WBK4","v":0},{"$f":"WBN35*'Makro i swap'!WBL4","v":0},{"$f":"WBO35*'Makro i swap'!WBM4","v":0},{"$f":"WBP35*'Makro i swap'!WBN4","v":0},{"$f":"WBQ35*'Makro i swap'!WBO4","v":0},{"$f":"WBR35*'Makro i swap'!WBP4","v":0},{"$f":"WBS35*'Makro i swap'!WBQ4","v":0},{"$f":"WBT35*'Makro i swap'!WBR4","v":0},{"$f":"WBU35*'Makro i swap'!WBS4","v":0},{"$f":"WBV35*'Makro i swap'!WBT4","v":0},{"$f":"WBW35*'Makro i swap'!WBU4","v":0},{"$f":"WBX35*'Makro i swap'!WBV4","v":0},{"$f":"WBY35*'Makro i swap'!WBW4","v":0},{"$f":"WBZ35*'Makro i swap'!WBX4","v":0},{"$f":"WCA35*'Makro i swap'!WBY4","v":0},{"$f":"WCB35*'Makro i swap'!WBZ4","v":0},{"$f":"WCC35*'Makro i swap'!WCA4","v":0},{"$f":"WCD35*'Makro i swap'!WCB4","v":0},{"$f":"WCE35*'Makro i swap'!WCC4","v":0},{"$f":"WCF35*'Makro i swap'!WCD4","v":0},{"$f":"WCG35*'Makro i swap'!WCE4","v":0},{"$f":"WCH35*'Makro i swap'!WCF4","v":0},{"$f":"WCI35*'Makro i swap'!WCG4","v":0},{"$f":"WCJ35*'Makro i swap'!WCH4","v":0},{"$f":"WCK35*'Makro i swap'!WCI4","v":0},{"$f":"WCL35*'Makro i swap'!WCJ4","v":0},{"$f":"WCM35*'Makro i swap'!WCK4","v":0},{"$f":"WCN35*'Makro i swap'!WCL4","v":0},{"$f":"WCO35*'Makro i swap'!WCM4","v":0},{"$f":"WCP35*'Makro i swap'!WCN4","v":0},{"$f":"WCQ35*'Makro i swap'!WCO4","v":0},{"$f":"WCR35*'Makro i swap'!WCP4","v":0},{"$f":"WCS35*'Makro i swap'!WCQ4","v":0},{"$f":"WCT35*'Makro i swap'!WCR4","v":0},{"$f":"WCU35*'Makro i swap'!WCS4","v":0},{"$f":"WCV35*'Makro i swap'!WCT4","v":0},{"$f":"WCW35*'Makro i swap'!WCU4","v":0},{"$f":"WCX35*'Makro i swap'!WCV4","v":0},{"$f":"WCY35*'Makro i swap'!WCW4","v":0},{"$f":"WCZ35*'Makro i swap'!WCX4","v":0},{"$f":"WDA35*'Makro i swap'!WCY4","v":0},{"$f":"WDB35*'Makro i swap'!WCZ4","v":0},{"$f":"WDC35*'Makro i swap'!WDA4","v":0},{"$f":"WDD35*'Makro i swap'!WDB4","v":0},{"$f":"WDE35*'Makro i swap'!WDC4","v":0},{"$f":"WDF35*'Makro i swap'!WDD4","v":0},{"$f":"WDG35*'Makro i swap'!WDE4","v":0},{"$f":"WDH35*'Makro i swap'!WDF4","v":0},{"$f":"WDI35*'Makro i swap'!WDG4","v":0},{"$f":"WDJ35*'Makro i swap'!WDH4","v":0},{"$f":"WDK35*'Makro i swap'!WDI4","v":0},{"$f":"WDL35*'Makro i swap'!WDJ4","v":0},{"$f":"WDM35*'Makro i swap'!WDK4","v":0},{"$f":"WDN35*'Makro i swap'!WDL4","v":0},{"$f":"WDO35*'Makro i swap'!WDM4","v":0},{"$f":"WDP35*'Makro i swap'!WDN4","v":0},{"$f":"WDQ35*'Makro i swap'!WDO4","v":0},{"$f":"WDR35*'Makro i swap'!WDP4","v":0},{"$f":"WDS35*'Makro i swap'!WDQ4","v":0},{"$f":"WDT35*'Makro i swap'!WDR4","v":0},{"$f":"WDU35*'Makro i swap'!WDS4","v":0},{"$f":"WDV35*'Makro i swap'!WDT4","v":0},{"$f":"WDW35*'Makro i swap'!WDU4","v":0},{"$f":"WDX35*'Makro i swap'!WDV4","v":0},{"$f":"WDY35*'Makro i swap'!WDW4","v":0},{"$f":"WDZ35*'Makro i swap'!WDX4","v":0},{"$f":"WEA35*'Makro i swap'!WDY4","v":0},{"$f":"WEB35*'Makro i swap'!WDZ4","v":0},{"$f":"WEC35*'Makro i swap'!WEA4","v":0},{"$f":"WED35*'Makro i swap'!WEB4","v":0},{"$f":"WEE35*'Makro i swap'!WEC4","v":0},{"$f":"WEF35*'Makro i swap'!WED4","v":0},{"$f":"WEG35*'Makro i swap'!WEE4","v":0},{"$f":"WEH35*'Makro i swap'!WEF4","v":0},{"$f":"WEI35*'Makro i swap'!WEG4","v":0},{"$f":"WEJ35*'Makro i swap'!WEH4","v":0},{"$f":"WEK35*'Makro i swap'!WEI4","v":0},{"$f":"WEL35*'Makro i swap'!WEJ4","v":0},{"$f":"WEM35*'Makro i swap'!WEK4","v":0},{"$f":"WEN35*'Makro i swap'!WEL4","v":0},{"$f":"WEO35*'Makro i swap'!WEM4","v":0},{"$f":"WEP35*'Makro i swap'!WEN4","v":0},{"$f":"WEQ35*'Makro i swap'!WEO4","v":0},{"$f":"WER35*'Makro i swap'!WEP4","v":0},{"$f":"WES35*'Makro i swap'!WEQ4","v":0},{"$f":"WET35*'Makro i swap'!WER4","v":0},{"$f":"WEU35*'Makro i swap'!WES4","v":0},{"$f":"WEV35*'Makro i swap'!WET4","v":0},{"$f":"WEW35*'Makro i swap'!WEU4","v":0},{"$f":"WEX35*'Makro i swap'!WEV4","v":0},{"$f":"WEY35*'Makro i swap'!WEW4","v":0},{"$f":"WEZ35*'Makro i swap'!WEX4","v":0},{"$f":"WFA35*'Makro i swap'!WEY4","v":0},{"$f":"WFB35*'Makro i swap'!WEZ4","v":0},{"$f":"WFC35*'Makro i swap'!WFA4","v":0},{"$f":"WFD35*'Makro i swap'!WFB4","v":0},{"$f":"WFE35*'Makro i swap'!WFC4","v":0},{"$f":"WFF35*'Makro i swap'!WFD4","v":0},{"$f":"WFG35*'Makro i swap'!WFE4","v":0},{"$f":"WFH35*'Makro i swap'!WFF4","v":0},{"$f":"WFI35*'Makro i swap'!WFG4","v":0},{"$f":"WFJ35*'Makro i swap'!WFH4","v":0},{"$f":"WFK35*'Makro i swap'!WFI4","v":0},{"$f":"WFL35*'Makro i swap'!WFJ4","v":0},{"$f":"WFM35*'Makro i swap'!WFK4","v":0},{"$f":"WFN35*'Makro i swap'!WFL4","v":0},{"$f":"WFO35*'Makro i swap'!WFM4","v":0},{"$f":"WFP35*'Makro i swap'!WFN4","v":0},{"$f":"WFQ35*'Makro i swap'!WFO4","v":0},{"$f":"WFR35*'Makro i swap'!WFP4","v":0},{"$f":"WFS35*'Makro i swap'!WFQ4","v":0},{"$f":"WFT35*'Makro i swap'!WFR4","v":0},{"$f":"WFU35*'Makro i swap'!WFS4","v":0},{"$f":"WFV35*'Makro i swap'!WFT4","v":0},{"$f":"WFW35*'Makro i swap'!WFU4","v":0},{"$f":"WFX35*'Makro i swap'!WFV4","v":0},{"$f":"WFY35*'Makro i swap'!WFW4","v":0},{"$f":"WFZ35*'Makro i swap'!WFX4","v":0},{"$f":"WGA35*'Makro i swap'!WFY4","v":0},{"$f":"WGB35*'Makro i swap'!WFZ4","v":0},{"$f":"WGC35*'Makro i swap'!WGA4","v":0},{"$f":"WGD35*'Makro i swap'!WGB4","v":0},{"$f":"WGE35*'Makro i swap'!WGC4","v":0},{"$f":"WGF35*'Makro i swap'!WGD4","v":0},{"$f":"WGG35*'Makro i swap'!WGE4","v":0},{"$f":"WGH35*'Makro i swap'!WGF4","v":0},{"$f":"WGI35*'Makro i swap'!WGG4","v":0},{"$f":"WGJ35*'Makro i swap'!WGH4","v":0},{"$f":"WGK35*'Makro i swap'!WGI4","v":0},{"$f":"WGL35*'Makro i swap'!WGJ4","v":0},{"$f":"WGM35*'Makro i swap'!WGK4","v":0},{"$f":"WGN35*'Makro i swap'!WGL4","v":0},{"$f":"WGO35*'Makro i swap'!WGM4","v":0},{"$f":"WGP35*'Makro i swap'!WGN4","v":0},{"$f":"WGQ35*'Makro i swap'!WGO4","v":0},{"$f":"WGR35*'Makro i swap'!WGP4","v":0},{"$f":"WGS35*'Makro i swap'!WGQ4","v":0},{"$f":"WGT35*'Makro i swap'!WGR4","v":0},{"$f":"WGU35*'Makro i swap'!WGS4","v":0},{"$f":"WGV35*'Makro i swap'!WGT4","v":0},{"$f":"WGW35*'Makro i swap'!WGU4","v":0},{"$f":"WGX35*'Makro i swap'!WGV4","v":0},{"$f":"WGY35*'Makro i swap'!WGW4","v":0},{"$f":"WGZ35*'Makro i swap'!WGX4","v":0},{"$f":"WHA35*'Makro i swap'!WGY4","v":0},{"$f":"WHB35*'Makro i swap'!WGZ4","v":0},{"$f":"WHC35*'Makro i swap'!WHA4","v":0},{"$f":"WHD35*'Makro i swap'!WHB4","v":0},{"$f":"WHE35*'Makro i swap'!WHC4","v":0},{"$f":"WHF35*'Makro i swap'!WHD4","v":0},{"$f":"WHG35*'Makro i swap'!WHE4","v":0},{"$f":"WHH35*'Makro i swap'!WHF4","v":0},{"$f":"WHI35*'Makro i swap'!WHG4","v":0},{"$f":"WHJ35*'Makro i swap'!WHH4","v":0},{"$f":"WHK35*'Makro i swap'!WHI4","v":0},{"$f":"WHL35*'Makro i swap'!WHJ4","v":0},{"$f":"WHM35*'Makro i swap'!WHK4","v":0},{"$f":"WHN35*'Makro i swap'!WHL4","v":0},{"$f":"WHO35*'Makro i swap'!WHM4","v":0},{"$f":"WHP35*'Makro i swap'!WHN4","v":0},{"$f":"WHQ35*'Makro i swap'!WHO4","v":0},{"$f":"WHR35*'Makro i swap'!WHP4","v":0},{"$f":"WHS35*'Makro i swap'!WHQ4","v":0},{"$f":"WHT35*'Makro i swap'!WHR4","v":0},{"$f":"WHU35*'Makro i swap'!WHS4","v":0},{"$f":"WHV35*'Makro i swap'!WHT4","v":0},{"$f":"WHW35*'Makro i swap'!WHU4","v":0},{"$f":"WHX35*'Makro i swap'!WHV4","v":0},{"$f":"WHY35*'Makro i swap'!WHW4","v":0},{"$f":"WHZ35*'Makro i swap'!WHX4","v":0},{"$f":"WIA35*'Makro i swap'!WHY4","v":0},{"$f":"WIB35*'Makro i swap'!WHZ4","v":0},{"$f":"WIC35*'Makro i swap'!WIA4","v":0},{"$f":"WID35*'Makro i swap'!WIB4","v":0},{"$f":"WIE35*'Makro i swap'!WIC4","v":0},{"$f":"WIF35*'Makro i swap'!WID4","v":0},{"$f":"WIG35*'Makro i swap'!WIE4","v":0},{"$f":"WIH35*'Makro i swap'!WIF4","v":0},{"$f":"WII35*'Makro i swap'!WIG4","v":0},{"$f":"WIJ35*'Makro i swap'!WIH4","v":0},{"$f":"WIK35*'Makro i swap'!WII4","v":0},{"$f":"WIL35*'Makro i swap'!WIJ4","v":0},{"$f":"WIM35*'Makro i swap'!WIK4","v":0},{"$f":"WIN35*'Makro i swap'!WIL4","v":0},{"$f":"WIO35*'Makro i swap'!WIM4","v":0},{"$f":"WIP35*'Makro i swap'!WIN4","v":0},{"$f":"WIQ35*'Makro i swap'!WIO4","v":0},{"$f":"WIR35*'Makro i swap'!WIP4","v":0},{"$f":"WIS35*'Makro i swap'!WIQ4","v":0},{"$f":"WIT35*'Makro i swap'!WIR4","v":0},{"$f":"WIU35*'Makro i swap'!WIS4","v":0},{"$f":"WIV35*'Makro i swap'!WIT4","v":0},{"$f":"WIW35*'Makro i swap'!WIU4","v":0},{"$f":"WIX35*'Makro i swap'!WIV4","v":0},{"$f":"WIY35*'Makro i swap'!WIW4","v":0},{"$f":"WIZ35*'Makro i swap'!WIX4","v":0},{"$f":"WJA35*'Makro i swap'!WIY4","v":0},{"$f":"WJB35*'Makro i swap'!WIZ4","v":0},{"$f":"WJC35*'Makro i swap'!WJA4","v":0},{"$f":"WJD35*'Makro i swap'!WJB4","v":0},{"$f":"WJE35*'Makro i swap'!WJC4","v":0},{"$f":"WJF35*'Makro i swap'!WJD4","v":0},{"$f":"WJG35*'Makro i swap'!WJE4","v":0},{"$f":"WJH35*'Makro i swap'!WJF4","v":0},{"$f":"WJI35*'Makro i swap'!WJG4","v":0},{"$f":"WJJ35*'Makro i swap'!WJH4","v":0},{"$f":"WJK35*'Makro i swap'!WJI4","v":0},{"$f":"WJL35*'Makro i swap'!WJJ4","v":0},{"$f":"WJM35*'Makro i swap'!WJK4","v":0},{"$f":"WJN35*'Makro i swap'!WJL4","v":0},{"$f":"WJO35*'Makro i swap'!WJM4","v":0},{"$f":"WJP35*'Makro i swap'!WJN4","v":0},{"$f":"WJQ35*'Makro i swap'!WJO4","v":0},{"$f":"WJR35*'Makro i swap'!WJP4","v":0},{"$f":"WJS35*'Makro i swap'!WJQ4","v":0},{"$f":"WJT35*'Makro i swap'!WJR4","v":0},{"$f":"WJU35*'Makro i swap'!WJS4","v":0},{"$f":"WJV35*'Makro i swap'!WJT4","v":0},{"$f":"WJW35*'Makro i swap'!WJU4","v":0},{"$f":"WJX35*'Makro i swap'!WJV4","v":0},{"$f":"WJY35*'Makro i swap'!WJW4","v":0},{"$f":"WJZ35*'Makro i swap'!WJX4","v":0},{"$f":"WKA35*'Makro i swap'!WJY4","v":0},{"$f":"WKB35*'Makro i swap'!WJZ4","v":0},{"$f":"WKC35*'Makro i swap'!WKA4","v":0},{"$f":"WKD35*'Makro i swap'!WKB4","v":0},{"$f":"WKE35*'Makro i swap'!WKC4","v":0},{"$f":"WKF35*'Makro i swap'!WKD4","v":0},{"$f":"WKG35*'Makro i swap'!WKE4","v":0},{"$f":"WKH35*'Makro i swap'!WKF4","v":0},{"$f":"WKI35*'Makro i swap'!WKG4","v":0},{"$f":"WKJ35*'Makro i swap'!WKH4","v":0},{"$f":"WKK35*'Makro i swap'!WKI4","v":0},{"$f":"WKL35*'Makro i swap'!WKJ4","v":0},{"$f":"WKM35*'Makro i swap'!WKK4","v":0},{"$f":"WKN35*'Makro i swap'!WKL4","v":0},{"$f":"WKO35*'Makro i swap'!WKM4","v":0},{"$f":"WKP35*'Makro i swap'!WKN4","v":0},{"$f":"WKQ35*'Makro i swap'!WKO4","v":0},{"$f":"WKR35*'Makro i swap'!WKP4","v":0},{"$f":"WKS35*'Makro i swap'!WKQ4","v":0},{"$f":"WKT35*'Makro i swap'!WKR4","v":0},{"$f":"WKU35*'Makro i swap'!WKS4","v":0},{"$f":"WKV35*'Makro i swap'!WKT4","v":0},{"$f":"WKW35*'Makro i swap'!WKU4","v":0},{"$f":"WKX35*'Makro i swap'!WKV4","v":0},{"$f":"WKY35*'Makro i swap'!WKW4","v":0},{"$f":"WKZ35*'Makro i swap'!WKX4","v":0},{"$f":"WLA35*'Makro i swap'!WKY4","v":0},{"$f":"WLB35*'Makro i swap'!WKZ4","v":0},{"$f":"WLC35*'Makro i swap'!WLA4","v":0},{"$f":"WLD35*'Makro i swap'!WLB4","v":0},{"$f":"WLE35*'Makro i swap'!WLC4","v":0},{"$f":"WLF35*'Makro i swap'!WLD4","v":0},{"$f":"WLG35*'Makro i swap'!WLE4","v":0},{"$f":"WLH35*'Makro i swap'!WLF4","v":0},{"$f":"WLI35*'Makro i swap'!WLG4","v":0},{"$f":"WLJ35*'Makro i swap'!WLH4","v":0},{"$f":"WLK35*'Makro i swap'!WLI4","v":0},{"$f":"WLL35*'Makro i swap'!WLJ4","v":0},{"$f":"WLM35*'Makro i swap'!WLK4","v":0},{"$f":"WLN35*'Makro i swap'!WLL4","v":0},{"$f":"WLO35*'Makro i swap'!WLM4","v":0},{"$f":"WLP35*'Makro i swap'!WLN4","v":0},{"$f":"WLQ35*'Makro i swap'!WLO4","v":0},{"$f":"WLR35*'Makro i swap'!WLP4","v":0},{"$f":"WLS35*'Makro i swap'!WLQ4","v":0},{"$f":"WLT35*'Makro i swap'!WLR4","v":0},{"$f":"WLU35*'Makro i swap'!WLS4","v":0},{"$f":"WLV35*'Makro i swap'!WLT4","v":0},{"$f":"WLW35*'Makro i swap'!WLU4","v":0},{"$f":"WLX35*'Makro i swap'!WLV4","v":0},{"$f":"WLY35*'Makro i swap'!WLW4","v":0},{"$f":"WLZ35*'Makro i swap'!WLX4","v":0},{"$f":"WMA35*'Makro i swap'!WLY4","v":0},{"$f":"WMB35*'Makro i swap'!WLZ4","v":0},{"$f":"WMC35*'Makro i swap'!WMA4","v":0},{"$f":"WMD35*'Makro i swap'!WMB4","v":0},{"$f":"WME35*'Makro i swap'!WMC4","v":0},{"$f":"WMF35*'Makro i swap'!WMD4","v":0},{"$f":"WMG35*'Makro i swap'!WME4","v":0},{"$f":"WMH35*'Makro i swap'!WMF4","v":0},{"$f":"WMI35*'Makro i swap'!WMG4","v":0},{"$f":"WMJ35*'Makro i swap'!WMH4","v":0},{"$f":"WMK35*'Makro i swap'!WMI4","v":0},{"$f":"WML35*'Makro i swap'!WMJ4","v":0},{"$f":"WMM35*'Makro i swap'!WMK4","v":0},{"$f":"WMN35*'Makro i swap'!WML4","v":0},{"$f":"WMO35*'Makro i swap'!WMM4","v":0},{"$f":"WMP35*'Makro i swap'!WMN4","v":0},{"$f":"WMQ35*'Makro i swap'!WMO4","v":0},{"$f":"WMR35*'Makro i swap'!WMP4","v":0},{"$f":"WMS35*'Makro i swap'!WMQ4","v":0},{"$f":"WMT35*'Makro i swap'!WMR4","v":0},{"$f":"WMU35*'Makro i swap'!WMS4","v":0},{"$f":"WMV35*'Makro i swap'!WMT4","v":0},{"$f":"WMW35*'Makro i swap'!WMU4","v":0},{"$f":"WMX35*'Makro i swap'!WMV4","v":0},{"$f":"WMY35*'Makro i swap'!WMW4","v":0},{"$f":"WMZ35*'Makro i swap'!WMX4","v":0},{"$f":"WNA35*'Makro i swap'!WMY4","v":0},{"$f":"WNB35*'Makro i swap'!WMZ4","v":0},{"$f":"WNC35*'Makro i swap'!WNA4","v":0},{"$f":"WND35*'Makro i swap'!WNB4","v":0},{"$f":"WNE35*'Makro i swap'!WNC4","v":0},{"$f":"WNF35*'Makro i swap'!WND4","v":0},{"$f":"WNG35*'Makro i swap'!WNE4","v":0},{"$f":"WNH35*'Makro i swap'!WNF4","v":0},{"$f":"WNI35*'Makro i swap'!WNG4","v":0},{"$f":"WNJ35*'Makro i swap'!WNH4","v":0},{"$f":"WNK35*'Makro i swap'!WNI4","v":0},{"$f":"WNL35*'Makro i swap'!WNJ4","v":0},{"$f":"WNM35*'Makro i swap'!WNK4","v":0},{"$f":"WNN35*'Makro i swap'!WNL4","v":0},{"$f":"WNO35*'Makro i swap'!WNM4","v":0},{"$f":"WNP35*'Makro i swap'!WNN4","v":0},{"$f":"WNQ35*'Makro i swap'!WNO4","v":0},{"$f":"WNR35*'Makro i swap'!WNP4","v":0},{"$f":"WNS35*'Makro i swap'!WNQ4","v":0},{"$f":"WNT35*'Makro i swap'!WNR4","v":0},{"$f":"WNU35*'Makro i swap'!WNS4","v":0},{"$f":"WNV35*'Makro i swap'!WNT4","v":0},{"$f":"WNW35*'Makro i swap'!WNU4","v":0},{"$f":"WNX35*'Makro i swap'!WNV4","v":0},{"$f":"WNY35*'Makro i swap'!WNW4","v":0},{"$f":"WNZ35*'Makro i swap'!WNX4","v":0},{"$f":"WOA35*'Makro i swap'!WNY4","v":0},{"$f":"WOB35*'Makro i swap'!WNZ4","v":0},{"$f":"WOC35*'Makro i swap'!WOA4","v":0},{"$f":"WOD35*'Makro i swap'!WOB4","v":0},{"$f":"WOE35*'Makro i swap'!WOC4","v":0},{"$f":"WOF35*'Makro i swap'!WOD4","v":0},{"$f":"WOG35*'Makro i swap'!WOE4","v":0},{"$f":"WOH35*'Makro i swap'!WOF4","v":0},{"$f":"WOI35*'Makro i swap'!WOG4","v":0},{"$f":"WOJ35*'Makro i swap'!WOH4","v":0},{"$f":"WOK35*'Makro i swap'!WOI4","v":0},{"$f":"WOL35*'Makro i swap'!WOJ4","v":0},{"$f":"WOM35*'Makro i swap'!WOK4","v":0},{"$f":"WON35*'Makro i swap'!WOL4","v":0},{"$f":"WOO35*'Makro i swap'!WOM4","v":0},{"$f":"WOP35*'Makro i swap'!WON4","v":0},{"$f":"WOQ35*'Makro i swap'!WOO4","v":0},{"$f":"WOR35*'Makro i swap'!WOP4","v":0},{"$f":"WOS35*'Makro i swap'!WOQ4","v":0},{"$f":"WOT35*'Makro i swap'!WOR4","v":0},{"$f":"WOU35*'Makro i swap'!WOS4","v":0},{"$f":"WOV35*'Makro i swap'!WOT4","v":0},{"$f":"WOW35*'Makro i swap'!WOU4","v":0},{"$f":"WOX35*'Makro i swap'!WOV4","v":0},{"$f":"WOY35*'Makro i swap'!WOW4","v":0},{"$f":"WOZ35*'Makro i swap'!WOX4","v":0},{"$f":"WPA35*'Makro i swap'!WOY4","v":0},{"$f":"WPB35*'Makro i swap'!WOZ4","v":0},{"$f":"WPC35*'Makro i swap'!WPA4","v":0},{"$f":"WPD35*'Makro i swap'!WPB4","v":0},{"$f":"WPE35*'Makro i swap'!WPC4","v":0},{"$f":"WPF35*'Makro i swap'!WPD4","v":0},{"$f":"WPG35*'Makro i swap'!WPE4","v":0},{"$f":"WPH35*'Makro i swap'!WPF4","v":0},{"$f":"WPI35*'Makro i swap'!WPG4","v":0},{"$f":"WPJ35*'Makro i swap'!WPH4","v":0},{"$f":"WPK35*'Makro i swap'!WPI4","v":0},{"$f":"WPL35*'Makro i swap'!WPJ4","v":0},{"$f":"WPM35*'Makro i swap'!WPK4","v":0},{"$f":"WPN35*'Makro i swap'!WPL4","v":0},{"$f":"WPO35*'Makro i swap'!WPM4","v":0},{"$f":"WPP35*'Makro i swap'!WPN4","v":0},{"$f":"WPQ35*'Makro i swap'!WPO4","v":0},{"$f":"WPR35*'Makro i swap'!WPP4","v":0},{"$f":"WPS35*'Makro i swap'!WPQ4","v":0},{"$f":"WPT35*'Makro i swap'!WPR4","v":0},{"$f":"WPU35*'Makro i swap'!WPS4","v":0},{"$f":"WPV35*'Makro i swap'!WPT4","v":0},{"$f":"WPW35*'Makro i swap'!WPU4","v":0},{"$f":"WPX35*'Makro i swap'!WPV4","v":0},{"$f":"WPY35*'Makro i swap'!WPW4","v":0},{"$f":"WPZ35*'Makro i swap'!WPX4","v":0},{"$f":"WQA35*'Makro i swap'!WPY4","v":0},{"$f":"WQB35*'Makro i swap'!WPZ4","v":0},{"$f":"WQC35*'Makro i swap'!WQA4","v":0},{"$f":"WQD35*'Makro i swap'!WQB4","v":0},{"$f":"WQE35*'Makro i swap'!WQC4","v":0},{"$f":"WQF35*'Makro i swap'!WQD4","v":0},{"$f":"WQG35*'Makro i swap'!WQE4","v":0},{"$f":"WQH35*'Makro i swap'!WQF4","v":0},{"$f":"WQI35*'Makro i swap'!WQG4","v":0},{"$f":"WQJ35*'Makro i swap'!WQH4","v":0},{"$f":"WQK35*'Makro i swap'!WQI4","v":0},{"$f":"WQL35*'Makro i swap'!WQJ4","v":0},{"$f":"WQM35*'Makro i swap'!WQK4","v":0},{"$f":"WQN35*'Makro i swap'!WQL4","v":0},{"$f":"WQO35*'Makro i swap'!WQM4","v":0},{"$f":"WQP35*'Makro i swap'!WQN4","v":0},{"$f":"WQQ35*'Makro i swap'!WQO4","v":0},{"$f":"WQR35*'Makro i swap'!WQP4","v":0},{"$f":"WQS35*'Makro i swap'!WQQ4","v":0},{"$f":"WQT35*'Makro i swap'!WQR4","v":0},{"$f":"WQU35*'Makro i swap'!WQS4","v":0},{"$f":"WQV35*'Makro i swap'!WQT4","v":0},{"$f":"WQW35*'Makro i swap'!WQU4","v":0},{"$f":"WQX35*'Makro i swap'!WQV4","v":0},{"$f":"WQY35*'Makro i swap'!WQW4","v":0},{"$f":"WQZ35*'Makro i swap'!WQX4","v":0},{"$f":"WRA35*'Makro i swap'!WQY4","v":0},{"$f":"WRB35*'Makro i swap'!WQZ4","v":0},{"$f":"WRC35*'Makro i swap'!WRA4","v":0},{"$f":"WRD35*'Makro i swap'!WRB4","v":0},{"$f":"WRE35*'Makro i swap'!WRC4","v":0},{"$f":"WRF35*'Makro i swap'!WRD4","v":0},{"$f":"WRG35*'Makro i swap'!WRE4","v":0},{"$f":"WRH35*'Makro i swap'!WRF4","v":0},{"$f":"WRI35*'Makro i swap'!WRG4","v":0},{"$f":"WRJ35*'Makro i swap'!WRH4","v":0},{"$f":"WRK35*'Makro i swap'!WRI4","v":0},{"$f":"WRL35*'Makro i swap'!WRJ4","v":0},{"$f":"WRM35*'Makro i swap'!WRK4","v":0},{"$f":"WRN35*'Makro i swap'!WRL4","v":0},{"$f":"WRO35*'Makro i swap'!WRM4","v":0},{"$f":"WRP35*'Makro i swap'!WRN4","v":0},{"$f":"WRQ35*'Makro i swap'!WRO4","v":0},{"$f":"WRR35*'Makro i swap'!WRP4","v":0},{"$f":"WRS35*'Makro i swap'!WRQ4","v":0},{"$f":"WRT35*'Makro i swap'!WRR4","v":0},{"$f":"WRU35*'Makro i swap'!WRS4","v":0},{"$f":"WRV35*'Makro i swap'!WRT4","v":0},{"$f":"WRW35*'Makro i swap'!WRU4","v":0},{"$f":"WRX35*'Makro i swap'!WRV4","v":0},{"$f":"WRY35*'Makro i swap'!WRW4","v":0},{"$f":"WRZ35*'Makro i swap'!WRX4","v":0},{"$f":"WSA35*'Makro i swap'!WRY4","v":0},{"$f":"WSB35*'Makro i swap'!WRZ4","v":0},{"$f":"WSC35*'Makro i swap'!WSA4","v":0},{"$f":"WSD35*'Makro i swap'!WSB4","v":0},{"$f":"WSE35*'Makro i swap'!WSC4","v":0},{"$f":"WSF35*'Makro i swap'!WSD4","v":0},{"$f":"WSG35*'Makro i swap'!WSE4","v":0},{"$f":"WSH35*'Makro i swap'!WSF4","v":0},{"$f":"WSI35*'Makro i swap'!WSG4","v":0},{"$f":"WSJ35*'Makro i swap'!WSH4","v":0},{"$f":"WSK35*'Makro i swap'!WSI4","v":0},{"$f":"WSL35*'Makro i swap'!WSJ4","v":0},{"$f":"WSM35*'Makro i swap'!WSK4","v":0},{"$f":"WSN35*'Makro i swap'!WSL4","v":0},{"$f":"WSO35*'Makro i swap'!WSM4","v":0},{"$f":"WSP35*'Makro i swap'!WSN4","v":0},{"$f":"WSQ35*'Makro i swap'!WSO4","v":0},{"$f":"WSR35*'Makro i swap'!WSP4","v":0},{"$f":"WSS35*'Makro i swap'!WSQ4","v":0},{"$f":"WST35*'Makro i swap'!WSR4","v":0},{"$f":"WSU35*'Makro i swap'!WSS4","v":0},{"$f":"WSV35*'Makro i swap'!WST4","v":0},{"$f":"WSW35*'Makro i swap'!WSU4","v":0},{"$f":"WSX35*'Makro i swap'!WSV4","v":0},{"$f":"WSY35*'Makro i swap'!WSW4","v":0},{"$f":"WSZ35*'Makro i swap'!WSX4","v":0},{"$f":"WTA35*'Makro i swap'!WSY4","v":0},{"$f":"WTB35*'Makro i swap'!WSZ4","v":0},{"$f":"WTC35*'Makro i swap'!WTA4","v":0},{"$f":"WTD35*'Makro i swap'!WTB4","v":0},{"$f":"WTE35*'Makro i swap'!WTC4","v":0},{"$f":"WTF35*'Makro i swap'!WTD4","v":0},{"$f":"WTG35*'Makro i swap'!WTE4","v":0},{"$f":"WTH35*'Makro i swap'!WTF4","v":0},{"$f":"WTI35*'Makro i swap'!WTG4","v":0},{"$f":"WTJ35*'Makro i swap'!WTH4","v":0},{"$f":"WTK35*'Makro i swap'!WTI4","v":0},{"$f":"WTL35*'Makro i swap'!WTJ4","v":0},{"$f":"WTM35*'Makro i swap'!WTK4","v":0},{"$f":"WTN35*'Makro i swap'!WTL4","v":0},{"$f":"WTO35*'Makro i swap'!WTM4","v":0},{"$f":"WTP35*'Makro i swap'!WTN4","v":0},{"$f":"WTQ35*'Makro i swap'!WTO4","v":0},{"$f":"WTR35*'Makro i swap'!WTP4","v":0},{"$f":"WTS35*'Makro i swap'!WTQ4","v":0},{"$f":"WTT35*'Makro i swap'!WTR4","v":0},{"$f":"WTU35*'Makro i swap'!WTS4","v":0},{"$f":"WTV35*'Makro i swap'!WTT4","v":0},{"$f":"WTW35*'Makro i swap'!WTU4","v":0},{"$f":"WTX35*'Makro i swap'!WTV4","v":0},{"$f":"WTY35*'Makro i swap'!WTW4","v":0},{"$f":"WTZ35*'Makro i swap'!WTX4","v":0},{"$f":"WUA35*'Makro i swap'!WTY4","v":0},{"$f":"WUB35*'Makro i swap'!WTZ4","v":0},{"$f":"WUC35*'Makro i swap'!WUA4","v":0},{"$f":"WUD35*'Makro i swap'!WUB4","v":0},{"$f":"WUE35*'Makro i swap'!WUC4","v":0},{"$f":"WUF35*'Makro i swap'!WUD4","v":0},{"$f":"WUG35*'Makro i swap'!WUE4","v":0},{"$f":"WUH35*'Makro i swap'!WUF4","v":0},{"$f":"WUI35*'Makro i swap'!WUG4","v":0},{"$f":"WUJ35*'Makro i swap'!WUH4","v":0},{"$f":"WUK35*'Makro i swap'!WUI4","v":0},{"$f":"WUL35*'Makro i swap'!WUJ4","v":0},{"$f":"WUM35*'Makro i swap'!WUK4","v":0},{"$f":"WUN35*'Makro i swap'!WUL4","v":0},{"$f":"WUO35*'Makro i swap'!WUM4","v":0},{"$f":"WUP35*'Makro i swap'!WUN4","v":0},{"$f":"WUQ35*'Makro i swap'!WUO4","v":0},{"$f":"WUR35*'Makro i swap'!WUP4","v":0},{"$f":"WUS35*'Makro i swap'!WUQ4","v":0},{"$f":"WUT35*'Makro i swap'!WUR4","v":0},{"$f":"WUU35*'Makro i swap'!WUS4","v":0},{"$f":"WUV35*'Makro i swap'!WUT4","v":0},{"$f":"WUW35*'Makro i swap'!WUU4","v":0},{"$f":"WUX35*'Makro i swap'!WUV4","v":0},{"$f":"WUY35*'Makro i swap'!WUW4","v":0},{"$f":"WUZ35*'Makro i swap'!WUX4","v":0},{"$f":"WVA35*'Makro i swap'!WUY4","v":0},{"$f":"WVB35*'Makro i swap'!WUZ4","v":0},{"$f":"WVC35*'Makro i swap'!WVA4","v":0},{"$f":"WVD35*'Makro i swap'!WVB4","v":0},{"$f":"WVE35*'Makro i swap'!WVC4","v":0},{"$f":"WVF35*'Makro i swap'!WVD4","v":0},{"$f":"WVG35*'Makro i swap'!WVE4","v":0},{"$f":"WVH35*'Makro i swap'!WVF4","v":0},{"$f":"WVI35*'Makro i swap'!WVG4","v":0},{"$f":"WVJ35*'Makro i swap'!WVH4","v":0},{"$f":"WVK35*'Makro i swap'!WVI4","v":0},{"$f":"WVL35*'Makro i swap'!WVJ4","v":0},{"$f":"WVM35*'Makro i swap'!WVK4","v":0},{"$f":"WVN35*'Makro i swap'!WVL4","v":0},{"$f":"WVO35*'Makro i swap'!WVM4","v":0},{"$f":"WVP35*'Makro i swap'!WVN4","v":0},{"$f":"WVQ35*'Makro i swap'!WVO4","v":0},{"$f":"WVR35*'Makro i swap'!WVP4","v":0},{"$f":"WVS35*'Makro i swap'!WVQ4","v":0},{"$f":"WVT35*'Makro i swap'!WVR4","v":0},{"$f":"WVU35*'Makro i swap'!WVS4","v":0},{"$f":"WVV35*'Makro i swap'!WVT4","v":0},{"$f":"WVW35*'Makro i swap'!WVU4","v":0},{"$f":"WVX35*'Makro i swap'!WVV4","v":0},{"$f":"WVY35*'Makro i swap'!WVW4","v":0},{"$f":"WVZ35*'Makro i swap'!WVX4","v":0},{"$f":"WWA35*'Makro i swap'!WVY4","v":0},{"$f":"WWB35*'Makro i swap'!WVZ4","v":0},{"$f":"WWC35*'Makro i swap'!WWA4","v":0},{"$f":"WWD35*'Makro i swap'!WWB4","v":0},{"$f":"WWE35*'Makro i swap'!WWC4","v":0},{"$f":"WWF35*'Makro i swap'!WWD4","v":0},{"$f":"WWG35*'Makro i swap'!WWE4","v":0},{"$f":"WWH35*'Makro i swap'!WWF4","v":0},{"$f":"WWI35*'Makro i swap'!WWG4","v":0},{"$f":"WWJ35*'Makro i swap'!WWH4","v":0},{"$f":"WWK35*'Makro i swap'!WWI4","v":0},{"$f":"WWL35*'Makro i swap'!WWJ4","v":0},{"$f":"WWM35*'Makro i swap'!WWK4","v":0},{"$f":"WWN35*'Makro i swap'!WWL4","v":0},{"$f":"WWO35*'Makro i swap'!WWM4","v":0},{"$f":"WWP35*'Makro i swap'!WWN4","v":0},{"$f":"WWQ35*'Makro i swap'!WWO4","v":0},{"$f":"WWR35*'Makro i swap'!WWP4","v":0},{"$f":"WWS35*'Makro i swap'!WWQ4","v":0},{"$f":"WWT35*'Makro i swap'!WWR4","v":0},{"$f":"WWU35*'Makro i swap'!WWS4","v":0},{"$f":"WWV35*'Makro i swap'!WWT4","v":0},{"$f":"WWW35*'Makro i swap'!WWU4","v":0},{"$f":"WWX35*'Makro i swap'!WWV4","v":0},{"$f":"WWY35*'Makro i swap'!WWW4","v":0},{"$f":"WWZ35*'Makro i swap'!WWX4","v":0},{"$f":"WXA35*'Makro i swap'!WWY4","v":0},{"$f":"WXB35*'Makro i swap'!WWZ4","v":0},{"$f":"WXC35*'Makro i swap'!WXA4","v":0},{"$f":"WXD35*'Makro i swap'!WXB4","v":0},{"$f":"WXE35*'Makro i swap'!WXC4","v":0},{"$f":"WXF35*'Makro i swap'!WXD4","v":0},{"$f":"WXG35*'Makro i swap'!WXE4","v":0},{"$f":"WXH35*'Makro i swap'!WXF4","v":0},{"$f":"WXI35*'Makro i swap'!WXG4","v":0},{"$f":"WXJ35*'Makro i swap'!WXH4","v":0},{"$f":"WXK35*'Makro i swap'!WXI4","v":0},{"$f":"WXL35*'Makro i swap'!WXJ4","v":0},{"$f":"WXM35*'Makro i swap'!WXK4","v":0},{"$f":"WXN35*'Makro i swap'!WXL4","v":0},{"$f":"WXO35*'Makro i swap'!WXM4","v":0},{"$f":"WXP35*'Makro i swap'!WXN4","v":0},{"$f":"WXQ35*'Makro i swap'!WXO4","v":0},{"$f":"WXR35*'Makro i swap'!WXP4","v":0},{"$f":"WXS35*'Makro i swap'!WXQ4","v":0},{"$f":"WXT35*'Makro i swap'!WXR4","v":0},{"$f":"WXU35*'Makro i swap'!WXS4","v":0},{"$f":"WXV35*'Makro i swap'!WXT4","v":0},{"$f":"WXW35*'Makro i swap'!WXU4","v":0},{"$f":"WXX35*'Makro i swap'!WXV4","v":0},{"$f":"WXY35*'Makro i swap'!WXW4","v":0},{"$f":"WXZ35*'Makro i swap'!WXX4","v":0},{"$f":"WYA35*'Makro i swap'!WXY4","v":0},{"$f":"WYB35*'Makro i swap'!WXZ4","v":0},{"$f":"WYC35*'Makro i swap'!WYA4","v":0},{"$f":"WYD35*'Makro i swap'!WYB4","v":0},{"$f":"WYE35*'Makro i swap'!WYC4","v":0},{"$f":"WYF35*'Makro i swap'!WYD4","v":0},{"$f":"WYG35*'Makro i swap'!WYE4","v":0},{"$f":"WYH35*'Makro i swap'!WYF4","v":0},{"$f":"WYI35*'Makro i swap'!WYG4","v":0},{"$f":"WYJ35*'Makro i swap'!WYH4","v":0},{"$f":"WYK35*'Makro i swap'!WYI4","v":0},{"$f":"WYL35*'Makro i swap'!WYJ4","v":0},{"$f":"WYM35*'Makro i swap'!WYK4","v":0},{"$f":"WYN35*'Makro i swap'!WYL4","v":0},{"$f":"WYO35*'Makro i swap'!WYM4","v":0},{"$f":"WYP35*'Makro i swap'!WYN4","v":0},{"$f":"WYQ35*'Makro i swap'!WYO4","v":0},{"$f":"WYR35*'Makro i swap'!WYP4","v":0},{"$f":"WYS35*'Makro i swap'!WYQ4","v":0},{"$f":"WYT35*'Makro i swap'!WYR4","v":0},{"$f":"WYU35*'Makro i swap'!WYS4","v":0},{"$f":"WYV35*'Makro i swap'!WYT4","v":0},{"$f":"WYW35*'Makro i swap'!WYU4","v":0},{"$f":"WYX35*'Makro i swap'!WYV4","v":0},{"$f":"WYY35*'Makro i swap'!WYW4","v":0},{"$f":"WYZ35*'Makro i swap'!WYX4","v":0},{"$f":"WZA35*'Makro i swap'!WYY4","v":0},{"$f":"WZB35*'Makro i swap'!WYZ4","v":0},{"$f":"WZC35*'Makro i swap'!WZA4","v":0},{"$f":"WZD35*'Makro i swap'!WZB4","v":0},{"$f":"WZE35*'Makro i swap'!WZC4","v":0},{"$f":"WZF35*'Makro i swap'!WZD4","v":0},{"$f":"WZG35*'Makro i swap'!WZE4","v":0},{"$f":"WZH35*'Makro i swap'!WZF4","v":0},{"$f":"WZI35*'Makro i swap'!WZG4","v":0},{"$f":"WZJ35*'Makro i swap'!WZH4","v":0},{"$f":"WZK35*'Makro i swap'!WZI4","v":0},{"$f":"WZL35*'Makro i swap'!WZJ4","v":0},{"$f":"WZM35*'Makro i swap'!WZK4","v":0},{"$f":"WZN35*'Makro i swap'!WZL4","v":0},{"$f":"WZO35*'Makro i swap'!WZM4","v":0},{"$f":"WZP35*'Makro i swap'!WZN4","v":0},{"$f":"WZQ35*'Makro i swap'!WZO4","v":0},{"$f":"WZR35*'Makro i swap'!WZP4","v":0},{"$f":"WZS35*'Makro i swap'!WZQ4","v":0},{"$f":"WZT35*'Makro i swap'!WZR4","v":0},{"$f":"WZU35*'Makro i swap'!WZS4","v":0},{"$f":"WZV35*'Makro i swap'!WZT4","v":0},{"$f":"WZW35*'Makro i swap'!WZU4","v":0},{"$f":"WZX35*'Makro i swap'!WZV4","v":0},{"$f":"WZY35*'Makro i swap'!WZW4","v":0},{"$f":"WZZ35*'Makro i swap'!WZX4","v":0},{"$f":"XAA35*'Makro i swap'!WZY4","v":0},{"$f":"XAB35*'Makro i swap'!WZZ4","v":0},{"$f":"XAC35*'Makro i swap'!XAA4","v":0},{"$f":"XAD35*'Makro i swap'!XAB4","v":0},{"$f":"XAE35*'Makro i swap'!XAC4","v":0},{"$f":"XAF35*'Makro i swap'!XAD4","v":0},{"$f":"XAG35*'Makro i swap'!XAE4","v":0},{"$f":"XAH35*'Makro i swap'!XAF4","v":0},{"$f":"XAI35*'Makro i swap'!XAG4","v":0},{"$f":"XAJ35*'Makro i swap'!XAH4","v":0},{"$f":"XAK35*'Makro i swap'!XAI4","v":0},{"$f":"XAL35*'Makro i swap'!XAJ4","v":0},{"$f":"XAM35*'Makro i swap'!XAK4","v":0},{"$f":"XAN35*'Makro i swap'!XAL4","v":0},{"$f":"XAO35*'Makro i swap'!XAM4","v":0},{"$f":"XAP35*'Makro i swap'!XAN4","v":0},{"$f":"XAQ35*'Makro i swap'!XAO4","v":0},{"$f":"XAR35*'Makro i swap'!XAP4","v":0},{"$f":"XAS35*'Makro i swap'!XAQ4","v":0},{"$f":"XAT35*'Makro i swap'!XAR4","v":0},{"$f":"XAU35*'Makro i swap'!XAS4","v":0},{"$f":"XAV35*'Makro i swap'!XAT4","v":0},{"$f":"XAW35*'Makro i swap'!XAU4","v":0},{"$f":"XAX35*'Makro i swap'!XAV4","v":0},{"$f":"XAY35*'Makro i swap'!XAW4","v":0},{"$f":"XAZ35*'Makro i swap'!XAX4","v":0},{"$f":"XBA35*'Makro i swap'!XAY4","v":0},{"$f":"XBB35*'Makro i swap'!XAZ4","v":0},{"$f":"XBC35*'Makro i swap'!XBA4","v":0},{"$f":"XBD35*'Makro i swap'!XBB4","v":0},{"$f":"XBE35*'Makro i swap'!XBC4","v":0},{"$f":"XBF35*'Makro i swap'!XBD4","v":0},{"$f":"XBG35*'Makro i swap'!XBE4","v":0},{"$f":"XBH35*'Makro i swap'!XBF4","v":0},{"$f":"XBI35*'Makro i swap'!XBG4","v":0},{"$f":"XBJ35*'Makro i swap'!XBH4","v":0},{"$f":"XBK35*'Makro i swap'!XBI4","v":0},{"$f":"XBL35*'Makro i swap'!XBJ4","v":0},{"$f":"XBM35*'Makro i swap'!XBK4","v":0},{"$f":"XBN35*'Makro i swap'!XBL4","v":0},{"$f":"XBO35*'Makro i swap'!XBM4","v":0},{"$f":"XBP35*'Makro i swap'!XBN4","v":0},{"$f":"XBQ35*'Makro i swap'!XBO4","v":0},{"$f":"XBR35*'Makro i swap'!XBP4","v":0},{"$f":"XBS35*'Makro i swap'!XBQ4","v":0},{"$f":"XBT35*'Makro i swap'!XBR4","v":0},{"$f":"XBU35*'Makro i swap'!XBS4","v":0},{"$f":"XBV35*'Makro i swap'!XBT4","v":0},{"$f":"XBW35*'Makro i swap'!XBU4","v":0},{"$f":"XBX35*'Makro i swap'!XBV4","v":0},{"$f":"XBY35*'Makro i swap'!XBW4","v":0},{"$f":"XBZ35*'Makro i swap'!XBX4","v":0},{"$f":"XCA35*'Makro i swap'!XBY4","v":0},{"$f":"XCB35*'Makro i swap'!XBZ4","v":0},{"$f":"XCC35*'Makro i swap'!XCA4","v":0},{"$f":"XCD35*'Makro i swap'!XCB4","v":0},{"$f":"XCE35*'Makro i swap'!XCC4","v":0},{"$f":"XCF35*'Makro i swap'!XCD4","v":0},{"$f":"XCG35*'Makro i swap'!XCE4","v":0},{"$f":"XCH35*'Makro i swap'!XCF4","v":0},{"$f":"XCI35*'Makro i swap'!XCG4","v":0},{"$f":"XCJ35*'Makro i swap'!XCH4","v":0},{"$f":"XCK35*'Makro i swap'!XCI4","v":0},{"$f":"XCL35*'Makro i swap'!XCJ4","v":0},{"$f":"XCM35*'Makro i swap'!XCK4","v":0},{"$f":"XCN35*'Makro i swap'!XCL4","v":0},{"$f":"XCO35*'Makro i swap'!XCM4","v":0},{"$f":"XCP35*'Makro i swap'!XCN4","v":0},{"$f":"XCQ35*'Makro i swap'!XCO4","v":0},{"$f":"XCR35*'Makro i swap'!XCP4","v":0},{"$f":"XCS35*'Makro i swap'!XCQ4","v":0},{"$f":"XCT35*'Makro i swap'!XCR4","v":0},{"$f":"XCU35*'Makro i swap'!XCS4","v":0},{"$f":"XCV35*'Makro i swap'!XCT4","v":0},{"$f":"XCW35*'Makro i swap'!XCU4","v":0},{"$f":"XCX35*'Makro i swap'!XCV4","v":0},{"$f":"XCY35*'Makro i swap'!XCW4","v":0},{"$f":"XCZ35*'Makro i swap'!XCX4","v":0},{"$f":"XDA35*'Makro i swap'!XCY4","v":0},{"$f":"XDB35*'Makro i swap'!XCZ4","v":0},{"$f":"XDC35*'Makro i swap'!XDA4","v":0},{"$f":"XDD35*'Makro i swap'!XDB4","v":0},{"$f":"XDE35*'Makro i swap'!XDC4","v":0},{"$f":"XDF35*'Makro i swap'!XDD4","v":0},{"$f":"XDG35*'Makro i swap'!XDE4","v":0},{"$f":"XDH35*'Makro i swap'!XDF4","v":0},{"$f":"XDI35*'Makro i swap'!XDG4","v":0},{"$f":"XDJ35*'Makro i swap'!XDH4","v":0},{"$f":"XDK35*'Makro i swap'!XDI4","v":0},{"$f":"XDL35*'Makro i swap'!XDJ4","v":0},{"$f":"XDM35*'Makro i swap'!XDK4","v":0},{"$f":"XDN35*'Makro i swap'!XDL4","v":0},{"$f":"XDO35*'Makro i swap'!XDM4","v":0},{"$f":"XDP35*'Makro i swap'!XDN4","v":0},{"$f":"XDQ35*'Makro i swap'!XDO4","v":0},{"$f":"XDR35*'Makro i swap'!XDP4","v":0},{"$f":"XDS35*'Makro i swap'!XDQ4","v":0},{"$f":"XDT35*'Makro i swap'!XDR4","v":0},{"$f":"XDU35*'Makro i swap'!XDS4","v":0},{"$f":"XDV35*'Makro i swap'!XDT4","v":0},{"$f":"XDW35*'Makro i swap'!XDU4","v":0},{"$f":"XDX35*'Makro i swap'!XDV4","v":0},{"$f":"XDY35*'Makro i swap'!XDW4","v":0},{"$f":"XDZ35*'Makro i swap'!XDX4","v":0},{"$f":"XEA35*'Makro i swap'!XDY4","v":0},{"$f":"XEB35*'Makro i swap'!XDZ4","v":0},{"$f":"XEC35*'Makro i swap'!XEA4","v":0},{"$f":"XED35*'Makro i swap'!XEB4","v":0},{"$f":"XEE35*'Makro i swap'!XEC4","v":0},{"$f":"XEF35*'Makro i swap'!XED4","v":0},{"$f":"XEG35*'Makro i swap'!XEE4","v":0},{"$f":"XEH35*'Makro i swap'!XEF4","v":0},{"$f":"XEI35*'Makro i swap'!XEG4","v":0},{"$f":"XEJ35*'Makro i swap'!XEH4","v":0},{"$f":"XEK35*'Makro i swap'!XEI4","v":0},{"$f":"XEL35*'Makro i swap'!XEJ4","v":0},{"$f":"XEM35*'Makro i swap'!XEK4","v":0},{"$f":"XEN35*'Makro i swap'!XEL4","v":0},{"$f":"XEO35*'Makro i swap'!XEM4","v":0},{"$f":"XEP35*'Makro i swap'!XEN4","v":0},{"$f":"XEQ35*'Makro i swap'!XEO4","v":0},{"$f":"XER35*'Makro i swap'!XEP4","v":0},{"$f":"XES35*'Makro i swap'!XEQ4","v":0},{"$f":"XET35*'Makro i swap'!XER4","v":0},{"$f":"XEU35*'Makro i swap'!XES4","v":0},{"$f":"XEV35*'Makro i swap'!XET4","v":0},{"$f":"XEW35*'Makro i swap'!XEU4","v":0},{"$f":"XEX35*'Makro i swap'!XEV4","v":0},{"$f":"XEY35*'Makro i swap'!XEW4","v":0},{"$f":"XEZ35*'Makro i swap'!XEX4","v":0},{"$f":"XFA35*'Makro i swap'!XEY4","v":0},{"$f":"XFB35*'Makro i swap'!XEZ4","v":0},{"$f":"XFC35*'Makro i swap'!XFA4","v":0}]
[]
["Amortyzacja - wartości prognozowane/rzeczywiste w danym roku",null,"PLN",null,"b",{"$f":"[1]Wynagrodzenie!O$53","v":0},{"$f":"[1]Wynagrodzenie!P$53","v":0},0,0,0,0,0,0,0,0]
["Koszty bezpośrednie",null,"PLN",null,"b",0,0,0,0,0,0,0,0,0,0]
["Koszty pośrednie",null,"PLN",null,"b",0,0,0,0,0,0,0,0,0,0]
[]
["Amortyzacja - wartości prognozowane/rzeczywiste w danym roku",null,"PLN",null,"c",{"$f":"[1]Wynagrodzenie!O$96","v":0},{"$f":"[1]Wynagrodzenie!P$96","v":0},{"$f":"[1]Wynagrodzenie!Q$96","v":0},0,0,0,0,0,0,0]
["Koszty bezpośrednie",null,"PLN",null,"c",0,0,0,0,0,0,0,0,0,0]
["Koszty pośrednie",null,"PLN",null,"c",0,0,0,0,0,0,0,0,0,0]
[null,null,null,null,null,null,null,null,null,0]
[]
[]
["Zużycie materiałów i energii - wartości prognozowane/rzeczywiste w danym roku",null,"PLN",null,"a",0,0,0,0,0,0,0,0,0,0]
["Koszty bezpośrednie",null,"PLN",null,"a",0,0,0,{"$f":"H48*'Makro i swap'!F4","v":0},{"$f":"I48*'Makro i swap'!G4","v":0},{"$f":"J48*'Makro i swap'!H4","v":0},{"$f":"K48*'Makro i swap'!I4","v":0},{"$f":"L48*'Makro i swap'!J4","v":0},{"$f":"M48*'Makro i swap'!K4","v":0},{"$f":"N48*'Makro i swap'!L4","v":0}]
["Koszty pośrednie",null,"PLN",null,"a",0,0,{"$f":"G49*'Makro i swap'!E4","v":0},{"$f":"H49*'Makro i swap'!F4","v":0},{"$f":"I49*'Makro i swap'!G4","v":0},{"$f":"J49*'Makro i swap'!H4","v":0},{"$f":"K49*'Makro i swap'!I4","v":0},{"$f":"L49*'Makro i swap'!J4","v":0},{"$f":"M49*'Makro i swap'!K4","v":0},{"$f":"N49*'Makro i swap'!L4","v":0}]
[]
["Zużycie materiałów i energii - wartości prognozowane/rzeczywiste w danym roku",null,"PLN",null,"b",{"$f":"[1]Wynagrodzenie!O$54","v":0},{"$f":"[1]Wynagrodzenie!P$54","v":0},0,0,0,0,0,0,0,0]
["Koszty bezpośrednie",null,"PLN",null,"b",0,0,0,0,0,0,0,0,0,0]
["Koszty pośrednie",null,"PLN",null,"b",0,0,0,0,0,0,0,0,0,0]
[]
["Zużycie materiałów i energii - wartości prognozowane/rzeczywiste w danym roku",null,"PLN",null,"c",{"$f":"[1]Wynagrodzenie!O$97","v":0},{"$f":"[1]Wynagrodzenie!P$97","v":0},{"$f":"[1]Wynagrodzenie!Q$97","v":0},0,0,0,0,0,0,0]
["Koszty bezpośrednie",null,"PLN",null,"c",0,0,0,0,0,0,0,0,0,0]
["Koszty pośrednie",null,"PLN",null,"c",0,0,0,0,0,0,0,0,0,0]
[]
[]
[]
["Usługi obce - wartości prognozowane/rzeczywiste w danym roku",null,"PLN",null,"a",0,0,0,{"$f":"IF(AND(I62=\"\",I63=\"\"),\"\",I62+I63)","v":0},{"$f":"IF(AND(J62=\"\",J63=\"\"),\"\",J62+J63)","v":0},{"$f":"IF(AND(K62=\"\",K63=\"\"),\"\",K62+K63)","v":0},{"$f":"IF(AND(L62=\"\",L63=\"\"),\"\",L62+L63)","v":0},{"$f":"IF(AND(M62=\"\",M63=\"\"),\"\",M62+M63)","v":0},{"$f":"IF(AND(N62=\"\",N63=\"\"),\"\",N62+N63)","v":0},{"$f":"IF(AND(O62=\"\",O63=\"\"),\"\",O62+O63)","v":0}]
["Koszty bezpośrednie",null,"PLN",null,"a",0,0,{"$f":"G62*'Makro i swap'!E4","v":0},{"$f":"H62*'Makro i swap'!F4","v":0},{"$f":"I62*'Makro i swap'!G4","v":0},{"$f":"J62*'Makro i swap'!H4","v":0},{"$f":"K62*'Makro i swap'!I4","v":0},{"$f":"L62*'Makro i swap'!J4","v":0},{"$f":"M62*'Makro i swap'!K4","v":0},{"$f":"N62*'Makro i swap'!L4","v":0}]
[]
["Koszty bezpośrednie",null,"PLN",null,"b",0,0,0,0,0,0,0,0,0,0]
["Usługi obce - wartości prognozowane/rzeczywiste w danym roku",null,"PLN",null,"c",{"$f":"[1]Wynagrodzenie!O$98","v":0},{"$f":"[1]Wynagrodzenie!P$98","v":0},{"$f":"[1]Wynagrodzenie!Q$98","v":0},0,0,0,0,0,0,0]
[]
["Podatki i opłaty - wartości prognozowane/rzeczywiste w danym roku",null,"PLN",null,"a",0,0,{"$f":"IF(AND(H76=\"\",H77=\"\"),\"\",H76+H77)","v":0},{"$f":"IF(AND(I76=\"\",I77=\"\"),\"\",I76+I77)","v":0},{"$f":"IF(AND(J76=\"\",J77=\"\"),\"\",J76+J77)","v":0},{"$f":"IF(AND(K76=\"\",K77=\"\"),\"\",K76+K77)","v":0},{"$f":"IF(AND(L76=\"\",L77=\"\"),\"\",L76+L77)","v":0},{"$f":"IF(AND(M76=\"\",M77=\"\"),\"\",M76+M77)","v":0},{"$f":"IF(AND(N76=\"\",N77=\"\"),\"\",N76+N77)","v":0},{"$f":"IF(AND(O76=\"\",O77=\"\"),\"\",O76+O77)","v":0}]
["Koszty bezpośrednie",null,"PLN",null,"a",0,0,{"$f":"G76*'Makro i swap'!E4","v":0},{"$f":"H76*'Makro i swap'!F4","v":0},{"$f":"I76*'Makro i swap'!G4","v":0},{"$f":"J76*'Makro i swap'!H4","v":0},{"$f":"K76*'Makro i swap'!I4","v":0},{"$f":"L76*'Makro i swap'!J4","v":0},{"$f":"M76*'Makro i swap'!K4","v":0},{"$f":"N76*'Makro i swap'!L4","v":0}]
[]
["Koszty pośrednie",null,"PLN",null,"b",0,0,0,0,0,0,0,0,0,0]
["Koszty pośrednie",null,"PLN",null,"c",0,0,0,0,0,0,0,0,0,0]
[]
["Koszty bezpośrednie",null,"PLN",null,"a",0,0,{"$f":"G90*'Makro i swap'!E4*'Makro i swap'!E5","v":0},0,0,0,0,{"$f":"L90*'Makro i swap'!J4*'Makro i swap'!J5","v":0},{"$f":"M90*'Makro i swap'!K4*'Makro i swap'!K5","v":0},{"$f":"N90*'Makro i swap'!L4*'Makro i swap'!L5","v":0}]
[]
[null,null,null,null,null,0]
["Koszty pośrednie",null,"PLN",null,"c",0,0,0,0,0,0,0,0,0,0]
[]
[]
[]
["Koszty bezpośrednie",null,"PLN",null,"b",0,0,0,0,0,0,0,0,0,0]
["Pozostałe koszty rodzajowe - wartości prognozowane/rzeczywiste w danym roku",null,"PLN",null,"c",{"$f":"[1]Wynagrodzenie!O$101","v":0},{"$f":"[1]Wynagrodzenie!P$101","v":0},{"$f":"[1]Wynagrodzenie!Q$101","v":0},0,0,0,0,0,0,0]
["Koszty pośrednie",null,"PLN",null,"c",0,0,0,0,0,0,0,0,0,0]
["Wartość sprzedanych towarów i materiałów - wartości prognozowane/rzeczywiste w danym roku",null,"PLN",null,"a"]
[]
[]
[]
["koszty wewnętrzne - wartości prognozowane/rzeczywiste w danym roku",null,"PLN",null,"b",{"$f":"[1]Wynagrodzenie!O$60","v":0},{"$f":"[1]Wynagrodzenie!P$60","v":0},0,0,0,0,0,0,0,0]
["koszty wewnętrzne - wartości prognozowane/rzeczywiste w danym roku",null,"PLN",null,"c",{"$f":"[1]Wynagrodzenie!O$103","v":0},{"$f":"[1]Wynagrodzenie!P$103","v":0},{"$f":"[1]Wynagrodzenie!Q$103","v":0},0,0,0,0,0,0,0]
[]
["Przychody razem - PROGNOZA/WYKONANIE (wynajem kontenera, sprzedaż surowców)",null,"PLN",null,"a",0,0,{"$f":"G136*'Makro i swap'!E4","v":0},{"$f":"H136*'Makro i swap'!F4","v":0},{"$f":"I136*'Makro i swap'!G4","v":0},{"$f":"J136*'Makro i swap'!H4","v":0},{"$f":"K136*'Makro i swap'!I4","v":0},{"$f":"L136*'Makro i swap'!J4","v":0},{"$f":"M136*'Makro i swap'!K4","v":0},{"$f":"N136*'Makro i swap'!L4","v":0}]
["Przychody razem - PROGNOZA/WYKONANIE (wynajem kontenera, sprzedaż surowców)",null,"PLN",null,"b",{"$f":"[1]Wynagrodzenie!O$84","v":0},{"$f":"[1]Wynagrodzenie!P$84","v":0},0,0,0,0,0,0,0,0]
[]
["UZYSKANE PRZYSPORZENIA",null,"Jednostka",null,null,{"$f":"F$5","v":2022},{"$f":"G$5","v":2023},2024,2025,2026,2027,2028,2029,2030,2031]
["Dokapitalizowanie i inne przysporzenia ze środków publicznych związane z realizacją Zadania - wartości prognozowane/rzeczywiste w danym roku",null,"PLN",null,"b",{"$f":"[1]Wynagrodzenie!O$81","v":0},{"$f":"[1]Wynagrodzenie!P$81","v":0},0,0,0,0,0,0,0,0]
["ZYSKI Z ZADAŃ POWIĄZANYCH",null,"Jednostka",null,null,{"$f":"F$5","v":2022},{"$f":"G$5","v":2023},2024,2025,2026,2027,2028,2029,2030,2031]
["Przychody z Zadań Powiązanych - wartości prognozowane/rzeczywiste w danym roku",null,"PLN",null,null,0,0,{"$f":"G150*'Makro i swap'!E4","v":0},{"$f":"H150*'Makro i swap'!F4","v":0},{"$f":"I150*'Makro i swap'!G4","v":0},{"$f":"J150*'Makro i swap'!H4","v":0},{"$f":"K150*'Makro i swap'!I4","v":0},{"$f":"L150*'Makro i swap'!J4","v":0},{"$f":"M150*'Makro i swap'!K4","v":0},{"$f":"N150*'Makro i swap'!L4","v":0}]
["Zysk z Zadań Powiązanych - wartości prognozowane/rzeczywiste w danym roku (przychody-koszty-podatek dochodowy: tylko wartość dodatnia)",null,"PLN",null,"a",0,{"$f":"G150-G151-G152","v":0},0,0,0,0,0,0,0,0,0,0,0,0,0,0,0,0,0,0,0,0,0,0,0,0,0,0,0,0,0,0,0,0,0,0,0,0,0,0,0,0,0,0,0,0,0,0,0,0,0,0,0,0,0,0,0,0,0,0,0,0,0,0,0,{"$f":"BS150-BS151-BS152","v":0},0,0,0,0,0,0,0,0,0,0,0,0,0,0,0,0,0,0,0,0,0,0,0,0,0,0,0,0,0,0,0,0,0,0,0,0,0,0,0,0,0,0,0,0,0,0,0,0,0,0,0,0,0,0,0,0,0,0,0,0,0,0,0,{"$f":"EE150-EE151-EE152","v":0},0,0,0,0,0,0,0,0,0,0,0,0,0,0,0,0,0,0,0,0,0,0,0,0,0,0,0,0,0,0,0,0,0,0,0,0,0,0,0,0,0,0,0,0,0,0,0,0,0,0,0,0,0,0,0,0,0,0,0,0,0,0,0,{"$f":"GQ150-GQ151-GQ152","v":0},0,0,0,0,0,0,0,0,0,0,0,0,0,0,0,0,0,0,0,0,0,0,0,0,0,0,0,0,0,0,0,0,0,0,0,0,0,0,0,0,0,0,0,0,0,0,0,0,0,0,0,0,0,0,0,0,0,0,0,0,0,0,0,{"$f":"JC150-JC151-JC152","v":0},0,0,0,0,0,0,0,0,0,0,0,0,0,0,0,0,0,0,0,0,0,0,0,0,0,0,0,0,0,0,0,0,0,0,0,0,0,0,0,0,0,0,0,0,0,0,0,0,0,0,0,0,0,0,0,0,0,0,0,0,0,0,0,{"$f":"LO150-LO151-LO152","v":0},0,0,0,0,0,0,0,0,0,0,0,0,0,0,0,0,0,0,0,0,0,0,0,0,0,0,0,0,0,0,0,0,0,0,0,0,0,0,0,0,0,0,0,0,0,0,0,0,0,0,0,0,0,0,0,0,0,0,0,0,0,0,0,{"$f":"OA150-OA151-OA152","v":0},0,0,0,0,0,0,0,0,0,0,0,0,0,0,0,0,0,0,0,0,0,0,0,0,0,0,0,0,0,0,0,0,0,0,0,0,0,0,0,0,0,0,0,0,0,0,0,0,0,0,0,0,0,0,0,0,0,0,0,0,0,0,0,{"$f":"QM150-QM151-QM152","v":0},0,0,0,0,0,0,0,0,0,0,0,0,0,0,0,0,0,0,0,0,0,0,0,0,0,0,0,0,0,0,0,0,0,0,0,0,0,0,0,0,0,0,0,0,0,0,0,0,0,0,0,0,0,0,0,0,0,0,0,0,0,0,0,{"$f":"SY150-SY151-SY152","v":0},0,0,0,0,0,0,0,0,0,0,0,0,0,0,0,0,0,0,0,0,0,0,0,0,0,0,0,0,0,0,0,0,0,0,0,0,0,0,0,0,0,0,0,0,0,0,0,0,0,0,0,0,0,0,0,0,0,0,0,0,0,0,0,{"$f":"VK150-VK151-VK152","v":0},0,0,0,0,0,0,0,0,0,0,0,0,0,0,0,0,0,0,0,0,0,0,0,0,0,0,0,0,0,0,0,0,0,0,0,0,0,0,0,0,0,0,0,0,0,0,0,0,0,0,0,0,0,0,0,0,0,0,0,0,0,0,0,{"$f":"XW150-XW151-XW152","v":0},0,0,0,0,0,0,0,0,0,0,0,0,0,0,0,0,0,0,0,0,0,0,0,0,0,0,0,0,0,0,0,0,0,0,0,0,0,0,0,0,0,0,0,0,0,0,0,0,0,0,0,0,0,0,0,0,0,0,0,0,0,0,0,{"$f":"AAI150-AAI151-AAI152","v":0},0,0,0,0,0,0,0,0,0,0,0,0,0,0,0,0,0,0,0,0,0,0,0,0,0,0,0,0,0,0,0,0,0,0,0,0,0,0,0,0,0,0,0,0,0,0,0,0,0,0,0,0,0,0,0,0,0,0,0,0,0,0,0,{"$f":"ACU150-ACU151-ACU152","v":0},0,0,0,0,0,0,0,0,0,0,0,0,0,0,0,0,0,0,0,0,0,0,0,0,0,0,0,0,0,0,0,0,0,0,0,0,0,0,0,0,0,0,0,0,0,0,0,0,0,0,0,0,0,0,0,0,0,0,0,0,0,0,0,{"$f":"AFG150-AFG151-AFG152","v":0},0,0,0,0,0,0,0,0,0,0,0,0,0,0,0,0,0,0,0,0,0,0,0,0,0,0,0,0,0,0,0,0,0,0,0,0,0,0,0,0,0,0,0,0,0,0,0,0,0,0,0,0,0,0,0,0,0,0,0,0,0,0,0,{"$f":"AHS150-AHS151-AHS152","v":0},0,0,0,0,0,0,0,0,0,0,0,0,0,0,0,0,0,0,0,0,0,0,0,0,0,0,0,0,0,0,0,0,0,0,0,0,0,0,0,0,0,0,0,0,0,0,0,0,0,0,0,0,0,0,0,0,0,0,0,0,0,0,0,{"$f":"AKE150-AKE151-AKE152","v":0},0,0,0,0,0,0,0,0,0,0,0,0,0,0,0,0,0,0,0,0,0,0,0,0,0,0,0,0,0,0,0,0,0,0,0,0,0,0,0,0,0,0,0,0,0,0,0,0,0,0,0,0,0,0,0,0,0,0,0,0,0,0,0,{"$f":"AMQ150-AMQ151-AMQ152","v":0},0,0,0,0,0,0,0,0,0,0,0,0,0,0,0,0,0,0,0,0,0,0,0,0,0,0,0,0,0,0,0,0,0,0,0,0,0,0,0,0,0,0,0,0,0,0,0,0,0,0,0,0,0,0,0,0,0,0,0,0,0,0,0,{"$f":"APC150-APC151-APC152","v":0},0,0,0,0,0,0,0,0,0,0,0,0,0,0,0,0,0,0,0,0,0,0,0,0,0,0,0,0,0,0,0,0,0,0,0,0,0,0,0,0,0,0,0,0,0,0,0,0,0,0,0,0,0,0,0,0,0,0,0,0,0,0,0,{"$f":"ARO150-ARO151-ARO152","v":0},0,0,0,0,0,0,0,0,0,0,0,0,0,0,0,0,0,0,0,0,0,0,0,0,0,0,0,0,0,0,0,0,0,0,0,0,0,0,0,0,0,0,0,0,0,0,0,0,0,0,0,0,0,0,0,0,0,0,0,0,0,0,0,{"$f":"AUA150-AUA151-AUA152","v":0},0,0,0,0,0,0,0,0,0,0,0,0,0,0,0,0,0,0,0,0,0,0,0,0,0,0,0,0,0,0,0,0,0,0,0,0,0,0,0,0,0,0,0,0,0,0,0,0,0,0,0,0,0,0,0,0,0,0,0,0,0,0,0,{"$f":"AWM150-AWM151-AWM152","v":0},0,0,0,0,0,0,0,0,0,0,0,0,0,0,0,0,0,0,0,0,0,0,0,0,0,0,0,0,0,0,0,0,0,0,0,0,0,0,0,0,0,0,0,0,0,0,0,0,0,0,0,0,0,0,0,0,0,0,0,0,0,0,0,{"$f":"AYY150-AYY151-AYY152","v":0},0,0,0,0,0,0,0,0,0,0,0,0,0,0,0,0,0,0,0,0,0,0,0,0,0,0,0,0,0,0,0,0,0,0,0,0,0,0,0,0,0,0,0,0,0,0,0,0,0,0,0,0,0,0,0,0,0,0,0,0,0,0,0,{"$f":"BBK150-BBK151-BBK152","v":0},0,0,0,0,0,0,0,0,0,0,0,0,0,0,0,0,0,0,0,0,0,0,0,0,0,0,0,0,0,0,0,0,0,0,0,0,0,0,0,0,0,0,0,0,0,0,0,0,0,0,0,0,0,0,0,0,0,0,0,0,0,0,0,{"$f":"BDW150-BDW151-BDW152","v":0},0,0,0,0,0,0,0,0,0,0,0,0,0,0,0,0,0,0,0,0,0,0,0,0,0,0,0,0,0,0,0,0,0,0,0,0,0,0,0,0,0,0,0,0,0,0,0,0,0,0,0,0,0,0,0,0,0,0,0,0,0,0,0,{"$f":"BGI150-BGI151-BGI152","v":0},0,0,0,0,0,0,0,0,0,0,0,0,0,0,0,0,0,0,0,0,0,0,0,0,0,0,0,0,0,0,0,0,0,0,0,0,0,0,0,0,0,0,0,0,0,0,0,0,0,0,0,0,0,0,0,0,0,0,0,0,0,0,0,{"$f":"BIU150-BIU151-BIU152","v":0},0,0,0,0,0,0,0,0,0,0,0,0,0,0,0,0,0,0,0,0,0,0,0,0,0,0,0,0,0,0,0,0,0,0,0,0,0,0,0,0,0,0,0,0,0,0,0,0,0,0,0,0,0,0,0,0,0,0,0,0,0,0,0,{"$f":"BLG150-BLG151-BLG152","v":0},0,0,0,0,0,0,0,0,0,0,0,0,0,0,0,0,0,0,0,0,0,0,0,0,0,0,0,0,0,0,0,0,0,0,0,0,0,0,0,0,0,0,0,0,0,0,0,0,0,0,0,0,0,0,0,0,0,0,0,0,0,0,0,{"$f":"BNS150-BNS151-BNS152","v":0},0,0,0,0,0,0,0,0,0,0,0,0,0,0,0,0,0,0,0,0,0,0,0,0,0,0,0,0,0,0,0,0,0,0,0,0,0,0,0,0,0,0,0,0,0,0,0,0,0,0,0,0,0,0,0,0,0,0,0,0,0,0,0,{"$f":"BQE150-BQE151-BQE152","v":0},0,0,0,0,0,0,0,0,0,0,0,0,0,0,0,0,0,0,0,0,0,0,0,0,0,0,0,0,0,0,0,0,0,0,0,0,0,0,0,0,0,0,0,0,0,0,0,0,0,0,0,0,0,0,0,0,0,0,0,0,0,0,0,{"$f":"BSQ150-BSQ151-BSQ152","v":0},0,0,0,0,0,0,0,0,0,0,0,0,0,0,0,0,0,0,0,0,0,0,0,0,0,0,0,0,0,0,0,0,0,0,0,0,0,0,0,0,0,0,0,0,0,0,0,0,0,0,0,0,0,0,0,0,0,0,0,0,0,0,0,{"$f":"BVC150-BVC151-BVC152","v":0},0,0,0,0,0,0,0,0,0,0,0,0,0,0,0,0,0,0,0,0,0,0,0,0,0,0,0,0,0,0,0,0,0,0,0,0,0,0,0,0,0,0,0,0,0,0,0,0,0,0,0,0,0,0,0,0,0,0,0,0,0,0,0,{"$f":"BXO150-BXO151-BXO152","v":0},0,0,0,0,0,0,0,0,0,0,0,0,0,0,0,0,0,0,0,0,0,0,0,0,0,0,0,0,0,0,0,0,0,0,0,0,0,0,0,0,0,0,0,0,0,0,0,0,0,0,0,0,0,0,0,0,0,0,0,0,0,0,0,{"$f":"CAA150-CAA151-CAA152","v":0},0,0,0,0,0,0,0,0,0,0,0,0,0,0,0,0,0,0,0,0,0,0,0,0,0,0,0,0,0,0,0,0,0,0,0,0,0,0,0,0,0,0,0,0,0,0,0,0,0,0,0,0,0,0,0,0,0,0,0,0,0,0,0,{"$f":"CCM150-CCM151-CCM152","v":0},0,0,0,0,0,0,0,0,0,0,0,0,0,0,0,0,0,0,0,0,0,0,0,0,0,0,0,0,0,0,0,0,0,0,0,0,0,0,0,0,0,0,0,0,0,0,0,0,0,0,0,0,0,0,0,0,0,0,0,0,0,0,0,{"$f":"CEY150-CEY151-CEY152","v":0},0,0,0,0,0,0,0,0,0,0,0,0,0,0,0,0,0,0,0,0,0,0,0,0,0,0,0,0,0,0,0,0,0,0,0,0,0,0,0,0,0,0,0,0,0,0,0,0,0,0,0,0,0,0,0,0,0,0,0,0,0,0,0,{"$f":"CHK150-CHK151-CHK152","v":0},0,0,0,0,0,0,0,0,0,0,0,0,0,0,0,0,0,0,0,0,0,0,0,0,0,0,0,0,0,0,0,0,0,0,0,0,0,0,0,0,0,0,0,0,0,0,0,0,0,0,0,0,0,0,0,0,0,0,0,0,0,0,0,{"$f":"CJW150-CJW151-CJW152","v":0},0,0,0,0,0,0,0,0,0,0,0,0,0,0,0,0,0,0,0,0,0,0,0,0,0,0,0,0,0,0,0,0,0,0,0,0,0,0,0,0,0,0,0,0,0,0,0,0,0,0,0,0,0,0,0,0,0,0,0,0,0,0,0,{"$f":"CMI150-CMI151-CMI152","v":0},0,0,0,0,0,0,0,0,0,0,0,0,0,0,0,0,0,0,0,0,0,0,0,0,0,0,0,0,0,0,0,0,0,0,0,0,0,0,0,0,0,0,0,0,0,0,0,0,0,0,0,0,0,0,0,0,0,0,0,0,0,0,0,{"$f":"COU150-COU151-COU152","v":0},0,0,0,0,0,0,0,0,0,0,0,0,0,0,0,0,0,0,0,0,0,0,0,0,0,0,0,0,0,0,0,0,0,0,0,0,0,0,0,0,0,0,0,0,0,0,0,0,0,0,0,0,0,0,0,0,0,0,0,0,0,0,0,{"$f":"CRG150-CRG151-CRG152","v":0},0,0,0,0,0,0,0,0,0,0,0,0,0,0,0,0,0,0,0,0,0,0,0,0,0,0,0,0,0,0,0,0,0,0,0,0,0,0,0,0,0,0,0,0,0,0,0,0,0,0,0,0,0,0,0,0,0,0,0,0,0,0,0,{"$f":"CTS150-CTS151-CTS152","v":0},0,0,0,0,0,0,0,0,0,0,0,0,0,0,0,0,0,0,0,0,0,0,0,0,0,0,0,0,0,0,0,0,0,0,0,0,0,0,0,0,0,0,0,0,0,0,0,0,0,0,0,0,0,0,0,0,0,0,0,0,0,0,0,{"$f":"CWE150-CWE151-CWE152","v":0},0,0,0,0,0,0,0,0,0,0,0,0,0,0,0,0,0,0,0,0,0,0,0,0,0,0,0,0,0,0,0,0,0,0,0,0,0,0,0,0,0,0,0,0,0,0,0,0,0,0,0,0,0,0,0,0,0,0,0,0,0,0,0,{"$f":"CYQ150-CYQ151-CYQ152","v":0},0,0,0,0,0,0,0,0,0,0,0,0,0,0,0,0,0,0,0,0,0,0,0,0,0,0,0,0,0,0,0,0,0,0,0,0,0,0,0,0,0,0,0,0,0,0,0,0,0,0,0,0,0,0,0,0,0,0,0,0,0,0,0,{"$f":"DBC150-DBC151-DBC152","v":0},0,0,0,0,0,0,0,0,0,0,0,0,0,0,0,0,0,0,0,0,0,0,0,0,0,0,0,0,0,0,0,0,0,0,0,0,0,0,0,0,0,0,0,0,0,0,0,0,0,0,0,0,0,0,0,0,0,0,0,0,0,0,0,{"$f":"DDO150-DDO151-DDO152","v":0},0,0,0,0,0,0,0,0,0,0,0,0,0,0,0,0,0,0,0,0,0,0,0,0,0,0,0,0,0,0,0,0,0,0,0,0,0,0,0,0,0,0,0,0,0,0,0,0,0,0,0,0,0,0,0,0,0,0,0,0,0,0,0,{"$f":"DGA150-DGA151-DGA152","v":0},0,0,0,0,0,0,0,0,0,0,0,0,0,0,0,0,0,0,0,0,0,0,0,0,0,0,0,0,0,0,0,0,0,0,0,0,0,0,0,0,0,0,0,0,0,0,0,0,0,0,0,0,0,0,0,0,0,0,0,0,0,0,0,{"$f":"DIM150-DIM151-DIM152","v":0},0,0,0,0,0,0,0,0,0,0,0,0,0,0,0,0,0,0,0,0,0,0,0,0,0,0,0,0,0,0,0,0,0,0,0,0,0,0,0,0,0,0,0,0,0,0,0,0,0,0,0,0,0,0,0,0,0,0,0,0,0,0,0,{"$f":"DKY150-DKY151-DKY152","v":0},0,0,0,0,0,0,0,0,0,0,0,0,0,0,0,0,0,0,0,0,0,0,0,0,0,0,0,0,0,0,0,0,0,0,0,0,0,0,0,0,0,0,0,0,0,0,0,0,0,0,0,0,0,0,0,0,0,0,0,0,0,0,0,{"$f":"DNK150-DNK151-DNK152","v":0},0,0,0,0,0,0,0,0,0,0,0,0,0,0,0,0,0,0,0,0,0,0,0,0,0,0,0,0,0,0,0,0,0,0,0,0,0,0,0,0,0,0,0,0,0,0,0,0,0,0,0,0,0,0,0,0,0,0,0,0,0,0,0,{"$f":"DPW150-DPW151-DPW152","v":0},0,0,0,0,0,0,0,0,0,0,0,0,0,0,0,0,0,0,0,0,0,0,0,0,0,0,0,0,0,0,0,0,0,0,0,0,0,0,0,0,0,0,0,0,0,0,0,0,0,0,0,0,0,0,0,0,0,0,0,0,0,0,0,{"$f":"DSI150-DSI151-DSI152","v":0},0,0,0,0,0,0,0,0,0,0,0,0,0,0,0,0,0,0,0,0,0,0,0,0,0,0,0,0,0,0,0,0,0,0,0,0,0,0,0,0,0,0,0,0,0,0,0,0,0,0,0,0,0,0,0,0,0,0,0,0,0,0,0,{"$f":"DUU150-DUU151-DUU152","v":0},0,0,0,0,0,0,0,0,0,0,0,0,0,0,0,0,0,0,0,0,0,0,0,0,0,0,0,0,0,0,0,0,0,0,0,0,0,0,0,0,0,0,0,0,0,0,0,0,0,0,0,0,0,0,0,0,0,0,0,0,0,0,0,{"$f":"DXG150-DXG151-DXG152","v":0},0,0,0,0,0,0,0,0,0,0,0,0,0,0,0,0,0,0,0,0,0,0,0,0,0,0,0,0,0,0,0,0,0,0,0,0,0,0,0,0,0,0,0,0,0,0,0,0,0,0,0,0,0,0,0,0,0,0,0,0,0,0,0,{"$f":"DZS150-DZS151-DZS152","v":0},0,0,0,0,0,0,0,0,0,0,0,0,0,0,0,0,0,0,0,0,0,0,0,0,0,0,0,0,0,0,0,0,0,0,0,0,0,0,0,0,0,0,0,0,0,0,0,0,0,0,0,0,0,0,0,0,0,0,0,0,0,0,0,{"$f":"ECE150-ECE151-ECE152","v":0},0,0,0,0,0,0,0,0,0,0,0,0,0,0,0,0,0,0,0,0,0,0,0,0,0,0,0,0,0,0,0,0,0,0,0,0,0,0,0,0,0,0,0,0,0,0,0,0,0,0,0,0,0,0,0,0,0,0,0,0,0,0,0,{"$f":"EEQ150-EEQ151-EEQ152","v":0},0,0,0,0,0,0,0,0,0,0,0,0,0,0,0,0,0,0,0,0,0,0,0,0,0,0,0,0,0,0,0,0,0,0,0,0,0,0,0,0,0,0,0,0,0,0,0,0,0,0,0,0,0,0,0,0,0,0,0,0,0,0,0,{"$f":"EHC150-EHC151-EHC152","v":0},0,0,0,0,0,0,0,0,0,0,0,0,0,0,0,0,0,0,0,0,0,0,0,0,0,0,0,0,0,0,0,0,0,0,0,0,0,0,0,0,0,0,0,0,0,0,0,0,0,0,0,0,0,0,0,0,0,0,0,0,0,0,0,{"$f":"EJO150-EJO151-EJO152","v":0},0,0,0,0,0,0,0,0,0,0,0,0,0,0,0,0,0,0,0,0,0,0,0,0,0,0,0,0,0,0,0,0,0,0,0,0,0,0,0,0,0,0,0,0,0,0,0,0,0,0,0,0,0,0,0,0,0,0,0,0,0,0,0,{"$f":"EMA150-EMA151-EMA152","v":0},0,0,0,0,0,0,0,0,0,0,0,0,0,0,0,0,0,0,0,0,0,0,0,0,0,0,0,0,0,0,0,0,0,0,0,0,0,0,0,0,0,0,0,0,0,0,0,0,0,0,0,0,0,0,0,0,0,0,0,0,0,0,0,{"$f":"EOM150-EOM151-EOM152","v":0},0,0,0,0,0,0,0,0,0,0,0,0,0,0,0,0,0,0,0,0,0,0,0,0,0,0,0,0,0,0,0,0,0,0,0,0,0,0,0,0,0,0,0,0,0,0,0,0,0,0,0,0,0,0,0,0,0,0,0,0,0,0,0,{"$f":"EQY150-EQY151-EQY152","v":0},0,0,0,0,0,0,0,0,0,0,0,0,0,0,0,0,0,0,0,0,0,0,0,0,0,0,0,0,0,0,0,0,0,0,0,0,0,0,0,0,0,0,0,0,0,0,0,0,0,0,0,0,0,0,0,0,0,0,0,0,0,0,0,{"$f":"ETK150-ETK151-ETK152","v":0},0,0,0,0,0,0,0,0,0,0,0,0,0,0,0,0,0,0,0,0,0,0,0,0,0,0,0,0,0,0,0,0,0,0,0,0,0,0,0,0,0,0,0,0,0,0,0,0,0,0,0,0,0,0,0,0,0,0,0,0,0,0,0,{"$f":"EVW150-EVW151-EVW152","v":0},0,0,0,0,0,0,0,0,0,0,0,0,0,0,0,0,0,0,0,0,0,0,0,0,0,0,0,0,0,0,0,0,0,0,0,0,0,0,0,0,0,0,0,0,0,0,0,0,0,0,0,0,0,0,0,0,0,0,0,0,0,0,0,{"$f":"EYI150-EYI151-EYI152","v":0},0,0,0,0,0,0,0,0,0,0,0,0,0,0,0,0,0,0,0,0,0,0,0,0,0,0,0,0,0,0,0,0,0,0,0,0,0,0,0,0,0,0,0,0,0,0,0,0,0,0,0,0,0,0,0,0,0,0,0,0,0,0,0,{"$f":"FAU150-FAU151-FAU152","v":0},0,0,0,0,0,0,0,0,0,0,0,0,0,0,0,0,0,0,0,0,0,0,0,0,0,0,0,0,0,0,0,0,0,0,0,0,0,0,0,0,0,0,0,0,0,0,0,0,0,0,0,0,0,0,0,0,0,0,0,0,0,0,0,{"$f":"FDG150-FDG151-FDG152","v":0},0,0,0,0,0,0,0,0,0,0,0,0,0,0,0,0,0,0,0,0,0,0,0,0,0,0,0,0,0,0,0,0,0,0,0,0,0,0,0,0,0,0,0,0,0,0,0,0,0,0,0,0,0,0,0,0,0,0,0,0,0,0,0,{"$f":"FFS150-FFS151-FFS152","v":0},0,0,0,0,0,0,0,0,0,0,0,0,0,0,0,0,0,0,0,0,0,0,0,0,0,0,0,0,0,0,0,0,0,0,0,0,0,0,0,0,0,0,0,0,0,0,0,0,0,0,0,0,0,0,0,0,0,0,0,0,0,0,0,{"$f":"FIE150-FIE151-FIE152","v":0},0,0,0,0,0,0,0,0,0,0,0,0,0,0,0,0,0,0,0,0,0,0,0,0,0,0,0,0,0,0,0,0,0,0,0,0,0,0,0,0,0,0,0,0,0,0,0,0,0,0,0,0,0,0,0,0,0,0,0,0,0,0,0,{"$f":"FKQ150-FKQ151-FKQ152","v":0},0,0,0,0,0,0,0,0,0,0,0,0,0,0,0,0,0,0,0,0,0,0,0,0,0,0,0,0,0,0,0,0,0,0,0,0,0,0,0,0,0,0,0,0,0,0,0,0,0,0,0,0,0,0,0,0,0,0,0,0,0,0,0,{"$f":"FNC150-FNC151-FNC152","v":0},0,0,0,0,0,0,0,0,0,0,0,0,0,0,0,0,0,0,0,0,0,0,0,0,0,0,0,0,0,0,0,0,0,0,0,0,0,0,0,0,0,0,0,0,0,0,0,0,0,0,0,0,0,0,0,0,0,0,0,0,0,0,0,{"$f":"FPO150-FPO151-FPO152","v":0},0,0,0,0,0,0,0,0,0,0,0,0,0,0,0,0,0,0,0,0,0,0,0,0,0,0,0,0,0,0,0,0,0,0,0,0,0,0,0,0,0,0,0,0,0,0,0,0,0,0,0,0,0,0,0,0,0,0,0,0,0,0,0,{"$f":"FSA150-FSA151-FSA152","v":0},0,0,0,0,0,0,0,0,0,0,0,0,0,0,0,0,0,0,0,0,0,0,0,0,0,0,0,0,0,0,0,0,0,0,0,0,0,0,0,0,0,0,0,0,0,0,0,0,0,0,0,0,0,0,0,0,0,0,0,0,0,0,0,{"$f":"FUM150-FUM151-FUM152","v":0},0,0,0,0,0,0,0,0,0,0,0,0,0,0,0,0,0,0,0,0,0,0,0,0,0,0,0,0,0,0,0,0,0,0,0,0,0,0,0,0,0,0,0,0,0,0,0,0,0,0,0,0,0,0,0,0,0,0,0,0,0,0,0,{"$f":"FWY150-FWY151-FWY152","v":0},0,0,0,0,0,0,0,0,0,0,0,0,0,0,0,0,0,0,0,0,0,0,0,0,0,0,0,0,0,0,0,0,0,0,0,0,0,0,0,0,0,0,0,0,0,0,0,0,0,0,0,0,0,0,0,0,0,0,0,0,0,0,0,{"$f":"FZK150-FZK151-FZK152","v":0},0,0,0,0,0,0,0,0,0,0,0,0,0,0,0,0,0,0,0,0,0,0,0,0,0,0,0,0,0,0,0,0,0,0,0,0,0,0,0,0,0,0,0,0,0,0,0,0,0,0,0,0,0,0,0,0,0,0,0,0,0,0,0,{"$f":"GBW150-GBW151-GBW152","v":0},0,0,0,0,0,0,0,0,0,0,0,0,0,0,0,0,0,0,0,0,0,0,0,0,0,0,0,0,0,0,0,0,0,0,0,0,0,0,0,0,0,0,0,0,0,0,0,0,0,0,0,0,0,0,0,0,0,0,0,0,0,0,0,{"$f":"GEI150-GEI151-GEI152","v":0},0,0,0,0,0,0,0,0,0,0,0,0,0,0,0,0,0,0,0,0,0,0,0,0,0,0,0,0,0,0,0,0,0,0,0,0,0,0,0,0,0,0,0,0,0,0,0,0,0,0,0,0,0,0,0,0,0,0,0,0,0,0,0,{"$f":"GGU150-GGU151-GGU152","v":0},0,0,0,0,0,0,0,0,0,0,0,0,0,0,0,0,0,0,0,0,0,0,0,0,0,0,0,0,0,0,0,0,0,0,0,0,0,0,0,0,0,0,0,0,0,0,0,0,0,0,0,0,0,0,0,0,0,0,0,0,0,0,0,{"$f":"GJG150-GJG151-GJG152","v":0},0,0,0,0,0,0,0,0,0,0,0,0,0,0,0,0,0,0,0,0,0,0,0,0,0,0,0,0,0,0,0,0,0,0,0,0,0,0,0,0,0,0,0,0,0,0,0,0,0,0,0,0,0,0,0,0,0,0,0,0,0,0,0,{"$f":"GLS150-GLS151-GLS152","v":0},0,0,0,0,0,0,0,0,0,0,0,0,0,0,0,0,0,0,0,0,0,0,0,0,0,0,0,0,0,0,0,0,0,0,0,0,0,0,0,0,0,0,0,0,0,0,0,0,0,0,0,0,0,0,0,0,0,0,0,0,0,0,0,{"$f":"GOE150-GOE151-GOE152","v":0},0,0,0,0,0,0,0,0,0,0,0,0,0,0,0,0,0,0,0,0,0,0,0,0,0,0,0,0,0,0,0,0,0,0,0,0,0,0,0,0,0,0,0,0,0,0,0,0,0,0,0,0,0,0,0,0,0,0,0,0,0,0,0,{"$f":"GQQ150-GQQ151-GQQ152","v":0},0,0,0,0,0,0,0,0,0,0,0,0,0,0,0,0,0,0,0,0,0,0,0,0,0,0,0,0,0,0,0,0,0,0,0,0,0,0,0,0,0,0,0,0,0,0,0,0,0,0,0,0,0,0,0,0,0,0,0,0,0,0,0,{"$f":"GTC150-GTC151-GTC152","v":0},0,0,0,0,0,0,0,0,0,0,0,0,0,0,0,0,0,0,0,0,0,0,0,0,0,0,0,0,0,0,0,0,0,0,0,0,0,0,0,0,0,0,0,0,0,0,0,0,0,0,0,0,0,0,0,0,0,0,0,0,0,0,0,{"$f":"GVO150-GVO151-GVO152","v":0},0,0,0,0,0,0,0,0,0,0,0,0,0,0,0,0,0,0,0,0,0,0,0,0,0,0,0,0,0,0,0,0,0,0,0,0,0,0,0,0,0,0,0,0,0,0,0,0,0,0,0,0,0,0,0,0,0,0,0,0,0,0,0,{"$f":"GYA150-GYA151-GYA152","v":0},0,0,0,0,0,0,0,0,0,0,0,0,0,0,0,0,0,0,0,0,0,0,0,0,0,0,0,0,0,0,0,0,0,0,0,0,0,0,0,0,0,0,0,0,0,0,0,0,0,0,0,0,0,0,0,0,0,0,0,0,0,0,0,{"$f":"HAM150-HAM151-HAM152","v":0},0,0,0,0,0,0,0,0,0,0,0,0,0,0,0,0,0,0,0,0,0,0,0,0,0,0,0,0,0,0,0,0,0,0,0,0,0,0,0,0,0,0,0,0,0,0,0,0,0,0,0,0,0,0,0,0,0,0,0,0,0,0,0,{"$f":"HCY150-HCY151-HCY152","v":0},0,0,0,0,0,0,0,0,0,0,0,0,0,0,0,0,0,0,0,0,0,0,0,0,0,0,0,0,0,0,0,0,0,0,0,0,0,0,0,0,0,0,0,0,0,0,0,0,0,0,0,0,0,0,0,0,0,0,0,0,0,0,0,{"$f":"HFK150-HFK151-HFK152","v":0},0,0,0,0,0,0,0,0,0,0,0,0,0,0,0,0,0,0,0,0,0,0,0,0,0,0,0,0,0,0,0,0,0,0,0,0,0,0,0,0,0,0,0,0,0,0,0,0,0,0,0,0,0,0,0,0,0,0,0,0,0,0,0,{"$f":"HHW150-HHW151-HHW152","v":0},0,0,0,0,0,0,0,0,0,0,0,0,0,0,0,0,0,0,0,0,0,0,0,0,0,0,0,0,0,0,0,0,0,0,0,0,0,0,0,0,0,0,0,0,0,0,0,0,0,0,0,0,0,0,0,0,0,0,0,0,0,0,0,{"$f":"HKI150-HKI151-HKI152","v":0},0,0,0,0,0,0,0,0,0,0,0,0,0,0,0,0,0,0,0,0,0,0,0,0,0,0,0,0,0,0,0,0,0,0,0,0,0,0,0,0,0,0,0,0,0,0,0,0,0,0,0,0,0,0,0,0,0,0,0,0,0,0,0,{"$f":"HMU150-HMU151-HMU152","v":0},0,0,0,0,0,0,0,0,0,0,0,0,0,0,0,0,0,0,0,0,0,0,0,0,0,0,0,0,0,0,0,0,0,0,0,0,0,0,0,0,0,0,0,0,0,0,0,0,0,0,0,0,0,0,0,0,0,0,0,0,0,0,0,{"$f":"HPG150-HPG151-HPG152","v":0},0,0,0,0,0,0,0,0,0,0,0,0,0,0,0,0,0,0,0,0,0,0,0,0,0,0,0,0,0,0,0,0,0,0,0,0,0,0,0,0,0,0,0,0,0,0,0,0,0,0,0,0,0,0,0,0,0,0,0,0,0,0,0,{"$f":"HRS150-HRS151-HRS152","v":0},0,0,0,0,0,0,0,0,0,0,0,0,0,0,0,0,0,0,0,0,0,0,0,0,0,0,0,0,0,0,0,0,0,0,0,0,0,0,0,0,0,0,0,0,0,0,0,0,0,0,0,0,0,0,0,0,0,0,0,0,0,0,0,{"$f":"HUE150-HUE151-HUE152","v":0},0,0,0,0,0,0,0,0,0,0,0,0,0,0,0,0,0,0,0,0,0,0,0,0,0,0,0,0,0,0,0,0,0,0,0,0,0,0,0,0,0,0,0,0,0,0,0,0,0,0,0,0,0,0,0,0,0,0,0,0,0,0,0,{"$f":"HWQ150-HWQ151-HWQ152","v":0},0,0,0,0,0,0,0,0,0,0,0,0,0,0,0,0,0,0,0,0,0,0,0,0,0,0,0,0,0,0,0,0,0,0,0,0,0,0,0,0,0,0,0,0,0,0,0,0,0,0,0,0,0,0,0,0,0,0,0,0,0,0,0,{"$f":"HZC150-HZC151-HZC152","v":0},0,0,0,0,0,0,0,0,0,0,0,0,0,0,0,0,0,0,0,0,0,0,0,0,0,0,0,0,0,0,0,0,0,0,0,0,0,0,0,0,0,0,0,0,0,0,0,0,0,0,0,0,0,0,0,0,0,0,0,0,0,0,0,{"$f":"IBO150-IBO151-IBO152","v":0},0,0,0,0,0,0,0,0,0,0,0,0,0,0,0,0,0,0,0,0,0,0,0,0,0,0,0,0,0,0,0,0,0,0,0,0,0,0,0,0,0,0,0,0,0,0,0,0,0,0,0,0,0,0,0,0,0,0,0,0,0,0,0,{"$f":"IEA150-IEA151-IEA152","v":0},0,0,0,0,0,0,0,0,0,0,0,0,0,0,0,0,0,0,0,0,0,0,0,0,0,0,0,0,0,0,0,0,0,0,0,0,0,0,0,0,0,0,0,0,0,0,0,0,0,0,0,0,0,0,0,0,0,0,0,0,0,0,0,{"$f":"IGM150-IGM151-IGM152","v":0},0,0,0,0,0,0,0,0,0,0,0,0,0,0,0,0,0,0,0,0,0,0,0,0,0,0,0,0,0,0,0,0,0,0,0,0,0,0,0,0,0,0,0,0,0,0,0,0,0,0,0,0,0,0,0,0,0,0,0,0,0,0,0,{"$f":"IIY150-IIY151-IIY152","v":0},0,0,0,0,0,0,0,0,0,0,0,0,0,0,0,0,0,0,0,0,0,0,0,0,0,0,0,0,0,0,0,0,0,0,0,0,0,0,0,0,0,0,0,0,0,0,0,0,0,0,0,0,0,0,0,0,0,0,0,0,0,0,0,{"$f":"ILK150-ILK151-ILK152","v":0},0,0,0,0,0,0,0,0,0,0,0,0,0,0,0,0,0,0,0,0,0,0,0,0,0,0,0,0,0,0,0,0,0,0,0,0,0,0,0,0,0,0,0,0,0,0,0,0,0,0,0,0,0,0,0,0,0,0,0,0,0,0,0,{"$f":"INW150-INW151-INW152","v":0},0,0,0,0,0,0,0,0,0,0,0,0,0,0,0,0,0,0,0,0,0,0,0,0,0,0,0,0,0,0,0,0,0,0,0,0,0,0,0,0,0,0,0,0,0,0,0,0,0,0,0,0,0,0,0,0,0,0,0,0,0,0,0,{"$f":"IQI150-IQI151-IQI152","v":0},0,0,0,0,0,0,0,0,0,0,0,0,0,0,0,0,0,0,0,0,0,0,0,0,0,0,0,0,0,0,0,0,0,0,0,0,0,0,0,0,0,0,0,0,0,0,0,0,0,0,0,0,0,0,0,0,0,0,0,0,0,0,0,{"$f":"ISU150-ISU151-ISU152","v":0},0,0,0,0,0,0,0,0,0,0,0,0,0,0,0,0,0,0,0,0,0,0,0,0,0,0,0,0,0,0,0,0,0,0,0,0,0,0,0,0,0,0,0,0,0,0,0,0,0,0,0,0,0,0,0,0,0,0,0,0,0,0,0,{"$f":"IVG150-IVG151-IVG152","v":0},0,0,0,0,0,0,0,0,0,0,0,0,0,0,0,0,0,0,0,0,0,0,0,0,0,0,0,0,0,0,0,0,0,0,0,0,0,0,0,0,0,0,0,0,0,0,0,0,0,0,0,0,0,0,0,0,0,0,0,0,0,0,0,{"$f":"IXS150-IXS151-IXS152","v":0},0,0,0,0,0,0,0,0,0,0,0,0,0,0,0,0,0,0,0,0,0,0,0,0,0,0,0,0,0,0,0,0,0,0,0,0,0,0,0,0,0,0,0,0,0,0,0,0,0,0,0,0,0,0,0,0,0,0,0,0,0,0,0,{"$f":"JAE150-JAE151-JAE152","v":0},0,0,0,0,0,0,0,0,0,0,0,0,0,0,0,0,0,0,0,0,0,0,0,0,0,0,0,0,0,0,0,0,0,0,0,0,0,0,0,0,0,0,0,0,0,0,0,0,0,0,0,0,0,0,0,0,0,0,0,0,0,0,0,{"$f":"JCQ150-JCQ151-JCQ152","v":0},0,0,0,0,0,0,0,0,0,0,0,0,0,0,0,0,0,0,0,0,0,0,0,0,0,0,0,0,0,0,0,0,0,0,0,0,0,0,0,0,0,0,0,0,0,0,0,0,0,0,0,0,0,0,0,0,0,0,0,0,0,0,0,{"$f":"JFC150-JFC151-JFC152","v":0},0,0,0,0,0,0,0,0,0,0,0,0,0,0,0,0,0,0,0,0,0,0,0,0,0,0,0,0,0,0,0,0,0,0,0,0,0,0,0,0,0,0,0,0,0,0,0,0,0,0,0,0,0,0,0,0,0,0,0,0,0,0,0,{"$f":"JHO150-JHO151-JHO152","v":0},0,0,0,0,0,0,0,0,0,0,0,0,0,0,0,0,0,0,0,0,0,0,0,0,0,0,0,0,0,0,0,0,0,0,0,0,0,0,0,0,0,0,0,0,0,0,0,0,0,0,0,0,0,0,0,0,0,0,0,0,0,0,0,{"$f":"JKA150-JKA151-JKA152","v":0},0,0,0,0,0,0,0,0,0,0,0,0,0,0,0,0,0,0,0,0,0,0,0,0,0,0,0,0,0,0,0,0,0,0,0,0,0,0,0,0,0,0,0,0,0,0,0,0,0,0,0,0,0,0,0,0,0,0,0,0,0,0,0,{"$f":"JMM150-JMM151-JMM152","v":0},0,0,0,0,0,0,0,0,0,0,0,0,0,0,0,0,0,0,0,0,0,0,0,0,0,0,0,0,0,0,0,0,0,0,0,0,0,0,0,0,0,0,0,0,0,0,0,0,0,0,0,0,0,0,0,0,0,0,0,0,0,0,0,{"$f":"JOY150-JOY151-JOY152","v":0},0,0,0,0,0,0,0,0,0,0,0,0,0,0,0,0,0,0,0,0,0,0,0,0,0,0,0,0,0,0,0,0,0,0,0,0,0,0,0,0,0,0,0,0,0,0,0,0,0,0,0,0,0,0,0,0,0,0,0,0,0,0,0,{"$f":"JRK150-JRK151-JRK152","v":0},0,0,0,0,0,0,0,0,0,0,0,0,0,0,0,0,0,0,0,0,0,0,0,0,0,0,0,0,0,0,0,0,0,0,0,0,0,0,0,0,0,0,0,0,0,0,0,0,0,0,0,0,0,0,0,0,0,0,0,0,0,0,0,{"$f":"JTW150-JTW151-JTW152","v":0},0,0,0,0,0,0,0,0,0,0,0,0,0,0,0,0,0,0,0,0,0,0,0,0,0,0,0,0,0,0,0,0,0,0,0,0,0,0,0,0,0,0,0,0,0,0,0,0,0,0,0,0,0,0,0,0,0,0,0,0,0,0,0,{"$f":"JWI150-JWI151-JWI152","v":0},0,0,0,0,0,0,0,0,0,0,0,0,0,0,0,0,0,0,0,0,0,0,0,0,0,0,0,0,0,0,0,0,0,0,0,0,0,0,0,0,0,0,0,0,0,0,0,0,0,0,0,0,0,0,0,0,0,0,0,0,0,0,0,{"$f":"JYU150-JYU151-JYU152","v":0},0,0,0,0,0,0,0,0,0,0,0,0,0,0,0,0,0,0,0,0,0,0,0,0,0,0,0,0,0,0,0,0,0,0,0,0,0,0,0,0,0,0,0,0,0,0,0,0,0,0,0,0,0,0,0,0,0,0,0,0,0,0,0,{"$f":"KBG150-KBG151-KBG152","v":0},0,0,0,0,0,0,0,0,0,0,0,0,0,0,0,0,0,0,0,0,0,0,0,0,0,0,0,0,0,0,0,0,0,0,0,0,0,0,0,0,0,0,0,0,0,0,0,0,0,0,0,0,0,0,0,0,0,0,0,0,0,0,0,{"$f":"KDS150-KDS151-KDS152","v":0},0,0,0,0,0,0,0,0,0,0,0,0,0,0,0,0,0,0,0,0,0,0,0,0,0,0,0,0,0,0,0,0,0,0,0,0,0,0,0,0,0,0,0,0,0,0,0,0,0,0,0,0,0,0,0,0,0,0,0,0,0,0,0,{"$f":"KGE150-KGE151-KGE152","v":0},0,0,0,0,0,0,0,0,0,0,0,0,0,0,0,0,0,0,0,0,0,0,0,0,0,0,0,0,0,0,0,0,0,0,0,0,0,0,0,0,0,0,0,0,0,0,0,0,0,0,0,0,0,0,0,0,0,0,0,0,0,0,0,{"$f":"KIQ150-KIQ151-KIQ152","v":0},0,0,0,0,0,0,0,0,0,0,0,0,0,0,0,0,0,0,0,0,0,0,0,0,0,0,0,0,0,0,0,0,0,0,0,0,0,0,0,0,0,0,0,0,0,0,0,0,0,0,0,0,0,0,0,0,0,0,0,0,0,0,0,{"$f":"KLC150-KLC151-KLC152","v":0},0,0,0,0,0,0,0,0,0,0,0,0,0,0,0,0,0,0,0,0,0,0,0,0,0,0,0,0,0,0,0,0,0,0,0,0,0,0,0,0,0,0,0,0,0,0,0,0,0,0,0,0,0,0,0,0,0,0,0,0,0,0,0,{"$f":"KNO150-KNO151-KNO152","v":0},0,0,0,0,0,0,0,0,0,0,0,0,0,0,0,0,0,0,0,0,0,0,0,0,0,0,0,0,0,0,0,0,0,0,0,0,0,0,0,0,0,0,0,0,0,0,0,0,0,0,0,0,0,0,0,0,0,0,0,0,0,0,0,{"$f":"KQA150-KQA151-KQA152","v":0},0,0,0,0,0,0,0,0,0,0,0,0,0,0,0,0,0,0,0,0,0,0,0,0,0,0,0,0,0,0,0,0,0,0,0,0,0,0,0,0,0,0,0,0,0,0,0,0,0,0,0,0,0,0,0,0,0,0,0,0,0,0,0,{"$f":"KSM150-KSM151-KSM152","v":0},0,0,0,0,0,0,0,0,0,0,0,0,0,0,0,0,0,0,0,0,0,0,0,0,0,0,0,0,0,0,0,0,0,0,0,0,0,0,0,0,0,0,0,0,0,0,0,0,0,0,0,0,0,0,0,0,0,0,0,0,0,0,0,{"$f":"KUY150-KUY151-KUY152","v":0},0,0,0,0,0,0,0,0,0,0,0,0,0,0,0,0,0,0,0,0,0,0,0,0,0,0,0,0,0,0,0,0,0,0,0,0,0,0,0,0,0,0,0,0,0,0,0,0,0,0,0,0,0,0,0,0,0,0,0,0,0,0,0,{"$f":"KXK150-KXK151-KXK152","v":0},0,0,0,0,0,0,0,0,0,0,0,0,0,0,0,0,0,0,0,0,0,0,0,0,0,0,0,0,0,0,0,0,0,0,0,0,0,0,0,0,0,0,0,0,0,0,0,0,0,0,0,0,0,0,0,0,0,0,0,0,0,0,0,{"$f":"KZW150-KZW151-KZW152","v":0},0,0,0,0,0,0,0,0,0,0,0,0,0,0,0,0,0,0,0,0,0,0,0,0,0,0,0,0,0,0,0,0,0,0,0,0,0,0,0,0,0,0,0,0,0,0,0,0,0,0,0,0,0,0,0,0,0,0,0,0,0,0,0,{"$f":"LCI150-LCI151-LCI152","v":0},0,0,0,0,0,0,0,0,0,0,0,0,0,0,0,0,0,0,0,0,0,0,0,0,0,0,0,0,0,0,0,0,0,0,0,0,0,0,0,0,0,0,0,0,0,0,0,0,0,0,0,0,0,0,0,0,0,0,0,0,0,0,0,{"$f":"LEU150-LEU151-LEU152","v":0},0,0,0,0,0,0,0,0,0,0,0,0,0,0,0,0,0,0,0,0,0,0,0,0,0,0,0,0,0,0,0,0,0,0,0,0,0,0,0,0,0,0,0,0,0,0,0,0,0,0,0,0,0,0,0,0,0,0,0,0,0,0,0,{"$f":"LHG150-LHG151-LHG152","v":0},0,0,0,0,0,0,0,0,0,0,0,0,0,0,0,0,0,0,0,0,0,0,0,0,0,0,0,0,0,0,0,0,0,0,0,0,0,0,0,0,0,0,0,0,0,0,0,0,0,0,0,0,0,0,0,0,0,0,0,0,0,0,0,{"$f":"LJS150-LJS151-LJS152","v":0},0,0,0,0,0,0,0,0,0,0,0,0,0,0,0,0,0,0,0,0,0,0,0,0,0,0,0,0,0,0,0,0,0,0,0,0,0,0,0,0,0,0,0,0,0,0,0,0,0,0,0,0,0,0,0,0,0,0,0,0,0,0,0,{"$f":"LME150-LME151-LME152","v":0},0,0,0,0,0,0,0,0,0,0,0,0,0,0,0,0,0,0,0,0,0,0,0,0,0,0,0,0,0,0,0,0,0,0,0,0,0,0,0,0,0,0,0,0,0,0,0,0,0,0,0,0,0,0,0,0,0,0,0,0,0,0,0,{"$f":"LOQ150-LOQ151-LOQ152","v":0},0,0,0,0,0,0,0,0,0,0,0,0,0,0,0,0,0,0,0,0,0,0,0,0,0,0,0,0,0,0,0,0,0,0,0,0,0,0,0,0,0,0,0,0,0,0,0,0,0,0,0,0,0,0,0,0,0,0,0,0,0,0,0,{"$f":"LRC150-LRC151-LRC152","v":0},0,0,0,0,0,0,0,0,0,0,0,0,0,0,0,0,0,0,0,0,0,0,0,0,0,0,0,0,0,0,0,0,0,0,0,0,0,0,0,0,0,0,0,0,0,0,0,0,0,0,0,0,0,0,0,0,0,0,0,0,0,0,0,{"$f":"LTO150-LTO151-LTO152","v":0},0,0,0,0,0,0,0,0,0,0,0,0,0,0,0,0,0,0,0,0,0,0,0,0,0,0,0,0,0,0,0,0,0,0,0,0,0,0,0,0,0,0,0,0,0,0,0,0,0,0,0,0,0,0,0,0,0,0,0,0,0,0,0,{"$f":"LWA150-LWA151-LWA152","v":0},0,0,0,0,0,0,0,0,0,0,0,0,0,0,0,0,0,0,0,0,0,0,0,0,0,0,0,0,0,0,0,0,0,0,0,0,0,0,0,0,0,0,0,0,0,0,0,0,0,0,0,0,0,0,0,0,0,0,0,0,0,0,0,{"$f":"LYM150-LYM151-LYM152","v":0},0,0,0,0,0,0,0,0,0,0,0,0,0,0,0,0,0,0,0,0,0,0,0,0,0,0,0,0,0,0,0,0,0,0,0,0,0,0,0,0,0,0,0,0,0,0,0,0,0,0,0,0,0,0,0,0,0,0,0,0,0,0,0,{"$f":"MAY150-MAY151-MAY152","v":0},0,0,0,0,0,0,0,0,0,0,0,0,0,0,0,0,0,0,0,0,0,0,0,0,0,0,0,0,0,0,0,0,0,0,0,0,0,0,0,0,0,0,0,0,0,0,0,0,0,0,0,0,0,0,0,0,0,0,0,0,0,0,0,{"$f":"MDK150-MDK151-MDK152","v":0},0,0,0,0,0,0,0,0,0,0,0,0,0,0,0,0,0,0,0,0,0,0,0,0,0,0,0,0,0,0,0,0,0,0,0,0,0,0,0,0,0,0,0,0,0,0,0,0,0,0,0,0,0,0,0,0,0,0,0,0,0,0,0,{"$f":"MFW150-MFW151-MFW152","v":0},0,0,0,0,0,0,0,0,0,0,0,0,0,0,0,0,0,0,0,0,0,0,0,0,0,0,0,0,0,0,0,0,0,0,0,0,0,0,0,0,0,0,0,0,0,0,0,0,0,0,0,0,0,0,0,0,0,0,0,0,0,0,0,{"$f":"MII150-MII151-MII152","v":0},0,0,0,0,0,0,0,0,0,0,0,0,0,0,0,0,0,0,0,0,0,0,0,0,0,0,0,0,0,0,0,0,0,0,0,0,0,0,0,0,0,0,0,0,0,0,0,0,0,0,0,0,0,0,0,0,0,0,0,0,0,0,0,{"$f":"MKU150-MKU151-MKU152","v":0},0,0,0,0,0,0,0,0,0,0,0,0,0,0,0,0,0,0,0,0,0,0,0,0,0,0,0,0,0,0,0,0,0,0,0,0,0,0,0,0,0,0,0,0,0,0,0,0,0,0,0,0,0,0,0,0,0,0,0,0,0,0,0,{"$f":"MNG150-MNG151-MNG152","v":0},0,0,0,0,0,0,0,0,0,0,0,0,0,0,0,0,0,0,0,0,0,0,0,0,0,0,0,0,0,0,0,0,0,0,0,0,0,0,0,0,0,0,0,0,0,0,0,0,0,0,0,0,0,0,0,0,0,0,0,0,0,0,0,{"$f":"MPS150-MPS151-MPS152","v":0},0,0,0,0,0,0,0,0,0,0,0,0,0,0,0,0,0,0,0,0,0,0,0,0,0,0,0,0,0,0,0,0,0,0,0,0,0,0,0,0,0,0,0,0,0,0,0,0,0,0,0,0,0,0,0,0,0,0,0,0,0,0,0,{"$f":"MSE150-MSE151-MSE152","v":0},0,0,0,0,0,0,0,0,0,0,0,0,0,0,0,0,0,0,0,0,0,0,0,0,0,0,0,0,0,0,0,0,0,0,0,0,0,0,0,0,0,0,0,0,0,0,0,0,0,0,0,0,0,0,0,0,0,0,0,0,0,0,0,{"$f":"MUQ150-MUQ151-MUQ152","v":0},0,0,0,0,0,0,0,0,0,0,0,0,0,0,0,0,0,0,0,0,0,0,0,0,0,0,0,0,0,0,0,0,0,0,0,0,0,0,0,0,0,0,0,0,0,0,0,0,0,0,0,0,0,0,0,0,0,0,0,0,0,0,0,{"$f":"MXC150-MXC151-MXC152","v":0},0,0,0,0,0,0,0,0,0,0,0,0,0,0,0,0,0,0,0,0,0,0,0,0,0,0,0,0,0,0,0,0,0,0,0,0,0,0,0,0,0,0,0,0,0,0,0,0,0,0,0,0,0,0,0,0,0,0,0,0,0,0,0,{"$f":"MZO150-MZO151-MZO152","v":0},0,0,0,0,0,0,0,0,0,0,0,0,0,0,0,0,0,0,0,0,0,0,0,0,0,0,0,0,0,0,0,0,0,0,0,0,0,0,0,0,0,0,0,0,0,0,0,0,0,0,0,0,0,0,0,0,0,0,0,0,0,0,0,{"$f":"NCA150-NCA151-NCA152","v":0},0,0,0,0,0,0,0,0,0,0,0,0,0,0,0,0,0,0,0,0,0,0,0,0,0,0,0,0,0,0,0,0,0,0,0,0,0,0,0,0,0,0,0,0,0,0,0,0,0,0,0,0,0,0,0,0,0,0,0,0,0,0,0,{"$f":"NEM150-NEM151-NEM152","v":0},0,0,0,0,0,0,0,0,0,0,0,0,0,0,0,0,0,0,0,0,0,0,0,0,0,0,0,0,0,0,0,0,0,0,0,0,0,0,0,0,0,0,0,0,0,0,0,0,0,0,0,0,0,0,0,0,0,0,0,0,0,0,0,{"$f":"NGY150-NGY151-NGY152","v":0},0,0,0,0,0,0,0,0,0,0,0,0,0,0,0,0,0,0,0,0,0,0,0,0,0,0,0,0,0,0,0,0,0,0,0,0,0,0,0,0,0,0,0,0,0,0,0,0,0,0,0,0,0,0,0,0,0,0,0,0,0,0,0,{"$f":"NJK150-NJK151-NJK152","v":0},0,0,0,0,0,0,0,0,0,0,0,0,0,0,0,0,0,0,0,0,0,0,0,0,0,0,0,0,0,0,0,0,0,0,0,0,0,0,0,0,0,0,0,0,0,0,0,0,0,0,0,0,0,0,0,0,0,0,0,0,0,0,0,{"$f":"NLW150-NLW151-NLW152","v":0},0,0,0,0,0,0,0,0,0,0,0,0,0,0,0,0,0,0,0,0,0,0,0,0,0,0,0,0,0,0,0,0,0,0,0,0,0,0,0,0,0,0,0,0,0,0,0,0,0,0,0,0,0,0,0,0,0,0,0,0,0,0,0,{"$f":"NOI150-NOI151-NOI152","v":0},0,0,0,0,0,0,0,0,0,0,0,0,0,0,0,0,0,0,0,0,0,0,0,0,0,0,0,0,0,0,0,0,0,0,0,0,0,0,0,0,0,0,0,0,0,0,0,0,0,0,0,0,0,0,0,0,0,0,0,0,0,0,0,{"$f":"NQU150-NQU151-NQU152","v":0},0,0,0,0,0,0,0,0,0,0,0,0,0,0,0,0,0,0,0,0,0,0,0,0,0,0,0,0,0,0,0,0,0,0,0,0,0,0,0,0,0,0,0,0,0,0,0,0,0,0,0,0,0,0,0,0,0,0,0,0,0,0,0,{"$f":"NTG150-NTG151-NTG152","v":0},0,0,0,0,0,0,0,0,0,0,0,0,0,0,0,0,0,0,0,0,0,0,0,0,0,0,0,0,0,0,0,0,0,0,0,0,0,0,0,0,0,0,0,0,0,0,0,0,0,0,0,0,0,0,0,0,0,0,0,0,0,0,0,{"$f":"NVS150-NVS151-NVS152","v":0},0,0,0,0,0,0,0,0,0,0,0,0,0,0,0,0,0,0,0,0,0,0,0,0,0,0,0,0,0,0,0,0,0,0,0,0,0,0,0,0,0,0,0,0,0,0,0,0,0,0,0,0,0,0,0,0,0,0,0,0,0,0,0,{"$f":"NYE150-NYE151-NYE152","v":0},0,0,0,0,0,0,0,0,0,0,0,0,0,0,0,0,0,0,0,0,0,0,0,0,0,0,0,0,0,0,0,0,0,0,0,0,0,0,0,0,0,0,0,0,0,0,0,0,0,0,0,0,0,0,0,0,0,0,0,0,0,0,0,{"$f":"OAQ150-OAQ151-OAQ152","v":0},0,0,0,0,0,0,0,0,0,0,0,0,0,0,0,0,0,0,0,0,0,0,0,0,0,0,0,0,0,0,0,0,0,0,0,0,0,0,0,0,0,0,0,0,0,0,0,0,0,0,0,0,0,0,0,0,0,0,0,0,0,0,0,{"$f":"ODC150-ODC151-ODC152","v":0},0,0,0,0,0,0,0,0,0,0,0,0,0,0,0,0,0,0,0,0,0,0,0,0,0,0,0,0,0,0,0,0,0,0,0,0,0,0,0,0,0,0,0,0,0,0,0,0,0,0,0,0,0,0,0,0,0,0,0,0,0,0,0,{"$f":"OFO150-OFO151-OFO152","v":0},0,0,0,0,0,0,0,0,0,0,0,0,0,0,0,0,0,0,0,0,0,0,0,0,0,0,0,0,0,0,0,0,0,0,0,0,0,0,0,0,0,0,0,0,0,0,0,0,0,0,0,0,0,0,0,0,0,0,0,0,0,0,0,{"$f":"OIA150-OIA151-OIA152","v":0},0,0,0,0,0,0,0,0,0,0,0,0,0,0,0,0,0,0,0,0,0,0,0,0,0,0,0,0,0,0,0,0,0,0,0,0,0,0,0,0,0,0,0,0,0,0,0,0,0,0,0,0,0,0,0,0,0,0,0,0,0,0,0,{"$f":"OKM150-OKM151-OKM152","v":0},0,0,0,0,0,0,0,0,0,0,0,0,0,0,0,0,0,0,0,0,0,0,0,0,0,0,0,0,0,0,0,0,0,0,0,0,0,0,0,0,0,0,0,0,0,0,0,0,0,0,0,0,0,0,0,0,0,0,0,0,0,0,0,{"$f":"OMY150-OMY151-OMY152","v":0},0,0,0,0,0,0,0,0,0,0,0,0,0,0,0,0,0,0,0,0,0,0,0,0,0,0,0,0,0,0,0,0,0,0,0,0,0,0,0,0,0,0,0,0,0,0,0,0,0,0,0,0,0,0,0,0,0,0,0,0,0,0,0,{"$f":"OPK150-OPK151-OPK152","v":0},0,0,0,0,0,0,0,0,0,0,0,0,0,0,0,0,0,0,0,0,0,0,0,0,0,0,0,0,0,0,0,0,0,0,0,0,0,0,0,0,0,0,0,0,0,0,0,0,0,0,0,0,0,0,0,0,0,0,0,0,0,0,0,{"$f":"ORW150-ORW151-ORW152","v":0},0,0,0,0,0,0,0,0,0,0,0,0,0,0,0,0,0,0,0,0,0,0,0,0,0,0,0,0,0,0,0,0,0,0,0,0,0,0,0,0,0,0,0,0,0,0,0,0,0,0,0,0,0,0,0,0,0,0,0,0,0,0,0,{"$f":"OUI150-OUI151-OUI152","v":0},0,0,0,0,0,0,0,0,0,0,0,0,0,0,0,0,0,0,0,0,0,0,0,0,0,0,0,0,0,0,0,0,0,0,0,0,0,0,0,0,0,0,0,0,0,0,0,0,0,0,0,0,0,0,0,0,0,0,0,0,0,0,0,{"$f":"OWU150-OWU151-OWU152","v":0},0,0,0,0,0,0,0,0,0,0,0,0,0,0,0,0,0,0,0,0,0,0,0,0,0,0,0,0,0,0,0,0,0,0,0,0,0,0,0,0,0,0,0,0,0,0,0,0,0,0,0,0,0,0,0,0,0,0,0,0,0,0,0,{"$f":"OZG150-OZG151-OZG152","v":0},0,0,0,0,0,0,0,0,0,0,0,0,0,0,0,0,0,0,0,0,0,0,0,0,0,0,0,0,0,0,0,0,0,0,0,0,0,0,0,0,0,0,0,0,0,0,0,0,0,0,0,0,0,0,0,0,0,0,0,0,0,0,0,{"$f":"PBS150-PBS151-PBS152","v":0},0,0,0,0,0,0,0,0,0,0,0,0,0,0,0,0,0,0,0,0,0,0,0,0,0,0,0,0,0,0,0,0,0,0,0,0,0,0,0,0,0,0,0,0,0,0,0,0,0,0,0,0,0,0,0,0,0,0,0,0,0,0,0,{"$f":"PEE150-PEE151-PEE152","v":0},0,0,0,0,0,0,0,0,0,0,0,0,0,0,0,0,0,0,0,0,0,0,0,0,0,0,0,0,0,0,0,0,0,0,0,0,0,0,0,0,0,0,0,0,0,0,0,0,0,0,0,0,0,0,0,0,0,0,0,0,0,0,0,{"$f":"PGQ150-PGQ151-PGQ152","v":0},0,0,0,0,0,0,0,0,0,0,0,0,0,0,0,0,0,0,0,0,0,0,0,0,0,0,0,0,0,0,0,0,0,0,0,0,0,0,0,0,0,0,0,0,0,0,0,0,0,0,0,0,0,0,0,0,0,0,0,0,0,0,0,{"$f":"PJC150-PJC151-PJC152","v":0},0,0,0,0,0,0,0,0,0,0,0,0,0,0,0,0,0,0,0,0,0,0,0,0,0,0,0,0,0,0,0,0,0,0,0,0,0,0,0,0,0,0,0,0,0,0,0,0,0,0,0,0,0,0,0,0,0,0,0,0,0,0,0,{"$f":"PLO150-PLO151-PLO152","v":0},0,0,0,0,0,0,0,0,0,0,0,0,0,0,0,0,0,0,0,0,0,0,0,0,0,0,0,0,0,0,0,0,0,0,0,0,0,0,0,0,0,0,0,0,0,0,0,0,0,0,0,0,0,0,0,0,0,0,0,0,0,0,0,{"$f":"POA150-POA151-POA152","v":0},0,0,0,0,0,0,0,0,0,0,0,0,0,0,0,0,0,0,0,0,0,0,0,0,0,0,0,0,0,0,0,0,0,0,0,0,0,0,0,0,0,0,0,0,0,0,0,0,0,0,0,0,0,0,0,0,0,0,0,0,0,0,0,{"$f":"PQM150-PQM151-PQM152","v":0},0,0,0,0,0,0,0,0,0,0,0,0,0,0,0,0,0,0,0,0,0,0,0,0,0,0,0,0,0,0,0,0,0,0,0,0,0,0,0,0,0,0,0,0,0,0,0,0,0,0,0,0,0,0,0,0,0,0,0,0,0,0,0,{"$f":"PSY150-PSY151-PSY152","v":0},0,0,0,0,0,0,0,0,0,0,0,0,0,0,0,0,0,0,0,0,0,0,0,0,0,0,0,0,0,0,0,0,0,0,0,0,0,0,0,0,0,0,0,0,0,0,0,0,0,0,0,0,0,0,0,0,0,0,0,0,0,0,0,{"$f":"PVK150-PVK151-PVK152","v":0},0,0,0,0,0,0,0,0,0,0,0,0,0,0,0,0,0,0,0,0,0,0,0,0,0,0,0,0,0,0,0,0,0,0,0,0,0,0,0,0,0,0,0,0,0,0,0,0,0,0,0,0,0,0,0,0,0,0,0,0,0,0,0,{"$f":"PXW150-PXW151-PXW152","v":0},0,0,0,0,0,0,0,0,0,0,0,0,0,0,0,0,0,0,0,0,0,0,0,0,0,0,0,0,0,0,0,0,0,0,0,0,0,0,0,0,0,0,0,0,0,0,0,0,0,0,0,0,0,0,0,0,0,0,0,0,0,0,0,{"$f":"QAI150-QAI151-QAI152","v":0},0,0,0,0,0,0,0,0,0,0,0,0,0,0,0,0,0,0,0,0,0,0,0,0,0,0,0,0,0,0,0,0,0,0,0,0,0,0,0,0,0,0,0,0,0,0,0,0,0,0,0,0,0,0,0,0,0,0,0,0,0,0,0,{"$f":"QCU150-QCU151-QCU152","v":0},0,0,0,0,0,0,0,0,0,0,0,0,0,0,0,0,0,0,0,0,0,0,0,0,0,0,0,0,0,0,0,0,0,0,0,0,0,0,0,0,0,0,0,0,0,0,0,0,0,0,0,0,0,0,0,0,0,0,0,0,0,0,0,{"$f":"QFG150-QFG151-QFG152","v":0},0,0,0,0,0,0,0,0,0,0,0,0,0,0,0,0,0,0,0,0,0,0,0,0,0,0,0,0,0,0,0,0,0,0,0,0,0,0,0,0,0,0,0,0,0,0,0,0,0,0,0,0,0,0,0,0,0,0,0,0,0,0,0,{"$f":"QHS150-QHS151-QHS152","v":0},0,0,0,0,0,0,0,0,0,0,0,0,0,0,0,0,0,0,0,0,0,0,0,0,0,0,0,0,0,0,0,0,0,0,0,0,0,0,0,0,0,0,0,0,0,0,0,0,0,0,0,0,0,0,0,0,0,0,0,0,0,0,0,{"$f":"QKE150-QKE151-QKE152","v":0},0,0,0,0,0,0,0,0,0,0,0,0,0,0,0,0,0,0,0,0,0,0,0,0,0,0,0,0,0,0,0,0,0,0,0,0,0,0,0,0,0,0,0,0,0,0,0,0,0,0,0,0,0,0,0,0,0,0,0,0,0,0,0,{"$f":"QMQ150-QMQ151-QMQ152","v":0},0,0,0,0,0,0,0,0,0,0,0,0,0,0,0,0,0,0,0,0,0,0,0,0,0,0,0,0,0,0,0,0,0,0,0,0,0,0,0,0,0,0,0,0,0,0,0,0,0,0,0,0,0,0,0,0,0,0,0,0,0,0,0,{"$f":"QPC150-QPC151-QPC152","v":0},0,0,0,0,0,0,0,0,0,0,0,0,0,0,0,0,0,0,0,0,0,0,0,0,0,0,0,0,0,0,0,0,0,0,0,0,0,0,0,0,0,0,0,0,0,0,0,0,0,0,0,0,0,0,0,0,0,0,0,0,0,0,0,{"$f":"QRO150-QRO151-QRO152","v":0},0,0,0,0,0,0,0,0,0,0,0,0,0,0,0,0,0,0,0,0,0,0,0,0,0,0,0,0,0,0,0,0,0,0,0,0,0,0,0,0,0,0,0,0,0,0,0,0,0,0,0,0,0,0,0,0,0,0,0,0,0,0,0,{"$f":"QUA150-QUA151-QUA152","v":0},0,0,0,0,0,0,0,0,0,0,0,0,0,0,0,0,0,0,0,0,0,0,0,0,0,0,0,0,0,0,0,0,0,0,0,0,0,0,0,0,0,0,0,0,0,0,0,0,0,0,0,0,0,0,0,0,0,0,0,0,0,0,0,{"$f":"QWM150-QWM151-QWM152","v":0},0,0,0,0,0,0,0,0,0,0,0,0,0,0,0,0,0,0,0,0,0,0,0,0,0,0,0,0,0,0,0,0,0,0,0,0,0,0,0,0,0,0,0,0,0,0,0,0,0,0,0,0,0,0,0,0,0,0,0,0,0,0,0,{"$f":"QYY150-QYY151-QYY152","v":0},0,0,0,0,0,0,0,0,0,0,0,0,0,0,0,0,0,0,0,0,0,0,0,0,0,0,0,0,0,0,0,0,0,0,0,0,0,0,0,0,0,0,0,0,0,0,0,0,0,0,0,0,0,0,0,0,0,0,0,0,0,0,0,{"$f":"RBK150-RBK151-RBK152","v":0},0,0,0,0,0,0,0,0,0,0,0,0,0,0,0,0,0,0,0,0,0,0,0,0,0,0,0,0,0,0,0,0,0,0,0,0,0,0,0,0,0,0,0,0,0,0,0,0,0,0,0,0,0,0,0,0,0,0,0,0,0,0,0,{"$f":"RDW150-RDW151-RDW152","v":0},0,0,0,0,0,0,0,0,0,0,0,0,0,0,0,0,0,0,0,0,0,0,0,0,0,0,0,0,0,0,0,0,0,0,0,0,0,0,0,0,0,0,0,0,0,0,0,0,0,0,0,0,0,0,0,0,0,0,0,0,0,0,0,{"$f":"RGI150-RGI151-RGI152","v":0},0,0,0,0,0,0,0,0,0,0,0,0,0,0,0,0,0,0,0,0,0,0,0,0,0,0,0,0,0,0,0,0,0,0,0,0,0,0,0,0,0,0,0,0,0,0,0,0,0,0,0,0,0,0,0,0,0,0,0,0,0,0,0,{"$f":"RIU150-RIU151-RIU152","v":0},0,0,0,0,0,0,0,0,0,0,0,0,0,0,0,0,0,0,0,0,0,0,0,0,0,0,0,0,0,0,0,0,0,0,0,0,0,0,0,0,0,0,0,0,0,0,0,0,0,0,0,0,0,0,0,0,0,0,0,0,0,0,0,{"$f":"RLG150-RLG151-RLG152","v":0},0,0,0,0,0,0,0,0,0,0,0,0,0,0,0,0,0,0,0,0,0,0,0,0,0,0,0,0,0,0,0,0,0,0,0,0,0,0,0,0,0,0,0,0,0,0,0,0,0,0,0,0,0,0,0,0,0,0,0,0,0,0,0,{"$f":"RNS150-RNS151-RNS152","v":0},0,0,0,0,0,0,0,0,0,0,0,0,0,0,0,0,0,0,0,0,0,0,0,0,0,0,0,0,0,0,0,0,0,0,0,0,0,0,0,0,0,0,0,0,0,0,0,0,0,0,0,0,0,0,0,0,0,0,0,0,0,0,0,{"$f":"RQE150-RQE151-RQE152","v":0},0,0,0,0,0,0,0,0,0,0,0,0,0,0,0,0,0,0,0,0,0,0,0,0,0,0,0,0,0,0,0,0,0,0,0,0,0,0,0,0,0,0,0,0,0,0,0,0,0,0,0,0,0,0,0,0,0,0,0,0,0,0,0,{"$f":"RSQ150-RSQ151-RSQ152","v":0},0,0,0,0,0,0,0,0,0,0,0,0,0,0,0,0,0,0,0,0,0,0,0,0,0,0,0,0,0,0,0,0,0,0,0,0,0,0,0,0,0,0,0,0,0,0,0,0,0,0,0,0,0,0,0,0,0,0,0,0,0,0,0,{"$f":"RVC150-RVC151-RVC152","v":0},0,0,0,0,0,0,0,0,0,0,0,0,0,0,0,0,0,0,0,0,0,0,0,0,0,0,0,0,0,0,0,0,0,0,0,0,0,0,0,0,0,0,0,0,0,0,0,0,0,0,0,0,0,0,0,0,0,0,0,0,0,0,0,{"$f":"RXO150-RXO151-RXO152","v":0},0,0,0,0,0,0,0,0,0,0,0,0,0,0,0,0,0,0,0,0,0,0,0,0,0,0,0,0,0,0,0,0,0,0,0,0,0,0,0,0,0,0,0,0,0,0,0,0,0,0,0,0,0,0,0,0,0,0,0,0,0,0,0,{"$f":"SAA150-SAA151-SAA152","v":0},0,0,0,0,0,0,0,0,0,0,0,0,0,0,0,0,0,0,0,0,0,0,0,0,0,0,0,0,0,0,0,0,0,0,0,0,0,0,0,0,0,0,0,0,0,0,0,0,0,0,0,0,0,0,0,0,0,0,0,0,0,0,0,{"$f":"SCM150-SCM151-SCM152","v":0},0,0,0,0,0,0,0,0,0,0,0,0,0,0,0,0,0,0,0,0,0,0,0,0,0,0,0,0,0,0,0,0,0,0,0,0,0,0,0,0,0,0,0,0,0,0,0,0,0,0,0,0,0,0,0,0,0,0,0,0,0,0,0,{"$f":"SEY150-SEY151-SEY152","v":0},0,0,0,0,0,0,0,0,0,0,0,0,0,0,0,0,0,0,0,0,0,0,0,0,0,0,0,0,0,0,0,0,0,0,0,0,0,0,0,0,0,0,0,0,0,0,0,0,0,0,0,0,0,0,0,0,0,0,0,0,0,0,0,{"$f":"SHK150-SHK151-SHK152","v":0},0,0,0,0,0,0,0,0,0,0,0,0,0,0,0,0,0,0,0,0,0,0,0,0,0,0,0,0,0,0,0,0,0,0,0,0,0,0,0,0,0,0,0,0,0,0,0,0,0,0,0,0,0,0,0,0,0,0,0,0,0,0,0,{"$f":"SJW150-SJW151-SJW152","v":0},0,0,0,0,0,0,0,0,0,0,0,0,0,0,0,0,0,0,0,0,0,0,0,0,0,0,0,0,0,0,0,0,0,0,0,0,0,0,0,0,0,0,0,0,0,0,0,0,0,0,0,0,0,0,0,0,0,0,0,0,0,0,0,{"$f":"SMI150-SMI151-SMI152","v":0},0,0,0,0,0,0,0,0,0,0,0,0,0,0,0,0,0,0,0,0,0,0,0,0,0,0,0,0,0,0,0,0,0,0,0,0,0,0,0,0,0,0,0,0,0,0,0,0,0,0,0,0,0,0,0,0,0,0,0,0,0,0,0,{"$f":"SOU150-SOU151-SOU152","v":0},0,0,0,0,0,0,0,0,0,0,0,0,0,0,0,0,0,0,0,0,0,0,0,0,0,0,0,0,0,0,0,0,0,0,0,0,0,0,0,0,0,0,0,0,0,0,0,0,0,0,0,0,0,0,0,0,0,0,0,0,0,0,0,{"$f":"SRG150-SRG151-SRG152","v":0},0,0,0,0,0,0,0,0,0,0,0,0,0,0,0,0,0,0,0,0,0,0,0,0,0,0,0,0,0,0,0,0,0,0,0,0,0,0,0,0,0,0,0,0,0,0,0,0,0,0,0,0,0,0,0,0,0,0,0,0,0,0,0,{"$f":"STS150-STS151-STS152","v":0},0,0,0,0,0,0,0,0,0,0,0,0,0,0,0,0,0,0,0,0,0,0,0,0,0,0,0,0,0,0,0,0,0,0,0,0,0,0,0,0,0,0,0,0,0,0,0,0,0,0,0,0,0,0,0,0,0,0,0,0,0,0,0,{"$f":"SWE150-SWE151-SWE152","v":0},0,0,0,0,0,0,0,0,0,0,0,0,0,0,0,0,0,0,0,0,0,0,0,0,0,0,0,0,0,0,0,0,0,0,0,0,0,0,0,0,0,0,0,0,0,0,0,0,0,0,0,0,0,0,0,0,0,0,0,0,0,0,0,{"$f":"SYQ150-SYQ151-SYQ152","v":0},0,0,0,0,0,0,0,0,0,0,0,0,0,0,0,0,0,0,0,0,0,0,0,0,0,0,0,0,0,0,0,0,0,0,0,0,0,0,0,0,0,0,0,0,0,0,0,0,0,0,0,0,0,0,0,0,0,0,0,0,0,0,0,{"$f":"TBC150-TBC151-TBC152","v":0},0,0,0,0,0,0,0,0,0,0,0,0,0,0,0,0,0,0,0,0,0,0,0,0,0,0,0,0,0,0,0,0,0,0,0,0,0,0,0,0,0,0,0,0,0,0,0,0,0,0,0,0,0,0,0,0,0,0,0,0,0,0,0,{"$f":"TDO150-TDO151-TDO152","v":0},0,0,0,0,0,0,0,0,0,0,0,0,0,0,0,0,0,0,0,0,0,0,0,0,0,0,0,0,0,0,0,0,0,0,0,0,0,0,0,0,0,0,0,0,0,0,0,0,0,0,0,0,0,0,0,0,0,0,0,0,0,0,0,{"$f":"TGA150-TGA151-TGA152","v":0},0,0,0,0,0,0,0,0,0,0,0,0,0,0,0,0,0,0,0,0,0,0,0,0,0,0,0,0,0,0,0,0,0,0,0,0,0,0,0,0,0,0,0,0,0,0,0,0,0,0,0,0,0,0,0,0,0,0,0,0,0,0,0,{"$f":"TIM150-TIM151-TIM152","v":0},0,0,0,0,0,0,0,0,0,0,0,0,0,0,0,0,0,0,0,0,0,0,0,0,0,0,0,0,0,0,0,0,0,0,0,0,0,0,0,0,0,0,0,0,0,0,0,0,0,0,0,0,0,0,0,0,0,0,0,0,0,0,0,{"$f":"TKY150-TKY151-TKY152","v":0},0,0,0,0,0,0,0,0,0,0,0,0,0,0,0,0,0,0,0,0,0,0,0,0,0,0,0,0,0,0,0,0,0,0,0,0,0,0,0,0,0,0,0,0,0,0,0,0,0,0,0,0,0,0,0,0,0,0,0,0,0,0,0,{"$f":"TNK150-TNK151-TNK152","v":0},0,0,0,0,0,0,0,0,0,0,0,0,0,0,0,0,0,0,0,0,0,0,0,0,0,0,0,0,0,0,0,0,0,0,0,0,0,0,0,0,0,0,0,0,0,0,0,0,0,0,0,0,0,0,0,0,0,0,0,0,0,0,0,{"$f":"TPW150-TPW151-TPW152","v":0},0,0,0,0,0,0,0,0,0,0,0,0,0,0,0,0,0,0,0,0,0,0,0,0,0,0,0,0,0,0,0,0,0,0,0,0,0,0,0,0,0,0,0,0,0,0,0,0,0,0,0,0,0,0,0,0,0,0,0,0,0,0,0,{"$f":"TSI150-TSI151-TSI152","v":0},0,0,0,0,0,0,0,0,0,0,0,0,0,0,0,0,0,0,0,0,0,0,0,0,0,0,0,0,0,0,0,0,0,0,0,0,0,0,0,0,0,0,0,0,0,0,0,0,0,0,0,0,0,0,0,0,0,0,0,0,0,0,0,{"$f":"TUU150-TUU151-TUU152","v":0},0,0,0,0,0,0,0,0,0,0,0,0,0,0,0,0,0,0,0,0,0,0,0,0,0,0,0,0,0,0,0,0,0,0,0,0,0,0,0,0,0,0,0,0,0,0,0,0,0,0,0,0,0,0,0,0,0,0,0,0,0,0,0,{"$f":"TXG150-TXG151-TXG152","v":0},0,0,0,0,0,0,0,0,0,0,0,0,0,0,0,0,0,0,0,0,0,0,0,0,0,0,0,0,0,0,0,0,0,0,0,0,0,0,0,0,0,0,0,0,0,0,0,0,0,0,0,0,0,0,0,0,0,0,0,0,0,0,0,{"$f":"TZS150-TZS151-TZS152","v":0},0,0,0,0,0,0,0,0,0,0,0,0,0,0,0,0,0,0,0,0,0,0,0,0,0,0,0,0,0,0,0,0,0,0,0,0,0,0,0,0,0,0,0,0,0,0,0,0,0,0,0,0,0,0,0,0,0,0,0,0,0,0,0,{"$f":"UCE150-UCE151-UCE152","v":0},0,0,0,0,0,0,0,0,0,0,0,0,0,0,0,0,0,0,0,0,0,0,0,0,0,0,0,0,0,0,0,0,0,0,0,0,0,0,0,0,0,0,0,0,0,0,0,0,0,0,0,0,0,0,0,0,0,0,0,0,0,0,0,{"$f":"UEQ150-UEQ151-UEQ152","v":0},0,0,0,0,0,0,0,0,0,0,0,0,0,0,0,0,0,0,0,0,0,0,0,0,0,0,0,0,0,0,0,0,0,0,0,0,0,0,0,0,0,0,0,0,0,0,0,0,0,0,0,0,0,0,0,0,0,0,0,0,0,0,0,{"$f":"UHC150-UHC151-UHC152","v":0},0,0,0,0,0,0,0,0,0,0,0,0,0,0,0,0,0,0,0,0,0,0,0,0,0,0,0,0,0,0,0,0,0,0,0,0,0,0,0,0,0,0,0,0,0,0,0,0,0,0,0,0,0,0,0,0,0,0,0,0,0,0,0,{"$f":"UJO150-UJO151-UJO152","v":0},0,0,0,0,0,0,0,0,0,0,0,0,0,0,0,0,0,0,0,0,0,0,0,0,0,0,0,0,0,0,0,0,0,0,0,0,0,0,0,0,0,0,0,0,0,0,0,0,0,0,0,0,0,0,0,0,0,0,0,0,0,0,0,{"$f":"UMA150-UMA151-UMA152","v":0},0,0,0,0,0,0,0,0,0,0,0,0,0,0,0,0,0,0,0,0,0,0,0,0,0,0,0,0,0,0,0,0,0,0,0,0,0,0,0,0,0,0,0,0,0,0,0,0,0,0,0,0,0,0,0,0,0,0,0,0,0,0,0,{"$f":"UOM150-UOM151-UOM152","v":0},0,0,0,0,0,0,0,0,0,0,0,0,0,0,0,0,0,0,0,0,0,0,0,0,0,0,0,0,0,0,0,0,0,0,0,0,0,0,0,0,0,0,0,0,0,0,0,0,0,0,0,0,0,0,0,0,0,0,0,0,0,0,0,{"$f":"UQY150-UQY151-UQY152","v":0},0,0,0,0,0,0,0,0,0,0,0,0,0,0,0,0,0,0,0,0,0,0,0,0,0,0,0,0,0,0,0,0,0,0,0,0,0,0,0,0,0,0,0,0,0,0,0,0,0,0,0,0,0,0,0,0,0,0,0,0,0,0,0,{"$f":"UTK150-UTK151-UTK152","v":0},0,0,0,0,0,0,0,0,0,0,0,0,0,0,0,0,0,0,0,0,0,0,0,0,0,0,0,0,0,0,0,0,0,0,0,0,0,0,0,0,0,0,0,0,0,0,0,0,0,0,0,0,0,0,0,0,0,0,0,0,0,0,0,{"$f":"UVW150-UVW151-UVW152","v":0},0,0,0,0,0,0,0,0,0,0,0,0,0,0,0,0,0,0,0,0,0,0,0,0,0,0,0,0,0,0,0,0,0,0,0,0,0,0,0,0,0,0,0,0,0,0,0,0,0,0,0,0,0,0,0,0,0,0,0,0,0,0,0,{"$f":"UYI150-UYI151-UYI152","v":0},0,0,0,0,0,0,0,0,0,0,0,0,0,0,0,0,0,0,0,0,0,0,0,0,0,0,0,0,0,0,0,0,0,0,0,0,0,0,0,0,0,0,0,0,0,0,0,0,0,0,0,0,0,0,0,0,0,0,0,0,0,0,0,{"$f":"VAU150-VAU151-VAU152","v":0},0,0,0,0,0,0,0,0,0,0,0,0,0,0,0,0,0,0,0,0,0,0,0,0,0,0,0,0,0,0,0,0,0,0,0,0,0,0,0,0,0,0,0,0,0,0,0,0,0,0,0,0,0,0,0,0,0,0,0,0,0,0,0,{"$f":"VDG150-VDG151-VDG152","v":0},0,0,0,0,0,0,0,0,0,0,0,0,0,0,0,0,0,0,0,0,0,0,0,0,0,0,0,0,0,0,0,0,0,0,0,0,0,0,0,0,0,0,0,0,0,0,0,0,0,0,0,0,0,0,0,0,0,0,0,0,0,0,0,{"$f":"VFS150-VFS151-VFS152","v":0},0,0,0,0,0,0,0,0,0,0,0,0,0,0,0,0,0,0,0,0,0,0,0,0,0,0,0,0,0,0,0,0,0,0,0,0,0,0,0,0,0,0,0,0,0,0,0,0,0,0,0,0,0,0,0,0,0,0,0,0,0,0,0,{"$f":"VIE150-VIE151-VIE152","v":0},0,0,0,0,0,0,0,0,0,0,0,0,0,0,0,0,0,0,0,0,0,0,0,0,0,0,0,0,0,0,0,0,0,0,0,0,0,0,0,0,0,0,0,0,0,0,0,0,0,0,0,0,0,0,0,0,0,0,0,0,0,0,0,{"$f":"VKQ150-VKQ151-VKQ152","v":0},0,0,0,0,0,0,0,0,0,0,0,0,0,0,0,0,0,0,0,0,0,0,0,0,0,0,0,0,0,0,0,0,0,0,0,0,0,0,0,0,0,0,0,0,0,0,0,0,0,0,0,0,0,0,0,0,0,0,0,0,0,0,0,{"$f":"VNC150-VNC151-VNC152","v":0},0,0,0,0,0,0,0,0,0,0,0,0,0,0,0,0,0,0,0,0,0,0,0,0,0,0,0,0,0,0,0,0,0,0,0,0,0,0,0,0,0,0,0,0,0,0,0,0,0,0,0,0,0,0,0,0,0,0,0,0,0,0,0,{"$f":"VPO150-VPO151-VPO152","v":0},0,0,0,0,0,0,0,0,0,0,0,0,0,0,0,0,0,0,0,0,0,0,0,0,0,0,0,0,0,0,0,0,0,0,0,0,0,0,0,0,0,0,0,0,0,0,0,0,0,0,0,0,0,0,0,0,0,0,0,0,0,0,0,{"$f":"VSA150-VSA151-VSA152","v":0},0,0,0,0,0,0,0,0,0,0,0,0,0,0,0,0,0,0,0,0,0,0,0,0,0,0,0,0,0,0,0,0,0,0,0,0,0,0,0,0,0,0,0,0,0,0,0,0,0,0,0,0,0,0,0,0,0,0,0,0,0,0,0,{"$f":"VUM150-VUM151-VUM152","v":0},0,0,0,0,0,0,0,0,0,0,0,0,0,0,0,0,0,0,0,0,0,0,0,0,0,0,0,0,0,0,0,0,0,0,0,0,0,0,0,0,0,0,0,0,0,0,0,0,0,0,0,0,0,0,0,0,0,0,0,0,0,0,0,{"$f":"VWY150-VWY151-VWY152","v":0},0,0,0,0,0,0,0,0,0,0,0,0,0,0,0,0,0,0,0,0,0,0,0,0,0,0,0,0,0,0,0,0,0,0,0,0,0,0,0,0,0,0,0,0,0,0,0,0,0,0,0,0,0,0,0,0,0,0,0,0,0,0,0,{"$f":"VZK150-VZK151-VZK152","v":0},0,0,0,0,0,0,0,0,0,0,0,0,0,0,0,0,0,0,0,0,0,0,0,0,0,0,0,0,0,0,0,0,0,0,0,0,0,0,0,0,0,0,0,0,0,0,0,0,0,0,0,0,0,0,0,0,0,0,0,0,0,0,0,{"$f":"WBW150-WBW151-WBW152","v":0},0,0,0,0,0,0,0,0,0,0,0,0,0,0,0,0,0,0,0,0,0,0,0,0,0,0,0,0,0,0,0,0,0,0,0,0,0,0,0,0,0,0,0,0,0,0,0,0,0,0,0,0,0,0,0,0,0,0,0,0,0,0,0,{"$f":"WEI150-WEI151-WEI152","v":0},0,0,0,0,0,0,0,0,0,0,0,0,0,0,0,0,0,0,0,0,0,0,0,0,0,0,0,0,0,0,0,0,0,0,0,0,0,0,0,0,0,0,0,0,0,0,0,0,0,0,0,0,0,0,0,0,0,0,0,0,0,0,0,{"$f":"WGU150-WGU151-WGU152","v":0},0,0,0,0,0,0,0,0,0,0,0,0,0,0,0,0,0,0,0,0,0,0,0,0,0,0,0,0,0,0,0,0,0,0,0,0,0,0,0,0,0,0,0,0,0,0,0,0,0,0,0,0,0,0,0,0,0,0,0,0,0,0,0,{"$f":"WJG150-WJG151-WJG152","v":0},0,0,0,0,0,0,0,0,0,0,0,0,0,0,0,0,0,0,0,0,0,0,0,0,0,0,0,0,0,0,0,0,0,0,0,0,0,0,0,0,0,0,0,0,0,0,0,0,0,0,0,0,0,0,0,0,0,0,0,0,0,0,0,{"$f":"WLS150-WLS151-WLS152","v":0},0,0,0,0,0,0,0,0,0,0,0,0,0,0,0,0,0,0,0,0,0,0,0,0,0,0,0,0,0,0,0,0,0,0,0,0,0,0,0,0,0,0,0,0,0,0,0,0,0,0,0,0,0,0,0,0,0,0,0,0,0,0,0,{"$f":"WOE150-WOE151-WOE152","v":0},0,0,0,0,0,0,0,0,0,0,0,0,0,0,0,0,0,0,0,0,0,0,0,0,0,0,0,0,0,0,0,0,0,0,0,0,0,0,0,0,0,0,0,0,0,0,0,0,0,0,0,0,0,0,0,0,0,0,0,0,0,0,0,{"$f":"WQQ150-WQQ151-WQQ152","v":0},0,0,0,0,0,0,0,0,0,0,0,0,0,0,0,0,0,0,0,0,0,0,0,0,0,0,0,0,0,0,0,0,0,0,0,0,0,0,0,0,0,0,0,0,0,0,0,0,0,0,0,0,0,0,0,0,0,0,0,0,0,0,0,{"$f":"WTC150-WTC151-WTC152","v":0},0,0,0,0,0,0,0,0,0,0,0,0,0,0,0,0,0,0,0,0,0,0,0,0,0,0,0,0,0,0,0,0,0,0,0,0,0,0,0,0,0,0,0,0,0,0,0,0,0,0,0,0,0,0,0,0,0,0,0,0,0,0,0,{"$f":"WVO150-WVO151-WVO152","v":0},0,0,0,0,0,0,0,0,0,0,0,0,0,0,0,0,0,0,0,0,0,0,0,0,0,0,0,0,0,0,0,0,0,0,0,0,0,0,0,0,0,0,0,0,0,0,0,0,0,0,0,0,0,0,0,0,0,0,0,0,0,0,0,{"$f":"WYA150-WYA151-WYA152","v":0},0,0,0,0,0,0,0,0,0,0,0,0,0,0,0,0,0,0,0,0,0,0,0,0,0,0,0,0,0,0,0,0,0,0,0,0,0,0,0,0,0,0,0,0,0,0,0,0,0,0,0,0,0,0,0,0,0,0,0,0,0,0,0,{"$f":"XAM150-XAM151-XAM152","v":0},0,0,0,0,0,0,0,0,0,0,0,0,0,0,0,0,0,0,0,0,0,0,0,0,0,0,0,0,0,0,0,0,0,0,0,0,0,0,0,0,0,0,0,0,0,0,0,0,0,0,0,0,0,0,0,0,0,0,0,0,0,0,0,{"$f":"XCY150-XCY151-XCY152","v":0},0,0,0,0,0,0,0,0,0,0,0,0,0,0,0,0,0,0,0,0,0,0,0,0,0,0,0,0,0,0,0,0,0,0,0,0,0,0,0,0,0,0,0,0,0,0,0,0,0,0,0,0,0,0,0,0,0]
["Podatek dochodowy dotyczący Zadań Powiązanych - wartości prognozowane/rzeczywiste w danym roku",null,"PLN",null,null,{"$f":"IF(F156=0,0,(F155-F156)*0.19)","v":0},{"$f":"IF(G156=0,0,(G155-G156)*0.19)","v":0},{"$f":"IF(H156=0,0,(H155-H156)*0.19)","v":0},{"$f":"IF(I156=0,0,(I155-I156)*0.19)","v":0},{"$f":"IF(J156=0,0,(J155-J156)*0.19)","v":0},{"$f":"IF(K156=0,0,(K155-K156)*0.19)","v":0},{"$f":"IF(L156=0,0,(L155-L156)*0.19)","v":0},{"$f":"IF(M156=0,0,(M155-M156)*0.19)","v":0},{"$f":"IF(N156=0,0,(N155-N156)*0.19)","v":0},{"$f":"IF(O156=0,0,(O155-O156)*0.19)","v":0}]
[]
["Przychody z Zadań Powiązanych - wartości prognozowane/rzeczywiste w danym roku",null,"PLN",null,null,{"$f":"[1]Wynagrodzenie!O$126","v":0},{"$f":"[1]Wynagrodzenie!P$126","v":0},{"$f":"[1]Wynagrodzenie!Q$126","v":0},0,0,0,0,0,0,0]
["Zysk z Zadań Powiązanych - wartości prognozowane/rzeczywiste w danym roku (przychody-koszty-podatek dochodowy: tylko wartość dodatnia)",null,"PLN",null,"c",{"$f":"[1]Wynagrodzenie!O$126","v":0},{"$f":"[1]Wynagrodzenie!P$126","v":0},{"$f":"[1]Wynagrodzenie!Q$126","v":0},0,0,0,0,0,0,0]
["KREDYTY I POŻYCZKI",null,"Jednostka",null,null,{"$f":"F$5","v":2022},{"$f":"G$5","v":2023},2024,2025,2026,2027,2028,2029,2030,2031]
["Spłata części kapitałowej",null,"PLN",null,"a"]
["Spłata części kapitałowej",null,"PLN",null,"b",{"$f":"[1]Wynagrodzenie!O$74","v":0},{"$f":"[1]Wynagrodzenie!P$74","v":0},{"$f":"[1]Wynagrodzenie!Q$74","v":0},0,0,0,0,0,0,0]
["Spłata części kapitałowej",null,"PLN",null,"c",{"$f":"[1]Wynagrodzenie!O$117","v":0},{"$f":"[1]Wynagrodzenie!P$117","v":0},{"$f":"[1]Wynagrodzenie!Q$117","v":0},{"$f":"[1]Wynagrodzenie!R$117","v":0},0,0,0,0,0,0]
[]
["Wartość rezydualna",null,"PLN",null,"a",null,null,null,null,null,null,null,null,null,0]
[]
["Nakłady inwestycyjne i modernizacyjne",null,"PLN",null,"b",{"$f":"[1]Wynagrodzenie!O$75","v":0},0,0,{"$f":"[1]Wynagrodzenie!R$75","v":0},{"$f":"[1]Wynagrodzenie!S$75","v":0},{"$f":"[1]Wynagrodzenie!T$75","v":0},{"$f":"[1]Wynagrodzenie!U$75","v":0},{"$f":"[1]Wynagrodzenie!V$75","v":0},{"$f":"[1]Wynagrodzenie!W$75","v":0},{"$f":"[1]Wynagrodzenie!X$75","v":0}]
["Majątek Spółki zaangażowany w realizację Zadania",null,"PLN",null,"c",0]
[]
["Przychody finansowe",null,"PLN",null,"a"]
["Pozostałe koszty operacyjne",null,"PLN",null,"a",0,0,{"$f":"G196","v":0},{"$f":"H196","v":0},0,0,{"$f":"K196","v":0},{"$f":"L196","v":0},0,0]
["Koszty finansowe",null,"PLN",null,"b",{"$f":"[1]Wynagrodzenie!O$71","v":0},{"$f":"[1]Wynagrodzenie!P$71","v":0},0,0,0,0,0,0,0,0]
[]
["Przychody finansowe",null,"PLN",null,"c"]
["Pozostałe przychody operacyjne",null,"PLN",null,"c"]
[]
["Stawka podatku CIT",null,"%",null,"a+b+c",0.19,0.19,0.19,0.19,0.19,0.19,0.19,0.19,0.19,0.19]
[]
["Uzasadnione koszty netto",null,"PLN",{"$f":"SUM(F218:O218)","v":0},"a+b+c",{"$f":"F220+F221-F222-F223-F224-F225+F226","v":0},{"$f":"G220+G221-G222-G223-G224-G225+G226","v":0},0,0,0,0,0,0,0,0]
[]
["Przychody finansowe oraz pozostałe przychody operacyjne",null,"PLN",null,"a+b+c",{"$f":"F$193+F$195+F198+F200+F203+F205","v":0},0,0,0,0,0,0,0,0,0]
["Zysk z Zadań Powiązanych",null,"PLN",null,"a+b+c",{"$f":"F$153+F158+F163","v":0},{"$f":"G$153+G158+G163","v":0},0,0,0,0,0,0,0,0]
[]
["Rozsądny zysk",null,"PLN",null,"a+b+c",0,{"$f":"G230+G232-G218","v":0},0,0,0,0,0,0,0,0]
[]
["Rekompensata z uwzględnieniem rozsądnego zysku - prognoza",null,"PLN",0.9981802860737089,"a+b+c",{"$f":"IF(F232=\"\",F218*$D230,0)","v":0},{"$f":"IF(G232=\"\",G218*$D230,0)","v":0},0,0,0,0,0,0,0,0]
[]
["Rekompensata - wykonanie",null,"PLN",null,"a+b+c",0]
[]
[]
["KARY",null,"Jednostka",null,null,{"$f":"F$5","v":2022},{"$f":"G$5","v":2023},2024,2025,2026,2027,2028,2029,2030,2031]
[]
["Naliczone i zapłacone kary z tytułu nienależytej realizacji Zadania",null,"PLN",null,"a"]
[]
["Naliczone i zapłacone kary z tytułu nienależytej realizacji Zadania",null,"PLN",null,"b"]
[]
["Naliczone i zapłacone kary z tytułu nienależytej realizacji Zadania",null,"PLN",null,"c"]

{"sheet":"Rekompensata","index":3,"n_rows":39,"n_cols":14,"rows_kept":39,"cut":false,"hidden":false,"merged":[]}
[]
["KALKULACJA REKOMPENSATY",null,null,null,2022,{"$f":"E2+1","v":2023},{"$f":"F2+1","v":2024},{"$f":"G2+1","v":2025},{"$f":"H2+1","v":2026},{"$f":"I2+1","v":2027},{"$f":"J2+1","v":2028},{"$f":"K2+1","v":2029},{"$f":"L2+1","v":2030},{"$f":"M2+1","v":2031}]
[null,"Jednostka","RAZEM"]
[]
["WPŁYWY","PLN",0,null,0,0,0,0,{"$f":"SUM(I6:I12)","v":0},0,0,0,0,0]
["Wynagrodzenie z tytułu realizacji Zadania","PLN",0,null,0,0,0,0,0,0,0,0,0,0]
["Przychody bezpośrednio powiązane z Zadaniem","PLN",0,null,0,0,0,0,0,0,0,0,0,0]
["Przychody finansowe oraz pozostałe przychody operacyjne","PLN",{"$f":"SUM(E8:N8)","v":0},null,{"$f":"'Koszty netto'!F$223","v":0},{"$f":"'Koszty netto'!G$223","v":0},{"$f":"'Koszty netto'!H$223","v":0},{"$f":"'Koszty netto'!I$223","v":0},{"$f":"'Koszty netto'!J$223","v":0},{"$f":"'Koszty netto'!K$223","v":0},{"$f":"'Koszty netto'!L$223","v":0},{"$f":"'Koszty netto'!M$223","v":0},{"$f":"'Koszty netto'!N$223","v":0},{"$f":"'Koszty netto'!O$223","v":0}]
["Dokapitalizowanie i inne przysporzenia ze środków publicznych","PLN",0,null,{"$f":"'Koszty netto'!F$222","v":0},{"$f":"'Koszty netto'!G$222","v":0},0,0,0,0,0,0,0,0]
["Zaciągnięte kredyty i pożyczki","PLN",0,null,{"$f":"'Koszty netto'!F$168+'Koszty netto'!F171+'Koszty netto'!F174","v":0},0,0,0,{"$f":"'Koszty netto'!J$168+'Koszty netto'!J171+'Koszty netto'!J174","v":0},{"$f":"'Koszty netto'!K$168+'Koszty netto'!K171+'Koszty netto'!K174","v":0},{"$f":"'Koszty netto'!L$168+'Koszty netto'!L171+'Koszty netto'!L174","v":0},{"$f":"'Koszty netto'!M$168+'Koszty netto'!M171+'Koszty netto'!M174","v":0},{"$f":"'Koszty netto'!N$168+'Koszty netto'!N171+'Koszty netto'!N174","v":0},{"$f":"'Koszty netto'!O$168+'Koszty netto'!O171+'Koszty netto'!O174","v":0}]
["Zysk z Zadań Powiązanych","PLN",0,null,0,0,0,0,0,0,0,0,0,0]
["Wartość rezydualna","PLN",0,null,{"$f":"'Koszty netto'!F$181+'Koszty netto'!F185+'Koszty netto'!F189","v":0},{"$f":"'Koszty netto'!G$181+'Koszty netto'!G185+'Koszty netto'!G189","v":0},{"$f":"'Koszty netto'!H$181+'Koszty netto'!H185+'Koszty netto'!H189","v":0},{"$f":"'Koszty netto'!I$181+'Koszty netto'!I185+'Koszty netto'!I189","v":0},{"$f":"'Koszty netto'!J$181+'Koszty netto'!J185+'Koszty netto'!J189","v":0},{"$f":"'Koszty netto'!K$181+'Koszty netto'!K185+'Koszty netto'!K189","v":0},{"$f":"'Koszty netto'!L$181+'Koszty netto'!L185+'Koszty netto'!L189","v":0},{"$f":"'Koszty netto'!M$181+'Koszty netto'!M185+'Koszty netto'!M189","v":0},{"$f":"'Koszty netto'!N$181+'Koszty netto'!N185+'Koszty netto'!N189","v":0},0]
[]
[]
["WYPŁYWY","PLN",0,null,0,0,0,0,0,0,0,0,0,0]
["Koszty operacyjne bez amortyzacji","PLN",{"$f":"SUM(E16:N16)","v":0},null,{"$f":"'Koszty netto'!F$29","v":0},{"$f":"'Koszty netto'!G$29","v":0},{"$f":"'Koszty netto'!H$29","v":0},{"$f":"'Koszty netto'!I$29","v":0},{"$f":"'Koszty netto'!J$29","v":0},{"$f":"'Koszty netto'!K$29","v":0},{"$f":"'Koszty netto'!L$29","v":0},{"$f":"'Koszty netto'!M$29","v":0},{"$f":"'Koszty netto'!N$29","v":0},{"$f":"'Koszty netto'!O$29","v":0}]
["Koszty finansowe oraz pozostałe koszty operacyjne","PLN",0,null,0,0,0,0,0,0,0,0,0,0]
["Podatek dochodowy","PLN",0,null,0,{"$f":"'Koszty netto'!G$213","v":"0"},{"$f":"'Koszty netto'!H$213","v":"0"},{"$f":"'Koszty netto'!I$213","v":"0"},{"$f":"'Koszty netto'!J$213","v":"0"},{"$f":"'Koszty netto'!K$213","v":"0"},{"$f":"'Koszty netto'!L$213","v":"0"},{"$f":"'Koszty netto'!M$213","v":"0"},{"$f":"'Koszty netto'!N$213","v":"0"},{"$f":"'Koszty netto'!O$213","v":"0"}]
["Majątek Spółki zaangażowany w realizację Zadania","PLN",0,null,0,{"$f":"'Koszty netto'!G$179+'Koszty netto'!G183+'Koszty netto'!G187","v":0},{"$f":"'Koszty netto'!H$179+'Koszty netto'!H183+'Koszty netto'!H187","v":0},{"$f":"'Koszty netto'!I$179+'Koszty netto'!I183+'Koszty netto'!I187","v":0},{"$f":"'Koszty netto'!J$179+'Koszty netto'!J183+'Koszty netto'!J187","v":0},{"$f":"'Koszty netto'!K$179+'Koszty netto'!K183+'Koszty netto'!K187","v":0},{"$f":"'Koszty netto'!L$179+'Koszty netto'!L183+'Koszty netto'!L187","v":0},{"$f":"'Koszty netto'!M$179+'Koszty netto'!M183+'Koszty netto'!M187","v":0},{"$f":"'Koszty netto'!N$179+'Koszty netto'!N183+'Koszty netto'!N187","v":0},{"$f":"'Koszty netto'!O$179+'Koszty netto'!O183+'Koszty netto'!O187","v":0}]
["Spłaty rat kapitałowych kredytów i pożyczek","PLN",0,null,{"$f":"'Koszty netto'!F$169+'Koszty netto'!F172+'Koszty netto'!F175","v":0},{"$f":"'Koszty netto'!G$169+'Koszty netto'!G172+'Koszty netto'!G175","v":0},{"$f":"'Koszty netto'!H$169+'Koszty netto'!H172+'Koszty netto'!H175","v":0},0,0,0,0,0,0,0]
["Nakłady inwestycyjne","PLN",0,null,0,0,0,0,0,0,0,0,0,0]
[]
[]
["PRZEPŁYWY NETTO","PLN",0,null,{"$f":"E5-E15","v":0},{"$f":"F5-F15","v":0},0,0,0,0,0,0,0,0]
[]
["PRZEPŁYWY NETTO NA DZIAŁALNOŚCI OPERACYJNEJ","PLN",0,null,0,{"$f":"F6-F16-F18","v":0},0,0,0,0,0,0,0,0]
[null,null,null,null,null,null,null,null,0]
[]
["KALKULACJA REKOMPENSATY"]
[]
["Uzasadnione koszty netto","PLN",null,null,0,0,0,0,0,0,0,0,0,0]
["Rozsądny zysk","PLN",null,null,0,0,0,0,0,0,0,0,0,0]
["Rekompensata razem","PLN",0,null,0,0,0,0,0,0,0,0,0,0]
[]
[]
["Maksymalna wartość rozsądnego zysku","%",{"$f":"'Makro i swap'!C$9+'Makro i swap'!C$8","v":2.8299999999999999E-2}]
["Prognozowana wartość rozsądnego zysku","%",{"$f":"IRR(E24:N24)","v":{"$error":"#NUM!"}},0.96821914998233038]
[]
[{"$f":"IF(C37<=C36,\"REKOMPENSATA NIE JEST NADMIERNA\",\"REKOMPENSATA JEST NADMIERNA\")","v":{"$error":"#NUM!"}}]